{"text_format":"1","workbook":"xlsx","n_sheets":9,"sheets":["FlashCards","Selected List","Printables","Index","English To Greek","Greek to English","Short Words","Instructions","Memorization"],"not_rendered":{"charts":2,"images":0,"macros":1,"external_links":0,"defined_names":0,"comments":0,"pivot_tables":0},"unopened":[],"bounds":{"document_bytes":16777216,"sheet_cells":100000,"rows_first":2000,"rows_last":500,"rows_between":2000,"halvings":0,"cell_chars":16384,"cell_head_chars":4096},"cells_cut":0,"cells_raw":0,"read":"whole","date_system":"1900"}

{"sheet":"FlashCards","index":0,"n_rows":2003,"n_cols":116,"rows_kept":562,"cut":true,"hidden":false,"merged":[[1,1,1,4],[10,14,10,15],[12,14,16,15]],"bounds":{"rows_first":250,"rows_last":62,"rows_between":250,"halvings":3}}
[" "]
[null,"Mounce Chapter (4th edition)",null,null,null,null,"      Word Type",null,null,"         Properties",null,null,null,null,null,null,null,null,null,null,null,"Chapter","Chapter",null,"Type","Type",null,"Properties","Properties",null,null,"Library",null,null,null,null,null,null,null,null,null,null,null,{"$f":"COUNT(AR4:AR2003)","v":1592},null,"Selected","Selected",null,"Include?","Include?","Include?","Include?","Include?","Include?","Include?","Include?","Include?","Include?",null,null,"Count:",{"$f":"COUNTIF(BG4:BG2003,\"<2500\")","v":1592},null,null,null,null,null,null,null,null,null,null,null,null,null,null,null,null,null,null,null,null,null,null,null,null,"English to Greek:",null,{"$f":"LOWER('English To Greek'!D4)","v":"crowd"},{"$f":"IF(LEN(CK2)<2,\"^%*^&%*&^%&^\",CK2)","v":"crowd"},null,"Contains \"Extra\"…","Count:",{"$f":"COUNTIF(CI4:CI2003,TRUE)","v":2},null,null,null,"Greek To English",null,{"$f":"LOWER('Greek to English'!D6)","v":"arest"},{"$f":"IF(LEN(CV2)<2,\"^%*^&%*&^%&^\",CV2)","v":"arest"},null,null,"Count:",{"$f":"COUNTIF(CT4:CT2003,TRUE)","v":2},null,null,null,"Short Word Def:",3,null,"count:",{"$f":"COUNTIF(DE4:DE2003,TRUE)","v":126}]
[null,"R","Chapter 4","R","Chapter 22",null,"R","Nouns",null,"R","Chapter?",null,null,"Chapter:",{"$f":"IF(BJ2=0,\"None\",IF(AA24=\"37\",\"Extra\",IF(AA24=\"38\",\"Index\",AA24)))","v":"24"},{"$f":"IF(BJ2=1,BJ2& \" word available\",BJ2& \" words available\")","v":"1592 words available"},null,null,null,null,null,"04",{"$f":"IF(B3=\"R\",TRUE,FALSE)","v":true},{"$f":"IF(W3,V3&\":\",\":\")","v":"04:"},"Noun  ",{"$f":"IF(G3=\"R\",TRUE,FALSE)","v":true},{"$f":"IF(Z3,Y3&\":\",\":\")","v":"Noun  :"},"Chapter",{"$f":"IF(J3=\"R\",TRUE,FALSE)","v":true},null,"#","Chapter","Lexical","Root","English Definition","Pronunciation","Part of Speech","Article","Past Imperfect","Future Active","Aorist Active","Phonetic.","Strong #s","Sort #","Copy","Chapter?","Type?","Selected?","Chapter","Root","Definition","Pronunciation","Grammar","Article","Past","Future","Aorist","Strongs","Num","Rank","Chapter","Lexical","Root","English Definition","Pronunciation","Part of Speech","Article","Past Imperfect","Future Active","Force Art","Aorist","Strongs","Index","Lookup","Chapter","Type","Lexical","Past","Future","Root","Pronunc","Def","Force Article","Formatted Chapter","Aorist","Strong #","Has Text?","Num","Rank","Lexical","English","Chapter","Index","Lookup","Result A","Result B",null,"Has Text?","Num","Rank","Root","Type","Result","Index","Lookup","Result A",null,null,"Is Short?","Number","Rank","Index","Lookup","Greek","English","Result"]
[null,"R","Chapter 6","R","Chapter 23",null,"R","Proper Nouns",null,"R","Root?",null,null,null,null,null,null,null,null,null,null,"06",{"$f":"IF(B4=\"R\",TRUE,FALSE)","v":true},{"$f":"IF(W4,V4&\":\",\":\")","v":"06:"},"Proper Noun",{"$f":"IF(G4=\"R\",TRUE,FALSE)","v":true},{"$f":"IF(Z4,Y4&\":\",\":\")","v":"Proper Noun:"},"Root",{"$f":"IF(J4=\"R\",TRUE,FALSE)","v":true},null,1,"07","-ς, -ος  "," ","(nominative, singular, masculine)"," ","Noun Ending"," "," "," ","  "," ","0",0.01,{"$f":"IF(AG4=\"\",\"\",AG4)","v":"-ς, -ος  "},{"$f":"IF(ISERR(FIND(AF4,$Y$22,1)),FALSE,TRUE)","v":true},{"$f":"IF(ISERR(FIND(AK4,$Y$23,1)),FALSE,TRUE)","v":true},{"$f":"AND(AT4,AU4)","v":true},{"$f":"IF(AC$3,AF4,\" \")","v":"07"},{"$f":"IF(AC$4,AH4,\" \")","v":" "},{"$f":"IF(TRUE,AI4,\" \")","v":"(nominative, singular, masculine)"},{"$f":"IF(AC$6,AJ4,\" \")","v":" "},{"$f":"IF(AC$7,AK4,\" \")","v":"Noun Ending"},{"$f":"IF(AC$8,AL4,\" \")","v":" "},{"$f":"IF(AC$9,AM4,\" \")","v":" "},{"$f":"IF(AC$10,AN4,\" \")","v":" "},{"$f":"IF(AC$9,AO4,\" \")","v":"  "},{"$f":"IF(AC$12,AQ4,\" \")","v":"0"},{"$f":"IF(AV4,AE4,AE4+5000)","v":1},{"$f":"RANK(BG4,BG$4:BG$2003,1)","v":1},{"$f":"IF($AV4,AW4,\" \")","v":"07"},{"$f":"IF($AV4,BO4&AG4,\" \")","v":"-ς, -ος  "},{"$f":"IF($AV4,AX4,\" \")","v":" "},"(nominative, singular, masculine)"," ","Noun Ending",{"$f":"IF($AV4,IF(BB4=\" \",\"\",BB4&\" \"),\"\")","v":""},{"$f":"IF($AV4,BC4,\" \")","v":" "}," ",{"$f":"IF($AV4,IF(AL4=\" \",\"\",AL4&\" \"),\"\")","v":""},{"$f":"IF($AV4,BE4,\" \")","v":"  "},{"$f":"IF($AV4,BF4,\" \")","v":"0"},1,{"$f":"IF(BU4<=BJ$2,MATCH(BU4,BH$4:BH$2003,0),\"\")","v":1},{"$f":"VLOOKUP($BU4,BH$4:BQ$2003,2,0)","v":"07"},{"$f":"VLOOKUP($BU4,BH$4:BQ$2003,7,0)","v":"Noun Ending"},{"$f":"VLOOKUP($BU4,BH$4:BQ$2003,3,0)","v":"-ς, -ος  "},{"$f":"VLOOKUP($BU4,BH$4:BQ$2003,9,0)","v":" "},{"$f":"VLOOKUP($BU4,BH$4:BQ$2003,10,0)","v":" "},{"$f":"VLOOKUP($BU4,BH$4:BQ$2003,4,0)","v":" "},{"$f":"VLOOKUP($BU4,BH$4:BQ$2003,6,0)","v":" "},{"$f":"VLOOKUP($BU4,BH$4:BQ$2003,5,0)","v":"(nominative, singular, masculine)"},{"$f":"IF(AC$8,BY4,VLOOKUP($BU4,BH$4:BR$2003,11,0)&BY4)","v":"-ς, -ος  "},{"$f":"IF(BV4=\"\",\"\",IF(BW4=\"37\",\"Extra\", IF(BW4=38, \"Index of Textbook\",\"Chapter \" &BW4))&\": \"&BX4)","v":"Chapter 07: Noun Ending"},{"$f":"VLOOKUP($BU4,BH$4:BS$2003,12,0)","v":"  "},{"$f":"VLOOKUP($BU4,BH$4:BT$2003,13,0)","v":"0"},{"$f":"IF(ISERR(SEARCH(CL$2,AY4,1)),FALSE, TRUE)","v":false},{"$f":"IF(CI4,AE4,AE4+5000)","v":5001},{"$f":"RANK(CJ4,CJ$4:CJ$2003,1)","v":3},{"$f":"IF($CI4,IF(BB4=\" \",\"\",BB4&\" \")&AG4,\" \")","v":" "},{"$f":"IF($CI4,AY4,\" \")","v":" "},{"$f":"IF($CI4,IF(AW4=\"37\",\" [Extra]\",IF(AW4=\"38\",\" [Index]\",  \" [Chap. \"&TEXT(VALUE(AW4),\"#\")&\"]\")),\" \")","v":" "},1,{"$f":"IF(CO4<=CP$2,MATCH(CO4,CK$4:CK$2003,0),\"\")","v":893},{"$f":"VLOOKUP($CO4,CK$4:CM$2003,2,0)","v":"ὁ λαός"},{"$f":"VLOOKUP($CO4,CK$4:CN$2003,3,0)&VLOOKUP($CO4,CK$4:CN$2003,4,0)","v":"people, crowd [Chap. 20]"}," ",{"$f":"IF(ISERR(FIND(CW$2,AP4,1)),FALSE, TRUE)","v":false},{"$f":"IF(CT4,AE4,AE4+5000)","v":5001},{"$f":"RANK(CU4,CU$4:CU$2003,1)","v":3},{"$f":"IF($CT4,IF(AH4=\" \",\"\",\" [\"&AH4&\"]\"),\" \")","v":" "},{"$f":"IF($CT4,IF(AK4=\"Noun  \",\"Noun\",IF(AK4=\"Verb  \",\"Verb\",AK4)),\" \")","v":" "},{"$f":"IF($CT4,IF(BB4=\" \",\"\",BB4&\" \")&AG4&CW4&\": \"&AY4&  IF(AF4=\"37\",\"  (Extra\",IF(AF4=\"38\",\"  (Index\",\"  (Chapter \"&TEXT(AF4,\"#\"))) &\", \"&CX4& IF(LEN(AM4)>1,\" [\"&AM4&\"]\",\"\") &IF(LEN(AN4)>1,\" [\"&AN4&\"]\",\"\")         &\")\",\" \")","v":" "},1,{"$f":"IF(CZ4<=DA$2,MATCH(CZ4,CV$4:CV$2003,0),\"\")","v":255},{"$f":"VLOOKUP($CZ4,CV$4:CY$2003,4,0)","v":"ἀρεστός: pleasing, agreeable  (Extra, Adjective)"}," "," ",{"$f":"IF(AND(LEN(AG4)<=DF$2,AG4<>\" \"),TRUE,FALSE)","v":false},{"$f":"IF(DE4,AE4,AE4+5000)","v":5001},{"$f":"RANK(DF4,DF$4:DF$2003,1)","v":127},1,{"$f":"IF(DH4<=DA$2,MATCH(DH4,DG$4:DG$2003,0),\"\")","v":10},{"$f":"IF($DE4,IF(BB4=\" \",\"\",BB4&\" \")&AG4,\" \")","v":" "},{"$f":"IF($DE4,AY4,\" \")","v":" "},{"$f":"IF($DH4<=$DI$2,VLOOKUP($DH4,DG$4:DK$2003,4,0)&\" [\" &VLOOKUP($DH4,DG$4:DK$2003,5,0) &\"]\",\" \")","v":"-ες [(nominative, plural, masculine or feminine, 3ʳᵈ declension)]"}]
[null,"R","Chapter 7","R","Chapter 24",null,"R","Pronouns",null,"£","Show Definition?",null,null,"Root:",{"$f":"Z27","v":"*ἀγ"},{"$f":"\"(word \"  &   TEXT(Z19,\"#\") &   \" of \"  &  TEXT(BJ2,\"#\")&\")\"","v":"(word 97 of 1592)"},null,null,null,null,null,"07",true,"07:","Pronoun",true,"Pronoun:","Definition",false,null,2,"07","-, -η, -α"," ","(nominative, singular, feminine)"," ","Noun Ending"," "," "," ","  "," ","0",0.02,{"$f":"IF(AG5=\"\",\"\",AG5)","v":"-, -η, -α"},true,{"$f":"IF(ISERR(FIND(AK5,$Y$23,1)),FALSE,TRUE)","v":true},{"$f":"AND(AT5,AU5)","v":true},{"$f":"IF(AC$3,AF5,\" \")","v":"07"},{"$f":"IF(AC$4,AH5,\" \")","v":" "},{"$f":"IF(TRUE,AI5,\" \")","v":"(nominative, singular, feminine)"},{"$f":"IF(AC$6,AJ5,\" \")","v":" "},{"$f":"IF(AC$7,AK5,\" \")","v":"Noun Ending"},{"$f":"IF(AC$8,AL5,\" \")","v":" "},{"$f":"IF(AC$9,AM5,\" \")","v":" "},{"$f":"IF(AC$10,AN5,\" \")","v":" "},{"$f":"IF(AC$9,AO5,\" \")","v":"  "},{"$f":"IF(AC$12,AQ5,\" \")","v":"0"},2,2,{"$f":"IF(AV5,AW5,\" \")","v":"07"},"-, -η, -α"," ","(nominative, singular, feminine)"," ","Noun Ending",""," "," ",{"$f":"IF($AV5,IF(AL5=\" \",\"\",AL5&\" \"),\"\")","v":""},{"$f":"IF($AV5,BE5,\" \")","v":"  "},"0",2,2,"07","Noun Ending","-, -η, -α"," "," "," "," ","(nominative, singular, feminine)","-, -η, -α",{"$f":"IF(BV5=\"\",\"\",IF(BW5=\"37\",\"Extra\", IF(BW5=38, \"Index of Textbook\",\"Chapter \" &BW5))&\": \"&BX5)","v":"Chapter 07: Noun Ending"},"  ","0",{"$f":"IF(ISERR(SEARCH(CL$2,AY5,1)),FALSE, TRUE)","v":false},5002,4," ",{"$f":"IF($CI5,AY5,\" \")","v":" "},{"$f":"IF($CI5,IF(AW5=\"37\",\" [Extra]\",IF(AW5=\"38\",\" [Index]\",  \" [Chap. \"&TEXT(VALUE(AW5),\"#\")&\"]\")),\" \")","v":" "},2,1131,"ὁ ὄχλος","crowd, multitude [Chap. 8]"," ",{"$f":"IF(ISERR(FIND(CW$2,AP5,1)),FALSE, TRUE)","v":false},5002,4," "," ",{"$f":"IF($CT5,IF(BB5=\" \",\"\",BB5&\" \")&AG5&CW5&\": \"&AY5&  IF(AF5=\"37\",\"  (Extra\",IF(AF5=\"38\",\"  (Index\",\"  (Chapter \"&TEXT(AF5,\"#\"))) &\", \"&CX5& IF(LEN(AM5)>1,\" [\"&AM5&\"]\",\"\") &IF(LEN(AN5)>1,\" [\"&AN5&\"]\",\"\")         &\")\",\" \")","v":" "},2,1171,"παρίστημι: I present, I am present, I stand with  (Chapter 38, Verb [παρίστην] [παραστήσω])"," "," ",false,5002,128,2,97," ",{"$f":"IF($DE5,AY5,\" \")","v":" "},"ἄγω [I lead, I bring, I arrest]"]
[null,"R","Chapter 8","R","Chapter 25",null,"R","Noun Endings",null,"R","Pronunciation?",null,null,null,null,null,null,null,null,null,null,"08",true,"08:","Noun Ending",true,"Noun Ending:","Pronunciation",true,null,3,"07","-ν, -ον"," ","(nominative, singular, neuter; accusative, singular, masculine or neuter)"," ","Noun Ending"," "," "," ","  "," ","0",0.03,"-ν, -ον",true,true,true,"07"," ","(nominative, singular, neuter; accusative, singular, masculine or neuter)"," ","Noun Ending"," "," "," ","  ","0",3,3,"07","-ν, -ον"," ","(nominative, singular, neuter; accusative, singular, masculine or neuter)"," ","Noun Ending",""," "," ","","  ","0",3,3,"07","Noun Ending","-ν, -ον"," "," "," "," ","(nominative, singular, neuter; accusative, singular, masculine or neuter)","-ν, -ον","Chapter 07: Noun Ending","  ","0",false,5003,5," "," "," ",3,""," ","  "," ",false,5003,5," "," "," ",3,""," "," "," ",false,5003,129,3,""," "," ","ἄδω [I sing]"]
[null,"R","Chapter 9","R","Chapter 27",null,"R","Articles",null,"R","Part of Speech?",null,null,"Type:",{"$f":"Z25","v":"Verb  "},{"$f":"IF(Q7<>\" \",\"Imperfect\",\"\")","v":"Imperfect"},{"$f":"AA26","v":"ἦγον"},null,null,null,null,"09",true,"09:","Article",true,"Article:","Grammar",true,null,4,"07","-υ, -ου"," ","(genitive, singular, masculine or neuter)"," ","Noun Ending"," "," "," ","  "," ","0",0.04,"-υ, -ου",true,true,true,"07"," ","(genitive, singular, masculine or neuter)"," ","Noun Ending"," "," "," ","  ","0",4,4,"07","-υ, -ου"," ","(genitive, singular, masculine or neuter)"," ","Noun Ending",""," "," ","","  ","0",4,4,"07","Noun Ending","-υ, -ου"," "," "," "," ","(genitive, singular, masculine or neuter)","-υ, -ου","Chapter 07: Noun Ending","  ","0",false,5004,6," "," "," ",4,""," ","  "," ",false,5004,6," "," "," ",4,""," "," "," ",false,5004,130,4,""," "," ","ἀεί [always, constantly]"]
[null,"R","Chapter 10","R","Chapter 28",null,"R","Verbs",null,"R","Article?",null,null,null,null,{"$f":"IF(Q8<>\" \",\"Future Active\",\"\")","v":"Future Active"},{"$f":"AB26","v":"ἄξω"},null,null,null,null,10,true,"10:","Verb  ",true,"Verb  :","Article",true,null,5,"07","-ς, -ης, -ας"," ","(genitive, singular,  feminine)"," ","Noun Ending"," "," "," ","  "," ","0",0.05,"-ς, -ης, -ας",true,true,true,"07"," ","(genitive, singular,  feminine)"," ","Noun Ending"," "," "," ","  ","0",5,5,"07","-ς, -ης, -ας"," ","(genitive, singular,  feminine)"," ","Noun Ending",""," "," ","","  ","0",5,5,"07","Noun Ending","-ς, -ης, -ας"," "," "," "," ","(genitive, singular,  feminine)","-ς, -ης, -ας","Chapter 07: Noun Ending","  ","0",false,5005,7," "," "," ",5,""," ","  "," ",false,5005,7," "," "," ",5,""," "," "," ",false,5005,131,5,""," "," ","ὁ ἀήρ [air]"]
[null,"R","Chapter 11","R","Chapter 29",null,"R","Verb Endings",null,"R","Verb Tenses?",null,null,"Greek:",{"$f":"Z26","v":"ἄγω"},{"$f":"IF(Q7<>\" \",\"Aorist Active\",\"\")","v":"Aorist Active"},{"$f":"AC26","v":"ἤγαγον"},null,null,null,null,11,true,"11:","Verb Ending",true,"Verb Ending:","Tenses",true,null,6,"07","-ι, -ῳ"," ","(dative, singular, masculine; dative, singular, neuter)"," ","Noun Ending"," "," "," ","  "," ","0",0.06,"-ι, -ῳ",true,true,true,"07"," ","(dative, singular, masculine; dative, singular, neuter)"," ","Noun Ending"," "," "," ","  ","0",6,6,"07","-ι, -ῳ",{"$f":"IF($AV9,AX9,\" \")","v":" "},{"$f":"IF($AV9,AY9,\" \")","v":"(dative, singular, masculine; dative, singular, neuter)"},{"$f":"IF($AV9,AZ9,\" \")","v":" "},{"$f":"IF($AV9,BA9,\" \")","v":"Noun Ending"},"",{"$f":"IF($AV9,BC9,\" \")","v":" "},{"$f":"IF($AV9,BD9,\" \")","v":" "},"","  ","0",6,6,"07","Noun Ending","-ι, -ῳ"," "," "," "," ","(dative, singular, masculine; dative, singular, neuter)","-ι, -ῳ","Chapter 07: Noun Ending","  ","0",false,5006,8," "," "," ",6,""," ","  "," ",false,5006,8," "," "," ",6,""," "," "," ",false,5006,132,6,""," "," ","ἅμα [together with [dative]]"]
[null,"R","Chapter 12","R","Chapter 30",null,"R","Prepositions",null,"R","Endings Chart?",null,null,null,null,null,null,null,null,null,null,12,true,"12:","Preposition",true,"Preposition:","(updated to just link to \"tenses\")",{"$f":"AC9","v":true},null,7,"07","-ι, -ῃ, -ᾳ"," ","(dative, singular, feminine)"," ","Noun Ending"," "," "," ","  "," ","0",7.0000000000000007E-2,"-ι, -ῃ, -ᾳ",true,{"$f":"IF(ISERR(FIND(AK10,$Y$23,1)),FALSE,TRUE)","v":true},true,"07"," ","(dative, singular, feminine)"," ","Noun Ending"," "," "," ","  ","0",7,7,"07","-ι, -ῃ, -ᾳ"," ","(dative, singular, feminine)"," ","Noun Ending",""," "," ","","  ","0",7,7,"07","Noun Ending","-ι, -ῃ, -ᾳ"," "," "," "," ","(dative, singular, feminine)","-ι, -ῃ, -ᾳ","Chapter 07: Noun Ending","  ","0",false,5007,9," "," "," ",7,""," ","  "," ",false,5007,9," "," "," ",7,""," "," "," ",false,5007,133,7,""," "," ","ἅμα [at the same time]"]
[null,"R","Chapter 13","R","Chapter 31",null,"R","Conjunctions",null,"R","Strong's #?",null,null,"Pronunciation:",{"$f":"Z28","v":"AH-goe"},null,null,null,null,null,null,13,true,"13:","Conjunction",true,"Conjunction:","Chart",{"$f":"IF(J10=\"R\",TRUE,FALSE)","v":true},null,8,"07","-ν, -ην, -αν"," ","(accusative, singular, feminine)"," ","Noun Ending"," "," "," ","  "," ","0",0.08,"-ν, -ην, -αν",true,true,true,"07"," ","(accusative, singular, feminine)"," ","Noun Ending"," "," "," ","  ","0",8,8,"07","-ν, -ην, -αν"," ","(accusative, singular, feminine)"," ","Noun Ending",""," "," ","","  ","0",8,8,"07","Noun Ending","-ν, -ην, -αν"," "," "," "," ","(accusative, singular, feminine)","-ν, -ην, -αν","Chapter 07: Noun Ending","  ","0",false,5008,10," "," "," ",8,""," ","  "," ",false,5008,10," "," "," ",8,""," "," "," ",false,5008,134,8,""," "," ","ἄν [modifies relative pronoun (\"who\" becomes \"whoever\") (particle)]"]
[null,"R","Chapter 14","R","Chapter 32",null,"R","Adjectives",null,null,null,null,null,null,null,null,null,null,null,null,null,14,true,"14:","Adjective",true,"Adjective:","Strong's Number",{"$f":"IF(J11=\"R\",TRUE,FALSE)","v":true},null,9,"07","-ι, -οι"," ","(nominative, plural, masculine)"," ","Noun Ending"," "," "," ","  "," ","0",0.1,"-ι, -οι",true,true,true,"07"," ","(nominative, plural, masculine)"," ","Noun Ending",{"$f":"IF(AC$8,AL12,\" \")","v":" "}," "," ","  ","0",9,9,"07","-ι, -οι"," ","(nominative, plural, masculine)"," ","Noun Ending",""," "," ","","  ","0",9,9,"07","Noun Ending","-ι, -οι"," "," "," "," ","(nominative, plural, masculine)","-ι, -οι","Chapter 07: Noun Ending","  ","0",false,5009,11," "," "," ",9,""," ","  "," ",false,5009,11," "," "," ",9,""," "," "," ",false,5009,135,9,""," "," ","-ἄν [ending that changes \"what\" to \"whatever\"]"]
[null,"R","Chapter 16","R","Chapter 33",null,"R","Adverbs",null,null,6.0798287391662598E-2,null,null,"Definition:",{"$f":"Z29","v":""},null,"Strong's Number",null,null,null,null,16,true,"16:","Adverb",true,"Adverb:",null,null,null,10,"10","-ες"," ","(nominative, plural, masculine or feminine, 3ʳᵈ declension)"," ","Noun Ending"," "," "," "," "," ","0",0.11,"-ες",true,true,true,"10"," ","(nominative, plural, masculine or feminine, 3ʳᵈ declension)"," ","Noun Ending"," "," "," "," ","0",10,10,"10","-ες"," ","(nominative, plural, masculine or feminine, 3ʳᵈ declension)"," ","Noun Ending",""," "," ",""," ","0",10,10,"10","Noun Ending","-ες"," "," "," "," ","(nominative, plural, masculine or feminine, 3ʳᵈ declension)","-ες","Chapter 10: Noun Ending"," ","0",false,5010,12," "," "," ",10,""," ","  "," ",false,5010,12," "," "," ",10,""," "," "," ",true,10,1,10,"","-ες","(nominative, plural, masculine or feminine, 3ʳᵈ declension)","ἀνά [among, between, each]"]
[null,"R","Chapter 17","R","Chapter 34",null,"R","Idioms",null,null,false,null,null,null,null,null,{"$f":"IF(ISERR(VALUE(Z30)),Z30,IF(VALUE(Z30)<1,\"\",\"               \"&Z30))","v":"               71"},null,null,null,null,17,true,"17:","Idiom",true,"Idiom:",null,null,null,11,"07","-ι, -αι"," ","(nominative, plural, feminine)"," ","Noun Ending"," "," "," ","  "," ","0",0.12,"-ι, -αι",true,true,true,"07"," ","(nominative, plural, feminine)"," ","Noun Ending"," "," "," ","  ","0",11,11,"07","-ι, -αι"," ","(nominative, plural, feminine)"," ","Noun Ending",""," "," ","","  ","0",11,11,"07","Noun Ending","-ι, -αι"," "," "," "," ","(nominative, plural, feminine)","-ι, -αι","Chapter 07: Noun Ending","  ","0",false,5011,13," "," "," ",11,""," ","  "," ",false,5011,13," "," "," ",11,""," "," "," ",false,5011,136,11,""," "," ","ἄνω [above, high]"]
[null,"R","Chapter 18","R","Chapter 35",null,"R","Interjections",null,null,null,null,null,null,null,null,null,null,null,null,null,18,true,"18:","Interjection",{"$f":"IF(G15=\"R\",TRUE,FALSE)","v":true},"Interjection:",null,null,null,12,"07","-α     "," ","(nominative or accusative, plural, neuter)"," ","Noun Ending"," "," "," ","  "," ","0",0.13,"-α     ",true,true,true,"07"," ","(nominative or accusative, plural, neuter)"," ","Noun Ending"," "," "," ","  ","0",12,12,"07","-α     "," ","(nominative or accusative, plural, neuter)"," ","Noun Ending",{"$f":"IF($AV15,IF(BB15=\" \",\"\",BB15&\" \"),\"\")","v":""}," "," ","","  ","0",12,12,"07","Noun Ending","-α     "," "," "," "," ","(nominative or accusative, plural, neuter)","-α     ","Chapter 07: Noun Ending","  ","0",false,5012,14," "," "," ",12,""," ","  "," ",false,5012,14," "," "," ",12,""," "," "," ",false,5012,137,12,""," "," ","ἄρα [then, therefore (particle)]"]
[null,"R","Chapter 19","R","Chapter 36",null,null,null,null,null,null,null,null,null,null,null,null,null,null,null,null,19,true,"19:",null,null,null,null,null,null,13,"07","-ων     "," ","(genitive, plural, masculine, feminine, neuter)"," ","Noun Ending"," "," "," ","  "," ","0",0.2,"-ων     ",true,true,true,"07"," ","(genitive, plural, masculine, feminine, neuter)"," ","Noun Ending"," "," "," ","  ","0",13,13,"07","-ων     "," ","(genitive, plural, masculine, feminine, neuter)"," ","Noun Ending",{"$f":"IF($AV16,IF(BB16=\" \",\"\",BB16&\" \"),\"\")","v":""}," "," ","","  ","0",13,13,"07","Noun Ending","-ων     "," "," "," "," ","(genitive, plural, masculine, feminine, neuter)","-ων     ","Chapter 07: Noun Ending","  ","0",false,5013,15," "," "," ",13,""," ","  "," ",false,5013,15," "," "," ",13,""," "," "," ",false,5013,138,13,""," "," ","ἆρα [really? (introduces question with incredulity) (particle)]"]
[null,"R","Chapter 20","R","Extra",null,null,null,null,null,null,null,null,null,null,null,null,null,null,null,null,20,true,"20:","When adding words, update references",null,null,"in all yellow cells (and below most of them)",null,null,14,"07","-ις, -οις"," ","(dative, plural, masculine or neuter)"," ","Noun Ending"," "," "," ","  "," ","0",0.21099999999999999,"-ις, -οις",true,true,true,"07"," ","(dative, plural, masculine or neuter)"," ","Noun Ending"," "," "," ","  ","0",14,14,"07","-ις, -οις"," ","(dative, plural, masculine or neuter)"," ","Noun Ending",""," "," ","","  ","0",14,14,"07","Noun Ending","-ις, -οις"," "," "," "," ","(dative, plural, masculine or neuter)","-ις, -οις","Chapter 07: Noun Ending","  ","0",false,5014,16," "," "," ",14,""," ","  "," ",false,5014,16," "," "," ",14,""," "," "," ",false,5014,139,14,""," "," ","γάρ [for, then (particle)]"]
[null,"R","Chapter 21","R","Index",null,null,null,null,null,null,null,null,null,null,null,null,null,null,null,null,21,true,"21:",{"$f":"\"Currently \"&BJ2 &\" entries.\"","v":"Currently 1592 entries."},null,"(current workbook size is <2000)",null,null,null,15,"07","-ις, -αις"," ","(dative, plural, feminine)"," ","Noun Ending"," "," "," ","  "," ","0",0.21199999999999999,"-ις, -αις",true,true,true,"07"," ","(dative, plural, feminine)"," ","Noun Ending"," "," "," ","  ","0",15,15,"07","-ις, -αις"," ","(dative, plural, feminine)"," ","Noun Ending",""," "," ","","  ","0",15,15,"07","Noun Ending","-ις, -αις"," "," "," "," ","(dative, plural, feminine)","-ις, -αις","Chapter 07: Noun Ending","  ","0",false,5015,17," "," "," ",15,""," ","  "," ",false,5015,17," "," "," ",15,""," "," "," ",false,5015,140,15,""," "," ","γε [indeed, at least, even (particle)]"]
[null,null,null,null,null,null,null,null,null,null,null,null,null,null,null,null,null,null,null,null,null,22,{"$f":"IF(D3=\"R\",TRUE,FALSE)","v":true},"22:","Chosen Index?",{"$f":"INT(K13*BJ2)+1","v":97},null,null,null,null,16,"10","-σι(ν)"," ","(dative, plural, masculine/ feminine/neuter, 3ʳᵈ declension)"," ","Noun Ending"," "," "," "," "," ","0",0.21299999999999999,"-σι(ν)",true,true,true,"10"," ","(dative, plural, masculine/ feminine/neuter, 3ʳᵈ declension)"," ","Noun Ending"," "," "," "," ","0",16,16,"10","-σι(ν)"," ","(dative, plural, masculine/ feminine/neuter, 3ʳᵈ declension)"," ","Noun Ending",""," "," ",""," ","0",16,16,"10","Noun Ending","-σι(ν)"," "," "," "," ","(dative, plural, masculine/ feminine/neuter, 3ʳᵈ declension)","-σι(ν)","Chapter 10: Noun Ending"," ","0",false,5016,18," "," "," ",16,""," ","  "," ",false,5016,18," "," "," ",16,""," "," "," ",false,5016,141,16,""," "," ","δεῖ [it is necessary]"]
[null,null,null,null,null,null,null,null,null,null,null,null,null,"© 2025 E. M. Pogozelski   pogo@geneseo.edu",null,null,null,null,null,null,null,23,{"$f":"IF(D4=\"R\",TRUE,FALSE)","v":true},"23:",{"$f":"CONCATENATE(X3,X4,X5,X6,X7,X8,X9,X10,X11,X12,X13,X14,X15,X16)","v":"04:06:07:08:09:10:11:12:13:14:16:17:18:19:"},null,null,null,null,null,17,"07","-υς, -ους"," ","(accusative, plural, masculine)"," ","Noun Ending"," "," "," ","  "," ","0",0.22,"-υς, -ους",true,true,true,"07"," ","(accusative, plural, masculine)"," ","Noun Ending"," "," "," ","  ","0",17,17,"07","-υς, -ους"," ","(accusative, plural, masculine)"," ","Noun Ending",""," "," ","","  ","0",17,17,"07","Noun Ending","-υς, -ους"," "," "," "," ","(accusative, plural, masculine)","-υς, -ους","Chapter 07: Noun Ending","  ","0",false,5017,19," "," "," ",17,""," ","  "," ",false,5017,19," "," "," ",17,""," "," "," ",false,5017,142,17,""," "," ","δέω [I bind]"]
[null,null,null,null,null,null,null,null,null,null,null,null,null,"(you can give this away, but you can't change it, or sell it, or use it any way to make money)",null,null,null,null,null,null,null,24,{"$f":"IF(D5=\"R\",TRUE,FALSE)","v":true},"24:",{"$f":"CONCATENATE(X17,X18,X19,X20,X21,X22,X23,X24,X25,X26,X27,X28,X29,X30,X31,X32,X33,X34,X35)","v":"20:21:22:23:24:25::27:28:29:30:31:32:33:34:35:36:37:38:"},null,null,null,null,null,18,"07","-ς, -ας"," ","(accusative, plural, feminine)"," ","Noun Ending"," "," "," ","  "," ","0",0.23,"-ς, -ας",true,true,true,"07"," ","(accusative, plural, feminine)"," ","Noun Ending"," "," "," ","  ","0",18,18,"07","-ς, -ας"," ","(accusative, plural, feminine)"," ","Noun Ending",""," "," ","","  ","0",18,18,"07","Noun Ending","-ς, -ας"," "," "," "," ","(accusative, plural, feminine)","-ς, -ας","Chapter 07: Noun Ending","  ","0",false,5018,20," "," "," ",18,""," ","  "," ",false,5018,20," "," "," ",18,""," "," "," ",false,5018,143,18,""," "," ","δή [now, therefore, indeed (particle)]"]
[null,null,null,null,null,null,null,null,null,null,null,null,null,null,null,null,null,null,null,null,null,25,{"$f":"IF(D6=\"R\",TRUE,FALSE)","v":true},"25:",{"$f":"CONCATENATE(Y20,Y21)","v":"04:06:07:08:09:10:11:12:13:14:16:17:18:19:20:21:22:23:24:25::27:28:29:30:31:32:33:34:35:36:37:38:"},null,null,null,null,null,19,"19","-εύς "," ","suffix for a person related to the stem (genitive, singular, masculine)","yoose","Noun Ending"," "," "," ","  ","eus","0",0.28000000000000003,"-εύς ",true,true,true,"19"," ","suffix for a person related to the stem (genitive, singular, masculine)","yoose","Noun Ending"," "," "," ","  ","0",19,19,"19","-εύς "," ","suffix for a person related to the stem (genitive, singular, masculine)","yoose","Noun Ending",""," "," ","","  ","0",19,19,"19","Noun Ending","-εύς "," "," "," ","yoose","suffix for a person related to the stem (genitive, singular, masculine)","-εύς ","Chapter 19: Noun Ending","  ","0",false,5019,21," "," "," ",19,""," ","  "," ",false,5019,21," "," "," ",19,""," "," "," ",false,5019,144,19,""," "," ","διό [therefore, for this reason]"]
[null,null,null,null,null,null,null,null,null,null,null,null,null,null,null,null,null,null,null,null,null,26,false,":",{"$f":"CONCATENATE(AA3,AA4,AA5,AA6,AA7,AA8,AA9,AA10,AA11,AA12,AA13,AA14,AA15,)","v":"Noun  :Proper Noun:Pronoun:Noun Ending:Article:Verb  :Verb Ending:Preposition:Conjunction:Adjective:Adverb:Idiom:Interjection:"},null,null,null,null,null,20,"37","-ικός"," ","converts a noun into an adjective (\"king\" becomes \"royal\")","ee-KOSS","Noun Ending"," "," "," "," ","ikos","0",0.28999999999999998,"-ικός",true,true,true,"37"," ","converts a noun into an adjective (\"king\" becomes \"royal\")","ee-KOSS","Noun Ending"," "," "," "," ","0",20,20,"37","-ικός"," ","converts a noun into an adjective (\"king\" becomes \"royal\")","ee-KOSS","Noun Ending",""," "," ",""," ",{"$f":"IF($AV23,BF23,\" \")","v":"0"},20,20,"37","Noun Ending","-ικός"," "," "," ","ee-KOSS","converts a noun into an adjective (\"king\" becomes \"royal\")","-ικός","Extra: Noun Ending"," ","0",false,5020,22," "," "," ",20,""," ","  "," ",false,5020,22," "," "," ",20,""," "," "," ",false,5020,145,20,""," "," ","δύο [two]"]
[null,null,null,null,null,null,null,null,null,null,null,null,null,null,null,null,null,null,null,null,null,27,{"$f":"IF(D7=\"R\",TRUE,FALSE)","v":true},"27:","Chapter:",{"$f":"IF(TRUE,VLOOKUP($Z$19,BU$4:CD$2003,3,0),\"\")","v":"24"},{"$f":"TEXT(Z24,\"#\")","v":"24"},null,null,null,21,"16","[active stem] +ω"," ","I am verbing (it) [present active indicative]"," ","Verb Ending"," "," "," ","  "," ","0",0.3,"[active stem] +ω",true,true,true,"16"," ","I am verbing (it) [present active indicative]"," ","Verb Ending"," "," "," ","  ","0",21,21,{"$f":"IF(AV24,AW24,\" \")","v":"16"},"[active stem] +ω",{"$f":"IF($AV24,AX24,\" \")","v":" "},{"$f":"IF($AV24,AY24,\" \")","v":"I am verbing (it) [present active indicative]"},{"$f":"IF($AV24,AZ24,\" \")","v":" "},{"$f":"IF($AV24,BA24,\" \")","v":"Verb Ending"},"",{"$f":"IF($AV24,BC24,\" \")","v":" "},{"$f":"IF($AV24,BD24,\" \")","v":" "},"","  ",{"$f":"IF($AV24,BF24,\" \")","v":"0"},21,21,"16","Verb Ending","[active stem] +ω"," "," "," "," ","I am verbing (it) [present active indicative]","[active stem] +ω","Chapter 16: Verb Ending","  ","0",false,5021,23," "," "," ",21,""," ","  "," ",false,5021,23," "," "," ",21,""," "," "," ",false,5021,146,21,""," "," ","ἐάν [if, when]"]
[null,null,null,null,null,null,null,null,null,null,null,null,null,null,null,null,null,null,null,null,null,28,{"$f":"IF(D8=\"R\",TRUE,FALSE)","v":true},"28:","Type:",{"$f":"IF(TRUE,VLOOKUP($Z$19,BU$4:CD$2003,4,0),\"\")","v":"Verb  "},null,null,null,null,22,"16","[active stem] +ες, +εις"," ","you are verbing (it) [present active indicative]"," ","Verb Ending"," "," "," ","  "," ","0",0.30099999999999999,"[active stem] +ες, +εις",true,true,true,"16"," ","you are verbing (it) [present active indicative]"," ","Verb Ending"," "," "," ","  ","0",22,22,"16","[active stem] +ες, +εις"," ","you are verbing (it) [present active indicative]"," ","Verb Ending",""," "," ","","  ","0",22,22,"16","Verb Ending","[active stem] +ες, +εις"," "," "," "," ","you are verbing (it) [present active indicative]","[active stem] +ες, +εις","Chapter 16: Verb Ending","  ","0",false,5022,24," "," "," ",22,""," ","  "," ",false,5022,24," "," "," ",22,""," "," "," ",false,5022,147,22,""," "," ","ἐάω [I permit, I allow, I let go]"]
[null,null,null,null,null,null,null,null,null,null,null,null,null,null,null,null,null,null,null,null,null,29,true,"29:","Greek:",{"$f":"IF(TRUE,VLOOKUP($Z$19,BU$4:CD$2003,5,0),\"\")","v":"ἄγω"},{"$f":"IF(TRUE,VLOOKUP($Z$19,BU$4:CD$2003,6,0),\"\")","v":"ἦγον"},{"$f":"IF(TRUE,VLOOKUP($Z$19,BU$4:CD$2003,7,0),\"\")","v":"ἄξω"},{"$f":"IF(TRUE,VLOOKUP($Z$19,BU$4:CG$2003,13,0),\"\")","v":"ἤγαγον"},null,23,"16","[active stem] +ει"," ","he/she/it is verbing (it) [present active indicative]"," ","Verb Ending"," "," "," ","  "," ","0",0.30199999999999999,"[active stem] +ει",true,true,true,"16"," ","he/she/it is verbing (it) [present active indicative]"," ","Verb Ending"," "," "," ","  ","0",23,23,"16","[active stem] +ει"," ","he/she/it is verbing (it) [present active indicative]"," ","Verb Ending",""," "," ","","  ","0",23,23,"16","Verb Ending","[active stem] +ει"," "," "," "," ","he/she/it is verbing (it) [present active indicative]","[active stem] +ει","Chapter 16: Verb Ending","  ","0",false,5023,25," "," "," ",23,""," ","  "," ",false,5023,25," "," "," ",23,""," "," "," ",false,5023,148,23,""," "," ","ἐγώ [I (nominative, singular)]"]
[null,null,null,null,null,null,null,null,null,null,null,null,null,null,null,null,null,null,null,null,null,30,true,"30:","Root:",{"$f":"IF(TRUE,VLOOKUP($Z$19,BU$4:CD$2003,8,0),\"\")","v":"*ἀγ"},null,null,null,null,24,"16","[active stem] +ομεν"," ","we are verbing (it) [present active indicative]"," ","Verb Ending"," "," "," ","  "," ","0",0.30299999999999999,"[active stem] +ομεν",true,true,true,"16"," ","we are verbing (it) [present active indicative]"," ","Verb Ending"," "," "," ","  ","0",24,24,"16","[active stem] +ομεν"," ","we are verbing (it) [present active indicative]"," ","Verb Ending",""," "," ","","  ","0",24,24,"16","Verb Ending","[active stem] +ομεν"," "," "," "," ","we are verbing (it) [present active indicative]","[active stem] +ομεν","Chapter 16: Verb Ending","  ","0",false,5024,26," "," "," ",24,""," ","  "," ",false,5024,26," "," "," ",24,""," "," "," ",false,5024,149,24,""," "," ","μοι [to me (dative singular)]"]
[null,null,null,null,null,null,null,null,null,null,null,null,null,null,null,null,null,null,null,null,null,31,true,"31:","Pronunciation:",{"$f":"IF(TRUE,VLOOKUP($Z$19,BU$4:CD$2003,9,0),\"\")","v":"AH-goe"},null,null,null,null,25,"16","[active stem] +ετε"," ","ya'll are verbing (it) [present active indicative]"," ","Verb Ending"," "," "," ","  "," ","0",0.30399999999999999,"[active stem] +ετε",true,true,true,"16"," ","ya'll are verbing (it) [present active indicative]"," ","Verb Ending"," "," "," ","  ","0",25,25,"16","[active stem] +ετε"," ","ya'll are verbing (it) [present active indicative]"," ","Verb Ending",""," "," ","","  ","0",25,25,"16","Verb Ending","[active stem] +ετε"," "," "," "," ","ya'll are verbing (it) [present active indicative]","[active stem] +ετε","Chapter 16: Verb Ending","  ","0",false,5025,27," "," "," ",25,""," ","  "," ",false,5025,27," "," "," ",25,""," "," "," ",false,5025,150,25,""," "," ","με [me (accusative singular)]"]
[null,null,null,null,null,null,null,null,null,null,null,null,null,null,null,null,null,null,null,null,null,32,true,"32:","Definition:",{"$f":"IF(OR(AND(K14,TRUE),AND(TRUE,AC5)),VLOOKUP($Z$19,BU$4:CD$2003,10,0),\"\")","v":""},null,null,null,null,26,"16","[active stem] +ονσι, +οσιν"," ","they are verbing (it) [present active indicative]"," ","Verb Ending"," "," "," ","  "," ","0",0.30499999999999999,"[active stem] +ονσι, +οσιν",true,true,true,"16"," ","they are verbing (it) [present active indicative]"," ","Verb Ending"," "," "," ","  ","0",26,26,"16","[active stem] +ονσι, +οσιν"," ","they are verbing (it) [present active indicative]"," ","Verb Ending",""," "," ","","  ","0",26,26,"16","Verb Ending","[active stem] +ονσι, +οσιν"," "," "," "," ","they are verbing (it) [present active indicative]","[active stem] +ονσι, +οσιν","Chapter 16: Verb Ending","  ","0",false,5026,28," "," "," ",26,""," ","  "," ",false,5026,28," "," "," ",26,""," "," "," ",false,5026,151,26,""," "," ","ἐμέ [me (emphatic accusative singular)]"]
[null,null,null,null,null,null,null,null,null,null,null,null,null,null,null,null,null,null,null,null,null,33,true,"33:","Strong's #",{"$f":"IF(TRUE,VLOOKUP($Z$19,BU$4:CH$2003,14,0),\"\")","v":"71"},null,null,null,null,27,"18","[middle stem] +ομαι, "," ","I verb, I am verbing [present middle indicative]"," ","Verb Ending"," "," "," ","  "," ","0",0.31,"[middle stem] +ομαι, ",true,true,true,"18"," ","I verb, I am verbing [present middle indicative]"," ","Verb Ending"," "," "," ","  ","0",27,27,"18","[middle stem] +ομαι, "," ","I verb, I am verbing [present middle indicative]"," ","Verb Ending",""," "," ","","  ","0",27,27,"18","Verb Ending","[middle stem] +ομαι, "," "," "," "," ","I verb, I am verbing [present middle indicative]","[middle stem] +ομαι, ","Chapter 18: Verb Ending","  ","0",false,5027,29," "," "," ",27,""," ","  "," ",false,5027,29," "," "," ",27,""," "," "," ",false,5027,152,27,""," "," ","εἰ [if (note absence of circumflex)]"]
[null,null,null,null,null,null,null,null,null,null,null,null,null,null,null,null,null,null,null,null,null,34,true,"34:",null,"Notes: when entering new data (in light green cells):",null,null,null,null,28,"18","[middle stem] +εσαι, +ῃ"," ","you verb, you are verbing [present middle indicative]"," ","Verb Ending"," "," "," ","  "," ","0",0.311,"[middle stem] +εσαι, +ῃ",true,true,true,"18"," ","you verb, you are verbing [present middle indicative]"," ","Verb Ending"," "," "," ","  ","0",28,28,"18","[middle stem] +εσαι, +ῃ"," ","you verb, you are verbing [present middle indicative]"," ","Verb Ending",""," "," ","","  ","0",28,28,"18","Verb Ending","[middle stem] +εσαι, +ῃ"," "," "," "," ","you verb, you are verbing [present middle indicative]","[middle stem] +εσαι, +ῃ","Chapter 18: Verb Ending","  ","0",false,5028,30," "," "," ",28,""," ","  "," ",false,5028,30," "," "," ",28,""," "," "," ",false,5028,153,28,""," "," ","εἶ [you (singular) are (2ⁿᵈ person singular of εἰμί; non-lexical)]"]
[null,null,null,null,null,null,null,null,null,null,null,null,null,null,null,null,null,null,null,null,null,35,true,"35:",null,"1) \"Noun  \" instead of \"Noun\" (i.e., with 2 spaces)",null,null,null,null,29,"18","[middle stem] +εται"," ","he/she/it verbs, he is verbing [present middle indicative]"," ","Verb Ending"," "," "," ","  "," ","0",0.312,"[middle stem] +εται",true,true,true,"18"," ","he/she/it verbs, he is verbing [present middle indicative]"," ","Verb Ending"," "," "," ","  ","0",29,29,"18","[middle stem] +εται"," ","he/she/it verbs, he is verbing [present middle indicative]"," ","Verb Ending",""," "," ","","  ","0",29,29,"18","Verb Ending","[middle stem] +εται"," "," "," "," ","he/she/it verbs, he is verbing [present middle indicative]","[middle stem] +εται","Chapter 18: Verb Ending","  ","0",false,5029,31," "," "," ",29,""," ","  "," ",false,5029,31," "," "," ",29,""," "," "," ",false,5029,154,29,""," "," ","εἷς [one (nominative, masculine) (is also an adjective)]"]
[null,null,null,null,null,null,null,null,null,null,null,null,null,null,null,null,null,null,null,null,null,"36",true,"36:",null,"2) \"Verb  \" instead of \"Verb\" (i.e., with 2 spaces)",null,null,null,null,30,"18","[middle stem] +ομεθα"," ","we verb, we are verbing [present middle indicative]"," ","Verb Ending"," "," "," ","  "," ","0",0.313,"[middle stem] +ομεθα",true,true,true,"18"," ","we verb, we are verbing [present middle indicative]"," ","Verb Ending"," "," "," ","  ","0",30,30,"18","[middle stem] +ομεθα"," ","we verb, we are verbing [present middle indicative]"," ","Verb Ending",""," "," ","","  ","0",30,30,"18","Verb Ending","[middle stem] +ομεθα"," "," "," "," ","we verb, we are verbing [present middle indicative]","[middle stem] +ομεθα","Chapter 18: Verb Ending","  ","0",false,5030,32," "," "," ",30,""," ","  "," ",false,5030,32," "," "," ",30,""," "," "," ",false,5030,155,30,""," "," ","μία [one (nominative, feminine) (is also an adjective)]"]
[null,null,null,null,null,null,null,null,null,null,null,null,null,null,null,null,null,null,null,null,null,"37",true,"37:",null,"3) No blank cells anywhere… always use 1 blank space instead.",null,null,null,null,31,"18","[middle stem] +εσθε "," ","ya'll verb, ya'll are verbing [present middle indicative]"," ","Verb Ending"," "," "," ","  "," ","0",0.314,"[middle stem] +εσθε ",true,true,true,"18"," ","ya'll verb, ya'll are verbing [present middle indicative]"," ","Verb Ending"," "," "," ","  ","0",31,31,"18","[middle stem] +εσθε "," ","ya'll verb, ya'll are verbing [present middle indicative]"," ","Verb Ending",""," "," ","","  ","0",31,31,"18","Verb Ending","[middle stem] +εσθε "," "," "," "," ","ya'll verb, ya'll are verbing [present middle indicative]","[middle stem] +εσθε ","Chapter 18: Verb Ending","  ","0",false,5031,33," "," "," ",31,""," ","  "," ",false,5031,33," "," "," ",31,""," "," "," ",false,5031,156,31,""," "," ","ἕν [one (nominative or accusative, neuter) (is also an adjective)]"]
[null,null,null,null,null,null,null,null,null,null,null,null,null,null,null,null,null,null,null,null,null,38,true,"38:",null,null,null,null,null,null,32,"18","[middle stem] +ονται"," ","they verb, they are verbing [present middle indicative]"," ","Verb Ending"," "," "," ","  "," ","0",0.315,"[middle stem] +ονται",true,true,true,"18"," ","they verb, they are verbing [present middle indicative]"," ","Verb Ending"," "," "," ","  ","0",32,32,"18","[middle stem] +ονται"," ","they verb, they are verbing [present middle indicative]"," ","Verb Ending",""," "," ","","  ","0",32,32,"18","Verb Ending","[middle stem] +ονται"," "," "," "," ","they verb, they are verbing [present middle indicative]","[middle stem] +ονται","Chapter 18: Verb Ending","  ","0",false,5032,34," "," "," ",32,""," ","  "," ",false,5032,34," "," "," ",32,""," "," "," ",false,5032,157,32,""," "," ","ἑνί [to one (dative, masculine) (is also an adjective)]"]
[null,null,null,null,null,null,null,null,null,null,null,null,null,null,null,null,null,null,null,null,null,null,null,null,"How many boxes are checked?",null,null,null,null,null,33,"18","[active stem] +ομαι"," ","I am being verbed (by it) [present passive indicative]"," ","Verb Ending"," "," "," ","  "," ","0",0.32,"[active stem] +ομαι",true,true,true,"18"," ","I am being verbed (by it) [present passive indicative]"," ","Verb Ending"," "," "," ","  ","0",33,33,"18","[active stem] +ομαι"," ","I am being verbed (by it) [present passive indicative]"," ","Verb Ending",""," "," ","","  ","0",33,33,"18","Verb Ending","[active stem] +ομαι"," "," "," "," ","I am being verbed (by it) [present passive indicative]","[active stem] +ομαι","Chapter 18: Verb Ending","  ","0",false,5033,35," "," "," ",33,""," ","  "," ",false,5033,35," "," "," ",33,""," "," "," ",false,5033,158,33,""," "," ","μιᾷ [to one (dative, feminine) (is also an adjective)]"]
[null,null,null,null,null,null,null,null,null,null,null,null,null,null,null,null,null,null,null,null,null,null,null,null,{"$f":"COUNTIF(W3:W35,TRUE)+COUNTIF(Z3:Z15,TRUE)+COUNTIF(AC3:AC12,TRUE)","v":54},{"$f":"Y37/56*100","v":96.428571428571431},"percent",null,null,null,34,"18","[active stem] +εσαι, +ῃ"," ","you are being verbed (by it) [present passive indicative]"," ","Verb Ending"," "," "," ","  "," ","0",0.32100000000000001,"[active stem] +εσαι, +ῃ",true,true,true,"18"," ","you are being verbed (by it) [present passive indicative]"," ","Verb Ending"," "," "," ","  ","0",34,34,"18","[active stem] +εσαι, +ῃ"," ","you are being verbed (by it) [present passive indicative]"," ","Verb Ending",""," "," ","","  ","0",34,34,"18","Verb Ending","[active stem] +εσαι, +ῃ"," "," "," "," ","you are being verbed (by it) [present passive indicative]","[active stem] +εσαι, +ῃ","Chapter 18: Verb Ending","  ","0",false,5034,36," "," "," ",34,""," ","  "," ",false,5034,36," "," "," ",34,""," "," "," ",false,5034,159,34,""," "," ","ἕνα [one (accusative, masculine) (is also an adjective)]"]
[null,null,null,null,null,null,null,null,null,null,null,null,null,null,null,null,null,null,null,null,null,null,null,null,"\"Chapter 37\" is words appearing in the workbook or Strongs",null,null,null,null,null,35,"18","[active stem] +εται"," ","he/she/it is being verbed (by it) [present passive indicative]"," ","Verb Ending"," "," "," ","  "," ","0",0.32200000000000001,"[active stem] +εται",true,true,true,"18"," ","he/she/it is being verbed (by it) [present passive indicative]"," ","Verb Ending"," "," "," ","  ","0",35,35,"18","[active stem] +εται"," ","he/she/it is being verbed (by it) [present passive indicative]"," ","Verb Ending",""," "," ","","  ","0",35,35,"18","Verb Ending","[active stem] +εται"," "," "," "," ","he/she/it is being verbed (by it) [present passive indicative]","[active stem] +εται","Chapter 18: Verb Ending","  ","0",false,5035,37," "," "," ",35,""," ","  "," ",false,5035,37," "," "," ",35,""," "," "," ",false,5035,160,35,""," "," ","ἐμή [my, mine (feminine)]"]
[null,null,null,null,null,null,null,null,null,null,null,null,null,null,null,null,null,null,null,null,null,null,null,null,"\"Chapter 38\" is words appearing only in the index",null,null,null,null,null,36,"18","[active stem] +ομεθα"," ","we are being verbed (by it) [present passive indicative]"," ","Verb Ending"," "," "," ","  "," ","0",0.32300000000000001,"[active stem] +ομεθα",true,true,true,"18"," ","we are being verbed (by it) [present passive indicative]"," ","Verb Ending"," "," "," ","  ","0",36,36,"18","[active stem] +ομεθα"," ","we are being verbed (by it) [present passive indicative]"," ","Verb Ending",""," "," ","","  ","0",36,36,"18","Verb Ending","[active stem] +ομεθα"," "," "," "," ","we are being verbed (by it) [present passive indicative]","[active stem] +ομεθα","Chapter 18: Verb Ending","  ","0",false,5036,38," "," "," ",36,""," ","  "," ",false,5036,38," "," "," ",36,""," "," "," ",false,5036,161,36,""," "," ","ἑνί [to one (dative, masculine or neuter)]"]
[null,null,null,null,null,null,null,null,null,null,null,null,null,null,null,null,null,null,null,null,null,null,null,null,null,null,null,null,null,null,37,"18","[active stem] +εσθε "," ","ya'll are being verbed (by it) [present passive indicative]"," ","Verb Ending"," "," "," ","  "," ","0",0.32400000000000001,"[active stem] +εσθε ",true,true,true,"18"," ","ya'll are being verbed (by it) [present passive indicative]"," ","Verb Ending"," "," "," ","  ","0",37,37,"18","[active stem] +εσθε "," ","ya'll are being verbed (by it) [present passive indicative]"," ","Verb Ending",""," "," ","","  ","0",37,37,"18","Verb Ending","[active stem] +εσθε "," "," "," "," ","ya'll are being verbed (by it) [present passive indicative]","[active stem] +εσθε ","Chapter 18: Verb Ending","  ","0",false,5037,39," "," "," ",37,""," ","  "," ",false,5037,39," "," "," ",37,""," "," "," ",false,5037,162,37,""," "," ","ἕξ [six]"]
[null,null,null,null,null,null,null,null,null,null,null,null,null,null,null,null,null,null,null,null,null,null,null,null,"Word type for chart?",null,{"$f":"IF(Z25=\"Noun Ending\",TRUE,IF(Z25=\"Article\",TRUE,IF(AND(Z25=\"Pronoun\",AC41>0),TRUE,FALSE)))","v":false},"Chart Sum:",{"$f":"SUM(AA43:AC50)","v":0},null,38,"18","[active stem] +ονται"," ","they are being verbed (by it) [present passive indicative]"," ","Verb Ending"," "," "," ","  "," ","0",0.32500000000000001,"[active stem] +ονται",true,true,true,"18"," ","they are being verbed (by it) [present passive indicative]"," ","Verb Ending"," "," "," ","  ","0",38,38,"18","[active stem] +ονται"," ","they are being verbed (by it) [present passive indicative]"," ","Verb Ending",""," "," ","","  ","0",38,38,"18","Verb Ending","[active stem] +ονται"," "," "," "," ","they are being verbed (by it) [present passive indicative]","[active stem] +ονται","Chapter 18: Verb Ending","  ","0",false,5038,40," "," "," ",38,""," ","  "," ",false,5038,40," "," "," ",38,""," "," "," ",false,5038,163,38,""," "," ","ἔσῃ [you will be ]"]
[null,null,null,null,null,null,null,null,null,null,null,null,null,null,null,null,null,null,null,null,null,null,null,null,{"$f":"Z29","v":""},null,"masculine","feminine","neuter",null,39,"19","[active stem] +σω"," ","I will verb (it) [future active indicative]"," ","Verb Ending"," "," "," ","  "," ","0",0.33,"[active stem] +σω",true,true,true,"19"," ","I will verb (it) [future active indicative]"," ","Verb Ending"," "," "," ","  ","0",39,39,"19","[active stem] +σω"," ","I will verb (it) [future active indicative]"," ","Verb Ending",""," "," ","","  ","0",39,39,"19","Verb Ending","[active stem] +σω"," "," "," "," ","I will verb (it) [future active indicative]","[active stem] +σω","Chapter 19: Verb Ending","  ","0",false,5039,41," "," "," ",39,""," ","  "," ",false,5039,41," "," "," ",39,""," "," "," ",false,5039,164,39,""," "," ","ἔτι [still, yet, even]"]
[null,null,null,null,null,null,null,null,null,null,null,null,null,null,null,null,null,null,null,null,null,null,null,1,"singular","nominative",{"$f":"IF(NOT(OR(ISERR(SEARCH(AA$42,$Y$42,1)),ISERR(SEARCH($Z43,$Y$42,1)),ISERR(SEARCH($Y43,$Y$42,1)))),$X43,0)","v":0},{"$f":"IF(NOT(OR(ISERR(SEARCH(AB$42,$Y$42,1)),ISERR(SEARCH($Z43,$Y$42,1)),ISERR(SEARCH($Y43,$Y$42,1)))),$X43,0)","v":0},{"$f":"IF(NOT(OR(ISERR(SEARCH(AC$42,$Y$42,1)),ISERR(SEARCH($Z43,$Y$42,1)),ISERR(SEARCH($Y43,$Y$42,1)))),$X43,0)","v":0},null,40,"19","[active stem] +σες, +σεις"," ","you will verb (it) [future active indicative]"," ","Verb Ending"," "," "," ","  "," ","0",0.33100000000000002,"[active stem] +σες, +σεις",true,true,true,"19"," ","you will verb (it) [future active indicative]"," ","Verb Ending"," "," "," ","  ","0",40,40,"19","[active stem] +σες, +σεις"," ","you will verb (it) [future active indicative]"," ","Verb Ending",""," "," ","","  ","0",40,40,"19","Verb Ending","[active stem] +σες, +σεις"," "," "," "," ","you will verb (it) [future active indicative]","[active stem] +σες, +σεις","Chapter 19: Verb Ending","  ","0",false,5040,42," "," "," ",40,""," ","  "," ",false,5040,42," "," "," ",40,""," "," "," ",false,5040,165,40,""," "," ","ἔχω [I have, I hold, I possess]"]
[null,null,null,null,null,null,null,null,null,null,null,null,null,null,null,null,null,null,null,null,null,null,null,2,"singular","genitive",{"$f":"IF(NOT(OR(ISERR(SEARCH(AA$42,$Y$42,1)),ISERR(SEARCH($Z44,$Y$42,1)),ISERR(SEARCH($Y44,$Y$42,1)))),$X44,0)","v":0},0,0,null,41,"19","[active stem] +σει"," ","he/she/it will verb (it) [future active indicative]"," ","Verb Ending"," "," "," ","  "," ","0",0.33200000000000002,"[active stem] +σει",true,true,true,"19"," ","he/she/it will verb (it) [future active indicative]"," ","Verb Ending"," "," "," ","  ","0",41,41,"19","[active stem] +σει"," ","he/she/it will verb (it) [future active indicative]"," ","Verb Ending",""," "," ","","  ","0",41,41,"19","Verb Ending","[active stem] +σει"," "," "," "," ","he/she/it will verb (it) [future active indicative]","[active stem] +σει","Chapter 19: Verb Ending","  ","0",false,5041,43," "," "," ",41,""," ","  "," ",false,5041,43," "," "," ",41,""," "," "," ",false,5041,166,41,""," "," ","ζάω [I live]"]
[null,null,null,null,null,null,null,null,null,null,null,null,null,null,null,null,null,null,null,null,null,null,null,3,"singular","dative",0,0,0,null,42,"19","[active stem] +σομεν"," ","we will verb (it) [future active indicative]"," ","Verb Ending"," "," "," ","  "," ","0",0.33300000000000002,"[active stem] +σομεν",true,true,true,"19"," ","we will verb (it) [future active indicative]"," ","Verb Ending"," "," "," ","  ","0",42,42,"19","[active stem] +σομεν"," ","we will verb (it) [future active indicative]"," ","Verb Ending",""," "," ","","  ","0",42,42,"19","Verb Ending","[active stem] +σομεν"," "," "," "," ","we will verb (it) [future active indicative]","[active stem] +σομεν","Chapter 19: Verb Ending","  ","0",false,5042,44," "," "," ",42,""," ","  "," ",false,5042,44," "," "," ",42,""," "," "," ",false,5042,167,42,""," "," ","ἡ ζωή [life]"]
[null,null,null,null,null,null,null,null,null,null,null,null,null,null,null,null,null,null,null,null,null,null,null,4,"singular","accusative",0,0,0,null,43,"19","[active stem] +σετε"," ","ya'll will verb (it) [future active indicative]"," ","Verb Ending"," "," "," ","  "," ","0",0.33400000000000002,"[active stem] +σετε",true,true,true,"19"," ","ya'll will verb (it) [future active indicative]"," ","Verb Ending"," "," "," ","  ","0",43,43,"19","[active stem] +σετε"," ","ya'll will verb (it) [future active indicative]"," ","Verb Ending",""," "," ","","  ","0",43,43,"19","Verb Ending","[active stem] +σετε"," "," "," "," ","ya'll will verb (it) [future active indicative]","[active stem] +σετε","Chapter 19: Verb Ending","  ","0",false,5043,45," "," "," ",43,""," ","  "," ",false,5043,45," "," "," ",43,""," "," "," ",false,5043,168,43,""," "," ","ἤ [or, than]"]
[null,null,null,null,null,null,null,null,null,null,null,null,null,null,null,null,null,null,null,null,null,null,null,1,"plural","nominative",0,0,0,null,44,"19","[active stem] +σονσι, +σοσιν"," ","they will verb (it) [future active indicative]"," ","Verb Ending"," "," "," ","  "," ","0",0.33500000000000002,"[active stem] +σονσι, +σοσιν",true,true,true,"19"," ","they will verb (it) [future active indicative]"," ","Verb Ending"," "," "," ","  ","0",44,44,"19","[active stem] +σονσι, +σοσιν"," ","they will verb (it) [future active indicative]"," ","Verb Ending",""," "," ","","  ","0",44,44,"19","Verb Ending","[active stem] +σονσι, +σοσιν"," "," "," "," ","they will verb (it) [future active indicative]","[active stem] +σονσι, +σοσιν","Chapter 19: Verb Ending","  ","0",false,5044,46," "," "," ",44,""," ","  "," ",false,5044,46," "," "," ",44,""," "," "," ",false,5044,169,44,""," "," ","ἤδη [now, already (particle)]"]
[null,null,null,null,null,null,null,null,null,null,null,null,null,null,null,null,null,null,null,null,null,null,null,2,"plural","genitive",0,0,0,null,45,"19","[middle stem] +σομαι, "," ","I will verb [future middle indicative]"," ","Verb Ending"," "," "," ","  "," ","0",0.34,"[middle stem] +σομαι, ",true,true,true,"19"," ","I will verb [future middle indicative]"," ","Verb Ending"," "," "," ","  ","0",45,45,"19","[middle stem] +σομαι, "," ","I will verb [future middle indicative]"," ","Verb Ending",""," "," ","","  ","0",45,45,"19","Verb Ending","[middle stem] +σομαι, "," "," "," "," ","I will verb [future middle indicative]","[middle stem] +σομαι, ","Chapter 19: Verb Ending","  ","0",false,5045,47," "," "," ",45,""," ","  "," ",false,5045,47," "," "," ",45,""," "," "," ",false,5045,170,45,""," "," ","ἥκω [I have come]"]
[null,null,null,null,null,null,null,null,null,null,null,null,null,null,null,null,null,null,null,null,null,null,null,3,"plural","dative",0,0,0,null,46,"19","[middle stem] +σεσαι, +σῃ"," ","you will verb [future middle indicative]"," ","Verb Ending"," "," "," ","  "," ","0",0.34100000000000003,"[middle stem] +σεσαι, +σῃ",true,true,true,"19"," ","you will verb [future middle indicative]"," ","Verb Ending"," "," "," ","  ","0",46,46,"19","[middle stem] +σεσαι, +σῃ"," ","you will verb [future middle indicative]"," ","Verb Ending",""," "," ","","  ","0",46,46,"19","Verb Ending","[middle stem] +σεσαι, +σῃ"," "," "," "," ","you will verb [future middle indicative]","[middle stem] +σεσαι, +σῃ","Chapter 19: Verb Ending","  ","0",false,5046,48," "," "," ",46,""," ","  "," ",false,5046,48," "," "," ",46,""," "," "," ",false,5046,171,46,""," "," ","ἦν [he/she/it was (3ʳᵈ person singular imperfect; non lexical)]"]
[null,null,null,null,null,null,null,null,null,null,null,null,null,null,null,null,null,null,null,null,null,null,null,4,"plural","accusative",0,0,0,null,47,"19","[middle stem] +σεται"," ","he/she/it will verb [future middle indicative]"," ","Verb Ending"," "," "," ","  "," ","0",0.34200000000000003,"[middle stem] +σεται",true,true,true,"19"," ","he/she/it will verb [future middle indicative]"," ","Verb Ending"," "," "," ","  ","0",47,47,"19","[middle stem] +σεται"," ","he/she/it will verb [future middle indicative]"," ","Verb Ending",""," "," ","","  ","0",47,47,"19","Verb Ending","[middle stem] +σεται"," "," "," "," ","he/she/it will verb [future middle indicative]","[middle stem] +σεται","Chapter 19: Verb Ending","  ","0",false,5047,49," "," "," ",47,""," ","  "," ",false,5047,49," "," "," ",47,""," "," "," ",false,5047,172,47,""," "," ","θύω [I sacrifice, I kill]"]
[null,null,null,null,null,null,null,null,null,null,null,null,null,null,null,null,null,null,null,null,null,null,null,null,null,null,null,null,null,null,48,"19","[middle stem] +σομεθα"," ","we will verb [future middle indicative]"," ","Verb Ending"," "," "," ","  "," ","0",0.34300000000000003,"[middle stem] +σομεθα",true,true,true,"19"," ","we will verb [future middle indicative]"," ","Verb Ending"," "," "," ","  ","0",48,48,"19","[middle stem] +σομεθα"," ","we will verb [future middle indicative]"," ","Verb Ending",""," "," ","","  ","0",48,48,"19","Verb Ending","[middle stem] +σομεθα"," "," "," "," ","we will verb [future middle indicative]","[middle stem] +σομεθα","Chapter 19: Verb Ending","  ","0",false,5048,50," "," "," ",48,""," ","  "," ",false,5048,50," "," "," ",48,""," "," "," ",false,5048,173,48,""," "," ","ἴδε [See! Behold!]"]
[null,null,null,null,null,null,null,null,null,null,null,null,null,null,null,null,null,null,null,null,null,null,null,null,null,null,null,null,null,null,49,"19","[middle stem] +σεσθε "," ","ya'll will verb [future middle indicative]"," ","Verb Ending"," "," "," ","  "," ","0",0.34399999999999997,"[middle stem] +σεσθε ",true,true,true,"19"," ","ya'll will verb [future middle indicative]"," ","Verb Ending"," "," "," ","  ","0",49,49,"19","[middle stem] +σεσθε "," ","ya'll will verb [future middle indicative]"," ","Verb Ending",""," "," ","","  ","0",49,49,"19","Verb Ending","[middle stem] +σεσθε "," "," "," "," ","ya'll will verb [future middle indicative]","[middle stem] +σεσθε ","Chapter 19: Verb Ending","  ","0",false,5049,51," "," "," ",49,""," ","  "," ",false,5049,51," "," "," ",49,""," "," "," ",false,5049,174,49,""," "," ","ἵνα [that, in order that, so that]"]
[null,null,null,null,null,null,null,null,null,null,null,null,null,null,null,null,null,null,null,null,null,null,null,null,null,null,null,null,null,null,50,"19","[middle stem] +σονται"," ","they will verb [future middle indicative]"," ","Verb Ending"," "," "," ","  "," ","0",0.34499999999999997,"[middle stem] +σονται",true,true,true,"19"," ","they will verb [future middle indicative]"," ","Verb Ending"," "," "," ","  ","0",50,50,"19","[middle stem] +σονται"," ","they will verb [future middle indicative]"," ","Verb Ending",""," "," ","","  ","0",50,50,"19","Verb Ending","[middle stem] +σονται"," "," "," "," ","they will verb [future middle indicative]","[middle stem] +σονται","Chapter 19: Verb Ending","  ","0",false,5050,52," "," "," ",50,""," ","  "," ",false,5050,52," "," "," ",50,""," "," "," ",false,5050,175,50,""," "," ","καί [and, even, also, namely, and yet (particle)]"]
[null,null,null,null,null,null,null,null,null,null,null,null,null,null,null,null,null,null,null,null,null,null,null,null,null,null,null,null,null,null,51,"21","ἐ + [active stem] +ον"," ","I was/they were verbing (it) [imperfect active indicative]"," ","Verb Ending"," "," "," ","  "," ","0",0.35,"ἐ + [active stem] +ον",true,true,true,"21"," ","I was/they were verbing (it) [imperfect active indicative]"," ","Verb Ending"," "," "," ","  ","0",51,51,"21","ἐ + [active stem] +ον"," ","I was/they were verbing (it) [imperfect active indicative]"," ","Verb Ending",""," "," ","","  ","0",51,51,"21","Verb Ending","ἐ + [active stem] +ον"," "," "," "," ","I was/they were verbing (it) [imperfect active indicative]","ἐ + [active stem] +ον","Chapter 21: Verb Ending","  ","0",false,5051,53," "," "," ",51,""," ","  "," ",false,5051,53," "," "," ",51,""," "," "," ",false,5051,176,51,""," "," ","κἄν [and if, even if (particle)]"]
[null,null,null,null,null,null,null,null,null,null,null,null,null,null,null,null,null,null,null,null,null,null,null,null,null,null,null,null,null,null,52,"21","ἐ + [active stem] +ες, +εις"," ","you were verbing (it) [imperfect active indicative]"," ","Verb Ending"," "," "," ","  "," ","0",0.35099999999999998,"ἐ + [active stem] +ες, +εις",true,true,true,"21"," ","you were verbing (it) [imperfect active indicative]"," ","Verb Ending"," "," "," ","  ","0",52,52,"21","ἐ + [active stem] +ες, +εις"," ","you were verbing (it) [imperfect active indicative]"," ","Verb Ending",""," "," ","","  ","0",52,52,"21","Verb Ending","ἐ + [active stem] +ες, +εις"," "," "," "," ","you were verbing (it) [imperfect active indicative]","ἐ + [active stem] +ες, +εις","Chapter 21: Verb Ending","  ","0",false,5052,54," "," "," ",52,""," ","  "," ",false,5052,54," "," "," ",52,""," "," "," ",false,5052,177,52,""," "," ","λύω [I loose, I untie, I destroy, I release]"]
[null,null,null,null,null,null,null,null,null,null,null,null,null,null,null,null,null,null,null,null,null,null,null,null,null,null,null,null,null,null,53,"21","ἐ + [active stem] +ει"," ","he/she/it was verbing (it) [imperfect active indicative]"," ","Verb Ending"," "," "," ","  "," ","0",0.35199999999999998,"ἐ + [active stem] +ει",true,true,true,"21"," ","he/she/it was verbing (it) [imperfect active indicative]"," ","Verb Ending"," "," "," ","  ","0",53,53,"21","ἐ + [active stem] +ει"," ","he/she/it was verbing (it) [imperfect active indicative]"," ","Verb Ending",""," "," ","","  ","0",53,53,"21","Verb Ending","ἐ + [active stem] +ει"," "," "," "," ","he/she/it was verbing (it) [imperfect active indicative]","ἐ + [active stem] +ει","Chapter 21: Verb Ending","  ","0",false,5053,55," "," "," ",53,""," ","  "," ",false,5053,55," "," "," ",53,""," "," "," ",false,5053,178,53,""," "," ","μέν [on the one hand, indeed (particle)]"]
[null,null,null,null,null,null,null,null,null,null,null,null,null,null,null,null,null,null,null,null,null,null,null,null,null,null,null,null,null,null,54,"21","ἐ + [active stem] +ομεν"," ","we were verbing (it) [imperfect active indicative]"," ","Verb Ending"," "," "," ","  "," ","0",0.35299999999999998,"ἐ + [active stem] +ομεν",true,true,true,"21"," ","we were verbing (it) [imperfect active indicative]"," ","Verb Ending"," "," "," ","  ","0",54,54,"21","ἐ + [active stem] +ομεν"," ","we were verbing (it) [imperfect active indicative]"," ","Verb Ending",""," "," ","","  ","0",54,54,"21","Verb Ending","ἐ + [active stem] +ομεν"," "," "," "," ","we were verbing (it) [imperfect active indicative]","ἐ + [active stem] +ομεν","Chapter 21: Verb Ending","  ","0",false,5054,56," "," "," ",54,""," ","  "," ",false,5054,56," "," "," ",54,""," "," "," ",false,5054,179,54,""," "," ","μή [not, lest (particle; used in non-indicative moods like subjunctive or imperative)]"]
[null,null,null,null,null,null,null,null,null,null,null,null,null,null,null,null,null,null,null,null,null,null,null,null,null,null,null,null,null,null,55,"21","ἐ + [active stem] +ετε"," ","ya'll were verbing (it) [imperfect active indicative]"," ","Verb Ending"," "," "," ","  "," ","0",0.35399999999999998,"ἐ + [active stem] +ετε",true,true,true,"21"," ","ya'll were verbing (it) [imperfect active indicative]"," ","Verb Ending"," "," "," ","  ","0",55,55,"21","ἐ + [active stem] +ετε"," ","ya'll were verbing (it) [imperfect active indicative]"," ","Verb Ending",""," "," ","","  ","0",55,55,"21","Verb Ending","ἐ + [active stem] +ετε"," "," "," "," ","ya'll were verbing (it) [imperfect active indicative]","ἐ + [active stem] +ετε","Chapter 21: Verb Ending","  ","0",false,5055,57," "," "," ",55,""," ","  "," ",false,5055,57," "," "," ",55,""," "," "," ",false,5055,180,55,""," "," ","μου [my/of me (genitive singular)]"]
[null,null,null,null,null,null,null,null,null,null,null,null,null,null,null,null,null,null,null,null,null,null,null,null,null,null,null,null,null,null,56,"21","ἐ + [active stem] +ον"," ","they were verbing (it) [imperfect active indicative]"," ","Verb Ending"," "," "," ","  "," ","0",0.35499999999999998,"ἐ + [active stem] +ον",true,true,true,"21"," ","they were verbing (it) [imperfect active indicative]"," ","Verb Ending"," "," "," ","  ","0",56,56,"21","ἐ + [active stem] +ον"," ","they were verbing (it) [imperfect active indicative]"," ","Verb Ending",""," "," ","","  ","0",56,56,"21","Verb Ending","ἐ + [active stem] +ον"," "," "," "," ","they were verbing (it) [imperfect active indicative]","ἐ + [active stem] +ον","Chapter 21: Verb Ending","  ","0",false,5056,58," "," "," ",56,""," ","  "," ",false,5056,58," "," "," ",56,""," "," "," ",false,5056,181,56,""," "," ","μου [my]"]
[null,null,null,null,null,null,null,null,null,null,null,null,null,null,null,null,null,null,null,null,null,null,null,null,null,null,null,null,null,null,57,"21","ἐ + [active stem] +ομην"," ","I was being verbed (by it) [imperfect passive indicative]"," ","Verb Ending"," "," "," ","  "," ","0",0.36,"ἐ + [active stem] +ομην",true,true,true,"21"," ","I was being verbed (by it) [imperfect passive indicative]"," ","Verb Ending"," "," "," ","  ","0",57,57,"21","ἐ + [active stem] +ομην"," ","I was being verbed (by it) [imperfect passive indicative]"," ","Verb Ending",""," "," ","","  ","0",57,57,"21","Verb Ending","ἐ + [active stem] +ομην"," "," "," "," ","I was being verbed (by it) [imperfect passive indicative]","ἐ + [active stem] +ομην","Chapter 21: Verb Ending","  ","0",false,5057,59," "," "," ",57,""," ","  "," ",false,5057,59," "," "," ",57,""," "," "," ",false,5057,182,57,""," "," ","ναί [yes, certainly]"]
[null,null,null,null,null,null,null,null,null,null,null,null,null,null,null,null,null,null,null,null,null,null,null,null,null,null,null,null,null,null,58,"21","ἐ + [active stem] +εσο"," ","you were being verbed (by it) [imperfect passive indicative]"," ","Verb Ending"," "," "," ","  "," ","0",0.36099999999999999,"ἐ + [active stem] +εσο",true,true,true,"21"," ","you were being verbed (by it) [imperfect passive indicative]"," ","Verb Ending"," "," "," ","  ","0",58,58,"21","ἐ + [active stem] +εσο"," ","you were being verbed (by it) [imperfect passive indicative]"," ","Verb Ending",""," "," ","","  ","0",58,58,"21","Verb Ending","ἐ + [active stem] +εσο"," "," "," "," ","you were being verbed (by it) [imperfect passive indicative]","ἐ + [active stem] +εσο","Chapter 21: Verb Ending","  ","0",false,5058,60," "," "," ",58,""," ","  "," ",false,5058,60," "," "," ",58,""," "," "," ",false,5058,183,58,""," "," ","νῦν [now (particle)]"]
[null,null,null,null,null,null,null,null,null,null,null,null,null,null,null,null,null,null,null,null,null,null,null,null,null,null,null,null,null,null,59,"21","ἐ + [active stem] +ετο"," ","he/she/it was being verbed (by it) [imperfect passive indicative]"," ","Verb Ending"," "," "," ","  "," ","0",0.36199999999999999,"ἐ + [active stem] +ετο",true,true,true,"21"," ","he/she/it was being verbed (by it) [imperfect passive indicative]"," ","Verb Ending"," "," "," ","  ","0",59,59,"21","ἐ + [active stem] +ετο"," ","he/she/it was being verbed (by it) [imperfect passive indicative]"," ","Verb Ending",""," "," ","","  ","0",59,59,"21","Verb Ending","ἐ + [active stem] +ετο"," "," "," "," ","he/she/it was being verbed (by it) [imperfect passive indicative]","ἐ + [active stem] +ετο","Chapter 21: Verb Ending","  ","0",false,5059,61," "," "," ",59,""," ","  "," ",false,5059,61," "," "," ",59,""," "," "," ",false,5059,184,59,""," "," ","ἡ νύξ [night]"]
[null,null,null,null,null,null,null,null,null,null,null,null,null,null,null,null,null,null,null,null,null,null,null,null,null,null,null,null,null,null,60,"21","ἐ + [active stem] +ομεθα"," ","we were being verbed (by it) [imperfect passive indicative]"," ","Verb Ending"," "," "," ","  "," ","0",0.36299999999999999,"ἐ + [active stem] +ομεθα",true,true,true,"21"," ","we were being verbed (by it) [imperfect passive indicative]"," ","Verb Ending"," "," "," ","  ","0",60,60,"21","ἐ + [active stem] +ομεθα"," ","we were being verbed (by it) [imperfect passive indicative]"," ","Verb Ending",""," "," ","","  ","0",60,60,"21","Verb Ending","ἐ + [active stem] +ομεθα"," "," "," "," ","we were being verbed (by it) [imperfect passive indicative]","ἐ + [active stem] +ομεθα","Chapter 21: Verb Ending","  ","0",false,5060,62," "," "," ",60,""," ","  "," ",false,5060,62," "," "," ",60,""," "," "," ",false,5060,185,60,""," "," ","ὁ [the (nominative, singular, masculine)]"]
[null,null,null,null,null,null,null,null,null,null,null,null,null,null,null,null,null,null,null,null,null,null,null,null,null,null,null,null,null,null,61,"21","ἐ + [active stem] +εσθε"," ","ya'll were being verbed (by it) [imperfect passive indicative]"," ","Verb Ending"," "," "," ","  "," ","0",0.36399999999999999,"ἐ + [active stem] +εσθε",true,true,true,"21"," ","ya'll were being verbed (by it) [imperfect passive indicative]"," ","Verb Ending"," "," "," ","  ","0",61,61,"21","ἐ + [active stem] +εσθε"," ","ya'll were being verbed (by it) [imperfect passive indicative]"," ","Verb Ending",""," "," ","","  ","0",61,61,"21","Verb Ending","ἐ + [active stem] +εσθε"," "," "," "," ","ya'll were being verbed (by it) [imperfect passive indicative]","ἐ + [active stem] +εσθε","Chapter 21: Verb Ending","  ","0",false,5061,63," "," "," ",61,""," ","  "," ",false,5061,63," "," "," ",61,""," "," "," ",false,5061,186,61,""," "," ","ἡ [the (nominative, singular, feminine)]"]
[null,null,null,null,null,null,null,null,null,null,null,null,null,null,null,null,null,null,null,null,null,null,null,null,null,null,null,null,null,null,62,"21","ἐ + [active stem] +οντο"," ","they were being verbed (by it) [imperfect passive indicative]"," ","Verb Ending"," "," "," ","  "," ","0",0.36499999999999999,"ἐ + [active stem] +οντο",true,true,true,"21"," ","they were being verbed (by it) [imperfect passive indicative]"," ","Verb Ending"," "," "," ","  ","0",62,62,"21","ἐ + [active stem] +οντο"," ","they were being verbed (by it) [imperfect passive indicative]"," ","Verb Ending",""," "," ","","  ","0",62,62,"21","Verb Ending","ἐ + [active stem] +οντο"," "," "," "," ","they were being verbed (by it) [imperfect passive indicative]","ἐ + [active stem] +οντο","Chapter 21: Verb Ending","  ","0",false,5062,64," "," "," ",62,""," ","  "," ",false,5062,64," "," "," ",62,""," "," "," ",false,5062,187,62,""," "," ","τό [the (nominative or accusative, singular, neuter)]"]
[null,null,null,null,null,null,null,null,null,null,null,null,null,null,null,null,null,null,null,null,null,null,null,null,null,null,null,null,null,null,63,"21","ἐ + [middle stem] +ομην "," ","I was verbing [imperfect middle indicative]"," ","Verb Ending"," "," "," ","  "," ","0",0.37,"ἐ + [middle stem] +ομην ",true,true,true,"21"," ","I was verbing [imperfect middle indicative]"," ","Verb Ending"," "," "," ","  ","0",63,63,"21","ἐ + [middle stem] +ομην "," ","I was verbing [imperfect middle indicative]"," ","Verb Ending",""," "," ","","  ","0",63,63,"21","Verb Ending","ἐ + [middle stem] +ομην "," "," "," "," ","I was verbing [imperfect middle indicative]","ἐ + [middle stem] +ομην ","Chapter 21: Verb Ending","  ","0",false,5063,65," "," "," ",63,""," ","  "," ",false,5063,65," "," "," ",63,""," "," "," ",false,5063,188,63,""," "," ","τοῦ [the/of the (genitive, singular, masculine or neuter)]"]
[null,null,null,null,null,null,null,null,null,null,null,null,null,null,null,null,null,null,null,null,null,null,null,null,null,null,null,"■□Abc",null,null,64,"21","ἐ + [middle stem] +εσο"," ","you were verbing [imperfect middle indicative]"," ","Verb Ending"," "," "," ","  "," ","0",0.371,"ἐ + [middle stem] +εσο",true,true,true,"21"," ","you were verbing [imperfect middle indicative]"," ","Verb Ending"," "," "," ","  ","0",64,64,"21","ἐ + [middle stem] +εσο"," ","you were verbing [imperfect middle indicative]"," ","Verb Ending",""," "," ","","  ","0",64,64,"21","Verb Ending","ἐ + [middle stem] +εσο"," "," "," "," ","you were verbing [imperfect middle indicative]","ἐ + [middle stem] +εσο","Chapter 21: Verb Ending","  ","0",false,5064,66," "," "," ",64,""," ","  "," ",false,5064,66," "," "," ",64,""," "," "," ",false,5064,189,64,""," "," ","τῆς [the/of the (genitive, singular, feminine)]"]
[null,null,null,null,null,null,null,null,null,null,null,null,null,null,null,null,null,null,null,null,null,null,null,null,"               M F N",{"$f":"IF(AND(AC$11,AA$41,$AD$79>0),Y68&\" \"&AB68&AC68&AD68,\"\")","v":""},1,null,null,null,65,"21","ἐ + [middle stem] +ετο"," ","he/she/it was verbing [imperfect middle indicative]"," ","Verb Ending"," "," "," ","  "," ","0",0.372,"ἐ + [middle stem] +ετο",{"$f":"IF(ISERR(FIND(AF68,$Y$22,1)),FALSE,TRUE)","v":true},true,true,"21"," ","he/she/it was verbing [imperfect middle indicative]"," ","Verb Ending"," "," "," ","  ","0",{"$f":"IF(AV68,AE68,AE68+5000)","v":65},{"$f":"RANK(BG68,BG$4:BG$2003,1)","v":65},"21",{"$f":"IF($AV68,BO68&AG68,\" \")","v":"ἐ + [middle stem] +ετο"}," ","he/she/it was verbing [imperfect middle indicative]"," ","Verb Ending",""," "," ","","  ","0",65,{"$f":"IF(BU68<=BJ$2,MATCH(BU68,BH$4:BH$2003,0),\"\")","v":65},{"$f":"VLOOKUP($BU68,BH$4:BQ$2003,2,0)","v":"21"},{"$f":"VLOOKUP($BU68,BH$4:BQ$2003,7,0)","v":"Verb Ending"},{"$f":"VLOOKUP($BU68,BH$4:BQ$2003,3,0)","v":"ἐ + [middle stem] +ετο"},{"$f":"VLOOKUP($BU68,BH$4:BQ$2003,9,0)","v":" "},{"$f":"VLOOKUP($BU68,BH$4:BQ$2003,10,0)","v":" "},{"$f":"VLOOKUP($BU68,BH$4:BQ$2003,4,0)","v":" "},{"$f":"VLOOKUP($BU68,BH$4:BQ$2003,6,0)","v":" "},{"$f":"VLOOKUP($BU68,BH$4:BQ$2003,5,0)","v":"he/she/it was verbing [imperfect middle indicative]"},{"$f":"IF(AC$8,BY68,VLOOKUP($BU68,BH$4:BR$2003,11,0)&BY68)","v":"ἐ + [middle stem] +ετο"},"Chapter 21: Verb Ending",{"$f":"VLOOKUP($BU68,BH$4:BS$2003,12,0)","v":"  "},{"$f":"VLOOKUP($BU68,BH$4:BT$2003,13,0)","v":"0"},false,{"$f":"IF(CI68,AE68,AE68+5000)","v":5065},{"$f":"RANK(CJ68,CJ$4:CJ$2003,1)","v":67},{"$f":"IF($CI68,IF(BB68=\" \",\"\",BB68&\" \")&AG68,\" \")","v":" "}," "," ",65,{"$f":"IF(CO68<=CP$2,MATCH(CO68,CK$4:CK$2003,0),\"\")","v":""},{"$f":"VLOOKUP($CO68,CK$4:CM$2003,2,0)","v":" "},{"$f":"VLOOKUP($CO68,CK$4:CN$2003,3,0)&VLOOKUP($CO68,CK$4:CN$2003,4,0)","v":"  "}," ",{"$f":"IF(ISERR(FIND(CW$2,AP68,1)),FALSE, TRUE)","v":false},{"$f":"IF(CT68,AE68,AE68+5000)","v":5065},{"$f":"RANK(CU68,CU$4:CU$2003,1)","v":67},{"$f":"IF($CT68,IF(AH68=\" \",\"\",\" [\"&AH68&\"]\"),\" \")","v":" "},{"$f":"IF($CT68,IF(AK68=\"Noun  \",\"Noun\",IF(AK68=\"Verb  \",\"Verb\",AK68)),\" \")","v":" "}," ",65,{"$f":"IF(CZ68<=DA$2,MATCH(CZ68,CV$4:CV$2003,0),\"\")","v":""},{"$f":"VLOOKUP($CZ68,CV$4:CY$2003,4,0)","v":" "}," "," ",{"$f":"IF(AND(LEN(AG68)<=DF$2,AG68<>\" \"),TRUE,FALSE)","v":false},{"$f":"IF(DE68,AE68,AE68+5000)","v":5065},{"$f":"RANK(DF68,DF$4:DF$2003,1)","v":190},65,{"$f":"IF(DH68<=DA$2,MATCH(DH68,DG$4:DG$2003,0),\"\")","v":""},{"$f":"IF($DE68,IF(BB68=\" \",\"\",BB68&\" \")&AG68,\" \")","v":" "}," ",{"$f":"IF($DH68<=$DI$2,VLOOKUP($DH68,DG$4:DK$2003,4,0)&\" [\" &VLOOKUP($DH68,DG$4:DK$2003,5,0) &\"]\",\" \")","v":"τῷ [the/to the (dative, singular, masculine or neuter)]"}]
[null,null,null,null,null,null,null,null,null,null,null,null,null,null,null,null,null,null,null,null,null,null,null,null,"Nom Sing","",2,{"$f":"IF(AND(AA43>0,NOT(AA46>0)),\"■\",\"□\")","v":"□"},{"$f":"IF(AB43>0,\"■\",\"□\")","v":"□"},"□",66,"21","ἐ + [middle stem] +ομεθα"," ","we were verbing [imperfect middle indicative]"," ","Verb Ending"," "," "," ","  "," ","0",0.373,{"$f":"IF(AG69=\"\",\"\",AG69)","v":"ἐ + [middle stem] +ομεθα"},true,{"$f":"IF(ISERR(FIND(AK69,$Y$23,1)),FALSE,TRUE)","v":true},{"$f":"AND(AT69,AU69)","v":true},{"$f":"IF(AC$3,AF69,\" \")","v":"21"},{"$f":"IF(AC$4,AH69,\" \")","v":" "},{"$f":"IF(TRUE,AI69,\" \")","v":"we were verbing [imperfect middle indicative]"},{"$f":"IF(AC$6,AJ69,\" \")","v":" "},{"$f":"IF(AC$7,AK69,\" \")","v":"Verb Ending"},{"$f":"IF(AC$8,AL69,\" \")","v":" "},{"$f":"IF(AC$9,AM69,\" \")","v":" "},{"$f":"IF(AC$10,AN69,\" \")","v":" "},{"$f":"IF(AC$9,AO69,\" \")","v":"  "},{"$f":"IF(AC$12,AQ69,\" \")","v":"0"},66,66,"21","ἐ + [middle stem] +ομεθα"," ","we were verbing [imperfect middle indicative]"," ","Verb Ending",""," "," ",{"$f":"IF($AV69,IF(AL69=\" \",\"\",AL69&\" \"),\"\")","v":""},{"$f":"IF($AV69,BE69,\" \")","v":"  "},"0",66,66,"21","Verb Ending","ἐ + [middle stem] +ομεθα"," "," "," "," ","we were verbing [imperfect middle indicative]","ἐ + [middle stem] +ομεθα",{"$f":"IF(BV69=\"\",\"\",IF(BW69=\"37\",\"Extra\", IF(BW69=38, \"Index of Textbook\",\"Chapter \" &BW69))&\": \"&BX69)","v":"Chapter 21: Verb Ending"},"  ","0",{"$f":"IF(ISERR(SEARCH(CL$2,AY69,1)),FALSE, TRUE)","v":false},5066,68," ",{"$f":"IF($CI69,AY69,\" \")","v":" "},{"$f":"IF($CI69,IF(AW69=\"37\",\" [Extra]\",IF(AW69=\"38\",\" [Index]\",  \" [Chap. \"&TEXT(VALUE(AW69),\"#\")&\"]\")),\" \")","v":" "},66,""," ","  "," ",false,5066,68," "," ",{"$f":"IF($CT69,IF(BB69=\" \",\"\",BB69&\" \")&AG69&CW69&\": \"&AY69&  IF(AF69=\"37\",\"  (Extra\",IF(AF69=\"38\",\"  (Index\",\"  (Chapter \"&TEXT(AF69,\"#\"))) &\", \"&CX69& IF(LEN(AM69)>1,\" [\"&AM69&\"]\",\"\") &IF(LEN(AN69)>1,\" [\"&AN69&\"]\",\"\")         &\")\",\" \")","v":" "},66,""," "," "," ",false,5066,191,66,""," ",{"$f":"IF($DE69,AY69,\" \")","v":" "},"τῇ [the/ to the (dative, singular, feminine)]"]
[null,null,null,null,null,null,null,null,null,null,null,null,null,null,null,null,null,null,null,null,null,null,null,null,"  Gen Sing","",3,{"$f":"IF(AA44>0,\"■\",\"□\")","v":"□"},"□","□",67,"21","ἐ + [middle stem] +εσθε "," ","ya'll were verbing [imperfect middle indicative]"," ","Verb Ending"," "," "," ","  "," ","0",0.374,"ἐ + [middle stem] +εσθε ",true,true,true,"21"," ","ya'll were verbing [imperfect middle indicative]"," ","Verb Ending"," "," "," ","  ","0",67,67,"21","ἐ + [middle stem] +εσθε "," ","ya'll were verbing [imperfect middle indicative]"," ","Verb Ending",""," "," ","","  ","0",67,67,"21","Verb Ending","ἐ + [middle stem] +εσθε "," "," "," "," ","ya'll were verbing [imperfect middle indicative]","ἐ + [middle stem] +εσθε ","Chapter 21: Verb Ending","  ","0",false,5067,69," "," "," ",67,""," ","  "," ",false,5067,69," "," "," ",67,""," "," "," ",false,5067,192,67,""," "," ","τόν [the (accusative, singular, masculine)]"]
[null,null,null,null,null,null,null,null,null,null,null,null,null,null,null,null,null,null,null,null,null,null,null,null,"  Dat Sing","",4,{"$f":"IF(AA45>0,\"■\",\"□\")","v":"□"},"□","□",68,"21","ἐ + [middle stem] +οντο"," ","they were verbing [imperfect middle indicative]"," ","Verb Ending"," "," "," ","  "," ","0",0.375,"ἐ + [middle stem] +οντο",true,true,true,"21"," ","they were verbing [imperfect middle indicative]"," ","Verb Ending"," "," "," ","  ","0",68,68,"21","ἐ + [middle stem] +οντο"," ","they were verbing [imperfect middle indicative]"," ","Verb Ending",""," "," ","","  ","0",68,68,"21","Verb Ending","ἐ + [middle stem] +οντο"," "," "," "," ","they were verbing [imperfect middle indicative]","ἐ + [middle stem] +οντο","Chapter 21: Verb Ending","  ","0",false,5068,70," "," "," ",68,""," ","  "," ",false,5068,70," "," "," ",68,""," "," "," ",false,5068,193,68,""," "," ","τήν [the (accusative, singular, feminine)]"]
[null,null,null,null,null,null,null,null,null,null,null,null,null,null,null,null,null,null,null,null,null,null,null,null,"  Acc Sing","",5,{"$f":"IF(AA46>0,\"■\",\"□\")","v":"□"},"□","□",69,"37","κατα-, κατε-"," ","verb prefix adding \"thoroughly\" to meaning"," ","Verb Ending"," "," "," ","  ","kata","0",0.99,"κατα-, κατε-",true,true,true,"37"," ","verb prefix adding \"thoroughly\" to meaning"," ","Verb Ending"," "," "," ","  ","0",69,69,"37","κατα-, κατε-"," ","verb prefix adding \"thoroughly\" to meaning"," ","Verb Ending",""," "," ","","  ","0",69,69,"37","Verb Ending","κατα-, κατε-"," "," "," "," ","verb prefix adding \"thoroughly\" to meaning","κατα-, κατε-","Extra: Verb Ending","  ","0",false,5069,71," "," "," ",69,""," ","  "," ",false,5069,71," "," "," ",69,""," "," "," ",false,5069,194,69,""," "," ","οἱ [the (nominative, plural, masculine)]"]
[null,null,null,null,null,null,null,null,null,null,null,null,null,null,null,null,null,null,null,null,null,null,null,null,"              M F N","",6,null,null,null,70,"04","Ἀβραάμ","*ἀβρααμ","Abraham","ah-brah-AHM","Proper Noun","ὁ"," "," ","  ","abraam","11",11,"Ἀβραάμ",true,true,true,"04","*ἀβρααμ","Abraham","ah-brah-AHM","Proper Noun","ὁ"," "," ","  ","11",70,70,"04","ὁ Ἀβραάμ","*ἀβρααμ","Abraham","ah-brah-AHM","Proper Noun","ὁ "," "," ","ὁ ","  ","11",70,70,"04","Proper Noun","ὁ Ἀβραάμ"," "," ","*ἀβρααμ","ah-brah-AHM","Abraham","ὁ Ἀβραάμ","Chapter 04: Proper Noun","  ","11",false,5070,72," "," "," ",70,""," ","  "," ",false,5070,72," "," "," ",70,""," "," "," ",false,5070,195,70,""," "," ","αἱ [the (nominative, plural, feminine)]"]
[null,null,null,null,null,null,null,null,null,null,null,null,null,null,null,null,null,null,null,null,null,null,null,null," Nom Plur","",7,{"$f":"IF(AA47>0,\"■\",\"□\")","v":"□"},"□","□",71,"37","ἄβυσσος"," ","(infernal) abyss, bottomless","AHB-oose-oss","Noun  ","ἡ"," "," "," ","abussos",12,12,"ἄβυσσος",true,true,true,"37"," ","(infernal) abyss, bottomless","AHB-oose-oss","Noun  ","ἡ"," "," "," ",12,71,71,"37","ἡ ἄβυσσος"," ","(infernal) abyss, bottomless","AHB-oose-oss","Noun  ","ἡ "," "," ","ἡ "," ",12,71,71,"37","Noun  ","ἡ ἄβυσσος"," "," "," ","AHB-oose-oss","(infernal) abyss, bottomless","ἡ ἄβυσσος","Extra: Noun  "," ",12,false,5071,73," "," "," ",71,""," ","  "," ",false,5071,73," "," "," ",71,""," "," "," ",false,5071,196,71,""," "," ","τά [the (nominative or accusative, plural, neuter)]"]
[null,null,null,null,null,null,null,null,null,null,null,null,null,null,null,null,null,null,null,null,null,null,null,null,"    Gen Plur","",8,"□","□","□",72,"37","ἀγαθοποιέω"," ","I do rightly, I do good","ah-gah-thopp-oy-EH-ower","Verb  "," ","ἠγαθοποιοῦν","ἀγαθοποιήσω","ἠγαθοποίησα","agaqopoiew hgaqopoioun agaqopoihsw hgaqopoihsa",15,15,"ἀγαθοποιέω",true,true,true,"37"," ","I do rightly, I do good","ah-gah-thopp-oy-EH-ower","Verb  "," ","ἠγαθοποιοῦν","ἀγαθοποιήσω","ἠγαθοποίησα",15,72,72,"37","ἀγαθοποιέω"," ","I do rightly, I do good","ah-gah-thopp-oy-EH-ower","Verb  ","","ἠγαθοποιοῦν","ἀγαθοποιήσω","","ἠγαθοποίησα",15,72,72,"37","Verb  ","ἀγαθοποιέω","ἠγαθοποιοῦν","ἀγαθοποιήσω"," ","ah-gah-thopp-oy-EH-ower","I do rightly, I do good","ἀγαθοποιέω","Extra: Verb  ","ἠγαθοποίησα",15,false,5072,74," "," "," ",72,""," ","  "," ",false,5072,74," "," "," ",72,""," "," "," ",false,5072,197,72,""," "," ","τῶν [the/of the (genitive, plural, masculine, feminine, neuter)]"]
[null,null,null,null,null,null,null,null,null,null,null,null,null,null,null,null,null,null,null,null,null,null,null,null,"     Dat Plur","",9,{"$f":"IF(AA49>0,\"■\",\"□\")","v":"□"},"□","□",73,"09","ἀγαθός","*ἀγαθο","good, useful","ah-gah-THOSS","Adjective"," "," "," ","  ","agaqos","18",18,"ἀγαθός",true,true,true,"09","*ἀγαθο","good, useful","ah-gah-THOSS","Adjective"," "," "," ","  ","18",73,73,"09","ἀγαθός","*ἀγαθο","good, useful","ah-gah-THOSS","Adjective",""," "," ","","  ","18",73,73,"09","Adjective","ἀγαθός"," "," ","*ἀγαθο","ah-gah-THOSS","good, useful","ἀγαθός","Chapter 09: Adjective","  ","18",false,5073,75," "," "," ",73,""," ","  "," ",false,5073,75," "," "," ",73,""," "," "," ",false,5073,198,73,""," "," ","τάς [the (accusative, plural, feminine)]"]
[null,null,null,null,null,null,null,null,null,null,null,null,null,null,null,null,null,null,null,null,null,null,null,null,"   Acc Plur","",10,"□","□","□",74,38,"ἀγαλλιάω"," ","I exult","ah-gah-lee-AH-owe","Verb  "," ","ἠγαλλίαον","ἀγαλλιάσομαι","ἠγαλλίασα","agalliaw hgalliasa hgalliaon agalliasomai ","21",21,"ἀγαλλιάω",true,true,true,38," ","I exult","ah-gah-lee-AH-owe","Verb  "," ","ἠγαλλίαον","ἀγαλλιάσομαι","ἠγαλλίασα","21",74,74,38,"ἀγαλλιάω"," ","I exult","ah-gah-lee-AH-owe","Verb  ","","ἠγαλλίαον","ἀγαλλιάσομαι","","ἠγαλλίασα","21",74,74,38,"Verb  ","ἀγαλλιάω","ἠγαλλίαον","ἀγαλλιάσομαι"," ","ah-gah-lee-AH-owe","I exult","ἀγαλλιάω","Index of Textbook: Verb  ","ἠγαλλίασα","21",false,5074,76," "," "," ",74,""," ","  "," ",false,5074,76," "," "," ",74,""," "," "," ",false,5074,199,74,""," "," ","ὅς [who/which/that (nominative, singular, masculine)]"]
[null,null,null,null,null,null,null,null,null,null,null,null,null,null,null,null,null,null,null,null,null,null,null,null,null,null,null,null,null,null,75,"37","ἄγαμος"," ","unmarried (person)","AH-gah-moss","Noun  ","ἡ"," "," "," ","agamos",22,22,"ἄγαμος",true,true,true,"37"," ","unmarried (person)","AH-gah-moss","Noun  ","ἡ"," "," "," ",22,75,75,"37","ἡ ἄγαμος"," ","unmarried (person)","AH-gah-moss","Noun  ","ἡ "," "," ","ἡ "," ",22,75,75,"37","Noun  ","ἡ ἄγαμος"," "," "," ","AH-gah-moss","unmarried (person)","ἡ ἄγαμος","Extra: Noun  "," ",22,false,5075,77," "," "," ",75,""," ","  "," ",false,5075,77," "," "," ",75,""," "," "," ",false,5075,200,75,""," "," ","ἥ [who/which/that (nominative, singular, feminine)]"]
[null,null,null,null,null,null,null,null,null,null,null,null,null,null,null,null,null,null,null,null,null,null,null,null,null,null,null,"Checkbox Count",null,{"$f":"SUM(AB80:AD88)","v":0},76,"37","ἀγανακτέω"," ","I am indignant, I am afflicted","ah-gahn-ahk-TEH-noe","Verb  "," ","ἠγανάκτεον","ἀγανακτήσω","ἠγανάκτησα","aganaktew hganakteon aganakthsw hganakthsa",23,23,"ἀγανακτέω",true,true,true,"37"," ","I am indignant, I am afflicted","ah-gahn-ahk-TEH-noe","Verb  "," ","ἠγανάκτεον","ἀγανακτήσω","ἠγανάκτησα",23,76,76,"37","ἀγανακτέω"," ","I am indignant, I am afflicted","ah-gahn-ahk-TEH-noe","Verb  ","","ἠγανάκτεον","ἀγανακτήσω","","ἠγανάκτησα",23,76,76,"37","Verb  ","ἀγανακτέω","ἠγανάκτεον","ἀγανακτήσω"," ","ah-gahn-ahk-TEH-noe","I am indignant, I am afflicted","ἀγανακτέω","Extra: Verb  ","ἠγανάκτησα",23,false,5076,78," "," "," ",76,""," ","  "," ",false,5076,78," "," "," ",76,""," "," "," ",false,5076,201,76,""," "," ","ὅ [who/whom/which/that (nominative or accusative, singular, neuter)]"]
[null,null,null,null,null,null,null,null,null,null,null,null,null,null,null,null,null,null,null,null,null,null,null,null,null,null,null,{"$f":"IF(AB69=\"■\",1,0)","v":0},{"$f":"IF(AC69=\"■\",1,0)","v":0},{"$f":"IF(AD69=\"■\",1,0)","v":0},77,"17","ἀγαπάω","*ἀγαπα","I love, I cherish","ah-gah-PAY-owe","Verb  "," ","ἠγάπων","ἀγαπήσω","ἠγάπησα","agapaw hgapwn agaphsw hgaphsa","25",25,"ἀγαπάω",true,true,true,"17","*ἀγαπα","I love, I cherish","ah-gah-PAY-owe","Verb  "," ","ἠγάπων","ἀγαπήσω","ἠγάπησα","25",77,77,"17","ἀγαπάω","*ἀγαπα","I love, I cherish","ah-gah-PAY-owe","Verb  ",{"$f":"IF($AV80,IF(BB80=\" \",\"\",BB80&\" \"),\"\")","v":""},"ἠγάπων","ἀγαπήσω","","ἠγάπησα","25",77,77,"17","Verb  ","ἀγαπάω","ἠγάπων","ἀγαπήσω","*ἀγαπα","ah-gah-PAY-owe","I love, I cherish","ἀγαπάω","Chapter 17: Verb  ","ἠγάπησα","25",false,5077,79," "," "," ",77,""," ","  "," ",false,5077,79," "," "," ",77,""," "," "," ",false,5077,202,77,""," "," ","οὗ [of whom/of which/of whose (genitive, singular, masculine or neuter)]"]
[null,null,null,null,null,null,null,null,null,null,null,null,null,null,null,null,null,null,null,null,null,null,null,null,null,null,null,{"$f":"IF(AB70=\"■\",1,0)","v":0},0,0,78,"06","ἀγάπη","*ἀγαπη","love","ah-GAH-pay","Noun  ","ἡ"," "," ","  ","agaph","26",26,"ἀγάπη",true,true,true,"06","*ἀγαπη","love","ah-GAH-pay","Noun  ","ἡ"," "," ","  ","26",78,78,"06","ἡ ἀγάπη","*ἀγαπη","love","ah-GAH-pay","Noun  ","ἡ "," "," ","ἡ ","  ","26",78,78,"06","Noun  ","ἡ ἀγάπη"," "," ","*ἀγαπη","ah-GAH-pay","love","ἡ ἀγάπη","Chapter 06: Noun  ","  ","26",false,5078,80," "," "," ",78,""," ","  "," ",false,5078,80," "," "," ",78,""," "," "," ",false,5078,203,78,""," "," ","ἧς [of whom/of which/of whose (genitive, singular, feminine)]"]
[null,null,null,null,null,null,null,null,null,null,null,null,null,null,null,null,null,null,null,null,null,null,null,null,null,null,null,0,0,0,79,"09","ἀγαπητός","*ἀγαπητο","beloved","ah-ga-pay-TOSS","Adjective"," "," "," ","  ","agaphtos","27",27,"ἀγαπητός",true,true,true,"09","*ἀγαπητο","beloved","ah-ga-pay-TOSS","Adjective"," "," "," ","  ","27",79,79,"09","ἀγαπητός","*ἀγαπητο","beloved","ah-ga-pay-TOSS","Adjective",""," "," ","","  ","27",79,79,"09","Adjective","ἀγαπητός"," "," ","*ἀγαπητο","ah-ga-pay-TOSS","beloved","ἀγαπητός","Chapter 09: Adjective","  ","27",false,5079,81," "," "," ",79,""," ","  "," ",false,5079,81," "," "," ",79,""," "," "," ",false,5079,204,79,""," "," ","ᾧ [to whom/to which (dative, singular, masculine or neuter)]"]
[null,null,null,null,null,null,null,null,null,null,null,null,null,null,null,null,null,null,null,null,null,null,null,null,null,null,null,0,0,0,80,"37","ἀγγελία"," ","message","ahng-ell-EE-ah","Noun  ","ἡ"," "," ","  ","aggelia","31a",31.1,"ἀγγελία",true,true,true,"37"," ","message","ahng-ell-EE-ah","Noun  ","ἡ"," "," ","  ","31a",80,80,"37","ἡ ἀγγελία"," ","message","ahng-ell-EE-ah","Noun  ","ἡ "," "," ","ἡ ","  ","31a",80,80,"37","Noun  ","ἡ ἀγγελία"," "," "," ","ahng-ell-EE-ah","message","ἡ ἀγγελία","Extra: Noun  ","  ","31a",false,5080,82," "," "," ",80,""," ","  "," ",false,5080,82," "," "," ",80,""," "," "," ",false,5080,205,80,""," "," ","ᾗ [to whom/to which (dative, singular, feminine)]"]
[null,null,null,null,null,null,null,null,null,null,null,null,null,null,null,null,null,null,null,null,null,null,null,null,null,null,null,0,0,0,81,"04","ἄγγελος","*ἀγγελο","angel, messenger","AHN-gell-oss","Noun  ","ὁ"," "," ","  ","aggelos","32a",32.1,"ἄγγελος",true,true,true,"04","*ἀγγελο","angel, messenger","AHN-gell-oss","Noun  ","ὁ"," "," ","  ","32a",81,81,"04","ὁ ἄγγελος","*ἀγγελο","angel, messenger","AHN-gell-oss","Noun  ","ὁ "," "," ","ὁ ","  ","32a",81,81,"04","Noun  ","ὁ ἄγγελος"," "," ","*ἀγγελο","AHN-gell-oss","angel, messenger","ὁ ἄγγελος","Chapter 04: Noun  ","  ","32a",false,5081,83," "," "," ",81,""," ","  "," ",false,5081,83," "," "," ",81,""," "," "," ",false,5081,206,81,""," "," ","ὅν [whom/which/that (accusative, singular, masculine)]"]
[null,null,null,null,null,null,null,null,null,null,null,null,null,null,null,null,null,null,null,null,null,null,null,null,null,null,null,0,0,0,82,"37","ἀγέλη"," ","herd","ah-GELL-ay","Noun  ","ἡ"," "," "," ","agelh",34,34,"ἀγέλη",true,true,true,"37"," ","herd","ah-GELL-ay","Noun  ","ἡ"," "," "," ",34,82,82,"37","ἡ ἀγέλη"," ","herd","ah-GELL-ay","Noun  ","ἡ "," "," ","ἡ "," ",34,82,82,"37","Noun  ","ἡ ἀγέλη"," "," "," ","ah-GELL-ay","herd","ἡ ἀγέλη","Extra: Noun  "," ",34,false,5082,84," "," "," ",82,""," ","  "," ",false,5082,84," "," "," ",82,""," "," "," ",false,5082,207,82,""," "," ","ἥν [whom/which/that (accusative, singular, feminine)]"]
[null,null,null,null,null,null,null,null,null,null,null,null,null,null,null,null,null,null,null,null,null,null,null,null,null,null,null,0,0,0,83,"35","ἁγιάζω","*ἁγιαδ","I consecrate, I sanctify","hah-gi-AH-zoe","Verb  "," ","ἡγίαζον","ἁγιάσω","ἥγιασα","agiazw hgiasa hgiazon agiasw","37",37,"ἁγιάζω",true,true,true,"35","*ἁγιαδ","I consecrate, I sanctify","hah-gi-AH-zoe","Verb  "," ","ἡγίαζον","ἁγιάσω","ἥγιασα","37",83,83,"35","ἁγιάζω","*ἁγιαδ","I consecrate, I sanctify","hah-gi-AH-zoe","Verb  ","","ἡγίαζον","ἁγιάσω","","ἥγιασα","37",83,83,"35","Verb  ","ἁγιάζω","ἡγίαζον","ἁγιάσω","*ἁγιαδ","hah-gi-AH-zoe","I consecrate, I sanctify","ἁγιάζω","Chapter 35: Verb  ","ἥγιασα","37",false,5083,85," "," "," ",83,""," ","  "," ",false,5083,85," "," "," ",83,""," "," "," ",false,5083,208,83,""," "," ","οἵ [who/which/that (nominative, plural, masculine)]"]
[null,null,null,null,null,null,null,null,null,null,null,null,null,null,null,null,null,null,null,null,null,null,null,null,null,null,null,0,0,0,84,"38","ἁγιασμός","*ἁγιο","holiness, consecration","Ha-gee-ahs-MOSS","Noun  ","ὁ"," "," "," ","agiasmos","38",38,"ἁγιασμός",true,true,true,"38","*ἁγιο","holiness, consecration","Ha-gee-ahs-MOSS","Noun  ","ὁ"," "," "," ","38",84,84,"38","ὁ ἁγιασμός","*ἁγιο","holiness, consecration","Ha-gee-ahs-MOSS","Noun  ","ὁ "," "," ","ὁ "," ","38",84,84,"38","Noun  ","ὁ ἁγιασμός"," "," ","*ἁγιο","Ha-gee-ahs-MOSS","holiness, consecration","ὁ ἁγιασμός","Chapter 38: Noun  "," ","38",false,5084,86," "," "," ",84,""," ","  "," ",false,5084,86," "," "," ",84,""," "," "," ",false,5084,209,84,""," "," ","αἵ [who/which/that (nominative, plural, feminine)]"]
[null,null,null,null,null,null,null,null,null,null,null,null,null,null,null,null,null,null,null,null,null,null,null,null,null,null,null,0,0,0,85,"09","ἅγιος (noun)","*ἁγιο","saint, holy one","HA-gi-oss","Noun  ","ὁ"," "," ","  ","agios","40",40,"ἅγιος (noun)",true,true,true,"09","*ἁγιο","saint, holy one","HA-gi-oss","Noun  ","ὁ"," "," ","  ","40",85,85,{"$f":"IF(AV88,AW88,\" \")","v":"09"},"ὁ ἅγιος (noun)",{"$f":"IF($AV88,AX88,\" \")","v":"*ἁγιο"},{"$f":"IF($AV88,AY88,\" \")","v":"saint, holy one"},{"$f":"IF($AV88,AZ88,\" \")","v":"HA-gi-oss"},{"$f":"IF($AV88,BA88,\" \")","v":"Noun  "},"ὁ ",{"$f":"IF($AV88,BC88,\" \")","v":" "},{"$f":"IF($AV88,BD88,\" \")","v":" "},"ὁ ","  ",{"$f":"IF($AV88,BF88,\" \")","v":"40"},85,85,"09","Noun  ","ὁ ἅγιος (noun)"," "," ","*ἁγιο","HA-gi-oss","saint, holy one","ὁ ἅγιος (noun)","Chapter 09: Noun  ","  ","40",false,5085,87," "," "," ",85,""," ","  "," ",false,5085,87," "," "," ",85,""," "," "," ",false,5085,210,85,""," "," ","ἅ [who/which/that/whom (nominative or accusative, plural, neuter)]"]
[null,null,null,null,null,null,null,null,null,null,null,null,null,null,null,null,null,null,null,null,null,null,null,null,null,null,null,null,null,null,86,"09","ἅγιος (adj)","*ἁγιο","holy","HA-gi-oss","Adjective"," "," "," ","  ","agios","40",40.1,"ἅγιος (adj)",true,true,true,"09","*ἁγιο","holy","HA-gi-oss","Adjective"," "," "," ","  ","40",86,86,"09","ἅγιος (adj)","*ἁγιο","holy","HA-gi-oss","Adjective",""," "," ","","  ","40",86,86,"09","Adjective","ἅγιος (adj)"," "," ","*ἁγιο","HA-gi-oss","holy","ἅγιος (adj)","Chapter 09: Adjective","  ","40",false,5086,88," "," "," ",86,""," ","  "," ",false,5086,88," "," "," ",86,""," "," "," ",false,5086,211,86,""," "," ","ὧν [of whom/of which/of whose (genitive, plural, masculine, feminine, neuter)]"]
[null,null,null,null,null,null,null,null,null,null,null,null,null,null,null,null,null,null,null,null,null,null,null,null,null,null,null,null,null,null,87,"37","ἄγκυρα"," ","anchor","AHNG-koo-rah","Noun  ","ἡ"," "," "," ","agkura",45,45,"ἄγκυρα",true,true,true,"37"," ","anchor","AHNG-koo-rah","Noun  ","ἡ"," "," "," ",45,87,87,"37","ἡ ἄγκυρα"," ","anchor","AHNG-koo-rah","Noun  ","ἡ "," "," ","ἡ "," ",45,87,87,"37","Noun  ","ἡ ἄγκυρα"," "," "," ","AHNG-koo-rah","anchor","ἡ ἄγκυρα","Extra: Noun  "," ",45,false,5087,89," "," "," ",87,""," ","  "," ",false,5087,89," "," "," ",87,""," "," "," ",false,5087,212,87,""," "," ","οἷς [to whom/to which (dative, plural, masculine or neuter)]"]
[null,null,null,null,null,null,null,null,null,null,null,null,null,null,null,null,null,null,null,null,null,null,null,null,null,null,null,null,null,null,88,"37","ἁγνίζω"," ","I make clean, I sanctify","hahg-NEE-zoe","Verb  "," ","ἡγνίζον","ἁγνίσω","ἥγνισα","agnizw hgnizon agnisw hgnisa",48,48,"ἁγνίζω",true,true,true,"37"," ","I make clean, I sanctify","hahg-NEE-zoe","Verb  "," ","ἡγνίζον","ἁγνίσω","ἥγνισα",48,88,88,"37","ἁγνίζω"," ","I make clean, I sanctify","hahg-NEE-zoe","Verb  ","","ἡγνίζον","ἁγνίσω","","ἥγνισα",48,88,88,"37","Verb  ","ἁγνίζω","ἡγνίζον","ἁγνίσω"," ","hahg-NEE-zoe","I make clean, I sanctify","ἁγνίζω","Extra: Verb  ","ἥγνισα",48,false,5088,90," "," "," ",88,""," ","  "," ",false,5088,90," "," "," ",88,""," "," "," ",false,5088,213,88,""," "," ","αἷς [to whom/to which (dative, plural, feminine)]"]
[null,null,null,null,null,null,null,null,null,null,null,null,null,null,null,null,null,null,null,null,null,null,null,null,null,null,null,null,null,null,89,38,"ἀγνοέω","*γνωσι","I do not know","ahg-no-eh-owe","Verb  "," ","ἠγνόουν","ἀγνοήσω","ἠγνόησα","agnoew hgnooun hgnohsa agnohsw","50",50,"ἀγνοέω",true,true,true,38,"*γνωσι","I do not know","ahg-no-eh-owe","Verb  "," ","ἠγνόουν","ἀγνοήσω","ἠγνόησα","50",89,89,38,"ἀγνοέω","*γνωσι","I do not know","ahg-no-eh-owe","Verb  ","","ἠγνόουν","ἀγνοήσω","","ἠγνόησα","50",89,89,38,"Verb  ","ἀγνοέω","ἠγνόουν","ἀγνοήσω","*γνωσι","ahg-no-eh-owe","I do not know","ἀγνοέω","Index of Textbook: Verb  ","ἠγνόησα","50",false,5089,91," "," "," ",89,""," ","  "," ",false,5089,91," "," "," ",89,""," "," "," ",false,5089,214,89,""," "," ","οὕς [whom/which (accusative, plural, masculine)]"]
[null,null,null,null,null,null,null,null,null,null,null,null,null,null,null,null,null,null,null,null,null,null,null,null,null,null,null,null,null,null,90,"37","ἁγνός"," ","innocent, modest, pure, clean","hahg-NOSS","Adjective"," "," "," "," ","agnos",53,53,"ἁγνός",true,true,true,"37"," ","innocent, modest, pure, clean","hahg-NOSS","Adjective"," "," "," "," ",53,90,90,"37","ἁγνός"," ","innocent, modest, pure, clean","hahg-NOSS","Adjective",""," "," ",""," ",53,90,90,"37","Adjective","ἁγνός"," "," "," ","hahg-NOSS","innocent, modest, pure, clean","ἁγνός","Extra: Adjective"," ",53,false,5090,92," "," "," ",90,""," ","  "," ",false,5090,92," "," "," ",90,""," "," "," ",false,5090,215,90,""," "," ","ἅς [whom/which (accusative, plural, feminine)]"]
[null,null,null,null,null,null,null,null,null,null,null,null,null,null,null,null,null,null,null,null,null,null,null,null,null,null,null,null,null,null,91,"38","ἀγορά"," ","marketplace","ah-gorr-AH","Noun  ","ἡ"," "," ","  ","agora","58",58,"ἀγορά",true,true,true,"38"," ","marketplace","ah-gorr-AH","Noun  ","ἡ"," "," ","  ","58",91,91,"38","ἡ ἀγορά"," ","marketplace","ah-gorr-AH","Noun  ","ἡ "," "," ","ἡ ","  ","58",91,91,"38","Noun  ","ἡ ἀγορά"," "," "," ","ah-gorr-AH","marketplace","ἡ ἀγορά","Chapter 38: Noun  ","  ","58",false,5091,93," "," "," ",91,""," ","  "," ",false,5091,93," "," "," ",91,""," "," "," ",false,5091,216,91,""," "," ","ὅτι [whoever, whichever, whatever (neuter) (usually appears as ὅ τι)]"]
[null,null,null,null,null,null,null,null,null,null,null,null,null,null,null,null,null,null,null,null,null,null,null,null,null,null,null,null,null,null,92,38,"ἀγοράζω"," ","I buy","ah-gorr-AH-zoe","Verb  "," "," ἠγόραζον","ἀγοράσω","ἠγόρασα","agorazw hgorasa agorasw","59",59,"ἀγοράζω",true,true,true,38," ","I buy","ah-gorr-AH-zoe","Verb  "," "," ἠγόραζον","ἀγοράσω","ἠγόρασα","59",92,92,38,"ἀγοράζω"," ","I buy","ah-gorr-AH-zoe","Verb  ",""," ἠγόραζον","ἀγοράσω","","ἠγόρασα","59",92,92,38,"Verb  ","ἀγοράζω"," ἠγόραζον","ἀγοράσω"," ","ah-gorr-AH-zoe","I buy","ἀγοράζω","Index of Textbook: Verb  ","ἠγόρασα","59",false,5092,94," "," "," ",92,""," ","  "," ",false,5092,94," "," "," ",92,""," "," "," ",false,5092,217,92,""," "," ","ὄτε [when]"]
[null,null,null,null,null,null,null,null,null,null,null,null,null,null,null,null,null,null,null,null,null,null,null,null,null,null,null,null,null,null,93,"37","ἀγριέλαιος"," ","(wild, uncultivated) olive (tree)","ahg-REE-ell-eye-oss","Noun  ","ἡ"," "," "," ","agrielaios",65,65,"ἀγριέλαιος",true,true,true,"37"," ","(wild, uncultivated) olive (tree)","ahg-REE-ell-eye-oss","Noun  ","ἡ"," "," "," ",65,93,93,"37","ἡ ἀγριέλαιος"," ","(wild, uncultivated) olive (tree)","ahg-REE-ell-eye-oss","Noun  ","ἡ "," "," ","ἡ "," ",65,93,93,"37","Noun  ","ἡ ἀγριέλαιος"," "," "," ","ahg-REE-ell-eye-oss","(wild, uncultivated) olive (tree)","ἡ ἀγριέλαιος","Extra: Noun  "," ",65,false,5093,95," "," "," ",93,""," ","  "," ",false,5093,95," "," "," ",93,""," "," "," ",false,5093,218,93,""," "," ","ὅτι [that, since, because, or begin a quotation]"]
[null,null,null,null,null,null,null,null,null,null,null,null,null,null,null,null,null,null,null,null,null,null,null,null,null,null,null,null,null,null,94,"37","ἄγριος"," ","wild, fierce, natural","AH-gree-oss","Adjective"," "," "," "," ","agrios",66,66,"ἄγριος",true,true,true,"37"," ","wild, fierce, natural","AH-gree-oss","Adjective"," "," "," "," ",66,94,94,"37","ἄγριος"," ","wild, fierce, natural","AH-gree-oss","Adjective",""," "," ",""," ",66,94,94,"37","Adjective","ἄγριος"," "," "," ","AH-gree-oss","wild, fierce, natural","ἄγριος","Extra: Adjective"," ",66,false,5094,96," "," "," ",94,""," ","  "," ",false,5094,96," "," "," ",94,""," "," "," ",false,5094,219,94,""," "," ","οὗ [where]"]
[null,null,null,null,null,null,null,null,null,null,null,null,null,null,null,null,null,null,null,null,null,null,null,null,null,null,null,null,null,null,95,"38","Ἀγρίππας"," ","Agrippa","Ah-GRIP-ahs","Proper Noun","ὁ"," "," "," ","agrippas","67",67,"Ἀγρίππας",true,true,true,"38"," ","Agrippa","Ah-GRIP-ahs","Proper Noun","ὁ"," "," "," ","67",95,95,"38","ὁ Ἀγρίππας"," ","Agrippa","Ah-GRIP-ahs","Proper Noun","ὁ "," "," ","ὁ "," ","67",95,95,"38","Proper Noun","ὁ Ἀγρίππας"," "," "," ","Ah-GRIP-ahs","Agrippa","ὁ Ἀγρίππας","Chapter 38: Proper Noun"," ","67",false,5095,97," "," "," ",95,""," ","  "," ",false,5095,97," "," "," ",95,""," "," "," ",false,5095,220,95,""," "," ","οὖν [so, therefore, accordingly, then (particle)]"]
[null,null,null,null,null,null,null,null,null,null,null,null,null,null,null,null,null,null,null,null,null,null,null,null,null,null,null,null,null,null,96,38,"ἀγρός"," ","field, land","ah-grahs","Noun  ","ὁ"," "," ","  ","agros","68",68,"ἀγρός",true,true,true,38," ","field, land","ah-grahs","Noun  ","ὁ"," "," ","  ","68",96,96,38,"ὁ ἀγρός"," ","field, land","ah-grahs","Noun  ","ὁ "," "," ","ὁ ","  ","68",96,96,38,"Noun  ","ὁ ἀγρός"," "," "," ","ah-grahs","field, land","ὁ ἀγρός","Index of Textbook: Noun  ","  ","68",false,5096,98," "," "," ",96,""," ","  "," ",false,5096,98," "," "," ",96,""," "," "," ",false,5096,221,96,""," "," ","πᾶς [each, every, all (masculine)]"]
[null,null,null,null,null,null,null,null,null,null,null,null,null,null,null,null,null,null,null,null,null,null,null,null,null,null,null,null,null,null,97,"24","ἄγω","*ἀγ","I lead, I bring, I arrest","AH-goe","Verb  "," ","ἦγον","ἄξω","ἤγαγον","agw hgon axw hgagon","71",71,"ἄγω",true,true,true,"24","*ἀγ","I lead, I bring, I arrest","AH-goe","Verb  "," ","ἦγον","ἄξω","ἤγαγον","71",97,97,"24","ἄγω","*ἀγ","I lead, I bring, I arrest","AH-goe","Verb  ","","ἦγον","ἄξω","","ἤγαγον","71",97,97,"24","Verb  ","ἄγω","ἦγον","ἄξω","*ἀγ","AH-goe","I lead, I bring, I arrest","ἄγω","Chapter 24: Verb  ","ἤγαγον","71",false,5097,99," "," "," ",97,""," ","  "," ",false,5097,99," "," "," ",97,""," "," "," ",true,97,2,97,"","ἄγω","I lead, I bring, I arrest","πᾶν [each, every, all (neuter)]"]
[null,null,null,null,null,null,null,null,null,null,null,null,null,null,null,null,null,null,null,null,null,null,null,null,null,null,null,null,null,null,98,"37","ἀγών"," ","contest, conflict, fight, struggle, effort","ah-GONE","Noun  ","ὁ"," "," "," ","agwn",73,73,"ἀγών",true,true,true,"37"," ","contest, conflict, fight, struggle, effort","ah-GONE","Noun  ","ὁ"," "," "," ",73,98,98,"37","ὁ ἀγών"," ","contest, conflict, fight, struggle, effort","ah-GONE","Noun  ","ὁ "," "," ","ὁ "," ",73,98,98,"37","Noun  ","ὁ ἀγών"," "," "," ","ah-GONE","contest, conflict, fight, struggle, effort","ὁ ἀγών","Extra: Noun  "," ",73,false,5098,100," "," "," ",98,""," ","  "," ",false,5098,100," "," "," ",98,""," "," "," ",false,5098,222,98,""," "," ","ποῦ [where? (particle)]"]
[null,null,null,null,null,null,null,null,null,null,null,null,null,null,null,null,null,null,null,null,null,null,null,null,null,null,null,null,null,null,99,"37","ἀγωνίζομαι"," ","I struggle, I compete, I contend, I strive","ahg-noe-IZZ-omm-eye","Verb  "," ","ἠγωνιζόμην","ἀγωνίσομαι","ἠγωνισάμην","agwnizomai hgwnizomhn agwnisomai hgwnisamhn",75,75,"ἀγωνίζομαι",true,true,true,"37"," ","I struggle, I compete, I contend, I strive","ahg-noe-IZZ-omm-eye","Verb  "," ","ἠγωνιζόμην","ἀγωνίσομαι","ἠγωνισάμην",75,99,99,"37","ἀγωνίζομαι"," ","I struggle, I compete, I contend, I strive","ahg-noe-IZZ-omm-eye","Verb  ","","ἠγωνιζόμην","ἀγωνίσομαι","","ἠγωνισάμην",75,99,99,"37","Verb  ","ἀγωνίζομαι","ἠγωνιζόμην","ἀγωνίσομαι"," ","ahg-noe-IZZ-omm-eye","I struggle, I compete, I contend, I strive","ἀγωνίζομαι","Extra: Verb  ","ἠγωνισάμην",75,false,5099,101," "," "," ",99,""," ","  "," ",false,5099,101," "," "," ",99,""," "," "," ",false,5099,223,99,""," "," ","πρό [before [genitive]]"]
[null,null,null,null,null,null,null,null,null,null,null,null,null,null,null,null,null,null,null,null,null,null,null,null,null,null,null,null,null,null,100,"37","Ἀδάμ"," ","Adam","ah-DAHM","Proper Noun","ὁ"," "," "," ","adam",76,76,"Ἀδάμ",true,true,true,"37"," ","Adam","ah-DAHM","Proper Noun","ὁ"," "," "," ",76,100,100,"37","ὁ Ἀδάμ"," ","Adam","ah-DAHM","Proper Noun","ὁ "," "," ","ὁ "," ",76,100,100,"37","Proper Noun","ὁ Ἀδάμ"," "," "," ","ah-DAHM","Adam","ὁ Ἀδάμ","Extra: Proper Noun"," ",76,false,5100,102," "," "," ",100,""," ","  "," ",false,5100,102," "," "," ",100,""," "," "," ",false,5100,224,100,""," "," ","τό πῦρ [fire]"]
[null,null,null,null,null,null,null,null,null,null,null,null,null,null,null,null,null,null,null,null,null,null,null,null,null,null,null,null,null,null,101,"38","ἀδελφή"," ","sister","ah-dell-FAY","Noun  ","ἡ"," "," ","  ","adelfh","79",79,"ἀδελφή",true,true,true,"38"," ","sister","ah-dell-FAY","Noun  ","ἡ"," "," ","  ","79",101,101,"38","ἡ ἀδελφή"," ","sister","ah-dell-FAY","Noun  ","ἡ "," "," ","ἡ ","  ","79",101,101,"38","Noun  ","ἡ ἀδελφή"," "," "," ","ah-dell-FAY","sister","ἡ ἀδελφή","Chapter 38: Noun  ","  ","79",false,5101,103," "," "," ",101,""," ","  "," ",false,5101,103," "," "," ",101,""," "," "," ",false,5101,225,101,""," "," ","πώς [somehow, perhaps (note the acute mark)]"]
[null,null,null,null,null,null,null,null,null,null,null,null,null,null,null,null,null,null,null,null,null,null,null,null,null,null,null,null,null,null,102,"11","ἀδελφός","*ἀδελφο","brother","ah-dell-FOSS","Noun  ","ὁ"," "," ","  ","adelfos","80",80,"ἀδελφός",true,true,true,"11","*ἀδελφο","brother","ah-dell-FOSS","Noun  ","ὁ"," "," ","  ","80",102,102,"11","ὁ ἀδελφός","*ἀδελφο","brother","ah-dell-FOSS","Noun  ","ὁ "," "," ","ὁ ","  ","80",102,102,"11","Noun  ","ὁ ἀδελφός"," "," ","*ἀδελφο","ah-dell-FOSS","brother","ὁ ἀδελφός","Chapter 11: Noun  ","  ","80",false,5102,104," "," "," ",102,""," ","  "," ",false,5102,104," "," "," ",102,""," "," "," ",false,5102,226,102,""," "," ","πῶς [how? (note the circumflex)]"]
[null,null,null,null,null,null,null,null,null,null,null,null,null,null,null,null,null,null,null,null,null,null,null,null,null,null,null,null,null,null,103,"38","ᾁδης"," ","Hades or hades (\"the unseen place\"; not a proper noun as used in the New Testament)","HAH-dace","Noun  ","ὁ"," "," "," ","adhs","86",86,"ᾁδης",true,true,true,"38"," ","Hades or hades (\"the unseen place\"; not a proper noun as used in the New Testament)","HAH-dace","Noun  ","ὁ"," "," "," ","86",103,103,"38","ὁ ᾁδης"," ","Hades or hades (\"the unseen place\"; not a proper noun as used in the New Testament)","HAH-dace","Noun  ","ὁ "," "," ","ὁ "," ","86",103,103,"38","Noun  ","ὁ ᾁδης"," "," "," ","HAH-dace","Hades or hades (\"the unseen place\"; not a proper noun as used in the New Testament)","ὁ ᾁδης","Chapter 38: Noun  "," ","86",false,5103,105," "," "," ",103,""," ","  "," ",false,5103,105," "," "," ",103,""," "," "," ",false,5103,227,103,""," "," ","σύ [you (singular)]"]
[null,null,null,null,null,null,null,null,null,null,null,null,null,null,null,null,null,null,null,null,null,null,null,null,null,null,null,null,null,null,104,38,"ἀδικέω","*δικαιο","I injure, I do wrong","ah-dee-KEH-owe","Verb  "," ","ἠδίκουν","ἀδικήσω","ἠδίκησα","adikew adikhsw hdikhsa hdikoun","91",91,"ἀδικέω",true,true,true,38,"*δικαιο","I injure, I do wrong","ah-dee-KEH-owe","Verb  "," ","ἠδίκουν","ἀδικήσω","ἠδίκησα","91",104,104,38,"ἀδικέω","*δικαιο","I injure, I do wrong","ah-dee-KEH-owe","Verb  ","","ἠδίκουν","ἀδικήσω","","ἠδίκησα","91",104,104,38,"Verb  ","ἀδικέω","ἠδίκουν","ἀδικήσω","*δικαιο","ah-dee-KEH-owe","I injure, I do wrong","ἀδικέω","Index of Textbook: Verb  ","ἠδίκησα","91",false,5104,106," "," "," ",104,""," ","  "," ",false,5104,106," "," "," ",104,""," "," "," ",false,5104,228,104,""," "," ","σύ [you (nominative singular)]"]
[null,null,null,null,null,null,null,null,null,null,null,null,null,null,null,null,null,null,null,null,null,null,null,null,null,null,null,null,null,null,105,38,"ἀδικία","*δικαιο","unrighteousness","ah-dik-EE-ah","Noun  ","ἡ"," "," ","  ","adikia","93",93,"ἀδικία",true,true,true,38,"*δικαιο","unrighteousness","ah-dik-EE-ah","Noun  ","ἡ"," "," ","  ","93",105,105,38,"ἡ ἀδικία","*δικαιο","unrighteousness","ah-dik-EE-ah","Noun  ","ἡ "," "," ","ἡ ","  ","93",105,105,38,"Noun  ","ἡ ἀδικία"," "," ","*δικαιο","ah-dik-EE-ah","unrighteousness","ἡ ἀδικία","Index of Textbook: Noun  ","  ","93",false,5105,107," "," "," ",105,""," ","  "," ",false,5105,107," "," "," ",105,""," "," "," ",false,5105,229,105,""," "," ","σοῦ [your/of you (emphatic genitive singular)]"]
[null,null,null,null,null,null,null,null,null,null,null,null,null,null,null,null,null,null,null,null,null,null,null,null,null,null,null,null,null,null,106,"38","ἂδικος","*δικαιο","unjust","AH-dee-koss","Adjective"," "," "," "," ","adikos","94",94,"ἂδικος",true,true,true,"38","*δικαιο","unjust","AH-dee-koss","Adjective"," "," "," "," ","94",106,106,"38","ἂδικος","*δικαιο","unjust","AH-dee-koss","Adjective",""," "," ",""," ","94",106,106,"38","Adjective","ἂδικος"," "," ","*δικαιο","AH-dee-koss","unjust","ἂδικος","Chapter 38: Adjective"," ","94",false,5106,108," "," "," ",106,""," ","  "," ",false,5106,108," "," "," ",106,""," "," "," ",false,5106,230,106,""," "," ","σε [you (accusative singular)]"]
[null,null,null,null,null,null,null,null,null,null,null,null,null,null,null,null,null,null,null,null,null,null,null,null,null,null,null,null,null,null,107,"37","ἀδόκιμος"," ","rejected, worthless, failing","ah-DOKK-ee-moss","Adjective"," "," "," "," ","adokimos","96b",96.5,"ἀδόκιμος",true,true,true,"37"," ","rejected, worthless, failing","ah-DOKK-ee-moss","Adjective"," "," "," "," ","96b",107,107,"37","ἀδόκιμος"," ","rejected, worthless, failing","ah-DOKK-ee-moss","Adjective",""," "," ",""," ","96b",107,107,"37","Adjective","ἀδόκιμος"," "," "," ","ah-DOKK-ee-moss","rejected, worthless, failing","ἀδόκιμος","Extra: Adjective"," ","96b",false,5107,109," "," "," ",107,""," ","  "," ",false,5107,109," "," "," ",107,""," "," "," ",false,5107,231,107,""," "," ","σέ [you (emphatic accusative singular)]"]
[null,null,null,null,null,null,null,null,null,null,null,null,null,null,null,null,null,null,null,null,null,null,null,null,null,null,null,null,null,null,108,"38","ἀδύνατος","*δυνα","impossible","Ah-DOON-ah-toss","Adjective"," "," "," "," ","adunatos","102",102,"ἀδύνατος",true,true,true,"38","*δυνα","impossible","Ah-DOON-ah-toss","Adjective"," "," "," "," ","102",108,108,"38","ἀδύνατος","*δυνα","impossible","Ah-DOON-ah-toss","Adjective",""," "," ",""," ","102",108,108,"38","Adjective","ἀδύνατος"," "," ","*δυνα","Ah-DOON-ah-toss","impossible","ἀδύνατος","Chapter 38: Adjective"," ","102",false,5108,110," "," "," ",108,""," ","  "," ",false,5108,110," "," "," ",108,""," "," "," ",false,5108,232,108,""," "," ","σοί [to you (emphatic dative singular)]"]
[null,null,null,null,null,null,null,null,null,null,null,null,null,null,null,null,null,null,null,null,null,null,null,null,null,null,null,null,null,null,109,"37","ἄδω"," ","I sing","AH-doe","Verb  "," ","ᾖδον","ᾄσομαι","ᾖσα","adw hdon asomai has",103,103,"ἄδω",true,true,true,"37"," ","I sing","AH-doe","Verb  "," ","ᾖδον","ᾄσομαι","ᾖσα",103,109,109,"37","ἄδω"," ","I sing","AH-doe","Verb  ","","ᾖδον","ᾄσομαι","","ᾖσα",103,109,109,"37","Verb  ","ἄδω","ᾖδον","ᾄσομαι"," ","AH-doe","I sing","ἄδω","Extra: Verb  ","ᾖσα",103,false,5109,111," "," "," ",109,""," ","  "," ",false,5109,111," "," "," ",109,""," "," "," ",true,109,3,109,"","ἄδω","I sing","σός [your, of you (masculine)]"]
[null,null,null,null,null,null,null,null,null,null,null,null,null,null,null,null,null,null,null,null,null,null,null,null,null,null,null,null,null,null,110,"37","ἀεί"," ","always, constantly","ah-AY","Adverb"," "," "," "," ","aei",104,104,"ἀεί",true,true,true,"37"," ","always, constantly","ah-AY","Adverb"," "," "," "," ",104,110,110,"37","ἀεί"," ","always, constantly","ah-AY","Adverb",""," "," ",""," ",104,110,110,"37","Adverb","ἀεί"," "," "," ","ah-AY","always, constantly","ἀεί","Extra: Adverb"," ",104,false,5110,112," "," "," ",110,""," ","  "," ",false,5110,112," "," "," ",110,""," "," "," ",true,110,4,110,"","ἀεί","always, constantly","σή [your, of you (feminine)]"]
[null,null,null,null,null,null,null,null,null,null,null,null,null,null,null,null,null,null,null,null,null,null,null,null,null,null,null,null,null,null,111,"37","ἀετός"," ","eagle, vulture","ah-ett-OSS","Noun  ","ὁ"," "," "," ","aetos",105,105,"ἀετός",true,true,true,"37"," ","eagle, vulture","ah-ett-OSS","Noun  ","ὁ"," "," "," ",105,111,111,"37","ὁ ἀετός"," ","eagle, vulture","ah-ett-OSS","Noun  ","ὁ "," "," ","ὁ "," ",105,111,111,"37","Noun  ","ὁ ἀετός"," "," "," ","ah-ett-OSS","eagle, vulture","ὁ ἀετός","Extra: Noun  "," ",105,false,5111,113," "," "," ",111,""," ","  "," ",false,5111,113," "," "," ",111,""," "," "," ",false,5111,233,111,""," "," ","σόν [your, of you (neuter)]"]
[null,null,null,null,null,null,null,null,null,null,null,null,null,null,null,null,null,null,null,null,null,null,null,null,null,null,null,null,null,null,112,"37","ἄζυμος"," ","unleavened, uncorrupted","AH-zoom-oss","Adjective"," "," "," "," ","azumos",106,106,"ἄζυμος",true,true,true,"37"," ","unleavened, uncorrupted","AH-zoom-oss","Adjective"," "," "," "," ",106,112,112,"37","ἄζυμος"," ","unleavened, uncorrupted","AH-zoom-oss","Adjective",""," "," ",""," ",106,112,112,"37","Adjective","ἄζυμος"," "," "," ","AH-zoom-oss","unleavened, uncorrupted","ἄζυμος","Extra: Adjective"," ",106,false,5112,114," "," "," ",112,""," ","  "," ",false,5112,114," "," "," ",112,""," "," "," ",false,5112,234,112,""," "," ","σου [your/of you (genitive singular)]"]
[null,null,null,null,null,null,null,null,null,null,null,null,null,null,null,null,null,null,null,null,null,null,null,null,null,null,null,null,null,null,113,"37","ἀήρ"," ","air","ah-AIR","Noun  ","ὁ"," "," "," ","ahr",109,109,"ἀήρ",true,true,true,"37"," ","air","ah-AIR","Noun  ","ὁ"," "," "," ",109,113,113,"37","ὁ ἀήρ"," ","air","ah-AIR","Noun  ","ὁ "," "," ","ὁ "," ",109,113,113,"37","Noun  ","ὁ ἀήρ"," "," "," ","ah-AIR","air","ὁ ἀήρ","Extra: Noun  "," ",109,false,5113,115," "," "," ",113,""," ","  "," ",false,5113,115," "," "," ",113,""," "," "," ",true,113,5,113,"","ὁ ἀήρ","air","σοι [to you (dative singular)]"]
[null,null,null,null,null,null,null,null,null,null,null,null,null,null,null,null,null,null,null,null,null,null,null,null,null,null,null,null,null,null,114,38,"ἀθετέω"," ","I nullify, I reject","ah-thet-EH-owe","Verb  "," ","ἠθέτουν","ἀθετήσω","ἠθέτησα","aqetew aqethsw hqethsa hqetoun","114",114,"ἀθετέω",true,true,true,38," ","I nullify, I reject","ah-thet-EH-owe","Verb  "," ","ἠθέτουν","ἀθετήσω","ἠθέτησα","114",114,114,38,"ἀθετέω"," ","I nullify, I reject","ah-thet-EH-owe","Verb  ","","ἠθέτουν","ἀθετήσω","","ἠθέτησα","114",114,114,38,"Verb  ","ἀθετέω","ἠθέτουν","ἀθετήσω"," ","ah-thet-EH-owe","I nullify, I reject","ἀθετέω","Index of Textbook: Verb  ","ἠθέτησα","114",false,5114,116," "," "," ",114,""," ","  "," ",false,5114,116," "," "," ",114,""," "," "," ",false,5114,235,114,""," "," ","τέ [so, and so]"]
[null,null,null,null,null,null,null,null,null,null,null,null,null,null,null,null,null,null,null,null,null,null,null,null,null,null,null,null,null,null,115,"37","Ἀθῆναι"," ","Athens","ah-THAY-nye","Proper Noun","ἡ"," "," "," ","aqhnai",116,116,"Ἀθῆναι",true,true,true,"37"," ","Athens","ah-THAY-nye","Proper Noun","ἡ"," "," "," ",116,115,115,"37","ἡ Ἀθῆναι"," ","Athens","ah-THAY-nye","Proper Noun","ἡ "," "," ","ἡ "," ",116,115,115,"37","Proper Noun","ἡ Ἀθῆναι"," "," "," ","ah-THAY-nye","Athens","ἡ Ἀθῆναι","Extra: Proper Noun"," ",116,false,5115,117," "," "," ",115,""," ","  "," ",false,5115,117," "," "," ",115,""," "," "," ",false,5115,236,115,""," "," ","τις [someone, something, anyone, anything (nominative, singular, masculine or feminine)]"]
[null,null,null,null,null,null,null,null,null,null,null,null,null,null,null,null,null,null,null,null,null,null,null,null,null,null,null,null,null,null,116,"38","Αἴγυπτος"," ","Egypt","EYE-goop-toss","Proper Noun","ἡ"," "," "," ","aiguptos","125",125,"Αἴγυπτος",true,true,true,"38"," ","Egypt","EYE-goop-toss","Proper Noun","ἡ"," "," "," ","125",116,116,"38","ἡ Αἴγυπτος"," ","Egypt","EYE-goop-toss","Proper Noun","ἡ "," "," ","ἡ "," ","125",116,116,"38","Proper Noun","ἡ Αἴγυπτος"," "," "," ","EYE-goop-toss","Egypt","ἡ Αἴγυπτος","Chapter 38: Proper Noun"," ","125",false,5116,118," "," "," ",116,""," ","  "," ",false,5116,118," "," "," ",116,""," "," "," ",false,5116,237,116,""," "," ","τι [someone, something, anyone, anything (nominative or accusative, singular, neuter)]"]
[null,null,null,null,null,null,null,null,null,null,null,null,null,null,null,null,null,null,null,null,null,null,null,null,null,null,null,null,null,null,117,"24","αἷμα","*αἱματ","blood","HAY-mah","Noun  ","τό"," "," ","  ","aima","129",129,"αἷμα",true,true,true,"24","*αἱματ","blood","HAY-mah","Noun  ","τό"," "," ","  ","129",117,117,"24","τό αἷμα","*αἱματ","blood","HAY-mah","Noun  ","τό "," "," ","τό ","  ","129",117,117,"24","Noun  ","τό αἷμα"," "," ","*αἱματ","HAY-mah","blood","τό αἷμα","Chapter 24: Noun  ","  ","129",false,5117,119," "," "," ",117,""," ","  "," ",false,5117,119," "," "," ",117,""," "," "," ",false,5117,238,117,""," "," ","τίς [who? what? which? (nominative, singular, masculine or feminine)]"]
[null,null,null,null,null,null,null,null,null,null,null,null,null,null,null,null,null,null,null,null,null,null,null,null,null,null,null,null,null,null,118,"37","αἰνέω"," ","I praise","eye-NEH-owe","Verb  "," ","ᾔνουν","αἰνέσω","ᾔνεσα"," ainew hnoun ainesw hnesa",134,134,"αἰνέω",true,true,true,"37"," ","I praise","eye-NEH-owe","Verb  "," ","ᾔνουν","αἰνέσω","ᾔνεσα",134,118,118,"37","αἰνέω"," ","I praise","eye-NEH-owe","Verb  ","","ᾔνουν","αἰνέσω","","ᾔνεσα",134,118,118,"37","Verb  ","αἰνέω","ᾔνουν","αἰνέσω"," ","eye-NEH-owe","I praise","αἰνέω","Extra: Verb  ","ᾔνεσα",134,false,5118,120," "," "," ",118,""," ","  "," ",false,5118,120," "," "," ",118,""," "," "," ",false,5118,239,118,""," "," ","τί [why? who? what? which? (nominative or accusative, singular, neuter)]"]
[null,null,null,null,null,null,null,null,null,null,null,null,null,null,null,null,null,null,null,null,null,null,null,null,null,null,null,null,null,null,119,"37","αἱρέω"," ","I choose, I prefer","hye-REH-owe","Verb  "," ","ᾕρουν","αἱρήσομαι","ᾑρέθην","airew hroun airhsomai hreqhn",138,138,"αἱρέω",true,true,true,"37"," ","I choose, I prefer","hye-REH-owe","Verb  "," ","ᾕρουν","αἱρήσομαι","ᾑρέθην",138,119,119,"37","αἱρέω"," ","I choose, I prefer","hye-REH-owe","Verb  ","","ᾕρουν","αἱρήσομαι","","ᾑρέθην",138,119,119,"37","Verb  ","αἱρέω","ᾕρουν","αἱρήσομαι"," ","hye-REH-owe","I choose, I prefer","αἱρέω","Extra: Verb  ","ᾑρέθην",138,false,5119,121," "," "," ",119,""," ","  "," ",false,5119,121," "," "," ",119,""," "," "," ",false,5119,240,119,""," "," ","τοι [assuredly, certainly (particle)]"]
[null,null,null,null,null,null,null,null,null,null,null,null,null,null,null,null,null,null,null,null,null,null,null,null,null,null,null,null,null,null,120,"37","αἵρεσις"," ","preference, sect, choice, faction, (heresy)","HYE-ress-iss","Noun  ","ἡ"," "," "," ","airesis",139,139,"αἵρεσις",true,true,true,"37"," ","preference, sect, choice, faction, (heresy)","HYE-ress-iss","Noun  ","ἡ"," "," "," ",139,120,120,"37","ἡ αἵρεσις"," ","preference, sect, choice, faction, (heresy)","HYE-ress-iss","Noun  ","ἡ "," "," ","ἡ "," ",139,120,120,"37","Noun  ","ἡ αἵρεσις"," "," "," ","HYE-ress-iss","preference, sect, choice, faction, (heresy)","ἡ αἵρεσις","Extra: Noun  "," ",139,false,5120,122," "," "," ",120,""," ","  "," ",false,5120,122," "," "," ",120,""," "," "," ",false,5120,241,120,""," "," ","ἔφη [he/she/it said/was saying/was affirming (3rd person singular)]"]
[null,null,null,null,null,null,null,null,null,null,null,null,null,null,null,null,null,null,null,null,null,null,null,null,null,null,null,null,null,null,121,"20","αἴρω","*ἀρ","I raise, I take up, I take away","EYE-roe","Verb  "," ","ᾖρον","ἀρῶ","ἦρα","airw arw hra hron","142",142,"αἴρω",true,true,true,"20","*ἀρ","I raise, I take up, I take away","EYE-roe","Verb  "," ","ᾖρον","ἀρῶ","ἦρα","142",121,121,"20","αἴρω","*ἀρ","I raise, I take up, I take away","EYE-roe","Verb  ","","ᾖρον","ἀρῶ","","ἦρα","142",121,121,"20","Verb  ","αἴρω","ᾖρον","ἀρῶ","*ἀρ","EYE-roe","I raise, I take up, I take away","αἴρω","Chapter 20: Verb  ","ἦρα","142",false,5121,123," "," "," ",121,""," ","  "," ",false,5121,123," "," "," ",121,""," "," "," ",false,5121,242,121,""," "," ","φύω [I sprout, I spring up]"]
[null,null,null,null,null,null,null,null,null,null,null,null,null,null,null,null,null,null,null,null,null,null,null,null,null,null,null,null,null,null,122,"37","αἰσχρός"," ","filthy, disgraceful, shameful, improper","eye-SKROSS","Adjective"," "," "," "," ","aiscros",150,150,"αἰσχρός",true,true,true,"37"," ","filthy, disgraceful, shameful, improper","eye-SKROSS","Adjective"," "," "," "," ",150,122,122,"37","αἰσχρός"," ","filthy, disgraceful, shameful, improper","eye-SKROSS","Adjective",""," "," ",""," ",150,122,122,"37","Adjective","αἰσχρός"," "," "," ","eye-SKROSS","filthy, disgraceful, shameful, improper","αἰσχρός","Extra: Adjective"," ",150,false,5122,124," "," "," ",122,""," ","  "," ",false,5122,124," "," "," ",122,""," "," "," ",false,5122,243,122,""," "," ","τό φῶς [light]"]
[null,null,null,null,null,null,null,null,null,null,null,null,null,null,null,null,null,null,null,null,null,null,null,null,null,null,null,null,null,null,123,"37","αἰσχύνη"," ","shame, disgrace","eye-SKROON-ay","Noun  ","ἡ"," "," "," ","aiscunh",152,152,"αἰσχύνη",true,true,true,"37"," ","shame, disgrace","eye-SKROON-ay","Noun  ","ἡ"," "," "," ",152,123,123,"37","ἡ αἰσχύνη"," ","shame, disgrace","eye-SKROON-ay","Noun  ","ἡ "," "," ","ἡ "," ",152,123,123,"37","Noun  ","ἡ αἰσχύνη"," "," "," ","eye-SKROON-ay","shame, disgrace","ἡ αἰσχύνη","Extra: Noun  "," ",152,false,5123,125," "," "," ",123,""," ","  "," ",false,5123,125," "," "," ",123,""," "," "," ",false,5123,244,123,""," "," ","ὦ [oh!]"]
[null,null,null,null,null,null,null,null,null,null,null,null,null,null,null,null,null,null,null,null,null,null,null,null,null,null,null,null,null,null,124,"37","αἰσχύνω"," ","I shame, I disgrace (active)","eye-SKRRON-owe","Verb  "," ","ᾔσχυνον","αἰσχυνῶ ","ᾔσχυνα","aiscunw hscunon aiscunw hscuna",153,153,"αἰσχύνω",true,true,true,"37"," ","I shame, I disgrace (active)","eye-SKRRON-owe","Verb  "," ","ᾔσχυνον","αἰσχυνῶ ","ᾔσχυνα",153,124,124,"37","αἰσχύνω"," ","I shame, I disgrace (active)","eye-SKRRON-owe","Verb  ","","ᾔσχυνον","αἰσχυνῶ ","","ᾔσχυνα",153,124,124,"37","Verb  ","αἰσχύνω","ᾔσχυνον","αἰσχυνῶ "," ","eye-SKRRON-owe","I shame, I disgrace (active)","αἰσχύνω","Extra: Verb  ","ᾔσχυνα",153,false,5124,126," "," "," ",124,""," ","  "," ",false,5124,126," "," "," ",124,""," "," "," ",false,5124,245,124,""," "," ","ὧδε [here]"]
[null,null,null,null,null,null,null,null,null,null,null,null,null,null,null,null,null,null,null,null,null,null,null,null,null,null,null,null,null,null,125,"37","αἰσχύνομαι"," ","I am shamed, I am disgraced (passive)","eye-SKRRON-om-eye","Verb  "," ","ᾐσχυνόμην","αἰσχυνθήσομαι","ᾐσχύνθην","aiscunomai hscunomhn aiscunqhsomai hscunqhn","153",153.5,"αἰσχύνομαι",true,true,true,"37"," ","I am shamed, I am disgraced (passive)","eye-SKRRON-om-eye","Verb  "," ","ᾐσχυνόμην","αἰσχυνθήσομαι","ᾐσχύνθην","153",125,125,"37","αἰσχύνομαι"," ","I am shamed, I am disgraced (passive)","eye-SKRRON-om-eye","Verb  ","","ᾐσχυνόμην","αἰσχυνθήσομαι","","ᾐσχύνθην","153",125,125,"37","Verb  ","αἰσχύνομαι","ᾐσχυνόμην","αἰσχυνθήσομαι"," ","eye-SKRRON-om-eye","I am shamed, I am disgraced (passive)","αἰσχύνομαι","Extra: Verb  ","ᾐσχύνθην","153",false,5125,127," "," "," ",125,""," ","  "," ",false,5125,127," "," "," ",125,""," "," "," ",false,5125,246,125,""," "," ","ἡ ὥρα [hour, occasion, moment]"]
[null,null,null,null,null,null,null,null,null,null,null,null,null,null,null,null,null,null,null,null,null,null,null,null,null,null,null,null,null,null,126,"25","αἰτέω","*αἰτε","I ask, I demand","eye-TEH-owe","Verb  "," ","ᾔτουν","αἰτήσω","ᾔατησα","aitew htoun aithsw hathsa","154",154,"αἰτέω",true,true,true,"25","*αἰτε","I ask, I demand","eye-TEH-owe","Verb  "," ","ᾔτουν","αἰτήσω","ᾔατησα","154",126,126,"25","αἰτέω","*αἰτε","I ask, I demand","eye-TEH-owe","Verb  ","","ᾔτουν","αἰτήσω","","ᾔατησα","154",126,126,"25","Verb  ","αἰτέω","ᾔτουν","αἰτήσω","*αἰτε","eye-TEH-owe","I ask, I demand","αἰτέω","Chapter 25: Verb  ","ᾔατησα","154",false,5126,128," "," "," ",126,""," ","  "," ",false,5126,128," "," "," ",126,""," "," "," ",false,5126,247,126,""," "," ","ὡς [as, like, that, when, after, approximately]"]
[null,null,null,null,null,null,null,null,null,null,null,null,null,null,null,null,null,null,null,null,null,null,null,null,null,null,null,null,null,null,127,"38","αἰτία"," ","cause, guilt, charge, accusation","ay-TEE-ah","Noun  ","ἡ"," "," ","  ","aitia","156",156,"αἰτία",true,true,true,"38"," ","cause, guilt, charge, accusation","ay-TEE-ah","Noun  ","ἡ"," "," ","  ","156",127,127,"38","ἡ αἰτία"," ","cause, guilt, charge, accusation","ay-TEE-ah","Noun  ","ἡ "," "," ","ἡ ","  ","156",127,127,"38","Noun  ","ἡ αἰτία"," "," "," ","ay-TEE-ah","cause, guilt, charge, accusation","ἡ αἰτία","Chapter 38: Noun  ","  ","156",false,5127,129," "," "," ",127,""," ","  "," ",false,5127,129," "," "," ",127,""," "," "," ",false,5127,248,127,""," "," "," "]
[null,null,null,null,null,null,null,null,null,null,null,null,null,null,null,null,null,null,null,null,null,null,null,null,null,null,null,null,null,null,128,"37","αἰχμαλωσία"," ","captivity","ike-mahl-ose-EE-ah","Noun  ","ἡ"," "," "," ","aicmalwsia",161,161,"αἰχμαλωσία",true,true,true,"37"," ","captivity","ike-mahl-ose-EE-ah","Noun  ","ἡ"," "," "," ",161,128,128,"37","ἡ αἰχμαλωσία"," ","captivity","ike-mahl-ose-EE-ah","Noun  ","ἡ "," "," ","ἡ "," ",161,128,128,"37","Noun  ","ἡ αἰχμαλωσία"," "," "," ","ike-mahl-ose-EE-ah","captivity","ἡ αἰχμαλωσία","Extra: Noun  "," ",161,false,5128,130," "," "," ",128,""," ","  "," ",false,5128,130," "," "," ",128,""," "," "," ",false,5128,249,128,""," "," "," "]
[null,null,null,null,null,null,null,null,null,null,null,null,null,null,null,null,null,null,null,null,null,null,null,null,null,null,null,null,null,null,129,"37","αἰχμαλωτίζω"," ","I capture, I take capture","ike-mahl-owe-TIZZ-owe","Verb  "," ","ᾐχμαλώτιζον","αἰχμαλωτισθήσομαι","ᾐχμαλώτισα","aicmalwtizw hcmalwtizon aicmalwtisqhsomai hcmalwtisa",163,163,"αἰχμαλωτίζω",{"$f":"IF(ISERR(FIND(AF132,$Y$22,1)),FALSE,TRUE)","v":true},true,true,"37"," ","I capture, I take capture","ike-mahl-owe-TIZZ-owe","Verb  "," ","ᾐχμαλώτιζον","αἰχμαλωτισθήσομαι","ᾐχμαλώτισα",163,{"$f":"IF(AV132,AE132,AE132+5000)","v":129},{"$f":"RANK(BG132,BG$4:BG$2003,1)","v":129},"37",{"$f":"IF($AV132,BO132&AG132,\" \")","v":"αἰχμαλωτίζω"}," ","I capture, I take capture","ike-mahl-owe-TIZZ-owe","Verb  ","","ᾐχμαλώτιζον","αἰχμαλωτισθήσομαι","","ᾐχμαλώτισα",163,129,{"$f":"IF(BU132<=BJ$2,MATCH(BU132,BH$4:BH$2003,0),\"\")","v":129},{"$f":"VLOOKUP($BU132,BH$4:BQ$2003,2,0)","v":"37"},{"$f":"VLOOKUP($BU132,BH$4:BQ$2003,7,0)","v":"Verb  "},{"$f":"VLOOKUP($BU132,BH$4:BQ$2003,3,0)","v":"αἰχμαλωτίζω"},{"$f":"VLOOKUP($BU132,BH$4:BQ$2003,9,0)","v":"ᾐχμαλώτιζον"},{"$f":"VLOOKUP($BU132,BH$4:BQ$2003,10,0)","v":"αἰχμαλωτισθήσομαι"},{"$f":"VLOOKUP($BU132,BH$4:BQ$2003,4,0)","v":" "},{"$f":"VLOOKUP($BU132,BH$4:BQ$2003,6,0)","v":"ike-mahl-owe-TIZZ-owe"},{"$f":"VLOOKUP($BU132,BH$4:BQ$2003,5,0)","v":"I capture, I take capture"},{"$f":"IF(AC$8,BY132,VLOOKUP($BU132,BH$4:BR$2003,11,0)&BY132)","v":"αἰχμαλωτίζω"},"Extra: Verb  ",{"$f":"VLOOKUP($BU132,BH$4:BS$2003,12,0)","v":"ᾐχμαλώτισα"},{"$f":"VLOOKUP($BU132,BH$4:BT$2003,13,0)","v":163},false,{"$f":"IF(CI132,AE132,AE132+5000)","v":5129},{"$f":"RANK(CJ132,CJ$4:CJ$2003,1)","v":131},{"$f":"IF($CI132,IF(BB132=\" \",\"\",BB132&\" \")&AG132,\" \")","v":" "}," "," ",129,{"$f":"IF(CO132<=CP$2,MATCH(CO132,CK$4:CK$2003,0),\"\")","v":""},{"$f":"VLOOKUP($CO132,CK$4:CM$2003,2,0)","v":" "},{"$f":"VLOOKUP($CO132,CK$4:CN$2003,3,0)&VLOOKUP($CO132,CK$4:CN$2003,4,0)","v":"  "}," ",{"$f":"IF(ISERR(FIND(CW$2,AP132,1)),FALSE, TRUE)","v":false},{"$f":"IF(CT132,AE132,AE132+5000)","v":5129},{"$f":"RANK(CU132,CU$4:CU$2003,1)","v":131},{"$f":"IF($CT132,IF(AH132=\" \",\"\",\" [\"&AH132&\"]\"),\" \")","v":" "},{"$f":"IF($CT132,IF(AK132=\"Noun  \",\"Noun\",IF(AK132=\"Verb  \",\"Verb\",AK132)),\" \")","v":" "}," ",129,{"$f":"IF(CZ132<=DA$2,MATCH(CZ132,CV$4:CV$2003,0),\"\")","v":""},{"$f":"VLOOKUP($CZ132,CV$4:CY$2003,4,0)","v":" "}," "," ",{"$f":"IF(AND(LEN(AG132)<=DF$2,AG132<>\" \"),TRUE,FALSE)","v":false},{"$f":"IF(DE132,AE132,AE132+5000)","v":5129},{"$f":"RANK(DF132,DF$4:DF$2003,1)","v":250},129,{"$f":"IF(DH132<=DA$2,MATCH(DH132,DG$4:DG$2003,0),\"\")","v":""},{"$f":"IF($DE132,IF(BB132=\" \",\"\",BB132&\" \")&AG132,\" \")","v":" "}," ",{"$f":"IF($DH132<=$DI$2,VLOOKUP($DH132,DG$4:DK$2003,4,0)&\" [\" &VLOOKUP($DH132,DG$4:DK$2003,5,0) &\"]\",\" \")","v":" "}]
[null,null,null,null,null,null,null,null,null,null,null,null,null,null,null,null,null,null,null,null,null,null,null,null,null,null,null,null,null,null,130,"12","αἰών","*αἰων","age, eternity","eye-OWN","Noun  ","ὁ"," "," ","  ","aiwn","165",165,{"$f":"IF(AG133=\"\",\"\",AG133)","v":"αἰών"},true,{"$f":"IF(ISERR(FIND(AK133,$Y$23,1)),FALSE,TRUE)","v":true},{"$f":"AND(AT133,AU133)","v":true},{"$f":"IF(AC$3,AF133,\" \")","v":"12"},{"$f":"IF(AC$4,AH133,\" \")","v":"*αἰων"},{"$f":"IF(TRUE,AI133,\" \")","v":"age, eternity"},{"$f":"IF(AC$6,AJ133,\" \")","v":"eye-OWN"},{"$f":"IF(AC$7,AK133,\" \")","v":"Noun  "},{"$f":"IF(AC$8,AL133,\" \")","v":"ὁ"},{"$f":"IF(AC$9,AM133,\" \")","v":" "},{"$f":"IF(AC$10,AN133,\" \")","v":" "},{"$f":"IF(AC$9,AO133,\" \")","v":"  "},{"$f":"IF(AC$12,AQ133,\" \")","v":"165"},130,130,"12","ὁ αἰών","*αἰων","age, eternity","eye-OWN","Noun  ","ὁ "," "," ",{"$f":"IF($AV133,IF(AL133=\" \",\"\",AL133&\" \"),\"\")","v":"ὁ "},{"$f":"IF($AV133,BE133,\" \")","v":"  "},"165",130,130,"12","Noun  ","ὁ αἰών"," "," ","*αἰων","eye-OWN","age, eternity","ὁ αἰών",{"$f":"IF(BV133=\"\",\"\",IF(BW133=\"37\",\"Extra\", IF(BW133=38, \"Index of Textbook\",\"Chapter \" &BW133))&\": \"&BX133)","v":"Chapter 12: Noun  "},"  ","165",{"$f":"IF(ISERR(SEARCH(CL$2,AY133,1)),FALSE, TRUE)","v":false},5130,132," ",{"$f":"IF($CI133,AY133,\" \")","v":" "},{"$f":"IF($CI133,IF(AW133=\"37\",\" [Extra]\",IF(AW133=\"38\",\" [Index]\",  \" [Chap. \"&TEXT(VALUE(AW133),\"#\")&\"]\")),\" \")","v":" "},130,""," ","  "," ",false,5130,132," "," ",{"$f":"IF($CT133,IF(BB133=\" \",\"\",BB133&\" \")&AG133&CW133&\": \"&AY133&  IF(AF133=\"37\",\"  (Extra\",IF(AF133=\"38\",\"  (Index\",\"  (Chapter \"&TEXT(AF133,\"#\"))) &\", \"&CX133& IF(LEN(AM133)>1,\" [\"&AM133&\"]\",\"\") &IF(LEN(AN133)>1,\" [\"&AN133&\"]\",\"\")         &\")\",\" \")","v":" "},130,""," "," "," ",false,5130,251,130,""," ",{"$f":"IF($DE133,AY133,\" \")","v":" "}," "]
[null,null,null,null,null,null,null,null,null,null,null,null,null,null,null,null,null,null,null,null,null,null,null,null,null,null,null,null,null,null,131,"12","εἰς τὸν αἰῶνα","*αἰων","forever","ace TAHN eye-OWN-ah","Idiom"," "," "," ","  ","eis ton aiwna","1519, 165",165.2,"εἰς τὸν αἰῶνα",true,true,true,"12","*αἰων","forever","ace TAHN eye-OWN-ah","Idiom"," "," "," ","  ","1519, 165",131,131,"12","εἰς τὸν αἰῶνα","*αἰων","forever","ace TAHN eye-OWN-ah","Idiom",""," "," ","","  ","1519, 165",131,131,"12","Idiom","εἰς τὸν αἰῶνα"," "," ","*αἰων","ace TAHN eye-OWN-ah","forever","εἰς τὸν αἰῶνα","Chapter 12: Idiom","  ","1519, 165",false,5131,133," "," "," ",131,""," ","  "," ",false,5131,133," "," "," ",131,""," "," "," ",false,5131,252,131,""," "," "," "]
[null,null,null,null,null,null,null,null,null,null,null,null,null,null,null,null,null,null,null,null,null,null,null,null,null,null,null,null,null,null,132,"12","εἰς τοὺς αἰώνας","*αἰων","forever","ace TOOS eye-OWE-nahs","Idiom"," "," "," ","  ","eis tous aiwnas","1519, 165",165.3,"εἰς τοὺς αἰώνας",true,true,true,"12","*αἰων","forever","ace TOOS eye-OWE-nahs","Idiom"," "," "," ","  ","1519, 165",132,132,"12","εἰς τοὺς αἰώνας","*αἰων","forever","ace TOOS eye-OWE-nahs","Idiom",""," "," ","","  ","1519, 165",132,132,"12","Idiom","εἰς τοὺς αἰώνας"," "," ","*αἰων","ace TOOS eye-OWE-nahs","forever","εἰς τοὺς αἰώνας","Chapter 12: Idiom","  ","1519, 165",false,5132,134," "," "," ",132,""," ","  "," ",false,5132,134," "," "," ",132,""," "," "," ",false,5132,253,132,""," "," "," "]
[null,null,null,null,null,null,null,null,null,null,null,null,null,null,null,null,null,null,null,null,null,null,null,null,null,null,null,null,null,null,133,"09","αἰώνιος","*αἰωνιο","eternal","eye-OWE-nee-oss","Adjective"," "," "," ","  ","aiwnios","166",166,"αἰώνιος",true,true,true,"09","*αἰωνιο","eternal","eye-OWE-nee-oss","Adjective"," "," "," ","  ","166",133,133,"09","αἰώνιος","*αἰωνιο","eternal","eye-OWE-nee-oss","Adjective",""," "," ","","  ","166",133,133,"09","Adjective","αἰώνιος"," "," ","*αἰωνιο","eye-OWE-nee-oss","eternal","αἰώνιος","Chapter 09: Adjective","  ","166",false,5133,135," "," "," ",133,""," ","  "," ",false,5133,135," "," "," ",133,""," "," "," ",false,5133,254,133,""," "," "," "]
[null,null,null,null,null,null,null,null,null,null,null,null,null,null,null,null,null,null,null,null,null,null,null,null,null,null,null,null,null,null,134,"38","ἀκαθαρσία","*καθαρ","immorality, uncleanness","Ah-kath-","Noun  ","ἡ"," "," "," ","akaqarsia","167",167,"ἀκαθαρσία",true,true,true,"38","*καθαρ","immorality, uncleanness","Ah-kath-","Noun  ","ἡ"," "," "," ","167",134,134,"38","ἡ ἀκαθαρσία","*καθαρ","immorality, uncleanness","Ah-kath-","Noun  ","ἡ "," "," ","ἡ "," ","167",134,134,"38","Noun  ","ἡ ἀκαθαρσία"," "," ","*καθαρ","Ah-kath-","immorality, uncleanness","ἡ ἀκαθαρσία","Chapter 38: Noun  "," ","167",false,5134,136," "," "," ",134,""," ","  "," ",false,5134,136," "," "," ",134,""," "," "," ",false,5134,255,134,""," "," "," "]
[null,null,null,null,null,null,null,null,null,null,null,null,null,null,null,null,null,null,null,null,null,null,null,null,null,null,null,null,null,null,135,38,"ἀκαθαρτος","*καθαρ","unclean, impure","ah-kah-thar-toss","Adjective"," "," "," ","  ","akaqartos","169",169,"ἀκαθαρτος",true,true,true,38,"*καθαρ","unclean, impure","ah-kah-thar-toss","Adjective"," "," "," ","  ","169",135,135,38,"ἀκαθαρτος","*καθαρ","unclean, impure","ah-kah-thar-toss","Adjective",""," "," ","","  ","169",135,135,38,"Adjective","ἀκαθαρτος"," "," ","*καθαρ","ah-kah-thar-toss","unclean, impure","ἀκαθαρτος","Index of Textbook: Adjective","  ","169",false,5135,137," "," "," ",135,""," ","  "," ",false,5135,137," "," "," ",135,""," "," "," ",false,5135,256,135,""," "," "," "]
[null,null,null,null,null,null,null,null,null,null,null,null,null,null,null,null,null,null,null,null,null,null,null,null,null,null,null,null,null,null,136,"38","ἄκανθα"," ","thorn, thorny plant","AH-kahn-thah","Noun  ","ἡ"," "," "," ","akanqa","173",173,"ἄκανθα",true,true,true,"38"," ","thorn, thorny plant","AH-kahn-thah","Noun  ","ἡ"," "," "," ","173",136,136,"38","ἡ ἄκανθα"," ","thorn, thorny plant","AH-kahn-thah","Noun  ","ἡ "," "," ","ἡ "," ","173",136,136,"38","Noun  ","ἡ ἄκανθα"," "," "," ","AH-kahn-thah","thorn, thorny plant","ἡ ἄκανθα","Chapter 38: Noun  "," ","173",false,5136,138," "," "," ",136,""," ","  "," ",false,5136,138," "," "," ",136,""," "," "," ",false,5136,257,136,""," "," "," "]
[null,null,null,null,null,null,null,null,null,null,null,null,null,null,null,null,null,null,null,null,null,null,null,null,null,null,null,null,null,null,137,"37","ἀκαταστασία"," ","confusion, disorder, tumult","ah-kaht-ahs-tahs-EE-ah","Noun  ","ἡ"," "," "," ","akatastasia",181,181,"ἀκαταστασία",true,true,true,"37"," ","confusion, disorder, tumult","ah-kaht-ahs-tahs-EE-ah","Noun  ","ἡ"," "," "," ",181,137,137,"37","ἡ ἀκαταστασία"," ","confusion, disorder, tumult","ah-kaht-ahs-tahs-EE-ah","Noun  ","ἡ "," "," ","ἡ "," ",181,137,137,"37","Noun  ","ἡ ἀκαταστασία"," "," "," ","ah-kaht-ahs-tahs-EE-ah","confusion, disorder, tumult","ἡ ἀκαταστασία","Extra: Noun  "," ",181,false,5137,139," "," "," ",137,""," ","  "," ",false,5137,139," "," "," ",137,""," "," "," ",false,5137,258,137,""," "," "," "]
[null,null,null,null,null,null,null,null,null,null,null,null,null,null,null,null,null,null,null,null,null,null,null,null,null,null,null,null,null,null,138,38,"ἀκοή"," ","hearing, report","ah-ko-ay","Noun  ","ἡ"," "," ","  ","akoh","189",189,"ἀκοή",true,true,true,38," ","hearing, report","ah-ko-ay","Noun  ","ἡ"," "," ","  ","189",138,138,38,"ἡ ἀκοή"," ","hearing, report","ah-ko-ay","Noun  ","ἡ "," "," ","ἡ ","  ","189",138,138,38,"Noun  ","ἡ ἀκοή"," "," "," ","ah-ko-ay","hearing, report","ἡ ἀκοή","Index of Textbook: Noun  ","  ","189",false,5138,140," "," "," ",138,""," ","  "," ",false,5138,140," "," "," ",138,""," "," "," ",false,5138,259,138,""," "," "," "]
[null,null,null,null,null,null,null,null,null,null,null,null,null,null,null,null,null,null,null,null,null,null,null,null,null,null,null,null,null,null,139,"21","ἀκολουθέω","*ἀκολουθε","I follow, I accompany","ah-koll-oo-THEH-owe","Verb  "," ","ἠκολούθουν","ἀκολουθήσω","ἠκολούθησα","akolouqew hkolouqoun akolouqhsw hkolouqhsa","190",190,"ἀκολουθέω",true,true,true,"21","*ἀκολουθε","I follow, I accompany","ah-koll-oo-THEH-owe","Verb  "," ","ἠκολούθουν","ἀκολουθήσω","ἠκολούθησα","190",139,139,"21","ἀκολουθέω","*ἀκολουθε","I follow, I accompany","ah-koll-oo-THEH-owe","Verb  ","","ἠκολούθουν","ἀκολουθήσω","","ἠκολούθησα","190",139,139,"21","Verb  ","ἀκολουθέω","ἠκολούθουν","ἀκολουθήσω","*ἀκολουθε","ah-koll-oo-THEH-owe","I follow, I accompany","ἀκολουθέω","Chapter 21: Verb  ","ἠκολούθησα","190",false,5139,141," "," "," ",139,""," ","  "," ",false,5139,141," "," "," ",139,""," "," "," ",false,5139,260,139,""," "," "," "]
[null,null,null,null,null,null,null,null,null,null,null,null,null,null,null,null,null,null,null,null,null,null,null,null,null,null,null,null,null,null,140,"16","ἀκούω","*ἀκου","I hear, I learn, I obey, I understand","ah-KOO-owe","Verb  "," ","ἤκουον","ἀκούσω","ἤκουσα","akouw hkouov akousw hkousa","191",191,"ἀκούω",true,true,true,"16","*ἀκου","I hear, I learn, I obey, I understand","ah-KOO-owe","Verb  "," ","ἤκουον","ἀκούσω","ἤκουσα","191",140,140,"16","ἀκούω","*ἀκου","I hear, I learn, I obey, I understand","ah-KOO-owe","Verb  ","","ἤκουον","ἀκούσω","","ἤκουσα","191",140,140,"16","Verb  ","ἀκούω","ἤκουον","ἀκούσω","*ἀκου","ah-KOO-owe","I hear, I learn, I obey, I understand","ἀκούω","Chapter 16: Verb  ","ἤκουσα","191",false,5140,142," "," "," ",140,""," ","  "," ",false,5140,142," "," "," ",140,""," "," "," ",false,5140,261,140,""," "," "," "]
[null,null,null,null,null,null,null,null,null,null,null,null,null,null,null,null,null,null,null,null,null,null,null,null,null,null,null,null,null,null,141,"37","ἀκριβῶς"," ","accurately, diligently, carefully, thoroughly","ah-krib-OSE","Adverb"," "," "," "," ","akribws",199,199,"ἀκριβῶς",true,true,true,"37"," ","accurately, diligently, carefully, thoroughly","ah-krib-OSE","Adverb"," "," "," "," ",199,141,141,"37","ἀκριβῶς"," ","accurately, diligently, carefully, thoroughly","ah-krib-OSE","Adverb",{"$f":"IF($AV144,IF(BB144=\" \",\"\",BB144&\" \"),\"\")","v":""}," "," ",""," ",199,141,141,"37","Adverb","ἀκριβῶς"," "," "," ","ah-krib-OSE","accurately, diligently, carefully, thoroughly","ἀκριβῶς","Extra: Adverb"," ",199,false,5141,143," "," "," ",141,""," ","  "," ",false,5141,143," "," "," ",141,""," "," "," ",false,5141,262,141,""," "," "," "]
[null,null,null,null,null,null,null,null,null,null,null,null,null,null,null,null,null,null,null,null,null,null,null,null,null,null,null,null,null,null,142,38,"ἀκροβυστία"," ","uncircumcision","ahk-row-boost-EE-ah","Noun  ","ἡ"," "," ","  ","akrobustia","203",203,"ἀκροβυστία",true,true,true,38," ","uncircumcision","ahk-row-boost-EE-ah","Noun  ","ἡ"," "," ","  ","203",142,142,38,"ἡ ἀκροβυστία"," ","uncircumcision","ahk-row-boost-EE-ah","Noun  ","ἡ "," "," ","ἡ ","  ","203",142,142,38,"Noun  ","ἡ ἀκροβυστία"," "," "," ","ahk-row-boost-EE-ah","uncircumcision","ἡ ἀκροβυστία","Index of Textbook: Noun  ","  ","203",false,5142,144," "," "," ",142,""," ","  "," ",false,5142,144," "," "," ",142,""," "," "," ",false,5142,263,142,""," "," "," "]
[null,null,null,null,null,null,null,null,null,null,null,null,null,null,null,null,null,null,null,null,null,null,null,null,null,null,null,null,null,null,143,"37","ἄκρον"," ","top, end, uttermost ","AH-kronn","Noun  ","τό"," "," "," ","akron",206,206,"ἄκρον",true,true,true,"37"," ","top, end, uttermost ","AH-kronn","Noun  ","τό"," "," "," ",206,143,143,"37","τό ἄκρον"," ","top, end, uttermost ","AH-kronn","Noun  ","τό "," "," ","τό "," ",206,143,143,"37","Noun  ","τό ἄκρον"," "," "," ","AH-kronn","top, end, uttermost ","τό ἄκρον","Extra: Noun  "," ",206,false,5143,145," "," "," ",143,""," ","  "," ",false,5143,145," "," "," ",143,""," "," "," ",false,5143,264,143,""," "," "," "]
[null,null,null,null,null,null,null,null,null,null,null,null,null,null,null,null,null,null,null,null,null,null,null,null,null,null,null,null,null,null,144,"37","ἀλείφω"," ","I anoint","ah-LAY-foe","Verb  "," ","ἤλειφον","ἀλείψω","ἤλειψα","aleifw hleifon aleiyw hleiya","218b",218.5,"ἀλείφω",true,true,true,"37"," ","I anoint","ah-LAY-foe","Verb  "," ","ἤλειφον","ἀλείψω","ἤλειψα","218b",144,144,"37","ἀλείφω"," ","I anoint","ah-LAY-foe","Verb  ","","ἤλειφον","ἀλείψω","","ἤλειψα","218b",144,144,"37","Verb  ","ἀλείφω","ἤλειφον","ἀλείψω"," ","ah-LAY-foe","I anoint","ἀλείφω","Extra: Verb  ","ἤλειψα","218b",false,5144,146," "," "," ",144,""," ","  "," ",false,5144,146," "," "," ",144,""," "," "," ",false,5144,265,144,""," "," "," "]
[null,null,null,null,null,null,null,null,null,null,null,null,null,null,null,null,null,null,null,null,null,null,null,null,null,null,null,null,null,null,145,38,"ἀλέκτωρ"," ","rooster","ah-LEK-torr","Noun  ","ἡ"," "," ","  ","alektwr","220",220,"ἀλέκτωρ",true,true,true,38," ","rooster","ah-LEK-torr","Noun  ","ἡ"," "," ","  ","220",145,145,38,"ἡ ἀλέκτωρ"," ","rooster","ah-LEK-torr","Noun  ","ἡ "," "," ","ἡ ","  ","220",145,145,38,"Noun  ","ἡ ἀλέκτωρ"," "," "," ","ah-LEK-torr","rooster","ἡ ἀλέκτωρ","Index of Textbook: Noun  ","  ","220",false,5145,147," "," "," ",145,""," ","  "," ",false,5145,147," "," "," ",145,""," "," "," ",false,5145,266,145,""," "," "," "]
[null,null,null,null,null,null,null,null,null,null,null,null,null,null,null,null,null,null,null,null,null,null,null,null,null,null,null,null,null,null,146,"37","Ἀλέξανδρος"," ","Alexander","ah-LEX-ahn-dross","Proper Noun","ὁ"," "," "," ","alexandros",223,223,"Ἀλέξανδρος",true,true,true,"37"," ","Alexander","ah-LEX-ahn-dross","Proper Noun","ὁ"," "," "," ",223,146,146,"37","ὁ Ἀλέξανδρος"," ","Alexander","ah-LEX-ahn-dross","Proper Noun","ὁ "," "," ","ὁ "," ",223,146,146,"37","Proper Noun","ὁ Ἀλέξανδρος"," "," "," ","ah-LEX-ahn-dross","Alexander","ὁ Ἀλέξανδρος","Extra: Proper Noun"," ",223,false,5146,148," "," "," ",146,""," ","  "," ",false,5146,148," "," "," ",146,""," "," "," ",false,5146,267,146,""," "," "," "]
[null,null,null,null,null,null,null,null,null,null,null,null,null,null,null,null,null,null,null,null,null,null,null,null,null,null,null,null,null,null,147,"14","ἀλήθεια","*αληθεια","truth","ah-LAY-thee-ah","Noun  ","ἡ"," "," ","  ","alhqeia","225",225,"ἀλήθεια",true,true,true,"14","*αληθεια","truth","ah-LAY-thee-ah","Noun  ","ἡ"," "," ","  ","225",147,147,"14","ἡ ἀλήθεια","*αληθεια","truth","ah-LAY-thee-ah","Noun  ","ἡ "," "," ","ἡ ","  ","225",147,147,"14","Noun  ","ἡ ἀλήθεια"," "," ","*αληθεια","ah-LAY-thee-ah","truth","ἡ ἀλήθεια","Chapter 14: Noun  ","  ","225",false,5147,149," "," "," ",147,""," ","  "," ",false,5147,149," "," "," ",147,""," "," "," ",false,5147,268,147,""," "," "," "]
[null,null,null,null,null,null,null,null,null,null,null,null,null,null,null,null,null,null,null,null,null,null,null,null,null,null,null,null,null,null,148,38,"ἀληθής","*ἀληθεια","true, truthful","ah-lay-THACE","Adjective"," "," "," ","  ","alhqhs","227",227,"ἀληθής",true,true,true,38,"*ἀληθεια","true, truthful","ah-lay-THACE","Adjective"," "," "," ","  ","227",148,148,38,"ἀληθής","*ἀληθεια","true, truthful","ah-lay-THACE","Adjective",""," "," ","","  ","227",148,148,38,"Adjective","ἀληθής"," "," ","*ἀληθεια","ah-lay-THACE","true, truthful","ἀληθής","Index of Textbook: Adjective","  ","227",false,5148,150," "," "," ",148,""," ","  "," ",false,5148,150," "," "," ",148,""," "," "," ",false,5148,269,148,""," "," "," "]
[null,null,null,null,null,null,null,null,null,null,null,null,null,null,null,null,null,null,null,null,null,null,null,null,null,null,null,null,null,null,149,38,"ἀληθινός","*ἀληθεια","true, genuine","ah-lay-thin-OSS","Adjective"," "," "," ","  ","alhqinos","228",228,"ἀληθινός",true,true,true,38,"*ἀληθεια","true, genuine","ah-lay-thin-OSS","Adjective"," "," "," ","  ","228",149,149,{"$f":"IF(AV152,AW152,\" \")","v":38},"ἀληθινός",{"$f":"IF($AV152,AX152,\" \")","v":"*ἀληθεια"},{"$f":"IF($AV152,AY152,\" \")","v":"true, genuine"},{"$f":"IF($AV152,AZ152,\" \")","v":"ah-lay-thin-OSS"},{"$f":"IF($AV152,BA152,\" \")","v":"Adjective"},"",{"$f":"IF($AV152,BC152,\" \")","v":" "},{"$f":"IF($AV152,BD152,\" \")","v":" "},"","  ",{"$f":"IF($AV152,BF152,\" \")","v":"228"},149,149,38,"Adjective","ἀληθινός"," "," ","*ἀληθεια","ah-lay-thin-OSS","true, genuine","ἀληθινός","Index of Textbook: Adjective","  ","228",false,5149,151," "," "," ",149,""," ","  "," ",false,5149,151," "," "," ",149,""," "," "," ",false,5149,270,149,""," "," "," "]
[null,null,null,null,null,null,null,null,null,null,null,null,null,null,null,null,null,null,null,null,null,null,null,null,null,null,null,null,null,null,150,38,"ἀληθῶς","*ἀληθεια","truly","ah-lay-THOCE","Adverb"," "," "," ","  ","alhqws","230",230,"ἀληθῶς",true,true,true,38,"*ἀληθεια","truly","ah-lay-THOCE","Adverb"," "," "," ","  ","230",150,150,38,"ἀληθῶς","*ἀληθεια","truly","ah-lay-THOCE","Adverb",""," "," ","","  ","230",150,150,38,"Adverb","ἀληθῶς"," "," ","*ἀληθεια","ah-lay-THOCE","truly","ἀληθῶς","Index of Textbook: Adverb","  ","230",false,5150,152," "," "," ",150,""," ","  "," ",false,5150,152," "," "," ",150,""," "," "," ",false,5150,271,150,""," "," "," "]
[null,null,null,null,null,null,null,null,null,null,null,null,null,null,null,null,null,null,null,null,null,null,null,null,null,null,null,null,null,null,151,"37","ἁλιεύς"," ","sailor, fisherman","hah-lee-OOSE","Noun  ","ὁ"," "," "," ","alieus",231,231,"ἁλιεύς",true,true,true,"37"," ","sailor, fisherman","hah-lee-OOSE","Noun  ","ὁ"," "," "," ",231,151,151,"37","ὁ ἁλιεύς"," ","sailor, fisherman","hah-lee-OOSE","Noun  ","ὁ "," "," ","ὁ "," ",231,151,151,"37","Noun  ","ὁ ἁλιεύς"," "," "," ","hah-lee-OOSE","sailor, fisherman","ὁ ἁλιεύς","Extra: Noun  "," ",231,false,5151,153," "," "," ",151,""," ","  "," ",false,5151,153," "," "," ",151,""," "," "," ",false,5151,272,151,""," "," "," "]
[null,null,null,null,null,null,null,null,null,null,null,null,null,null,null,null,null,null,null,null,null,null,null,null,null,null,null,null,null,null,152,"08","ἀλλά"," ","but, yet, rather (particle)","ahl-LAH","Conjunction"," "," "," ","  ","alla","235",235,"ἀλλά",true,true,true,"08"," ","but, yet, rather (particle)","ahl-LAH","Conjunction"," "," "," ","  ","235",152,152,"08","ἀλλά"," ","but, yet, rather (particle)","ahl-LAH","Conjunction",""," "," ","","  ","235",152,152,"08","Conjunction","ἀλλά"," "," "," ","ahl-LAH","but, yet, rather (particle)","ἀλλά","Chapter 08: Conjunction","  ","235",false,5152,154," "," "," ",152,""," ","  "," ",false,5152,154," "," "," ",152,""," "," "," ",false,5152,273,152,""," "," "," "]
[null,null,null,null,null,null,null,null,null,null,null,null,null,null,null,null,null,null,null,null,null,null,null,null,null,null,null,null,null,null,153,"37","ἀλλάσσω"," ","I change, I alter","ah-LAHS-owe","Verb  "," ","ἤλλασσον","ἀλλάξω","ἤλλαξα","allassw hllasson allaxw hllaxa",236,236,"ἀλλάσσω",true,true,true,"37"," ","I change, I alter","ah-LAHS-owe","Verb  "," ","ἤλλασσον","ἀλλάξω","ἤλλαξα",236,153,153,"37","ἀλλάσσω"," ","I change, I alter","ah-LAHS-owe","Verb  ","","ἤλλασσον","ἀλλάξω","","ἤλλαξα",236,153,153,"37","Verb  ","ἀλλάσσω","ἤλλασσον","ἀλλάξω"," ","ah-LAHS-owe","I change, I alter","ἀλλάσσω","Extra: Verb  ","ἤλλαξα",236,false,5153,155," "," "," ",153,""," ","  "," ",false,5153,155," "," "," ",153,""," "," "," ",false,5153,274,153,""," "," "," "]
[null,null,null,null,null,null,null,null,null,null,null,null,null,null,null,null,null,null,null,null,null,null,null,null,null,null,null,null,null,null,154,"09","ἀλλήλωη","*ἀλληλο","one another [genitive plural…]","ahl-LAY-low-ay","Noun  ","ἡ"," "," ","  ","allhlwn","240",240,"ἀλλήλωη",true,true,true,"09","*ἀλληλο","one another [genitive plural…]","ahl-LAY-low-ay","Noun  ","ἡ"," "," ","  ","240",154,154,"09","ἡ ἀλλήλωη","*ἀλληλο","one another [genitive plural…]","ahl-LAY-low-ay","Noun  ","ἡ "," "," ","ἡ ","  ","240",154,154,"09","Noun  ","ἡ ἀλλήλωη"," "," ","*ἀλληλο","ahl-LAY-low-ay","one another [genitive plural…]","ἡ ἀλλήλωη","Chapter 09: Noun  ","  ","240",false,5154,156," "," "," ",154,""," ","  "," ",false,5154,156," "," "," ",154,""," "," "," ",false,5154,275,154,""," "," "," "]
[null,null,null,null,null,null,null,null,null,null,null,null,null,null,null,null,null,null,null,null,null,null,null,null,null,null,null,null,null,null,155,"37","ἅλλομαι"," ","I jump, I leap, I spring (up)","HAHL-om-eye","Verb  "," ","ἡλλόμην","ἁλοῦμαι","ἡλάμην","allomai hllomhn aloumai hlamhn",242,242,"ἅλλομαι",true,true,true,"37"," ","I jump, I leap, I spring (up)","HAHL-om-eye","Verb  "," ","ἡλλόμην","ἁλοῦμαι","ἡλάμην",242,155,155,"37","ἅλλομαι"," ","I jump, I leap, I spring (up)","HAHL-om-eye","Verb  ","","ἡλλόμην","ἁλοῦμαι","","ἡλάμην",242,155,155,"37","Verb  ","ἅλλομαι","ἡλλόμην","ἁλοῦμαι"," ","HAHL-om-eye","I jump, I leap, I spring (up)","ἅλλομαι","Extra: Verb  ","ἡλάμην",242,false,5155,157," "," "," ",155,""," ","  "," ",false,5155,157," "," "," ",155,""," "," "," ",false,5155,276,155,""," "," "," "]
[null,null,null,null,null,null,null,null,null,null,null,null,null,null,null,null,null,null,null,null,null,null,null,null,null,null,null,null,null,null,156,"06","ἄλλος","*ἀλλο","other, another","ALL-oss","Pronoun"," "," "," ","  ","allos","243",243,"ἄλλος",true,true,true,"06","*ἀλλο","other, another","ALL-oss","Pronoun"," "," "," ","  ","243",156,156,"06","ἄλλος","*ἀλλο","other, another","ALL-oss","Pronoun",""," "," ","","  ","243",156,156,"06","Pronoun","ἄλλος"," "," ","*ἀλλο","ALL-oss","other, another","ἄλλος","Chapter 06: Pronoun","  ","243",false,5156,158," "," "," ",156,""," ","  "," ",false,5156,158," "," "," ",156,""," "," "," ",false,5156,277,156,""," "," "," "]
[null,null,null,null,null,null,null,null,null,null,null,null,null,null,null,null,null,null,null,null,null,null,null,null,null,null,null,null,null,null,157,"38","ἀλλότριος","*ἀλλο","strange, not one's own","ahl-LOT-ree-oss","Adjective"," "," "," ","  ","allotrios","245",245,"ἀλλότριος",true,true,true,"38","*ἀλλο","strange, not one's own","ahl-LOT-ree-oss","Adjective"," "," "," ","  ","245",157,157,"38","ἀλλότριος","*ἀλλο","strange, not one's own","ahl-LOT-ree-oss","Adjective",""," "," ","","  ","245",157,157,"38","Adjective","ἀλλότριος"," "," ","*ἀλλο","ahl-LOT-ree-oss","strange, not one's own","ἀλλότριος","Chapter 38: Adjective","  ","245",false,5157,159," "," "," ",157,""," ","  "," ",false,5157,159," "," "," ",157,""," "," "," ",false,5157,278,157,""," "," "," "]
[null,null,null,null,null,null,null,null,null,null,null,null,null,null,null,null,null,null,null,null,null,null,null,null,null,null,null,null,null,null,158,"37","ἄλογος"," ","irrational, unreasonable, absurd","AHL-ogg-oss","Adjective"," "," "," "," ","alogos",249,249,"ἄλογος",true,true,true,"37"," ","irrational, unreasonable, absurd","AHL-ogg-oss","Adjective"," "," "," "," ",249,158,158,"37","ἄλογος"," ","irrational, unreasonable, absurd","AHL-ogg-oss","Adjective",""," "," ",""," ",249,158,158,"37","Adjective","ἄλογος"," "," "," ","AHL-ogg-oss","irrational, unreasonable, absurd","ἄλογος","Extra: Adjective"," ",249,false,5158,160," "," "," ",158,""," ","  "," ",false,5158,160," "," "," ",158,""," "," "," ",false,5158,279,158,""," "," "," "]
[null,null,null,null,null,null,null,null,null,null,null,null,null,null,null,null,null,null,null,null,null,null,null,null,null,null,null,null,null,null,159,"38","ἅλυσις"," ","chain","HAH-loo-sis","Noun  ","ἡ"," "," "," ","alusis","254",254,"ἅλυσις",true,true,true,"38"," ","chain","HAH-loo-sis","Noun  ","ἡ"," "," "," ","254",159,159,"38","ἡ ἅλυσις"," ","chain","HAH-loo-sis","Noun  ","ἡ "," "," ","ἡ "," ","254",159,159,"38","Noun  ","ἡ ἅλυσις"," "," "," ","HAH-loo-sis","chain","ἡ ἅλυσις","Chapter 38: Noun  "," ","254",false,5159,161," "," "," ",159,""," ","  "," ",false,5159,161," "," "," ",159,""," "," "," ",false,5159,280,159,""," "," "," "]
[null,null,null,null,null,null,null,null,null,null,null,null,null,null,null,null,null,null,null,null,null,null,null,null,null,null,null,null,null,null,160,"37","ἀλώπηξ"," ","fox (i.e., the animal)","ahl-OPE-ayks","Noun  ","ἡ"," "," "," ","alwphx",258,258,"ἀλώπηξ",true,true,true,"37"," ","fox (i.e., the animal)","ahl-OPE-ayks","Noun  ","ἡ"," "," "," ",258,160,160,"37","ἡ ἀλώπηξ"," ","fox (i.e., the animal)","ahl-OPE-ayks","Noun  ","ἡ "," "," ","ἡ "," ",258,160,160,"37","Noun  ","ἡ ἀλώπηξ"," "," "," ","ahl-OPE-ayks","fox (i.e., the animal)","ἡ ἀλώπηξ","Extra: Noun  "," ",258,false,5160,162," "," "," ",160,""," ","  "," ",false,5160,162," "," "," ",160,""," "," "," ",false,5160,281,160,""," "," "," "]
[null,null,null,null,null,null,null,null,null,null,null,null,null,null,null,null,null,null,null,null,null,null,null,null,null,null,null,null,null,null,161,38,"ἅμα"," ","together with [dative]","HA-mah","Preposition"," "," "," ","  ","ama","260",260,"ἅμα",true,true,true,38," ","together with [dative]","HA-mah","Preposition"," "," "," ","  ","260",161,161,38,"ἅμα"," ","together with [dative]","HA-mah","Preposition",""," "," ","","  ","260",161,161,38,"Preposition","ἅμα"," "," "," ","HA-mah","together with [dative]","ἅμα","Index of Textbook: Preposition","  ","260",false,5161,163," "," "," ",161,""," ","  "," ",false,5161,163," "," "," ",161,""," "," "," ",true,161,6,161,"","ἅμα","together with [dative]"," "]
[null,null,null,null,null,null,null,null,null,null,null,null,null,null,null,null,null,null,null,null,null,null,null,null,null,null,null,null,null,null,162,38,"ἅμα"," ","at the same time","HA-mah","Adverb"," "," "," ","  ","ama","260",260.10000000000002,"ἅμα",true,true,true,38," ","at the same time","HA-mah","Adverb"," "," "," ","  ","260",162,162,38,"ἅμα"," ","at the same time","HA-mah","Adverb",""," "," ","","  ","260",162,162,38,"Adverb","ἅμα"," "," "," ","HA-mah","at the same time","ἅμα","Index of Textbook: Adverb","  ","260",false,5162,164," "," "," ",162,""," ","  "," ",false,5162,164," "," "," ",162,""," "," "," ",true,162,7,162,"","ἅμα","at the same time"," "]
[null,null,null,null,null,null,null,null,null,null,null,null,null,null,null,null,null,null,null,null,null,null,null,null,null,null,null,null,null,null,163,"35","ἁμαρτάνω","*ἁμαρτ","I sin","ham-art-AH-noe","Verb  "," ","ἡμάρτανον","ἁμαρτήσω","ἡμάρτησα","amartanw amarthsw hmarthsa hmartanon","264",264,"ἁμαρτάνω",true,true,true,"35","*ἁμαρτ","I sin","ham-art-AH-noe","Verb  "," ","ἡμάρτανον","ἁμαρτήσω","ἡμάρτησα","264",163,163,"35","ἁμαρτάνω","*ἁμαρτ","I sin","ham-art-AH-noe","Verb  ","","ἡμάρτανον","ἁμαρτήσω","","ἡμάρτησα","264",163,163,"35","Verb  ","ἁμαρτάνω","ἡμάρτανον","ἁμαρτήσω","*ἁμαρτ","ham-art-AH-noe","I sin","ἁμαρτάνω","Chapter 35: Verb  ","ἡμάρτησα","264",false,5163,165," "," "," ",163,""," ","  "," ",false,5163,165," "," "," ",163,""," "," "," ",false,5163,282,163,""," "," "," "]
[null,null,null,null,null,null,null,null,null,null,null,null,null,null,null,null,null,null,null,null,null,null,null,null,null,null,null,null,null,null,164,"07","ἁμαρτία","*ἁμαρτια","sin","ha-mar-TEE-ah","Noun  ","ἡ"," "," ","  ","amartia","266",266,"ἁμαρτία",true,true,true,"07","*ἁμαρτια","sin","ha-mar-TEE-ah","Noun  ","ἡ"," "," ","  ","266",164,164,"07","ἡ ἁμαρτία","*ἁμαρτια","sin","ha-mar-TEE-ah","Noun  ","ἡ "," "," ","ἡ ","  ","266",164,164,"07","Noun  ","ἡ ἁμαρτία"," "," ","*ἁμαρτια","ha-mar-TEE-ah","sin","ἡ ἁμαρτία","Chapter 07: Noun  ","  ","266",false,5164,166," "," "," ",164,""," ","  "," ",false,5164,166," "," "," ",164,""," "," "," ",false,5164,283,164,""," "," "," "]
[null,null,null,null,null,null,null,null,null,null,null,null,null,null,null,null,null,null,null,null,null,null,null,null,null,null,null,null,null,null,165,"35","ἁμαρτωλός [noun]","*ἁμαρτωλο","sinner","ham-arr-toe-LOSS","Noun  ","ὁ"," "," ","  ","amartwlos","268",268,"ἁμαρτωλός [noun]",true,true,true,"35","*ἁμαρτωλο","sinner","ham-arr-toe-LOSS","Noun  ","ὁ"," "," ","  ","268",165,165,"35","ὁ ἁμαρτωλός [noun]","*ἁμαρτωλο","sinner","ham-arr-toe-LOSS","Noun  ","ὁ "," "," ","ὁ ","  ","268",165,165,"35","Noun  ","ὁ ἁμαρτωλός [noun]"," "," ","*ἁμαρτωλο","ham-arr-toe-LOSS","sinner","ὁ ἁμαρτωλός [noun]","Chapter 35: Noun  ","  ","268",false,5165,167," "," "," ",165,""," ","  "," ",false,5165,167," "," "," ",165,""," "," "," ",false,5165,284,165,""," "," "," "]
[null,null,null,null,null,null,null,null,null,null,null,null,null,null,null,null,null,null,null,null,null,null,null,null,null,null,null,null,null,null,166,"35","ἁμαρτωλός [adjective]","*ἁμαρτωλο","sinful","ham-arr-toe-LOSS","Adjective"," "," "," ","  ","amartwlos","268",268.10000000000002,"ἁμαρτωλός [adjective]",true,true,true,"35","*ἁμαρτωλο","sinful","ham-arr-toe-LOSS","Adjective"," "," "," ","  ","268",166,166,"35","ἁμαρτωλός [adjective]","*ἁμαρτωλο","sinful","ham-arr-toe-LOSS","Adjective",""," "," ","","  ","268",166,166,"35","Adjective","ἁμαρτωλός [adjective]"," "," ","*ἁμαρτωλο","ham-arr-toe-LOSS","sinful","ἁμαρτωλός [adjective]","Chapter 35: Adjective","  ","268",false,5166,168," "," "," ",166,""," ","  "," ",false,5166,168," "," "," ",166,""," "," "," ",false,5166,285,166,""," "," "," "]
[null,null,null,null,null,null,null,null,null,null,null,null,null,null,null,null,null,null,null,null,null,null,null,null,null,null,null,null,null,null,167,"37","ἀμελέω"," ","I neglect, I am careless","ah-mell-OWE","Verb  "," ","ἠμέλεον","ἀμελήσω","ἠμέλησα","amelew hmeleon amelhsw hmelhsa",272,272,"ἀμελέω",true,true,true,"37"," ","I neglect, I am careless","ah-mell-OWE","Verb  "," ","ἠμέλεον","ἀμελήσω","ἠμέλησα",272,167,167,"37","ἀμελέω"," ","I neglect, I am careless","ah-mell-OWE","Verb  ","","ἠμέλεον","ἀμελήσω","","ἠμέλησα",272,167,167,"37","Verb  ","ἀμελέω","ἠμέλεον","ἀμελήσω"," ","ah-mell-OWE","I neglect, I am careless","ἀμελέω","Extra: Verb  ","ἠμέλησα",272,false,5167,169," "," "," ",167,""," ","  "," ",false,5167,169," "," "," ",167,""," "," "," ",false,5167,286,167,""," "," "," "]
[null,null,null,null,null,null,null,null,null,null,null,null,null,null,null,null,null,null,null,null,null,null,null,null,null,null,null,null,null,null,168,"37","ἄμεμπτος"," ","blameless, faultless","AH-memp-toss","Adjective"," "," "," "," ","amemptos",273,273,"ἄμεμπτος",true,true,true,"37"," ","blameless, faultless","AH-memp-toss","Adjective"," "," "," "," ",273,168,168,"37","ἄμεμπτος"," ","blameless, faultless","AH-memp-toss","Adjective",""," "," ",""," ",273,168,168,"37","Adjective","ἄμεμπτος"," "," "," ","AH-memp-toss","blameless, faultless","ἄμεμπτος","Extra: Adjective"," ",273,false,5168,170," "," "," ",168,""," ","  "," ",false,5168,170," "," "," ",168,""," "," "," ",false,5168,287,168,""," "," "," "]
[null,null,null,null,null,null,null,null,null,null,null,null,null,null,null,null,null,null,null,null,null,null,null,null,null,null,null,null,null,null,169,"04","ἀμῄν"," ","truly, amen, let it be so","ah-MANE","Adverb"," "," "," ","  ","amhn","281",281,"ἀμῄν",true,true,true,"04"," ","truly, amen, let it be so","ah-MANE","Adverb"," "," "," ","  ","281",169,169,"04","ἀμῄν"," ","truly, amen, let it be so","ah-MANE","Adverb",""," "," ","","  ","281",169,169,"04","Adverb","ἀμῄν"," "," "," ","ah-MANE","truly, amen, let it be so","ἀμῄν","Chapter 04: Adverb","  ","281",false,5169,171," "," "," ",169,""," ","  "," ",false,5169,171," "," "," ",169,""," "," "," ",false,5169,288,169,""," "," "," "]
[null,null,null,null,null,null,null,null,null,null,null,null,null,null,null,null,null,null,null,null,null,null,null,null,null,null,null,null,null,null,170,"37","ἀμίαντος"," ","undefiled, pure, unsoiled","ah-MEE-ahn-toss","Adjective"," "," "," "," ","amiantos",283,283,"ἀμίαντος",true,true,true,"37"," ","undefiled, pure, unsoiled","ah-MEE-ahn-toss","Adjective"," "," "," "," ",283,170,170,"37","ἀμίαντος"," ","undefiled, pure, unsoiled","ah-MEE-ahn-toss","Adjective",""," "," ",""," ",283,170,170,"37","Adjective","ἀμίαντος"," "," "," ","ah-MEE-ahn-toss","undefiled, pure, unsoiled","ἀμίαντος","Extra: Adjective"," ",283,false,5170,172," "," "," ",170,""," ","  "," ",false,5170,172," "," "," ",170,""," "," "," ",false,5170,289,170,""," "," "," "]
[null,null,null,null,null,null,null,null,null,null,null,null,null,null,null,null,null,null,null,null,null,null,null,null,null,null,null,null,null,null,171,"37","ἄμμος"," ","sand, sand pile","AHM-oss","Noun  ","ἡ"," "," "," ","ammos",285,285,"ἄμμος",true,true,true,"37"," ","sand, sand pile","AHM-oss","Noun  ","ἡ"," "," "," ",285,171,171,"37","ἡ ἄμμος"," ","sand, sand pile","AHM-oss","Noun  ","ἡ "," "," ","ἡ "," ",285,171,171,"37","Noun  ","ἡ ἄμμος"," "," "," ","AHM-oss","sand, sand pile","ἡ ἄμμος","Extra: Noun  "," ",285,false,5171,173," "," "," ",171,""," ","  "," ",false,5171,173," "," "," ",171,""," "," "," ",false,5171,290,171,""," "," "," "]
[null,null,null,null,null,null,null,null,null,null,null,null,null,null,null,null,null,null,null,null,null,null,null,null,null,null,null,null,null,null,172,"37","ἀμνός"," ","lamb","ahm-NOSS","Noun  ","ὁ"," "," "," ","amnos",286,286,"ἀμνός",true,true,true,"37"," ","lamb","ahm-NOSS","Noun  ","ὁ"," "," "," ",286,172,172,"37","ὁ ἀμνός"," ","lamb","ahm-NOSS","Noun  ","ὁ "," "," ","ὁ "," ",286,172,172,"37","Noun  ","ὁ ἀμνός"," "," "," ","ahm-NOSS","lamb","ὁ ἀμνός","Extra: Noun  "," ",286,false,5172,174," "," "," ",172,""," ","  "," ",false,5172,174," "," "," ",172,""," "," "," ",false,5172,291,172,""," "," "," "]
[null,null,null,null,null,null,null,null,null,null,null,null,null,null,null,null,null,null,null,null,null,null,null,null,null,null,null,null,null,null,173,"37","ἄμπελος"," ","vine","AHM-pell-oss","Noun  ","ἡ"," "," "," ","ampelos",288,288,"ἄμπελος",true,true,true,"37"," ","vine","AHM-pell-oss","Noun  ","ἡ"," "," "," ",288,173,173,"37","ἡ ἄμπελος"," ","vine","AHM-pell-oss","Noun  ","ἡ "," "," ","ἡ "," ",288,173,173,"37","Noun  ","ἡ ἄμπελος"," "," "," ","AHM-pell-oss","vine","ἡ ἄμπελος","Extra: Noun  "," ",288,false,5173,175," "," "," ",173,""," ","  "," ",false,5173,175," "," "," ",173,""," "," "," ",false,5173,292,173,""," "," "," "]
[null,null,null,null,null,null,null,null,null,null,null,null,null,null,null,null,null,null,null,null,null,null,null,null,null,null,null,null,null,null,174,38,"ἀμπελών"," ","vineyard","ahm-pell-OWN","Noun  ","ὁ"," "," ","  ","ampelwn","290",290,"ἀμπελών",true,true,true,38," ","vineyard","ahm-pell-OWN","Noun  ","ὁ"," "," ","  ","290",174,174,38,"ὁ ἀμπελών"," ","vineyard","ahm-pell-OWN","Noun  ","ὁ "," "," ","ὁ ","  ","290",174,174,38,"Noun  ","ὁ ἀμπελών"," "," "," ","ahm-pell-OWN","vineyard","ὁ ἀμπελών","Index of Textbook: Noun  ","  ","290",false,5174,176," "," "," ",174,""," ","  "," ",false,5174,176," "," "," ",174,""," "," "," ",false,5174,293,174,""," "," "," "]
[null,null,null,null,null,null,null,null,null,null,null,null,null,null,null,null,null,null,null,null,null,null,null,null,null,null,null,null,null,null,175,"37","ἀμφιέννυμι"," ","I clothe, I am clothed","ahm-fee-ENN-oo-mee","Verb  "," ","ἠμφίεννυν","ἀμφιέσω","ἠμφίεσα","amfiennumi hmfiennun amfiesw hmfiesa","294",294,"ἀμφιέννυμι",true,true,true,"37"," ","I clothe, I am clothed","ahm-fee-ENN-oo-mee","Verb  "," ","ἠμφίεννυν","ἀμφιέσω","ἠμφίεσα","294",175,175,"37","ἀμφιέννυμι"," ","I clothe, I am clothed","ahm-fee-ENN-oo-mee","Verb  ","","ἠμφίεννυν","ἀμφιέσω","","ἠμφίεσα","294",175,175,"37","Verb  ","ἀμφιέννυμι","ἠμφίεννυν","ἀμφιέσω"," ","ahm-fee-ENN-oo-mee","I clothe, I am clothed","ἀμφιέννυμι","Extra: Verb  ","ἠμφίεσα","294",false,5175,177," "," "," ",175,""," ","  "," ",false,5175,177," "," "," ",175,""," "," "," ",false,5175,294,175,""," "," "," "]
[null,null,null,null,null,null,null,null,null,null,null,null,null,null,null,null,null,null,null,null,null,null,null,null,null,null,null,null,null,null,176,38,"ἀμφότεροι"," ","both","ahm-FOT-er-oy","Adjective"," "," "," ","  ","amfoteroi","297",297,"ἀμφότεροι",true,true,true,38," ","both","ahm-FOT-er-oy","Adjective"," "," "," ","  ","297",176,176,38,"ἀμφότεροι"," ","both","ahm-FOT-er-oy","Adjective",""," "," ","","  ","297",176,176,38,"Adjective","ἀμφότεροι"," "," "," ","ahm-FOT-er-oy","both","ἀμφότεροι","Index of Textbook: Adjective","  ","297",false,5176,178," "," "," ",176,""," ","  "," ",false,5176,178," "," "," ",176,""," "," "," ",false,5176,295,176,""," "," "," "]
[null,null,null,null,null,null,null,null,null,null,null,null,null,null,null,null,null,null,null,null,null,null,null,null,null,null,null,null,null,null,177,"37","ἄμωμος"," ","blameless, unblemished, faultless","AH-moe-moss","Adjective"," "," "," "," ","amwmos","299b",299.5,"ἄμωμος",true,true,true,"37"," ","blameless, unblemished, faultless","AH-moe-moss","Adjective"," "," "," "," ","299b",177,177,"37","ἄμωμος"," ","blameless, unblemished, faultless","AH-moe-moss","Adjective",""," "," ",""," ","299b",177,177,"37","Adjective","ἄμωμος"," "," "," ","AH-moe-moss","blameless, unblemished, faultless","ἄμωμος","Extra: Adjective"," ","299b",false,5177,179," "," "," ",177,""," ","  "," ",false,5177,179," "," "," ",177,""," "," "," ",false,5177,296,177,""," "," "," "]
[null,null,null,null,null,null,null,null,null,null,null,null,null,null,null,null,null,null,null,null,null,null,null,null,null,null,null,null,null,null,178,"14","ἄν"," ","modifies relative pronoun (\"who\" becomes \"whoever\") (particle)","AHN","Pronoun"," "," "," ","  ","an","302",302,"ἄν",true,true,true,"14"," ","modifies relative pronoun (\"who\" becomes \"whoever\") (particle)","AHN","Pronoun"," "," "," ","  ","302",178,178,"14","ἄν"," ","modifies relative pronoun (\"who\" becomes \"whoever\") (particle)","AHN","Pronoun",""," "," ","","  ","302",178,178,"14","Pronoun","ἄν"," "," "," ","AHN","modifies relative pronoun (\"who\" becomes \"whoever\") (particle)","ἄν","Chapter 14: Pronoun","  ","302",false,5178,180," "," "," ",178,""," ","  "," ",false,5178,180," "," "," ",178,""," "," "," ",true,178,8,178,"","ἄν","modifies relative pronoun (\"who\" becomes \"whoever\") (particle)"," "]
[null,null,null,null,null,null,null,null,null,null,null,null,null,null,null,null,null,null,null,null,null,null,null,null,null,null,null,null,null,null,179,"11","-ἄν"," ","ending that changes \"what\" to \"whatever\"","AHN","Noun Ending"," "," "," ","  ","an","302",302.10000000000002,"-ἄν",true,true,true,"11"," ","ending that changes \"what\" to \"whatever\"","AHN","Noun Ending"," "," "," ","  ","302",179,179,"11","-ἄν"," ","ending that changes \"what\" to \"whatever\"","AHN","Noun Ending",""," "," ","","  ","302",179,179,"11","Noun Ending","-ἄν"," "," "," ","AHN","ending that changes \"what\" to \"whatever\"","-ἄν","Chapter 11: Noun Ending","  ","302",false,5179,181," "," "," ",179,""," ","  "," ",false,5179,181," "," "," ",179,""," "," "," ",true,179,9,179,"","-ἄν","ending that changes \"what\" to \"whatever\""," "]
[null,null,null,null,null,null,null,null,null,null,null,null,null,null,null,null,null,null,null,null,null,null,null,null,null,null,null,null,null,null,180,38,"ἀνά"," ","among, between, each","ah-NA","Preposition"," "," "," ","  ","ana","303",303,"ἀνά",true,true,true,38," ","among, between, each","ah-NA","Preposition"," "," "," ","  ","303",180,180,38,"ἀνά"," ","among, between, each","ah-NA","Preposition",""," "," ","","  ","303",180,180,38,"Preposition","ἀνά"," "," "," ","ah-NA","among, between, each","ἀνά","Index of Textbook: Preposition","  ","303",false,5180,182," "," "," ",180,""," ","  "," ",false,5180,182," "," "," ",180,""," "," "," ",true,180,10,180,"","ἀνά","among, between, each"," "]
[null,null,null,null,null,null,null,null,null,null,null,null,null,null,null,null,null,null,null,null,null,null,null,null,null,null,null,null,null,null,181,"27","ἀναβαίνω","*ἀνα + *βα","I go up","ah-nah-BYE-noe","Verb  "," ","ἀνέβαινον","ἀναβήσομαι","ἀνέβην","anabainw anebainon anabhsomai anebhn","305",305,"ἀναβαίνω",true,true,true,"27","*ἀνα + *βα","I go up","ah-nah-BYE-noe","Verb  "," ","ἀνέβαινον","ἀναβήσομαι","ἀνέβην","305",181,181,"27","ἀναβαίνω","*ἀνα + *βα","I go up","ah-nah-BYE-noe","Verb  ","","ἀνέβαινον","ἀναβήσομαι","","ἀνέβην","305",181,181,"27","Verb  ","ἀναβαίνω","ἀνέβαινον","ἀναβήσομαι","*ἀνα + *βα","ah-nah-BYE-noe","I go up","ἀναβαίνω","Chapter 27: Verb  ","ἀνέβην","305",false,5181,183," "," "," ",181,""," ","  "," ",false,5181,183," "," "," ",181,""," "," "," ",false,5181,297,181,""," "," "," "]
[null,null,null,null,null,null,null,null,null,null,null,null,null,null,null,null,null,null,null,null,null,null,null,null,null,null,null,null,null,null,182,38,"ἀναβλέπω","*βλεπ","I look up, I receive sight","ah-NA-BLEPP-owe","Verb  "," ","ἀνέβλεπον","ἀναβλέψω","ἀνέβλεψα","anablepw anebleya aneblepon anableyw","308",308,"ἀναβλέπω",true,true,true,38,"*βλεπ","I look up, I receive sight","ah-NA-BLEPP-owe","Verb  "," ","ἀνέβλεπον","ἀναβλέψω","ἀνέβλεψα","308",182,182,38,"ἀναβλέπω","*βλεπ","I look up, I receive sight","ah-NA-BLEPP-owe","Verb  ","","ἀνέβλεπον","ἀναβλέψω","","ἀνέβλεψα","308",182,182,38,"Verb  ","ἀναβλέπω","ἀνέβλεπον","ἀναβλέψω","*βλεπ","ah-NA-BLEPP-owe","I look up, I receive sight","ἀναβλέπω","Index of Textbook: Verb  ","ἀνέβλεψα","308",false,5182,184," "," "," ",182,""," ","  "," ",false,5182,184," "," "," ",182,""," "," "," ",false,5182,298,182,""," "," "," "]
[null,null,null,null,null,null,null,null,null,null,null,null,null,null,null,null,null,null,null,null,null,null,null,null,null,null,null,null,null,null,183,"38","ἀναγγέλλω"," ","I proclaim, I announce, I report","ah-nang-ELL-owe","Verb  "," ","ἀνήγγελλον","ἀναγγελῶ","ἀνήγγειλα","Anaggellw anhggellon anaggelw anhggeila","312",312,"ἀναγγέλλω",true,true,true,"38"," ","I proclaim, I announce, I report","ah-nang-ELL-owe","Verb  "," ","ἀνήγγελλον","ἀναγγελῶ","ἀνήγγειλα","312",183,183,"38","ἀναγγέλλω"," ","I proclaim, I announce, I report","ah-nang-ELL-owe","Verb  ","","ἀνήγγελλον","ἀναγγελῶ","","ἀνήγγειλα","312",183,183,"38","Verb  ","ἀναγγέλλω","ἀνήγγελλον","ἀναγγελῶ"," ","ah-nang-ELL-owe","I proclaim, I announce, I report","ἀναγγέλλω","Chapter 38: Verb  ","ἀνήγγειλα","312",false,5183,185," "," "," ",183,""," ","  "," ",false,5183,185," "," "," ",183,""," "," "," ",false,5183,299,183,""," "," "," "]
[null,null,null,null,null,null,null,null,null,null,null,null,null,null,null,null,null,null,null,null,null,null,null,null,null,null,null,null,null,null,184,38,"ἀναγινώσκω","*γνω","I read","ah-nah-giin-OSE-koe","Verb  "," ","ἀνεγίνωσκον","ἀναγνώσομαι","ἀνέγνων","anaginwskw aneginwskon anegnwn anagnwsomai","314",314,"ἀναγινώσκω",true,true,true,38,"*γνω","I read","ah-nah-giin-OSE-koe","Verb  "," ","ἀνεγίνωσκον","ἀναγνώσομαι","ἀνέγνων","314",184,184,38,"ἀναγινώσκω","*γνω","I read","ah-nah-giin-OSE-koe","Verb  ","","ἀνεγίνωσκον","ἀναγνώσομαι","","ἀνέγνων","314",184,184,38,"Verb  ","ἀναγινώσκω","ἀνεγίνωσκον","ἀναγνώσομαι","*γνω","ah-nah-giin-OSE-koe","I read","ἀναγινώσκω","Index of Textbook: Verb  ","ἀνέγνων","314",false,5184,186," "," "," ",184,""," ","  "," ",false,5184,186," "," "," ",184,""," "," "," ",false,5184,300,184,""," "," "," "]
[null,null,null,null,null,null,null,null,null,null,null,null,null,null,null,null,null,null,null,null,null,null,null,null,null,null,null,null,null,null,185,"37","ἀναγκάζω"," ","I compel, I force, I constrain","ah-nang-KAH-zoe","Verb  "," ","ἠνάγκαζον","ἀναγκάσω","ἠνάγκασα","anagkazw hnagkazon anagkasw hnagkasa","315",315,"ἀναγκάζω",true,true,true,"37"," ","I compel, I force, I constrain","ah-nang-KAH-zoe","Verb  "," ","ἠνάγκαζον","ἀναγκάσω","ἠνάγκασα","315",185,185,"37","ἀναγκάζω"," ","I compel, I force, I constrain","ah-nang-KAH-zoe","Verb  ","","ἠνάγκαζον","ἀναγκάσω","","ἠνάγκασα","315",185,185,"37","Verb  ","ἀναγκάζω","ἠνάγκαζον","ἀναγκάσω"," ","ah-nang-KAH-zoe","I compel, I force, I constrain","ἀναγκάζω","Extra: Verb  ","ἠνάγκασα","315",false,5185,187," "," "," ",185,""," ","  "," ",false,5185,187," "," "," ",185,""," "," "," ",false,5185,301,185,""," "," "," "]
[null,null,null,null,null,null,null,null,null,null,null,null,null,null,null,null,null,null,null,null,null,null,null,null,null,null,null,null,null,null,186,"37","ἀναγκαῖος"," ","necessary, urgent, close (as a relative)","ahn-ang-KYE-oss","Adjective"," "," "," "," ","anagkaios",316,316,"ἀναγκαῖος",true,true,true,"37"," ","necessary, urgent, close (as a relative)","ahn-ang-KYE-oss","Adjective"," "," "," "," ",316,186,186,"37","ἀναγκαῖος"," ","necessary, urgent, close (as a relative)","ahn-ang-KYE-oss","Adjective",""," "," ",""," ",316,186,186,"37","Adjective","ἀναγκαῖος"," "," "," ","ahn-ang-KYE-oss","necessary, urgent, close (as a relative)","ἀναγκαῖος","Extra: Adjective"," ",316,false,5186,188," "," "," ",186,""," ","  "," ",false,5186,188," "," "," ",186,""," "," "," ",false,5186,302,186,""," "," "," "]
[null,null,null,null,null,null,null,null,null,null,null,null,null,null,null,null,null,null,null,null,null,null,null,null,null,null,null,null,null,null,187,38,"ἀνάγκη"," ","necessity, pressure, distress","ah-NANG-kay","Noun  ","ἡ"," "," ","  ","anagkh","318",318,"ἀνάγκη",true,true,true,38," ","necessity, pressure, distress","ah-NANG-kay","Noun  ","ἡ"," "," ","  ","318",187,187,38,"ἡ ἀνάγκη"," ","necessity, pressure, distress","ah-NANG-kay","Noun  ","ἡ "," "," ","ἡ ","  ","318",187,187,38,"Noun  ","ἡ ἀνάγκη"," "," "," ","ah-NANG-kay","necessity, pressure, distress","ἡ ἀνάγκη","Index of Textbook: Noun  ","  ","318",false,5187,189," "," "," ",187,""," ","  "," ",false,5187,189," "," "," ",187,""," "," "," ",false,5187,303,187,""," "," "," "]
[null,null,null,null,null,null,null,null,null,null,null,null,null,null,null,null,null,null,null,null,null,null,null,null,null,null,null,null,null,null,188,38,"ἀνάγω"," ","I lead up; (middle) I put out to sea","Ah-NAH-go","Verb  "," ","ἀνῆγον","ἀνάξω","ἀνήγαγον","anagw anhgagon anhgon anaxw","321",321,"ἀνάγω",true,true,true,38," ","I lead up; (middle) I put out to sea","Ah-NAH-go","Verb  "," ","ἀνῆγον","ἀνάξω","ἀνήγαγον","321",188,188,38,"ἀνάγω"," ","I lead up; (middle) I put out to sea","Ah-NAH-go","Verb  ","","ἀνῆγον","ἀνάξω","","ἀνήγαγον","321",188,188,38,"Verb  ","ἀνάγω","ἀνῆγον","ἀνάξω"," ","Ah-NAH-go","I lead up; (middle) I put out to sea","ἀνάγω","Index of Textbook: Verb  ","ἀνήγαγον","321",false,5188,190," "," "," ",188,""," ","  "," ",false,5188,190," "," "," ",188,""," "," "," ",false,5188,304,188,""," "," "," "]
[null,null,null,null,null,null,null,null,null,null,null,null,null,null,null,null,null,null,null,null,null,null,null,null,null,null,null,null,null,null,189,38,"ἀναιρέω"," ","I destroy, I slay, I make an end","ahn-eye-REH-owe","Verb  "," ","ἀνῄρουν","ἀνελω","ἀνεῖλα","anairew anelw aneila anhroun","337",337,"ἀναιρέω",true,true,true,38," ","I destroy, I slay, I make an end","ahn-eye-REH-owe","Verb  "," ","ἀνῄρουν","ἀνελω","ἀνεῖλα","337",189,189,38,"ἀναιρέω"," ","I destroy, I slay, I make an end","ahn-eye-REH-owe","Verb  ","","ἀνῄρουν","ἀνελω","","ἀνεῖλα","337",189,189,38,"Verb  ","ἀναιρέω","ἀνῄρουν","ἀνελω"," ","ahn-eye-REH-owe","I destroy, I slay, I make an end","ἀναιρέω","Index of Textbook: Verb  ","ἀνεῖλα","337",false,5189,191," "," "," ",189,""," ","  "," ",false,5189,191," "," "," ",189,""," "," "," ",false,5189,305,189,""," "," "," "]
[null,null,null,null,null,null,null,null,null,null,null,null,null,null,null,null,null,null,null,null,null,null,null,null,null,null,null,null,null,null,190,38,"ἀνάκειμαι"," ","I recline","ah-NAH-kay-my","Verb  "," ","ἀνεκειμην","ἀνακείσομαι","ἀνακείμην","anakeimai anekeimhn anakeisomai anakeimhn","345",345,"ἀνάκειμαι",true,true,true,38," ","I recline","ah-NAH-kay-my","Verb  "," ","ἀνεκειμην","ἀνακείσομαι","ἀνακείμην","345",190,190,38,"ἀνάκειμαι"," ","I recline","ah-NAH-kay-my","Verb  ","","ἀνεκειμην","ἀνακείσομαι","","ἀνακείμην","345",190,190,38,"Verb  ","ἀνάκειμαι","ἀνεκειμην","ἀνακείσομαι"," ","ah-NAH-kay-my","I recline","ἀνάκειμαι","Index of Textbook: Verb  ","ἀνακείμην","345",false,5190,192," "," "," ",190,""," ","  "," ",false,5190,192," "," "," ",190,""," "," "," ",false,5190,306,190,""," "," "," "]
[null,null,null,null,null,null,null,null,null,null,null,null,null,null,null,null,null,null,null,null,null,null,null,null,null,null,null,null,null,null,191,38,"ἀνακρίνω"," ","I question, I examine","ah-nah-KREE-no","Verb  "," ","ἀνέκρινον","ἀνακρινῶ","ἀνεκρινα","anakrinw anekrina anekrinon anakrinw","350",350,"ἀνακρίνω",true,true,true,38," ","I question, I examine","ah-nah-KREE-no","Verb  "," ","ἀνέκρινον","ἀνακρινῶ","ἀνεκρινα","350",191,191,38,"ἀνακρίνω"," ","I question, I examine","ah-nah-KREE-no","Verb  ","","ἀνέκρινον","ἀνακρινῶ","","ἀνεκρινα","350",191,191,38,"Verb  ","ἀνακρίνω","ἀνέκρινον","ἀνακρινῶ"," ","ah-nah-KREE-no","I question, I examine","ἀνακρίνω","Index of Textbook: Verb  ","ἀνεκρινα","350",false,5191,193," "," "," ",191,""," ","  "," ",false,5191,193," "," "," ",191,""," "," "," ",false,5191,307,191,""," "," "," "]
[null,null,null,null,null,null,null,null,null,null,null,null,null,null,null,null,null,null,null,null,null,null,null,null,null,null,null,null,null,null,192,"38","ἀναλαμβάνω"," ","I take up","ahn-ah-lahm-BAHN-owe","Verb  "," ","ἀνελάμβανον","ἀναλήψομαι","ἀνέλαβον","analambanw anelabon anelambanon analhyomai","353",353,"ἀναλαμβάνω",true,true,true,"38"," ","I take up","ahn-ah-lahm-BAHN-owe","Verb  "," ","ἀνελάμβανον","ἀναλήψομαι","ἀνέλαβον","353",192,192,"38","ἀναλαμβάνω"," ","I take up","ahn-ah-lahm-BAHN-owe","Verb  ","","ἀνελάμβανον","ἀναλήψομαι","","ἀνέλαβον","353",192,192,"38","Verb  ","ἀναλαμβάνω","ἀνελάμβανον","ἀναλήψομαι"," ","ahn-ah-lahm-BAHN-owe","I take up","ἀναλαμβάνω","Chapter 38: Verb  ","ἀνέλαβον","353",false,5192,194," "," "," ",192,""," ","  "," ",false,5192,194," "," "," ",192,""," "," "," ",false,5192,308,192,""," "," "," "]
[null,null,null,null,null,null,null,null,null,null,null,null,null,null,null,null,null,null,null,null,null,null,null,null,null,null,null,null,null,null,193,"38","Ἁνανίας"," ","Ananias","hah-nah-NEE-ahss","Proper Noun","ὁ"," "," "," ","ananias","367",367,"Ἁνανίας",{"$f":"IF(ISERR(FIND(AF196,$Y$22,1)),FALSE,TRUE)","v":true},true,true,"38"," ","Ananias","hah-nah-NEE-ahss","Proper Noun","ὁ"," "," "," ","367",{"$f":"IF(AV196,AE196,AE196+5000)","v":193},{"$f":"RANK(BG196,BG$4:BG$2003,1)","v":193},"38",{"$f":"IF($AV196,BO196&AG196,\" \")","v":"ὁ Ἁνανίας"}," ","Ananias","hah-nah-NEE-ahss","Proper Noun","ὁ "," "," ","ὁ "," ","367",193,{"$f":"IF(BU196<=BJ$2,MATCH(BU196,BH$4:BH$2003,0),\"\")","v":193},{"$f":"VLOOKUP($BU196,BH$4:BQ$2003,2,0)","v":"38"},{"$f":"VLOOKUP($BU196,BH$4:BQ$2003,7,0)","v":"Proper Noun"},{"$f":"VLOOKUP($BU196,BH$4:BQ$2003,3,0)","v":"ὁ Ἁνανίας"},{"$f":"VLOOKUP($BU196,BH$4:BQ$2003,9,0)","v":" "},{"$f":"VLOOKUP($BU196,BH$4:BQ$2003,10,0)","v":" "},{"$f":"VLOOKUP($BU196,BH$4:BQ$2003,4,0)","v":" "},{"$f":"VLOOKUP($BU196,BH$4:BQ$2003,6,0)","v":"hah-nah-NEE-ahss"},{"$f":"VLOOKUP($BU196,BH$4:BQ$2003,5,0)","v":"Ananias"},{"$f":"IF(AC$8,BY196,VLOOKUP($BU196,BH$4:BR$2003,11,0)&BY196)","v":"ὁ Ἁνανίας"},"Chapter 38: Proper Noun",{"$f":"VLOOKUP($BU196,BH$4:BS$2003,12,0)","v":" "},{"$f":"VLOOKUP($BU196,BH$4:BT$2003,13,0)","v":"367"},false,{"$f":"IF(CI196,AE196,AE196+5000)","v":5193},{"$f":"RANK(CJ196,CJ$4:CJ$2003,1)","v":195},{"$f":"IF($CI196,IF(BB196=\" \",\"\",BB196&\" \")&AG196,\" \")","v":" "}," "," ",193,{"$f":"IF(CO196<=CP$2,MATCH(CO196,CK$4:CK$2003,0),\"\")","v":""},{"$f":"VLOOKUP($CO196,CK$4:CM$2003,2,0)","v":" "},{"$f":"VLOOKUP($CO196,CK$4:CN$2003,3,0)&VLOOKUP($CO196,CK$4:CN$2003,4,0)","v":"  "}," ",{"$f":"IF(ISERR(FIND(CW$2,AP196,1)),FALSE, TRUE)","v":false},{"$f":"IF(CT196,AE196,AE196+5000)","v":5193},{"$f":"RANK(CU196,CU$4:CU$2003,1)","v":195},{"$f":"IF($CT196,IF(AH196=\" \",\"\",\" [\"&AH196&\"]\"),\" \")","v":" "},{"$f":"IF($CT196,IF(AK196=\"Noun  \",\"Noun\",IF(AK196=\"Verb  \",\"Verb\",AK196)),\" \")","v":" "}," ",193,{"$f":"IF(CZ196<=DA$2,MATCH(CZ196,CV$4:CV$2003,0),\"\")","v":""},{"$f":"VLOOKUP($CZ196,CV$4:CY$2003,4,0)","v":" "}," "," ",{"$f":"IF(AND(LEN(AG196)<=DF$2,AG196<>\" \"),TRUE,FALSE)","v":false},{"$f":"IF(DE196,AE196,AE196+5000)","v":5193},{"$f":"RANK(DF196,DF$4:DF$2003,1)","v":309},193,{"$f":"IF(DH196<=DA$2,MATCH(DH196,DG$4:DG$2003,0),\"\")","v":""},{"$f":"IF($DE196,IF(BB196=\" \",\"\",BB196&\" \")&AG196,\" \")","v":" "}," ",{"$f":"IF($DH196<=$DI$2,VLOOKUP($DH196,DG$4:DK$2003,4,0)&\" [\" &VLOOKUP($DH196,DG$4:DK$2003,5,0) &\"]\",\" \")","v":" "}]
[null,null,null,null,null,null,null,null,null,null,null,null,null,null,null,null,null,null,null,null,null,null,null,null,null,null,null,null,null,null,194,"38","ἀναπαύω"," ","I give rest, I refresh, I take a rest","ah-nah-POW-owe","Verb  "," ","ἀνεπαύον","ἀναπαύσω","ἀνέπαυσα","anapauw anapausw anepausa anepauon","373",373,{"$f":"IF(AG197=\"\",\"\",AG197)","v":"ἀναπαύω"},true,{"$f":"IF(ISERR(FIND(AK197,$Y$23,1)),FALSE,TRUE)","v":true},{"$f":"AND(AT197,AU197)","v":true},{"$f":"IF(AC$3,AF197,\" \")","v":"38"},{"$f":"IF(AC$4,AH197,\" \")","v":" "},{"$f":"IF(TRUE,AI197,\" \")","v":"I give rest, I refresh, I take a rest"},{"$f":"IF(AC$6,AJ197,\" \")","v":"ah-nah-POW-owe"},{"$f":"IF(AC$7,AK197,\" \")","v":"Verb  "},{"$f":"IF(AC$8,AL197,\" \")","v":" "},{"$f":"IF(AC$9,AM197,\" \")","v":"ἀνεπαύον"},{"$f":"IF(AC$10,AN197,\" \")","v":"ἀναπαύσω"},{"$f":"IF(AC$9,AO197,\" \")","v":"ἀνέπαυσα"},{"$f":"IF(AC$12,AQ197,\" \")","v":"373"},194,194,"38","ἀναπαύω"," ","I give rest, I refresh, I take a rest","ah-nah-POW-owe","Verb  ","","ἀνεπαύον","ἀναπαύσω",{"$f":"IF($AV197,IF(AL197=\" \",\"\",AL197&\" \"),\"\")","v":""},{"$f":"IF($AV197,BE197,\" \")","v":"ἀνέπαυσα"},"373",194,194,"38","Verb  ","ἀναπαύω","ἀνεπαύον","ἀναπαύσω"," ","ah-nah-POW-owe","I give rest, I refresh, I take a rest","ἀναπαύω",{"$f":"IF(BV197=\"\",\"\",IF(BW197=\"37\",\"Extra\", IF(BW197=38, \"Index of Textbook\",\"Chapter \" &BW197))&\": \"&BX197)","v":"Chapter 38: Verb  "},"ἀνέπαυσα","373",{"$f":"IF(ISERR(SEARCH(CL$2,AY197,1)),FALSE, TRUE)","v":false},5194,196," ",{"$f":"IF($CI197,AY197,\" \")","v":" "},{"$f":"IF($CI197,IF(AW197=\"37\",\" [Extra]\",IF(AW197=\"38\",\" [Index]\",  \" [Chap. \"&TEXT(VALUE(AW197),\"#\")&\"]\")),\" \")","v":" "},194,""," ","  "," ",false,5194,196," "," ",{"$f":"IF($CT197,IF(BB197=\" \",\"\",BB197&\" \")&AG197&CW197&\": \"&AY197&  IF(AF197=\"37\",\"  (Extra\",IF(AF197=\"38\",\"  (Index\",\"  (Chapter \"&TEXT(AF197,\"#\"))) &\", \"&CX197& IF(LEN(AM197)>1,\" [\"&AM197&\"]\",\"\") &IF(LEN(AN197)>1,\" [\"&AN197&\"]\",\"\")         &\")\",\" \")","v":" "},194,""," "," "," ",false,5194,310,194,""," ",{"$f":"IF($DE197,AY197,\" \")","v":" "}," "]
[null,null,null,null,null,null,null,null,null,null,null,null,null,null,null,null,null,null,null,null,null,null,null,null,null,null,null,null,null,null,195,"38","ἀναπίπτω"," ","I lie down, I recline","ah-nah-PIP-toe","Verb  "," ","ἀνέπιπτον","πεσοῦμαι","ἀνέπεσα","anapiptw anepesa anepipton pesoumai","377",377,"ἀναπίπτω",true,true,true,"38"," ","I lie down, I recline","ah-nah-PIP-toe","Verb  "," ","ἀνέπιπτον","πεσοῦμαι","ἀνέπεσα","377",195,195,"38","ἀναπίπτω"," ","I lie down, I recline","ah-nah-PIP-toe","Verb  ","","ἀνέπιπτον","πεσοῦμαι","","ἀνέπεσα","377",195,195,"38","Verb  ","ἀναπίπτω","ἀνέπιπτον","πεσοῦμαι"," ","ah-nah-PIP-toe","I lie down, I recline","ἀναπίπτω","Chapter 38: Verb  ","ἀνέπεσα","377",false,5195,197," "," "," ",195,""," ","  "," ",false,5195,197," "," "," ",195,""," "," "," ",false,5195,311,195,""," "," "," "]
[null,null,null,null,null,null,null,null,null,null,null,null,null,null,null,null,null,null,null,null,null,null,null,null,null,null,null,null,null,null,196,"35","ἀνάστασις","*ἀναστασι","resurrection","ahn-AH-stahss-iss","Noun  ","ἡ"," "," ","  ","anastasis","386",386,"ἀνάστασις",true,true,true,"35","*ἀναστασι","resurrection","ahn-AH-stahss-iss","Noun  ","ἡ"," "," ","  ","386",196,196,"35","ἡ ἀνάστασις","*ἀναστασι","resurrection","ahn-AH-stahss-iss","Noun  ","ἡ "," "," ","ἡ ","  ","386",196,196,"35","Noun  ","ἡ ἀνάστασις"," "," ","*ἀναστασι","ahn-AH-stahss-iss","resurrection","ἡ ἀνάστασις","Chapter 35: Noun  ","  ","386",false,5196,198," "," "," ",196,""," ","  "," ",false,5196,198," "," "," ",196,""," "," "," ",false,5196,312,196,""," "," "," "]
[null,null,null,null,null,null,null,null,null,null,null,null,null,null,null,null,null,null,null,null,null,null,null,null,null,null,null,null,null,null,197,"38","ἀναστροφή"," ","way of life, conduct, behavior","ah-nah-stroff-AY","Noun  ","ἡ"," "," "," ","anastrofh","391",391,"ἀναστροφή",true,true,true,"38"," ","way of life, conduct, behavior","ah-nah-stroff-AY","Noun  ","ἡ"," "," "," ","391",197,197,"38","ἡ ἀναστροφή"," ","way of life, conduct, behavior","ah-nah-stroff-AY","Noun  ","ἡ "," "," ","ἡ "," ","391",197,197,"38","Noun  ","ἡ ἀναστροφή"," "," "," ","ah-nah-stroff-AY","way of life, conduct, behavior","ἡ ἀναστροφή","Chapter 38: Noun  "," ","391",false,5197,199," "," "," ",197,""," ","  "," ",false,5197,199," "," "," ",197,""," "," "," ",false,5197,313,197,""," "," "," "]
[null,null,null,null,null,null,null,null,null,null,null,null,null,null,null,null,null,null,null,null,null,null,null,null,null,null,null,null,null,null,198,"38","ἀνατολή"," ","east","ah-nah-toll-AY","Noun  ","ἡ"," "," "," ","anatolh","395",395,"ἀνατολή",true,{"$f":"IF(ISERR(FIND(AK201,$Y$23,1)),FALSE,TRUE)","v":true},true,"38"," ","east","ah-nah-toll-AY","Noun  ","ἡ"," "," "," ","395",198,198,"38","ἡ ἀνατολή"," ","east","ah-nah-toll-AY","Noun  ","ἡ "," "," ","ἡ "," ","395",198,198,"38","Noun  ","ἡ ἀνατολή"," "," "," ","ah-nah-toll-AY","east","ἡ ἀνατολή","Chapter 38: Noun  "," ","395",false,5198,200," "," "," ",198,""," ","  "," ",false,5198,200," "," "," ",198,""," "," "," ",false,5198,314,198,""," "," "," "]
[null,null,null,null,null,null,null,null,null,null,null,null,null,null,null,null,null,null,null,null,null,null,null,null,null,null,null,null,null,null,199,"38","ἀναφέρω"," ","I offer up, I bring up","ah-nah-FERR-owe","Verb  "," ","ἀνεφερόμην","ἀνοίσω","ἀνήνεγκα/ἀνήνεκον","anaferw aneferomhn anhnegka anhnekon anoisw","399",399,"ἀναφέρω",true,true,true,"38"," ","I offer up, I bring up","ah-nah-FERR-owe","Verb  "," ","ἀνεφερόμην","ἀνοίσω","ἀνήνεγκα/ἀνήνεκον","399",199,199,"38","ἀναφέρω"," ","I offer up, I bring up","ah-nah-FERR-owe","Verb  ","","ἀνεφερόμην","ἀνοίσω","","ἀνήνεγκα/ἀνήνεκον","399",199,199,"38","Verb  ","ἀναφέρω","ἀνεφερόμην","ἀνοίσω"," ","ah-nah-FERR-owe","I offer up, I bring up","ἀναφέρω","Chapter 38: Verb  ","ἀνήνεγκα/ἀνήνεκον","399",false,5199,201," "," "," ",199,""," ","  "," ",false,5199,201," "," "," ",199,""," "," "," ",false,5199,315,199,""," "," "," "]
[null,null,null,null,null,null,null,null,null,null,null,null,null,null,null,null,null,null,null,null,null,null,null,null,null,null,null,null,null,null,200,38,"ἀναχωρέω"," ","I withdraw","ah-nahk-owe-RAY-owe","Verb  "," ","ἀνεχώρουν ","ἀναχωρήσω","ἀνεχώρησα","anacwrew anecwrhsa anecwroun anacwrhsw","402",402,"ἀναχωρέω",true,true,true,38," ","I withdraw","ah-nahk-owe-RAY-owe","Verb  "," ","ἀνεχώρουν ","ἀναχωρήσω","ἀνεχώρησα","402",200,200,38,"ἀναχωρέω"," ","I withdraw","ah-nahk-owe-RAY-owe","Verb  ","","ἀνεχώρουν ","ἀναχωρήσω","","ἀνεχώρησα","402",200,200,38,"Verb  ","ἀναχωρέω","ἀνεχώρουν ","ἀναχωρήσω"," ","ah-nahk-owe-RAY-owe","I withdraw","ἀναχωρέω","Index of Textbook: Verb  ","ἀνεχώρησα","402",false,5200,202," "," "," ",200,""," ","  "," ",false,5200,202," "," "," ",200,""," "," "," ",false,5200,316,200,""," "," "," "]
[null,null,null,null,null,null,null,null,null,null,null,null,null,null,null,null,null,null,null,null,null,null,null,null,null,null,null,null,null,null,201,"38","Ἀνδρέας"," ","Andrew","ahn-DREH-ahss","Proper Noun","ὁ"," "," "," ","andreas","406",406,"Ἀνδρέας",true,true,true,"38"," ","Andrew","ahn-DREH-ahss","Proper Noun","ὁ"," "," "," ","406",201,201,"38","ὁ Ἀνδρέας"," ","Andrew","ahn-DREH-ahss","Proper Noun","ὁ "," "," ","ὁ "," ","406",201,201,"38","Proper Noun","ὁ Ἀνδρέας"," "," "," ","ahn-DREH-ahss","Andrew","ὁ Ἀνδρέας","Chapter 38: Proper Noun"," ","406",false,5201,203," "," "," ",201,""," ","  "," ",false,5201,203," "," "," ",201,""," "," "," ",false,5201,317,201,""," "," "," "]
[null,null,null,null,null,null,null,null,null,null,null,null,null,null,null,null,null,null,null,null,null,null,null,null,null,null,null,null,null,null,202,"38","ἄνεμος"," ","wind","AH-nemm-oss","Noun  ","ὁ"," "," "," ","anemos","417",417,"ἄνεμος",true,true,true,"38"," ","wind","AH-nemm-oss","Noun  ","ὁ"," "," "," ","417",202,202,"38","ὁ ἄνεμος"," ","wind","AH-nemm-oss","Noun  ","ὁ "," "," ","ὁ "," ","417",202,202,"38","Noun  ","ὁ ἄνεμος"," "," "," ","AH-nemm-oss","wind","ὁ ἄνεμος","Chapter 38: Noun  "," ","417",false,5202,204," "," "," ",202,""," ","  "," ",false,5202,204," "," "," ",202,""," "," "," ",false,5202,318,202,""," "," "," "]
[null,null,null,null,null,null,null,null,null,null,null,null,null,null,null,null,null,null,null,null,null,null,null,null,null,null,null,null,null,null,203,"38","ἀνέχομαι"," ","I endure","ah-NECK-omm-eye","Verb  "," ","ἀνηρχόμην","ἀνέξομαι","ἀνέσχόμην","anecomai anhrcomhn anexomai anescomhn","430",430,"ἀνέχομαι",true,true,true,"38"," ","I endure","ah-NECK-omm-eye","Verb  "," ","ἀνηρχόμην","ἀνέξομαι","ἀνέσχόμην","430",203,203,"38","ἀνέχομαι"," ","I endure","ah-NECK-omm-eye","Verb  ","","ἀνηρχόμην","ἀνέξομαι","","ἀνέσχόμην","430",203,203,"38","Verb  ","ἀνέχομαι","ἀνηρχόμην","ἀνέξομαι"," ","ah-NECK-omm-eye","I endure","ἀνέχομαι","Chapter 38: Verb  ","ἀνέσχόμην","430",false,5203,205," "," "," ",203,""," ","  "," ",false,5203,205," "," "," ",203,""," "," "," ",false,5203,319,203,""," "," "," "]
[null,null,null,null,null,null,null,null,null,null,null,null,null,null,null,null,null,null,null,null,null,null,null,null,null,null,null,null,null,null,204,"11","ἀνήρ","*ἀνδρ","husband, male, man","ah-NAIR","Noun  ","ὁ"," "," ","  ","anhr","435",435,"ἀνήρ",true,true,true,"11","*ἀνδρ","husband, male, man","ah-NAIR","Noun  ","ὁ"," "," ","  ","435",204,204,"11","ὁ ἀνήρ","*ἀνδρ","husband, male, man","ah-NAIR","Noun  ","ὁ "," "," ","ὁ ","  ","435",204,204,"11","Noun  ","ὁ ἀνήρ"," "," ","*ἀνδρ","ah-NAIR","husband, male, man","ὁ ἀνήρ","Chapter 11: Noun  ","  ","435",false,5204,206," "," "," ",204,""," ","  "," ",false,5204,206," "," "," ",204,""," "," "," ",false,5204,320,204,""," "," "," "]
[null,null,null,null,null,null,null,null,null,null,null,null,null,null,null,null,null,null,null,null,null,null,null,null,null,null,null,null,null,null,205,"11","ἀνδρός","*ἀνδρ","husband, male, man","ahn-DROSS","Noun  ","ὁ"," "," ","  ","andros","435",435.1,"ἀνδρός",true,true,true,"11","*ἀνδρ","husband, male, man","ahn-DROSS","Noun  ","ὁ"," "," ","  ","435",205,205,"11","ὁ ἀνδρός","*ἀνδρ","husband, male, man","ahn-DROSS","Noun  ",{"$f":"IF($AV208,IF(BB208=\" \",\"\",BB208&\" \"),\"\")","v":"ὁ "}," "," ","ὁ ","  ","435",205,205,"11","Noun  ","ὁ ἀνδρός"," "," ","*ἀνδρ","ahn-DROSS","husband, male, man","ὁ ἀνδρός","Chapter 11: Noun  ","  ","435",false,5205,207," "," "," ",205,""," ","  "," ",false,5205,207," "," "," ",205,""," "," "," ",false,5205,321,205,""," "," "," "]
[null,null,null,null,null,null,null,null,null,null,null,null,null,null,null,null,null,null,null,null,null,null,null,null,null,null,null,null,null,null,206,38,"ἀνθίστημι"," ","I oppose","ahnth-EE-stay-mee","Verb  "," ","ἀνθιστόμην","ἀντιστήσω","ἀντέστην","anqisthmi antesthn antisthsw","436",436,"ἀνθίστημι",true,true,true,38," ","I oppose","ahnth-EE-stay-mee","Verb  "," ","ἀνθιστόμην","ἀντιστήσω","ἀντέστην","436",206,206,38,"ἀνθίστημι"," ","I oppose","ahnth-EE-stay-mee","Verb  ","","ἀνθιστόμην","ἀντιστήσω","","ἀντέστην","436",206,206,38,"Verb  ","ἀνθίστημι","ἀνθιστόμην","ἀντιστήσω"," ","ahnth-EE-stay-mee","I oppose","ἀνθίστημι","Index of Textbook: Verb  ","ἀντέστην","436",false,5206,208," "," "," ",206,""," ","  "," ",false,5206,208," "," "," ",206,""," "," "," ",false,5206,322,206,""," "," "," "]
[null,null,null,null,null,null,null,null,null,null,null,null,null,null,null,null,null,null,null,null,null,null,null,null,null,null,null,null,null,null,207,"04","ἄνθρωπος","*ἀνθρωπο","man, person, mankind, human","AHN-throw-poss","Noun  ","ὁ"," "," ","  ","anqrwpos","444",444,"ἄνθρωπος",true,true,true,"04","*ἀνθρωπο","man, person, mankind, human","AHN-throw-poss","Noun  ","ὁ"," "," ","  ","444",207,207,"04","ὁ ἄνθρωπος","*ἀνθρωπο","man, person, mankind, human","AHN-throw-poss","Noun  ","ὁ "," "," ","ὁ ","  ","444",207,207,"04","Noun  ","ὁ ἄνθρωπος"," "," ","*ἀνθρωπο","AHN-throw-poss","man, person, mankind, human","ὁ ἄνθρωπος","Chapter 04: Noun  ","  ","444",false,5207,209," "," "," ",207,""," ","  "," ",false,5207,209," "," "," ",207,""," "," "," ",false,5207,323,207,""," "," "," "]
[null,null,null,null,null,null,null,null,null,null,null,null,null,null,null,null,null,null,null,null,null,null,null,null,null,null,null,null,null,null,208,"36","ἀνίστημι","ἀνά + *στα","I rise, I get up, I raise (another)","ahn-ISS-tay-mee","Verb  "," ","ἀνίστην","ἀναστήσω","ἀνέστησα","anisthmi anasthsw anesthsa anisthn","450",450,"ἀνίστημι",true,true,true,"36","ἀνά + *στα","I rise, I get up, I raise (another)","ahn-ISS-tay-mee","Verb  "," ","ἀνίστην","ἀναστήσω","ἀνέστησα","450",208,208,"36","ἀνίστημι","ἀνά + *στα","I rise, I get up, I raise (another)","ahn-ISS-tay-mee","Verb  ","","ἀνίστην","ἀναστήσω","","ἀνέστησα","450",208,208,"36","Verb  ","ἀνίστημι","ἀνίστην","ἀναστήσω","ἀνά + *στα","ahn-ISS-tay-mee","I rise, I get up, I raise (another)","ἀνίστημι","Chapter 36: Verb  ","ἀνέστησα","450",false,5208,210," "," "," ",208,""," ","  "," ",false,5208,210," "," "," ",208,""," "," "," ",false,5208,324,208,""," "," "," "]
[null,null,null,null,null,null,null,null,null,null,null,null,null,null,null,null,null,null,null,null,null,null,null,null,null,null,null,null,null,null,209,"37","ἀνοία"," ","folly, stupidity, rage","ah-NOY-ah","Noun  ","ἡ"," "," "," ","anoia","454",454,"ἀνοία",true,true,true,"37"," ","folly, stupidity, rage","ah-NOY-ah","Noun  ","ἡ"," "," "," ","454",209,209,"37","ἡ ἀνοία"," ","folly, stupidity, rage","ah-NOY-ah","Noun  ","ἡ "," "," ","ἡ "," ","454",209,209,"37","Noun  ","ἡ ἀνοία"," "," "," ","ah-NOY-ah","folly, stupidity, rage","ἡ ἀνοία","Extra: Noun  "," ","454",false,5209,211," "," "," ",209,""," ","  "," ",false,5209,211," "," "," ",209,""," "," "," ",false,5209,325,209,""," "," "," "]
[null,null,null,null,null,null,null,null,null,null,null,null,null,null,null,null,null,null,null,null,null,null,null,null,null,null,null,null,null,null,210,"36","ἀνοίγω","ἀνά + *οίγ","I open","ahn-OY-goe","Verb  "," ","ἀνέῳγον","ἀνοίξω","ἠνέῳξα","anoigw anoixw hnewxa anewgon","455",455,"ἀνοίγω",true,true,true,"36","ἀνά + *οίγ","I open","ahn-OY-goe","Verb  "," ","ἀνέῳγον","ἀνοίξω","ἠνέῳξα","455",210,210,"36","ἀνοίγω","ἀνά + *οίγ","I open","ahn-OY-goe","Verb  ","","ἀνέῳγον","ἀνοίξω","","ἠνέῳξα","455",210,210,"36","Verb  ","ἀνοίγω","ἀνέῳγον","ἀνοίξω","ἀνά + *οίγ","ahn-OY-goe","I open","ἀνοίγω","Chapter 36: Verb  ","ἠνέῳξα","455",false,5210,212," "," "," ",210,""," ","  "," ",false,5210,212," "," "," ",210,""," "," "," ",false,5210,326,210,""," "," "," "]
[null,null,null,null,null,null,null,null,null,null,null,null,null,null,null,null,null,null,null,null,null,null,null,null,null,null,null,null,null,null,211,38,"ἀνομία","*νομο","lawlessness","ah-nom-EE-ah","Noun  ","ἡ"," "," ","  ","anomia","458",458,"ἀνομία",true,true,true,38,"*νομο","lawlessness","ah-nom-EE-ah","Noun  ","ἡ"," "," ","  ","458",211,211,38,"ἡ ἀνομία","*νομο","lawlessness","ah-nom-EE-ah","Noun  ","ἡ "," "," ","ἡ ","  ","458",211,211,38,"Noun  ","ἡ ἀνομία"," "," ","*νομο","ah-nom-EE-ah","lawlessness","ἡ ἀνομία","Index of Textbook: Noun  ","  ","458",false,5211,213," "," "," ",211,""," ","  "," ",false,5211,213," "," "," ",211,""," "," "," ",false,5211,327,211,""," "," "," "]
[null,null,null,null,null,null,null,null,null,null,null,null,null,null,null,null,null,null,null,null,null,null,null,null,null,null,null,null,null,null,212,38,"ἀντί"," ","on behalf of, for, instead of [genitive]","ahn-TEE","Preposition"," "," "," ","  ","anti","473",473,"ἀντί",true,true,true,38," ","on behalf of, for, instead of [genitive]","ahn-TEE","Preposition"," "," "," ","  ","473",212,212,38,"ἀντί"," ","on behalf of, for, instead of [genitive]","ahn-TEE","Preposition",""," "," ","","  ","473",212,212,38,"Preposition","ἀντί"," "," "," ","ahn-TEE","on behalf of, for, instead of [genitive]","ἀντί","Index of Textbook: Preposition","  ","473",false,5212,214," "," "," ",212,""," ","  "," ",false,5212,214," "," "," ",212,""," "," "," ",false,5212,328,212,""," "," "," "]
[null,null,null,null,null,null,null,null,null,null,null,null,null,null,null,null,null,null,null,null,null,null,null,null,null,null,null,null,null,null,213,"37","ἀντιβάλλω"," ","I debate, (we) exchange","ahn-tee-BALL-owe","Verb  "," ","ἀντέβαλλον","ἀντιβαλῶ","ἀντέβαλον","antiballw anteballon antibalw antebalon","474",474,"ἀντιβάλλω",true,true,true,"37"," ","I debate, (we) exchange","ahn-tee-BALL-owe","Verb  "," ","ἀντέβαλλον","ἀντιβαλῶ","ἀντέβαλον","474",213,213,{"$f":"IF(AV216,AW216,\" \")","v":"37"},"ἀντιβάλλω",{"$f":"IF($AV216,AX216,\" \")","v":" "},{"$f":"IF($AV216,AY216,\" \")","v":"I debate, (we) exchange"},{"$f":"IF($AV216,AZ216,\" \")","v":"ahn-tee-BALL-owe"},{"$f":"IF($AV216,BA216,\" \")","v":"Verb  "},"",{"$f":"IF($AV216,BC216,\" \")","v":"ἀντέβαλλον"},{"$f":"IF($AV216,BD216,\" \")","v":"ἀντιβαλῶ"},"","ἀντέβαλον",{"$f":"IF($AV216,BF216,\" \")","v":"474"},213,213,"37","Verb  ","ἀντιβάλλω","ἀντέβαλλον","ἀντιβαλῶ"," ","ahn-tee-BALL-owe","I debate, (we) exchange","ἀντιβάλλω","Extra: Verb  ","ἀντέβαλον","474",false,5213,215," "," "," ",213,""," ","  "," ",false,5213,215," "," "," ",213,""," "," "," ",false,5213,329,213,""," "," "," "]
[null,null,null,null,null,null,null,null,null,null,null,null,null,null,null,null,null,null,null,null,null,null,null,null,null,null,null,null,null,null,214,"38","Ἀντιόχεια"," ","Antioch","ahn-tee-OCK-ay-ah","Proper Noun","ἡ"," "," "," ","antioceia","490",490,"Ἀντιόχεια",true,true,true,"38"," ","Antioch","ahn-tee-OCK-ay-ah","Proper Noun","ἡ"," "," "," ","490",214,214,"38","ἡ Ἀντιόχεια"," ","Antioch","ahn-tee-OCK-ay-ah","Proper Noun","ἡ "," "," ","ἡ "," ","490",214,214,"38","Proper Noun","ἡ Ἀντιόχεια"," "," "," ","ahn-tee-OCK-ay-ah","Antioch","ἡ Ἀντιόχεια","Chapter 38: Proper Noun"," ","490",false,5214,216," "," "," ",214,""," ","  "," ",false,5214,216," "," "," ",214,""," "," "," ",false,5214,330,214,""," "," "," "]
[null,null,null,null,null,null,null,null,null,null,null,null,null,null,null,null,null,null,null,null,null,null,null,null,null,null,null,null,null,null,215,"37","ἄνω"," ","above, high","AH-no","Adverb"," "," "," "," ","anw","507",507,"ἄνω",true,true,true,"37"," ","above, high","AH-no","Adverb"," "," "," "," ","507",215,215,"37","ἄνω"," ","above, high","AH-no","Adverb",""," "," ",""," ","507",215,215,"37","Adverb","ἄνω"," "," "," ","AH-no","above, high","ἄνω","Extra: Adverb"," ","507",false,5215,217," "," "," ",215,""," ","  "," ",false,5215,217," "," "," ",215,""," "," "," ",true,215,11,215,"","ἄνω","above, high"," "]
[null,null,null,null,null,null,null,null,null,null,null,null,null,null,null,null,null,null,null,null,null,null,null,null,null,null,null,null,null,null,216,38,"ἄνωθεν"," ","from above, again","AH-knowth-en","Adverb"," "," "," ","  ","anwqen","509",509,"ἄνωθεν",true,true,true,38," ","from above, again","AH-knowth-en","Adverb"," "," "," ","  ","509",216,216,38,"ἄνωθεν"," ","from above, again","AH-knowth-en","Adverb",""," "," ","","  ","509",216,216,38,"Adverb","ἄνωθεν"," "," "," ","AH-knowth-en","from above, again","ἄνωθεν","Index of Textbook: Adverb","  ","509",false,5216,218," "," "," ",216,""," ","  "," ",false,5216,218," "," "," ",216,""," "," "," ",false,5216,331,216,""," "," "," "]
[null,null,null,null,null,null,null,null,null,null,null,null,null,null,null,null,null,null,null,null,null,null,null,null,null,null,null,null,null,null,217,38,"ἄξιος"," ","worthy","AX-ee-oss","Adjective"," "," "," ","  ","axios","514",514,"ἄξιος",true,true,true,38," ","worthy","AX-ee-oss","Adjective"," "," "," ","  ","514",217,217,38,"ἄξιος"," ","worthy","AX-ee-oss","Adjective",""," "," ","","  ","514",217,217,38,"Adjective","ἄξιος"," "," "," ","AX-ee-oss","worthy","ἄξιος","Index of Textbook: Adjective","  ","514",false,5217,219," "," "," ",217,""," ","  "," ",false,5217,219," "," "," ",217,""," "," "," ",false,5217,332,217,""," "," "," "]
[null,null,null,null,null,null,null,null,null,null,null,null,null,null,null,null,null,null,null,null,null,null,null,null,null,null,null,null,null,null,218,"35","ἀπαγγέλλω","ἀπό + *ἀγγελ","I report, I tell","ah-pahng-ELL-owe","Verb  "," ","ἀπήγγελλον","ἀπαγγελῶ","ἀπήγγειλα","apaggellw aphggellon apaggelw aphggeila","518",518,"ἀπαγγέλλω",true,true,true,"35","ἀπό + *ἀγγελ","I report, I tell","ah-pahng-ELL-owe","Verb  "," ","ἀπήγγελλον","ἀπαγγελῶ","ἀπήγγειλα","518",218,218,"35","ἀπαγγέλλω","ἀπό + *ἀγγελ","I report, I tell","ah-pahng-ELL-owe","Verb  ","","ἀπήγγελλον","ἀπαγγελῶ","","ἀπήγγειλα","518",218,218,"35","Verb  ","ἀπαγγέλλω","ἀπήγγελλον","ἀπαγγελῶ","ἀπό + *ἀγγελ","ah-pahng-ELL-owe","I report, I tell","ἀπαγγέλλω","Chapter 35: Verb  ","ἀπήγγειλα","518",false,5218,220," "," "," ",218,""," ","  "," ",false,5218,220," "," "," ",218,""," "," "," ",false,5218,333,218,""," "," "," "]
[null,null,null,null,null,null,null,null,null,null,null,null,null,null,null,null,null,null,null,null,null,null,null,null,null,null,null,null,null,null,219,38,"ἀπάγω"," ","I lead away","ah-PAH-go","Verb  "," ","ἄπηγον","ἀπάξω","ἀπήγαγον","apagw aphgagon aphgon apaxw","520",520,"ἀπάγω",true,true,true,38," ","I lead away","ah-PAH-go","Verb  "," ","ἄπηγον","ἀπάξω","ἀπήγαγον","520",219,219,38,"ἀπάγω"," ","I lead away","ah-PAH-go","Verb  ","","ἄπηγον","ἀπάξω","","ἀπήγαγον","520",219,219,38,"Verb  ","ἀπάγω","ἄπηγον","ἀπάξω"," ","ah-PAH-go","I lead away","ἀπάγω","Index of Textbook: Verb  ","ἀπήγαγον","520",false,5219,221," "," "," ",219,""," ","  "," ",false,5219,221," "," "," ",219,""," "," "," ",false,5219,334,219,""," "," "," "]
[null,null,null,null,null,null,null,null,null,null,null,null,null,null,null,null,null,null,null,null,null,null,null,null,null,null,null,null,null,null,220,38,"ἄπαξ"," ","once, once for all","AH-pahx","Adverb"," "," "," ","  ","apax","530",530,"ἄπαξ",true,true,true,38," ","once, once for all","AH-pahx","Adverb"," "," "," ","  ","530",220,220,38,"ἄπαξ"," ","once, once for all","AH-pahx","Adverb",""," "," ","","  ","530",220,220,38,"Adverb","ἄπαξ"," "," "," ","AH-pahx","once, once for all","ἄπαξ","Index of Textbook: Adverb","  ","530",false,5220,222," "," "," ",220,""," ","  "," ",false,5220,222," "," "," ",220,""," "," "," ",false,5220,335,220,""," "," "," "]
[null,null,null,null,null,null,null,null,null,null,null,null,null,null,null,null,null,null,null,null,null,null,null,null,null,null,null,null,null,null,221,"38","ἀπαρνέομαι"," ","I deny","ah-parr-NEH-omm-eye","Verb  "," ","ἀπηρνούμην","ἀπαρνήσομαι","ἀπήρνησα","aparneomai aparnhsomai aphrnhsa aphrnoumhn","533",533,"ἀπαρνέομαι",true,true,true,"38"," ","I deny","ah-parr-NEH-omm-eye","Verb  "," ","ἀπηρνούμην","ἀπαρνήσομαι","ἀπήρνησα","533",221,221,"38","ἀπαρνέομαι"," ","I deny","ah-parr-NEH-omm-eye","Verb  ","","ἀπηρνούμην","ἀπαρνήσομαι","","ἀπήρνησα","533",221,221,"38","Verb  ","ἀπαρνέομαι","ἀπηρνούμην","ἀπαρνήσομαι"," ","ah-parr-NEH-omm-eye","I deny","ἀπαρνέομαι","Chapter 38: Verb  ","ἀπήρνησα","533",false,5221,223," "," "," ",221,""," ","  "," ",false,5221,223," "," "," ",221,""," "," "," ",false,5221,336,221,""," "," "," "]
[null,null,null,null,null,null,null,null,null,null,null,null,null,null,null,null,null,null,null,null,null,null,null,null,null,null,null,null,null,null,222,38,"ἄπας"," ","all","AH-pass","Adjective"," "," "," ","  ","apas","537a",537.20000000000005,"ἄπας",true,true,true,38," ","all","AH-pass","Adjective"," "," "," ","  ","537a",222,222,38,"ἄπας"," ","all","AH-pass","Adjective",""," "," ","","  ","537a",222,222,38,"Adjective","ἄπας"," "," "," ","AH-pass","all","ἄπας","Index of Textbook: Adjective","  ","537a",false,5222,224," "," "," ",222,""," ","  "," ",false,5222,224," "," "," ",222,""," "," "," ",false,5222,337,222,""," "," "," "]
[null,null,null,null,null,null,null,null,null,null,null,null,null,null,null,null,null,null,null,null,null,null,null,null,null,null,null,null,null,null,223,"38","ἀπειθέω"," ","I disobey","ah-pay-THEH-owe","Verb  "," ","ἠπείθουν","ἀπελεύσομαι","ἀπῆλθον","apeiqew apeleusomai aphlqon hpeiqoun","544",544,"ἀπειθέω",true,true,true,"38"," ","I disobey","ah-pay-THEH-owe","Verb  "," ","ἠπείθουν","ἀπελεύσομαι","ἀπῆλθον","544",223,223,"38","ἀπειθέω"," ","I disobey","ah-pay-THEH-owe","Verb  ","","ἠπείθουν","ἀπελεύσομαι","","ἀπῆλθον","544",223,223,"38","Verb  ","ἀπειθέω","ἠπείθουν","ἀπελεύσομαι"," ","ah-pay-THEH-owe","I disobey","ἀπειθέω","Chapter 38: Verb  ","ἀπῆλθον","544",false,5223,225," "," "," ",223,""," ","  "," ",false,5223,225," "," "," ",223,""," "," "," ",false,5223,338,223,""," "," "," "]
[null,null,null,null,null,null,null,null,null,null,null,null,null,null,null,null,null,null,null,null,null,null,null,null,null,null,null,null,null,null,224,"23","ἀπέρχομαι","*ἀπό + *ἐρχ/*ἐλευθ","I depart","ah-PERKS-owe-my","Verb  "," ","ἀπῃόμην","ἀπελεύσομαι","ἀπῆλθον","apercomai apeleusomai aphlqon aphomhn","565",565,"ἀπέρχομαι",true,true,true,"23","*ἀπό + *ἐρχ/*ἐλευθ","I depart","ah-PERKS-owe-my","Verb  "," ","ἀπῃόμην","ἀπελεύσομαι","ἀπῆλθον","565",224,224,"23","ἀπέρχομαι","*ἀπό + *ἐρχ/*ἐλευθ","I depart","ah-PERKS-owe-my","Verb  ","","ἀπῃόμην","ἀπελεύσομαι","","ἀπῆλθον","565",224,224,"23","Verb  ","ἀπέρχομαι","ἀπῃόμην","ἀπελεύσομαι","*ἀπό + *ἐρχ/*ἐλευθ","ah-PERKS-owe-my","I depart","ἀπέρχομαι","Chapter 23: Verb  ","ἀπῆλθον","565",false,5224,226," "," "," ",224,""," ","  "," ",false,5224,226," "," "," ",224,""," "," "," ",false,5224,339,224,""," "," "," "]
[null,null,null,null,null,null,null,null,null,null,null,null,null,null,null,null,null,null,null,null,null,null,null,null,null,null,null,null,null,null,225,"38","ἀπέχω"," ","I receive in full; I am distant; I abstain","ah-PEKH-owe","Verb  "," ","ἀπεῖχον","ἀφέξω","ἀπέσχον","apecw apeicon afexw apescon","568",568,"ἀπέχω",true,true,true,"38"," ","I receive in full; I am distant; I abstain","ah-PEKH-owe","Verb  "," ","ἀπεῖχον","ἀφέξω","ἀπέσχον","568",225,225,"38","ἀπέχω"," ","I receive in full; I am distant; I abstain","ah-PEKH-owe","Verb  ","","ἀπεῖχον","ἀφέξω","","ἀπέσχον","568",225,225,"38","Verb  ","ἀπέχω","ἀπεῖχον","ἀφέξω"," ","ah-PEKH-owe","I receive in full; I am distant; I abstain","ἀπέχω","Chapter 38: Verb  ","ἀπέσχον","568",false,5225,227," "," "," ",225,""," ","  "," ",false,5225,227," "," "," ",225,""," "," "," ",false,5225,340,225,""," "," "," "]
[null,null,null,null,null,null,null,null,null,null,null,null,null,null,null,null,null,null,null,null,null,null,null,null,null,null,null,null,null,null,226,"38","ἀπιστία","*πιστι","unbelief","ah-piss-TEE-ah","Noun  ","ἡ"," "," "," ","apistia","570",570,"ἀπιστία",true,true,true,"38","*πιστι","unbelief","ah-piss-TEE-ah","Noun  ","ἡ"," "," "," ","570",226,226,"38","ἡ ἀπιστία","*πιστι","unbelief","ah-piss-TEE-ah","Noun  ","ἡ "," "," ","ἡ "," ","570",226,226,"38","Noun  ","ἡ ἀπιστία"," "," ","*πιστι","ah-piss-TEE-ah","unbelief","ἡ ἀπιστία","Chapter 38: Noun  "," ","570",false,5226,228," "," "," ",226,""," ","  "," ",false,5226,228," "," "," ",226,""," "," "," ",false,5226,341,226,""," "," "," "]
[null,null,null,null,null,null,null,null,null,null,null,null,null,null,null,null,null,null,null,null,null,null,null,null,null,null,null,null,null,null,227,"38","ἄπιστος","*πιστο","unbelieving","AH-piss-toss","Adjective"," "," "," "," ","apistos","571",571,"ἄπιστος",true,true,true,"38","*πιστο","unbelieving","AH-piss-toss","Adjective"," "," "," "," ","571",227,227,"38","ἄπιστος","*πιστο","unbelieving","AH-piss-toss","Adjective",""," "," ",""," ","571",227,227,"38","Adjective","ἄπιστος"," "," ","*πιστο","AH-piss-toss","unbelieving","ἄπιστος","Chapter 38: Adjective"," ","571",false,5227,229," "," "," ",227,""," ","  "," ",false,5227,229," "," "," ",227,""," "," "," ",false,5227,342,227,""," "," "," "]
[null,null,null,null,null,null,null,null,null,null,null,null,null,null,null,null,null,null,null,null,null,null,null,null,null,null,null,null,null,null,228,"08","ἀπό (ἀπʼ, ἀφʼ) [genitive]"," ","(away) from [genitive]","ah-POE","Preposition"," "," "," ","  ","apo","575",575,"ἀπό (ἀπʼ, ἀφʼ) [genitive]",true,true,true,"08"," ","(away) from [genitive]","ah-POE","Preposition"," "," "," ","  ","575",228,228,"08","ἀπό (ἀπʼ, ἀφʼ) [genitive]"," ","(away) from [genitive]","ah-POE","Preposition",""," "," ","","  ","575",228,228,"08","Preposition","ἀπό (ἀπʼ, ἀφʼ) [genitive]"," "," "," ","ah-POE","(away) from [genitive]","ἀπό (ἀπʼ, ἀφʼ) [genitive]","Chapter 08: Preposition","  ","575",false,5228,230," "," "," ",228,""," ","  "," ",false,5228,230," "," "," ",228,""," "," "," ",false,5228,343,228,""," "," "," "]
[null,null,null,null,null,null,null,null,null,null,null,null,null,null,null,null,null,null,null,null,null,null,null,null,null,null,null,null,null,null,229,38,"ἀποδίδωμι"," ","I pay, I recompense; [middle]: I sell","ah-pod-ID-owe-mee","Verb  "," ","ἀπεδίδουν","ἀποδώσω","ἀπέδωκα","apodidwmi apedidoun apodwsw apedwka","591",591,"ἀποδίδωμι",true,true,true,38," ","I pay, I recompense; [middle]: I sell","ah-pod-ID-owe-mee","Verb  "," ","ἀπεδίδουν","ἀποδώσω","ἀπέδωκα","591",229,229,38,"ἀποδίδωμι"," ","I pay, I recompense; [middle]: I sell","ah-pod-ID-owe-mee","Verb  ","","ἀπεδίδουν","ἀποδώσω","","ἀπέδωκα","591",229,229,38,"Verb  ","ἀποδίδωμι","ἀπεδίδουν","ἀποδώσω"," ","ah-pod-ID-owe-mee","I pay, I recompense; [middle]: I sell","ἀποδίδωμι","Index of Textbook: Verb  ","ἀπέδωκα","591",false,5229,231," "," "," ",229,""," ","  "," ",false,5229,231," "," "," ",229,""," "," "," ",false,5229,344,229,""," "," "," "]
[null,null,null,null,null,null,null,null,null,null,null,null,null,null,null,null,null,null,null,null,null,null,null,null,null,null,null,null,null,null,230,"22","ἀποθνῄσκω","*ἀπό + *θαν","I die, I am about to die, I am freed from","ah-poth-NAY-skoe","Verb  "," ","ἀπέθνῃσκον","ἀποθανοῦμαι","ἀπέθανον","apoqnhskw apeqnhskon apoqanoumai apeqanon","599",599,"ἀποθνῄσκω",true,true,true,"22","*ἀπό + *θαν","I die, I am about to die, I am freed from","ah-poth-NAY-skoe","Verb  "," ","ἀπέθνῃσκον","ἀποθανοῦμαι","ἀπέθανον","599",230,230,"22","ἀποθνῄσκω","*ἀπό + *θαν","I die, I am about to die, I am freed from","ah-poth-NAY-skoe","Verb  ","","ἀπέθνῃσκον","ἀποθανοῦμαι","","ἀπέθανον","599",230,230,"22","Verb  ","ἀποθνῄσκω","ἀπέθνῃσκον","ἀποθανοῦμαι","*ἀπό + *θαν","ah-poth-NAY-skoe","I die, I am about to die, I am freed from","ἀποθνῄσκω","Chapter 22: Verb  ","ἀπέθανον","599",false,5230,232," "," "," ",230,""," ","  "," ",false,5230,232," "," "," ",230,""," "," "," ",false,5230,345,230,""," "," "," "]
[null,null,null,null,null,null,null,null,null,null,null,null,null,null,null,null,null,null,null,null,null,null,null,null,null,null,null,null,null,null,231,"37","ἀποκαθιστάνω/ἀποκαθίστημι"," ","I restore","ah-pok-ath-iss-TAHN-owe","Verb  "," ","ἀπεκαθίστην","ἀποκαταστήσω","ἀπεκατέστην","apokaqistanw apokaqisthmi apokatasthsw apekatesthn apekaqisthn","600",600,"ἀποκαθιστάνω/ἀποκαθίστημι",true,true,true,"37"," ","I restore","ah-pok-ath-iss-TAHN-owe","Verb  "," ","ἀπεκαθίστην","ἀποκαταστήσω","ἀπεκατέστην","600",231,231,"37","ἀποκαθιστάνω/ἀποκαθίστημι"," ","I restore","ah-pok-ath-iss-TAHN-owe","Verb  ","","ἀπεκαθίστην","ἀποκαταστήσω","","ἀπεκατέστην","600",231,231,"37","Verb  ","ἀποκαθιστάνω/ἀποκαθίστημι","ἀπεκαθίστην","ἀποκαταστήσω"," ","ah-pok-ath-iss-TAHN-owe","I restore","ἀποκαθιστάνω/ἀποκαθίστημι","Extra: Verb  ","ἀπεκατέστην","600",false,5231,233," "," "," ",231,""," ","  "," ",false,5231,233," "," "," ",231,""," "," "," ",false,5231,346,231,""," "," "," "]
[null,null,null,null,null,null,null,null,null,null,null,null,null,null,null,null,null,null,null,null,null,null,null,null,null,null,null,null,null,null,232,"38","ἀποκαλύπτω"," ","I reveal","ah-pok-ah-LOOP-toe","Verb  "," ","ἀπεκάλυπτον","ἀποκαλύψω","ἀπέκάλυψα","apokaluptw apokaluyw apekaluya apekalupton","601",601,"ἀποκαλύπτω",true,true,true,"38"," ","I reveal","ah-pok-ah-LOOP-toe","Verb  "," ","ἀπεκάλυπτον","ἀποκαλύψω","ἀπέκάλυψα","601",232,232,"38","ἀποκαλύπτω"," ","I reveal","ah-pok-ah-LOOP-toe","Verb  ","","ἀπεκάλυπτον","ἀποκαλύψω","","ἀπέκάλυψα","601",232,232,"38","Verb  ","ἀποκαλύπτω","ἀπεκάλυπτον","ἀποκαλύψω"," ","ah-pok-ah-LOOP-toe","I reveal","ἀποκαλύπτω","Chapter 38: Verb  ","ἀπέκάλυψα","601",false,5232,234," "," "," ",232,""," ","  "," ",false,5232,234," "," "," ",232,""," "," "," ",false,5232,347,232,""," "," "," "]
[null,null,null,null,null,null,null,null,null,null,null,null,null,null,null,null,null,null,null,null,null,null,null,null,null,null,null,null,null,null,233,"38","ἀποκάλυψις"," ","revelation","ah-pock-AH-loop-sis","Noun  ","ἡ"," "," "," ","apokaluyis","602",602,"ἀποκάλυψις",true,true,true,"38"," ","revelation","ah-pock-AH-loop-sis","Noun  ","ἡ"," "," "," ","602",233,233,"38","ἡ ἀποκάλυψις"," ","revelation","ah-pock-AH-loop-sis","Noun  ","ἡ "," "," ","ἡ "," ","602",233,233,"38","Noun  ","ἡ ἀποκάλυψις"," "," "," ","ah-pock-AH-loop-sis","revelation","ἡ ἀποκάλυψις","Chapter 38: Noun  "," ","602",false,5233,235," "," "," ",233,""," ","  "," ",false,5233,235," "," "," ",233,""," "," "," ",false,5233,348,233,""," "," "," "]
[null,null,null,null,null,null,null,null,null,null,null,null,null,null,null,null,null,null,null,null,null,null,null,null,null,null,null,null,null,null,234,"18","ἀποκρίνομαι","*ἀπο + *κριν","I answer","ah-pok-RIN-om-eye","Verb  "," ","ἀπεκρινόμην","ἀπεκρινάμην","ἀπεκρινάμην","apokrinomai apekrinamhn apekrinamhn apekrinomhn","611",611,"ἀποκρίνομαι",true,true,true,"18","*ἀπο + *κριν","I answer","ah-pok-RIN-om-eye","Verb  "," ","ἀπεκρινόμην","ἀπεκρινάμην","ἀπεκρινάμην","611",234,234,"18","ἀποκρίνομαι","*ἀπο + *κριν","I answer","ah-pok-RIN-om-eye","Verb  ","","ἀπεκρινόμην","ἀπεκρινάμην","","ἀπεκρινάμην","611",234,234,"18","Verb  ","ἀποκρίνομαι","ἀπεκρινόμην","ἀπεκρινάμην","*ἀπο + *κριν","ah-pok-RIN-om-eye","I answer","ἀποκρίνομαι","Chapter 18: Verb  ","ἀπεκρινάμην","611",false,5234,236," "," "," ",234,""," ","  "," ",false,5234,236," "," "," ",234,""," "," "," ",false,5234,349,234,""," "," "," "]
[null,null,null,null,null,null,null,null,null,null,null,null,null,null,null,null,null,null,null,null,null,null,null,null,null,null,null,null,null,null,235,"09","ἀπεκρίθη"," ","he/she/it answered (3ʳᵈ person singular/aorist passive; non-lexical)","ah-pek-RITH-ay","Verb  "," ","ἀπεκρίνετο","ἀποκριθήσεται","ἀπεκρίθη","apekriqh apokrinw apekrineto apokriqhsetai","611",611.1,"ἀπεκρίθη",true,true,true,"09"," ","he/she/it answered (3ʳᵈ person singular/aorist passive; non-lexical)","ah-pek-RITH-ay","Verb  "," ","ἀπεκρίνετο","ἀποκριθήσεται","ἀπεκρίθη","611",235,235,"09","ἀπεκρίθη"," ","he/she/it answered (3ʳᵈ person singular/aorist passive; non-lexical)","ah-pek-RITH-ay","Verb  ","","ἀπεκρίνετο","ἀποκριθήσεται","","ἀπεκρίθη","611",235,235,"09","Verb  ","ἀπεκρίθη","ἀπεκρίνετο","ἀποκριθήσεται"," ","ah-pek-RITH-ay","he/she/it answered (3ʳᵈ person singular/aorist passive; non-lexical)","ἀπεκρίθη","Chapter 09: Verb  ","ἀπεκρίθη","611",false,5235,237," "," "," ",235,""," ","  "," ",false,5235,237," "," "," ",235,""," "," "," ",false,5235,350,235,""," "," "," "]
[null,null,null,null,null,null,null,null,null,null,null,null,null,null,null,null,null,null,null,null,null,null,null,null,null,null,null,null,null,null,236,"20","ἀποκτείνω","*ἀπό + *κτεν","I kill","ah-pok-TAY-noe","Verb  "," ","ἀπέκτεινον","ἀποκτενῶ","ἀπέκτεινα","apokteinw apoktenw apekteina apekteinon","615",615,"ἀποκτείνω",true,true,true,"20","*ἀπό + *κτεν","I kill","ah-pok-TAY-noe","Verb  "," ","ἀπέκτεινον","ἀποκτενῶ","ἀπέκτεινα","615",236,236,"20","ἀποκτείνω","*ἀπό + *κτεν","I kill","ah-pok-TAY-noe","Verb  ","","ἀπέκτεινον","ἀποκτενῶ","","ἀπέκτεινα","615",236,236,"20","Verb  ","ἀποκτείνω","ἀπέκτεινον","ἀποκτενῶ","*ἀπό + *κτεν","ah-pok-TAY-noe","I kill","ἀποκτείνω","Chapter 20: Verb  ","ἀπέκτεινα","615",false,5236,238," "," "," ",236,""," ","  "," ",false,5236,238," "," "," ",236,""," "," "," ",false,5236,351,236,""," "," "," "]
[null,null,null,null,null,null,null,null,null,null,null,null,null,null,null,null,null,null,null,null,null,null,null,null,null,null,null,null,null,null,237,38,"ἀπολαμβάνω"," ","I receive","ah-poll-ahm-BAHN-owe","Verb  "," ","ἀπελάμβανον","ἀπολήμψομαι","ἀπέλαβον","apolambanw apolhmyomai apelabon apelambanon","618",618,"ἀπολαμβάνω",true,true,true,38," ","I receive","ah-poll-ahm-BAHN-owe","Verb  "," ","ἀπελάμβανον","ἀπολήμψομαι","ἀπέλαβον","618",237,237,38,"ἀπολαμβάνω"," ","I receive","ah-poll-ahm-BAHN-owe","Verb  ","","ἀπελάμβανον","ἀπολήμψομαι","","ἀπέλαβον","618",237,237,38,"Verb  ","ἀπολαμβάνω","ἀπελάμβανον","ἀπολήμψομαι"," ","ah-poll-ahm-BAHN-owe","I receive","ἀπολαμβάνω","Index of Textbook: Verb  ","ἀπέλαβον","618",false,5237,239," "," "," ",237,""," ","  "," ",false,5237,239," "," "," ",237,""," "," "," ",false,5237,352,237,""," "," "," "]
[null,null,null,null,null,null,null,null,null,null,null,null,null,null,null,null,null,null,null,null,null,null,null,null,null,null,null,null,null,null,238,"33","ἀπόλλυμι [active]","ἀπό + *όλ","I destroy, I kill","app-OLL-oo-mee","Verb  "," ","ἀπώλλυον","ἀπολέσω","ἀπώλεσα","apollumi apwlluov apolesw apwlesa","622",622,"ἀπόλλυμι [active]",true,true,true,"33","ἀπό + *όλ","I destroy, I kill","app-OLL-oo-mee","Verb  "," ","ἀπώλλυον","ἀπολέσω","ἀπώλεσα","622",238,238,"33","ἀπόλλυμι [active]","ἀπό + *όλ","I destroy, I kill","app-OLL-oo-mee","Verb  ","","ἀπώλλυον","ἀπολέσω","","ἀπώλεσα","622",238,238,"33","Verb  ","ἀπόλλυμι [active]","ἀπώλλυον","ἀπολέσω","ἀπό + *όλ","app-OLL-oo-mee","I destroy, I kill","ἀπόλλυμι [active]","Chapter 33: Verb  ","ἀπώλεσα","622",false,5238,240," "," "," ",238,""," ","  "," ",false,5238,240," "," "," ",238,""," "," "," ",false,5238,353,238,""," "," "," "]
[null,null,null,null,null,null,null,null,null,null,null,null,null,null,null,null,null,null,null,null,null,null,null,null,null,null,null,null,null,null,239,"33","ἀπόλλυμι [middle]","ἀπό + *όλ","I perish, I die","app-OLL-oo-mee","Verb  "," ","ἀπώλλυον","ἀπολέσω","ἀπώλεσα","apollumi apwlluon apolesw apwlesa","622",622.1,"ἀπόλλυμι [middle]",true,true,true,"33","ἀπό + *όλ","I perish, I die","app-OLL-oo-mee","Verb  "," ","ἀπώλλυον","ἀπολέσω","ἀπώλεσα","622",239,239,"33","ἀπόλλυμι [middle]","ἀπό + *όλ","I perish, I die","app-OLL-oo-mee","Verb  ","","ἀπώλλυον","ἀπολέσω","","ἀπώλεσα","622",239,239,"33","Verb  ","ἀπόλλυμι [middle]","ἀπώλλυον","ἀπολέσω","ἀπό + *όλ","app-OLL-oo-mee","I perish, I die","ἀπόλλυμι [middle]","Chapter 33: Verb  ","ἀπώλεσα","622",false,5239,241," "," "," ",239,""," ","  "," ",false,5239,241," "," "," ",239,""," "," "," ",false,5239,354,239,""," "," "," "]
[null,null,null,null,null,null,null,null,null,null,null,null,null,null,null,null,null,null,null,null,null,null,null,null,null,null,null,null,null,null,240,"38","Ἀπολλῶς"," ","Apollos","ah-poll-OSE","Proper Noun","ὁ"," "," "," ","apollws","625",625,"Ἀπολλῶς",true,true,true,"38"," ","Apollos","ah-poll-OSE","Proper Noun","ὁ"," "," "," ","625",240,240,"38","ὁ Ἀπολλῶς"," ","Apollos","ah-poll-OSE","Proper Noun","ὁ "," "," ","ὁ "," ","625",240,240,"38","Proper Noun","ὁ Ἀπολλῶς"," "," "," ","ah-poll-OSE","Apollos","ὁ Ἀπολλῶς","Chapter 38: Proper Noun"," ","625",false,5240,242," "," "," ",240,""," ","  "," ",false,5240,242," "," "," ",240,""," "," "," ",false,5240,355,240,""," "," "," "]
[null,null,null,null,null,null,null,null,null,null,null,null,null,null,null,null,null,null,null,null,null,null,null,null,null,null,null,null,null,null,241,"38","ἀπολογέομαι"," ","I defend myself (with speech)","ah-poll-ogg-EH-omm-eye","Verb  "," ","ἀπελογούμην","ἀπολογήσω","ἀπελογοησάμην","apologeomai apelogoumhn apologhsw apelogohsamhn","626",626,"ἀπολογέομαι",true,true,true,"38"," ","I defend myself (with speech)","ah-poll-ogg-EH-omm-eye","Verb  "," ","ἀπελογούμην","ἀπολογήσω","ἀπελογοησάμην","626",241,241,"38","ἀπολογέομαι"," ","I defend myself (with speech)","ah-poll-ogg-EH-omm-eye","Verb  ","","ἀπελογούμην","ἀπολογήσω","","ἀπελογοησάμην","626",241,241,"38","Verb  ","ἀπολογέομαι","ἀπελογούμην","ἀπολογήσω"," ","ah-poll-ogg-EH-omm-eye","I defend myself (with speech)","ἀπολογέομαι","Chapter 38: Verb  ","ἀπελογοησάμην","626",false,5241,243," "," "," ",241,""," ","  "," ",false,5241,243," "," "," ",241,""," "," "," ",false,5241,356,241,""," "," "," "]
[null,null,null,null,null,null,null,null,null,null,null,null,null,null,null,null,null,null,null,null,null,null,null,null,null,null,null,null,null,null,242,"37","ἀπολογία"," ","defense, answer","ah-poll-ogg-EE-ah","Noun  ","ἡ"," "," "," ","apologia","627",627,"ἀπολογία",true,true,true,"37"," ","defense, answer","ah-poll-ogg-EE-ah","Noun  ","ἡ"," "," "," ","627",242,242,"37","ἡ ἀπολογία"," ","defense, answer","ah-poll-ogg-EE-ah","Noun  ","ἡ "," "," ","ἡ "," ","627",242,242,"37","Noun  ","ἡ ἀπολογία"," "," "," ","ah-poll-ogg-EE-ah","defense, answer","ἡ ἀπολογία","Extra: Noun  "," ","627",false,5242,244," "," "," ",242,""," ","  "," ",false,5242,244," "," "," ",242,""," "," "," ",false,5242,357,242,""," "," "," "]
[null,null,null,null,null,null,null,null,null,null,null,null,null,null,null,null,null,null,null,null,null,null,null,null,null,null,null,null,null,null,243,"38","ἀπολύτρωσις"," ","redemption","ah-poll-OOH-trowe-sis","Noun  ","ἡ"," "," "," ","apolutrwsis","629",629,"ἀπολύτρωσις",true,true,true,"38"," ","redemption","ah-poll-OOH-trowe-sis","Noun  ","ἡ"," "," "," ","629",243,243,"38","ἡ ἀπολύτρωσις"," ","redemption","ah-poll-OOH-trowe-sis","Noun  ","ἡ "," "," ","ἡ "," ","629",243,243,"38","Noun  ","ἡ ἀπολύτρωσις"," "," "," ","ah-poll-OOH-trowe-sis","redemption","ἡ ἀπολύτρωσις","Chapter 38: Noun  "," ","629",false,5243,245," "," "," ",243,""," ","  "," ",false,5243,245," "," "," ",243,""," "," "," ",false,5243,358,243,""," "," "," "]
[null,null,null,null,null,null,null,null,null,null,null,null,null,null,null,null,null,null,null,null,null,null,null,null,null,null,null,null,null,null,244,"33","ἀπολύω","ἀπό + *λυ","I release, I set free","app-oll-OOH-owe","Verb  "," ","ἀπέλυον","ἀπολύσω","ἀπέλυσα","apoluw apeluon apolusw apelusa","630",630,"ἀπολύω",true,true,true,"33","ἀπό + *λυ","I release, I set free","app-oll-OOH-owe","Verb  "," ","ἀπέλυον","ἀπολύσω","ἀπέλυσα","630",244,244,"33","ἀπολύω","ἀπό + *λυ","I release, I set free","app-oll-OOH-owe","Verb  ","","ἀπέλυον","ἀπολύσω","","ἀπέλυσα","630",244,244,"33","Verb  ","ἀπολύω","ἀπέλυον","ἀπολύσω","ἀπό + *λυ","app-oll-OOH-owe","I release, I set free","ἀπολύω","Chapter 33: Verb  ","ἀπέλυσα","630",false,5244,246," "," "," ",244,""," ","  "," ",false,5244,246," "," "," ",244,""," "," "," ",false,5244,359,244,""," "," "," "]
[null,null,null,null,null,null,null,null,null,null,null,null,null,null,null,null,null,null,null,null,null,null,null,null,null,null,null,null,null,null,245,"37","ἀπορέω"," ","I am perplexed","ah-porr-EH-owe","Verb  "," ","ἠπόρουν","ἀπορήσω","ἠπόρησα","aporew","639",639,"ἀπορέω",true,true,true,"37"," ","I am perplexed","ah-porr-EH-owe","Verb  "," ","ἠπόρουν","ἀπορήσω","ἠπόρησα","639",245,245,"37","ἀπορέω"," ","I am perplexed","ah-porr-EH-owe","Verb  ","","ἠπόρουν","ἀπορήσω","","ἠπόρησα","639",245,245,"37","Verb  ","ἀπορέω","ἠπόρουν","ἀπορήσω"," ","ah-porr-EH-owe","I am perplexed","ἀπορέω","Extra: Verb  ","ἠπόρησα","639",false,5245,247," "," "," ",245,""," ","  "," ",false,5245,247," "," "," ",245,""," "," "," ",false,5245,360,245,""," "," "," "]
[null,null,null,null,null,null,null,null,null,null,null,null,null,null,null,null,null,null,null,null,null,null,null,null,null,null,null,null,null,null,246,"20","ἀποστέλλω","*ἀπό + *στελ","I send (away)","ah-poss-TELL-owe","Verb  "," ","ἀπέστελλον","ἀποστελῶ","ἀπέστειλα","apostellw apostelw apesteila apestellon","649",649,"ἀποστέλλω",true,true,true,"20","*ἀπό + *στελ","I send (away)","ah-poss-TELL-owe","Verb  "," ","ἀπέστελλον","ἀποστελῶ","ἀπέστειλα","649",246,246,"20","ἀποστέλλω","*ἀπό + *στελ","I send (away)","ah-poss-TELL-owe","Verb  ","","ἀπέστελλον","ἀποστελῶ","","ἀπέστειλα","649",246,246,"20","Verb  ","ἀποστέλλω","ἀπέστελλον","ἀποστελῶ","*ἀπό + *στελ","ah-poss-TELL-owe","I send (away)","ἀποστέλλω","Chapter 20: Verb  ","ἀπέστειλα","649",false,5246,248," "," "," ",246,""," ","  "," ",false,5246,248," "," "," ",246,""," "," "," ",false,5246,361,246,""," "," "," "]
[null,null,null,null,null,null,null,null,null,null,null,null,null,null,null,null,null,null,null,null,null,null,null,null,null,null,null,null,null,null,247,"04","ἀπόστολος","*ἀπόστολο","messenger, envoy, apostle","ah-POSS-toll-oss","Noun  ","ὁ"," "," ","  ","apostolos","652",652,"ἀπόστολος",true,true,true,"04","*ἀπόστολο","messenger, envoy, apostle","ah-POSS-toll-oss","Noun  ","ὁ"," "," ","  ","652",247,247,"04","ὁ ἀπόστολος","*ἀπόστολο","messenger, envoy, apostle","ah-POSS-toll-oss","Noun  ","ὁ "," "," ","ὁ ","  ","652",247,247,"04","Noun  ","ὁ ἀπόστολος"," "," ","*ἀπόστολο","ah-POSS-toll-oss","messenger, envoy, apostle","ὁ ἀπόστολος","Chapter 04: Noun  ","  ","652",false,5247,249," "," "," ",247,""," ","  "," ",false,5247,249," "," "," ",247,""," "," "," ",false,5247,362,247,""," "," "," "]
[null,null,null,null,null,null,null,null,null,null,null,null,null,null,null,null,null,null,null,null,null,null,null,null,null,null,null,null,null,null,251,"37","ἄραγε"," ","expresses doubt or wonderment (particle)","ARR-ah-geh","Adverb"," "," "," "," ","arage","686+1065",686.1,"ἄραγε",true,true,true,"37"," ","expresses doubt or wonderment (particle)","ARR-ah-geh","Adverb"," "," "," "," ","686+1065",251,251,"37","ἄραγε"," ","expresses doubt or wonderment (particle)","ARR-ah-geh","Adverb",""," "," ",""," ","686+1065",251,251,"37","Adverb","ἄραγε"," "," "," ","ARR-ah-geh","expresses doubt or wonderment (particle)","ἄραγε","Extra: Adverb"," ","686+1065",false,5251,253," "," "," ",251,""," ","  "," ",false,5251,253," "," "," ",251,""," "," "," ",false,5251,365,251,""," "," "," "]
[null,null,null,null,null,null,null,null,null,null,null,null,null,null,null,null,null,null,null,null,null,null,null,null,null,null,null,null,null,null,256,"38","ἀριθμός","*ἀριθμο","number","ah-rith-MOSS","Noun  ","ὁ"," "," ","  ","ariqmos","706",706,"ἀριθμός",true,true,true,"38","*ἀριθμο","number","ah-rith-MOSS","Noun  ","ὁ"," "," ","  ","706",256,256,"38","ὁ ἀριθμός","*ἀριθμο","number","ah-rith-MOSS","Noun  ","ὁ "," "," ","ὁ ","  ","706",256,256,"38","Noun  ","ὁ ἀριθμός"," "," ","*ἀριθμο","ah-rith-MOSS","number","ὁ ἀριθμός","Chapter 38: Noun  ","  ","706",false,5256,258," "," "," ",256,""," ","  "," ",false,5256,257," "," "," ",256,""," "," "," ",false,5256,369,256,""," "," "," "]
[null,null,null,null,null,null,null,null,null,null,null,null,null,null,null,null,null,null,null,null,null,null,null,null,null,null,null,null,null,null,264,"07","ἀρχή","*ἀρχη","beginning, ruler","arr-KAY","Noun  ","ἡ"," "," ","  ","arch","746",746,"ἀρχή",true,true,true,"07","*ἀρχη","beginning, ruler","arr-KAY","Noun  ","ἡ"," "," ","  ","746",264,264,"07","ἡ ἀρχή","*ἀρχη","beginning, ruler","arr-KAY","Noun  ","ἡ "," "," ","ἡ ","  ","746",264,264,"07","Noun  ","ἡ ἀρχή"," "," ","*ἀρχη","arr-KAY","beginning, ruler","ἡ ἀρχή","Chapter 07: Noun  ","  ","746",false,5264,266," "," "," ",264,""," ","  "," ",false,5264,265," "," "," ",264,""," "," "," ",false,5264,377,264,""," "," "," "]
[null,null,null,null,null,null,null,null,null,null,null,null,null,null,null,null,null,null,null,null,null,null,null,null,null,null,null,null,null,null,269,38,"ἀσθένεια"," ","weakness, sickness","as-THENN-ay-ah","Noun  ","ἡ"," "," ","  ","asqeneia","769",769,"ἀσθένεια",true,true,true,38," ","weakness, sickness","as-THENN-ay-ah","Noun  ","ἡ"," "," ","  ","769",269,269,38,"ἡ ἀσθένεια"," ","weakness, sickness","as-THENN-ay-ah","Noun  ",{"$f":"IF($AV272,IF(BB272=\" \",\"\",BB272&\" \"),\"\")","v":"ἡ "}," "," ","ἡ ","  ","769",269,269,38,"Noun  ","ἡ ἀσθένεια"," "," "," ","as-THENN-ay-ah","weakness, sickness","ἡ ἀσθένεια","Index of Textbook: Noun  ","  ","769",false,5269,271," "," "," ",269,""," ","  "," ",false,5269,270," "," "," ",269,""," "," "," ",false,5269,382,269,""," "," "," "]
[null,null,null,null,null,null,null,null,null,null,null,null,null,null,null,null,null,null,null,null,null,null,null,null,null,null,null,null,null,null,280,"38","αύλή"," ","courtyard","ow-LAY","Noun  ","ἡ"," "," "," ","aulh","833",833,"αύλή",true,true,true,"38"," ","courtyard","ow-LAY","Noun  ","ἡ"," "," "," ","833",280,280,"38","ἡ αύλή"," ","courtyard","ow-LAY","Noun  ","ἡ "," "," ","ἡ "," ","833",280,280,"38","Noun  ","ἡ αύλή"," "," "," ","ow-LAY","courtyard","ἡ αύλή","Chapter 38: Noun  "," ","833",false,5280,282," "," "," ",280,""," ","  "," ",false,5280,281," "," "," ",280,""," "," "," ",false,5280,393,280,""," "," "," "]
[null,null,null,null,null,null,null,null,null,null,null,null,null,null,null,null,null,null,null,null,null,null,null,null,null,null,null,null,null,null,284,"12","αὐτή","*αὐτο","she (nominative, singular, feminine)","ow-TAY","Pronoun"," "," "," ","  ","auth","846",846.02,"αὐτή",true,true,true,"12","*αὐτο","she (nominative, singular, feminine)","ow-TAY","Pronoun"," "," "," ","  ","846",284,284,"12","αὐτή","*αὐτο","she (nominative, singular, feminine)","ow-TAY","Pronoun",""," "," ","","  ","846",284,284,"12","Pronoun","αὐτή"," "," ","*αὐτο","ow-TAY","she (nominative, singular, feminine)","αὐτή","Chapter 12: Pronoun","  ","846",false,5284,286," "," "," ",284,""," ","  "," ",false,5284,285," "," "," ",284,""," "," "," ",false,5284,397,284,""," "," "," "]
[null,null,null,null,null,null,null,null,null,null,null,null,null,null,null,null,null,null,null,null,null,null,null,null,null,null,null,null,null,null,289,"12","αὐτῇ","*αὐτο","to her (dative, singular, feminine)","ow-TAY","Pronoun"," "," "," ","  ","auth","846",846.07,"αὐτῇ",true,true,true,"12","*αὐτο","to her (dative, singular, feminine)","ow-TAY","Pronoun"," "," "," ","  ","846",289,289,"12","αὐτῇ","*αὐτο","to her (dative, singular, feminine)","ow-TAY","Pronoun",""," "," ","","  ","846",289,289,"12","Pronoun","αὐτῇ"," "," ","*αὐτο","ow-TAY","to her (dative, singular, feminine)","αὐτῇ","Chapter 12: Pronoun","  ","846",false,5289,291," "," "," ",289,""," ","  "," ",false,5289,290," "," "," ",289,""," "," "," ",false,5289,402,289,""," "," "," "]
[null,null,null,null,null,null,null,null,null,null,null,null,null,null,null,null,null,null,null,null,null,null,null,null,null,null,null,null,null,null,297,"12","αὐταῖς","*αὐτο","to them (dative, plural, feminine)","ow-TICE","Pronoun"," "," "," ","  ","autais","846",846.15,"αὐταῖς",true,true,true,"12","*αὐτο","to them (dative, plural, feminine)","ow-TICE","Pronoun"," "," "," ","  ","846",297,297,"12","αὐταῖς","*αὐτο","to them (dative, plural, feminine)","ow-TICE","Pronoun",""," "," ","","  ","846",297,297,"12","Pronoun","αὐταῖς"," "," ","*αὐτο","ow-TICE","to them (dative, plural, feminine)","αὐταῖς","Chapter 12: Pronoun","  ","846",false,5297,299," "," "," ",297,""," ","  "," ",false,5297,298," "," "," ",297,""," "," "," ",false,5297,410,297,""," "," "," "]
[null,null,null,null,null,null,null,null,null,null,null,null,null,null,null,null,null,null,null,null,null,null,null,null,null,null,null,null,null,null,303,"38","ἀφίστημι"," ","I leave, I withdraw","ah-FIST-ay-mee","Verb  "," ","ἀφιστόμην","ἀποστήσομαι","ἀπέστησα","afisthmi afistomhn aposthsomai apesthsa","868",868,"ἀφίστημι",true,true,true,"38"," ","I leave, I withdraw","ah-FIST-ay-mee","Verb  "," ","ἀφιστόμην","ἀποστήσομαι","ἀπέστησα","868",303,303,"38","ἀφίστημι"," ","I leave, I withdraw","ah-FIST-ay-mee","Verb  ","","ἀφιστόμην","ἀποστήσομαι","","ἀπέστησα","868",303,303,"38","Verb  ","ἀφίστημι","ἀφιστόμην","ἀποστήσομαι"," ","ah-FIST-ay-mee","I leave, I withdraw","ἀφίστημι","Chapter 38: Verb  ","ἀπέστησα","868",false,5303,305," "," "," ",303,""," ","  "," ",false,5303,304," "," "," ",303,""," "," "," ",false,5303,416,303,""," "," "," "]
[null,null,null,null,null,null,null,null,null,null,null,null,null,null,null,null,null,null,null,null,null,null,null,null,null,null,null,null,null,null,309,"37","βαθύς"," ","deep, early","bah-THOOS","Adjective"," "," "," "," ","baqus","901",901,"βαθύς",true,true,true,"37"," ","deep, early","bah-THOOS","Adjective"," "," "," "," ","901",309,309,"37","βαθύς"," ","deep, early","bah-THOOS","Adjective",""," "," ",""," ","901",309,309,"37","Adjective","βαθύς"," "," "," ","bah-THOOS","deep, early","βαθύς","Extra: Adjective"," ","901",false,5309,311," "," "," ",309,""," ","  "," ",false,5309,310," "," "," ",309,""," "," "," ",false,5309,422,309,""," "," "," "]
[null,null,null,null,null,null,null,null,null,null,null,null,null,null,null,null,null,null,null,null,null,null,null,null,null,null,null,null,null,null,317,"06","βασιλεία","*βασιλεια","kingdom","bah-sill-AY-ah","Noun  ","ἡ"," "," ","  ","basileia","932",932,"βασιλεία",true,true,true,"06","*βασιλεια","kingdom","bah-sill-AY-ah","Noun  ","ἡ"," "," ","  ","932",317,317,"06","ἡ βασιλεία","*βασιλεια","kingdom","bah-sill-AY-ah","Noun  ","ἡ "," "," ","ἡ ","  ","932",317,317,"06","Noun  ","ἡ βασιλεία"," "," ","*βασιλεια","bah-sill-AY-ah","kingdom","ἡ βασιλεία","Chapter 06: Noun  ","  ","932",false,5317,319," "," "," ",317,""," ","  "," ",false,5317,318," "," "," ",317,""," "," "," ",false,5317,430,317,""," "," "," "]
[null,null,null,null,null,null,null,null,null,null,null,null,null,null,null,null,null,null,null,null,null,null,null,null,null,null,null,null,null,null,322,"38","Βηθανία"," ","Bethany","bay-thah-NEE-ah","Proper Noun","ἡ"," "," "," ","bhqania","963",963,{"$f":"IF(AG325=\"\",\"\",AG325)","v":"Βηθανία"},true,{"$f":"IF(ISERR(FIND(AK325,$Y$23,1)),FALSE,TRUE)","v":true},{"$f":"AND(AT325,AU325)","v":true},{"$f":"IF(AC$3,AF325,\" \")","v":"38"},{"$f":"IF(AC$4,AH325,\" \")","v":" "},{"$f":"IF(TRUE,AI325,\" \")","v":"Bethany"},{"$f":"IF(AC$6,AJ325,\" \")","v":"bay-thah-NEE-ah"},{"$f":"IF(AC$7,AK325,\" \")","v":"Proper Noun"},{"$f":"IF(AC$8,AL325,\" \")","v":"ἡ"},{"$f":"IF(AC$9,AM325,\" \")","v":" "},{"$f":"IF(AC$10,AN325,\" \")","v":" "},{"$f":"IF(AC$9,AO325,\" \")","v":" "},{"$f":"IF(AC$12,AQ325,\" \")","v":"963"},322,322,"38","ἡ Βηθανία"," ","Bethany","bay-thah-NEE-ah","Proper Noun","ἡ "," "," ",{"$f":"IF($AV325,IF(AL325=\" \",\"\",AL325&\" \"),\"\")","v":"ἡ "},{"$f":"IF($AV325,BE325,\" \")","v":" "},"963",322,322,"38","Proper Noun","ἡ Βηθανία"," "," "," ","bay-thah-NEE-ah","Bethany","ἡ Βηθανία",{"$f":"IF(BV325=\"\",\"\",IF(BW325=\"37\",\"Extra\", IF(BW325=38, \"Index of Textbook\",\"Chapter \" &BW325))&\": \"&BX325)","v":"Chapter 38: Proper Noun"}," ","963",{"$f":"IF(ISERR(SEARCH(CL$2,AY325,1)),FALSE, TRUE)","v":false},5322,324," ",{"$f":"IF($CI325,AY325,\" \")","v":" "},{"$f":"IF($CI325,IF(AW325=\"37\",\" [Extra]\",IF(AW325=\"38\",\" [Index]\",  \" [Chap. \"&TEXT(VALUE(AW325),\"#\")&\"]\")),\" \")","v":" "},322,""," ","  "," ",false,5322,323," "," ",{"$f":"IF($CT325,IF(BB325=\" \",\"\",BB325&\" \")&AG325&CW325&\": \"&AY325&  IF(AF325=\"37\",\"  (Extra\",IF(AF325=\"38\",\"  (Index\",\"  (Chapter \"&TEXT(AF325,\"#\"))) &\", \"&CX325& IF(LEN(AM325)>1,\" [\"&AM325&\"]\",\"\") &IF(LEN(AN325)>1,\" [\"&AN325&\"]\",\"\")         &\")\",\" \")","v":" "},322,""," "," "," ",false,5322,435,322,""," ",{"$f":"IF($DE325,AY325,\" \")","v":" "}," "]
[null,null,null,null,null,null,null,null,null,null,null,null,null,null,null,null,null,null,null,null,null,null,null,null,null,null,null,null,null,null,334,38,"βρῶμα"," ","food","BROE-mah","Noun  ","τό"," "," ","  ","brwma","1033",1033,"βρῶμα",true,true,true,38," ","food","BROE-mah","Noun  ","τό"," "," ","  ","1033",334,334,38,"τό βρῶμα"," ","food","BROE-mah","Noun  ","τό "," "," ","τό ","  ","1033",334,334,38,"Noun  ","τό βρῶμα"," "," "," ","BROE-mah","food","τό βρῶμα","Index of Textbook: Noun  ","  ","1033",false,5334,336," "," "," ",334,""," ","  "," ",false,5334,335," "," "," ",334,""," "," "," ",false,5334,447,334,""," "," "," "]
[null,null,null,null,null,null,null,null,null,null,null,null,null,null,null,null,null,null,null,null,null,null,null,null,null,null,null,null,null,null,337,"04","Γαλιλαία","*γαλιλαια","Galilee","gah-lill-EYE-ah","Proper Noun","ἡ"," "," ","  ","galilaia","1056",1056,"Γαλιλαία",true,true,true,"04","*γαλιλαια","Galilee","gah-lill-EYE-ah","Proper Noun","ἡ"," "," ","  ","1056",337,337,"04","ἡ Γαλιλαία","*γαλιλαια","Galilee","gah-lill-EYE-ah","Proper Noun","ἡ "," "," ","ἡ ","  ","1056",337,337,"04","Proper Noun","ἡ Γαλιλαία"," "," ","*γαλιλαια","gah-lill-EYE-ah","Galilee","ἡ Γαλιλαία","Chapter 04: Proper Noun","  ","1056",false,5337,339," "," "," ",337,""," ","  "," ",false,5337,338," "," "," ",337,""," "," "," ",false,5337,450,337,""," "," "," "]
[null,null,null,null,null,null,null,null,null,null,null,null,null,null,null,null,null,null,null,null,null,null,null,null,null,null,null,null,null,null,342,38,"γε"," ","indeed, at least, even (particle)","geh","Adverb"," "," "," ","  ","ge","1065",1065,"γε",true,true,true,38," ","indeed, at least, even (particle)","geh","Adverb"," "," "," ","  ","1065",342,342,38,"γε"," ","indeed, at least, even (particle)","geh","Adverb",""," "," ","","  ","1065",342,342,38,"Adverb","γε"," "," "," ","geh","indeed, at least, even (particle)","γε","Index of Textbook: Adverb","  ","1065",false,5342,344," "," "," ",342,""," ","  "," ",false,5342,343," "," "," ",342,""," "," "," ",true,342,15,342,"","γε","indeed, at least, even (particle)"," "]
[null,null,null,null,null,null,null,null,null,null,null,null,null,null,null,null,null,null,null,null,null,null,null,null,null,null,null,null,null,null,350,38,"γεωργός"," ","farmer","geh-ore-GOSS","Noun  ","ὁ"," "," ","  ","gewrgos","1092",1092,"γεωργός",true,true,true,38," ","farmer","geh-ore-GOSS","Noun  ","ὁ"," "," ","  ","1092",350,350,38,"ὁ γεωργός"," ","farmer","geh-ore-GOSS","Noun  ","ὁ "," "," ","ὁ ","  ","1092",350,350,38,"Noun  ","ὁ γεωργός"," "," "," ","geh-ore-GOSS","farmer","ὁ γεωργός","Index of Textbook: Noun  ","  ","1092",false,5350,352," "," "," ",350,""," ","  "," ",false,5350,351," "," "," ",350,""," "," "," ",false,5350,461,350,""," "," "," "]
[null,null,null,null,null,null,null,null,null,null,null,null,null,null,null,null,null,null,null,null,null,null,null,null,null,null,null,null,null,null,357,38,"γνωστός","*γνω","acquaintance","gnow-STOSS","Noun  ","ὁ"," "," ","  ","gnwstos","1110",1110,"γνωστός",true,true,true,38,"*γνω","acquaintance","gnow-STOSS","Noun  ","ὁ"," "," ","  ","1110",357,357,38,"ὁ γνωστός","*γνω","acquaintance","gnow-STOSS","Noun  ","ὁ "," "," ","ὁ ","  ","1110",357,357,38,"Noun  ","ὁ γνωστός"," "," ","*γνω","gnow-STOSS","acquaintance","ὁ γνωστός","Index of Textbook: Noun  ","  ","1110",false,5357,359," "," "," ",357,""," ","  "," ",false,5357,358," "," "," ",357,""," "," "," ",false,5357,468,357,""," "," "," "]
[null,null,null,null,null,null,null,null,null,null,null,null,null,null,null,null,null,null,null,null,null,null,null,null,null,null,null,null,null,null,362,"28","γραμματεύς"," ","scribe","grahm-maht-yoose","Noun  ","ὁ"," "," ","  ","grammateus","1122",1122,"γραμματεύς",true,true,true,"28"," ","scribe","grahm-maht-yoose","Noun  ","ὁ"," "," ","  ","1122",362,362,"28","ὁ γραμματεύς"," ","scribe","grahm-maht-yoose","Noun  ","ὁ "," "," ","ὁ ","  ","1122",362,362,"28","Noun  ","ὁ γραμματεύς"," "," "," ","grahm-maht-yoose","scribe","ὁ γραμματεύς","Chapter 28: Noun  ","  ","1122",false,5362,364," "," "," ",362,""," ","  "," ",false,5362,363," "," "," ",362,""," "," "," ",false,5362,473,362,""," "," "," "]
[null,null,null,null,null,null,null,null,null,null,null,null,null,null,null,null,null,null,null,null,null,null,null,null,null,null,null,null,null,null,370,"17","δαιμόνιον","δαιμονιο","demon","day-MON-ee-on","Noun  ","τό"," "," ","  ","daimonion","1140",1140,"δαιμόνιον",true,true,true,"17","δαιμονιο","demon","day-MON-ee-on","Noun  ","τό"," "," ","  ","1140",370,370,"17","τό δαιμόνιον","δαιμονιο","demon","day-MON-ee-on","Noun  ","τό "," "," ","τό ","  ","1140",370,370,"17","Noun  ","τό δαιμόνιον"," "," ","δαιμονιο","day-MON-ee-on","demon","τό δαιμόνιον","Chapter 17: Noun  ","  ","1140",false,5370,372," "," "," ",370,""," ","  "," ",false,5370,371," "," "," ",370,""," "," "," ",false,5370,481,370,""," "," "," "]
[null,null,null,null,null,null,null,null,null,null,null,null,null,null,null,null,null,null,null,null,null,null,null,null,null,null,null,null,null,null,382,38,"δέομαι"," ","I ask, I request","DEH-omm-eye","Verb  "," ","ἐδοῦμην","δεήσομαι","ἐδεήθην","deomai edoumhn dehsomai edehqhn","1189",1189,"δέομαι",true,true,true,38," ","I ask, I request","DEH-omm-eye","Verb  "," ","ἐδοῦμην","δεήσομαι","ἐδεήθην","1189",382,382,38,"δέομαι"," ","I ask, I request","DEH-omm-eye","Verb  ","","ἐδοῦμην","δεήσομαι","","ἐδεήθην","1189",382,382,38,"Verb  ","δέομαι","ἐδοῦμην","δεήσομαι"," ","DEH-omm-eye","I ask, I request","δέομαι","Index of Textbook: Verb  ","ἐδεήθην","1189",false,5382,384," "," "," ",382,""," ","  "," ",false,5382,383," "," "," ",382,""," "," "," ",false,5382,492,382,""," "," "," "]
[null,null,null,null,null,null,null,null,null,null,null,null,null,null,null,null,null,null,null,null,null,null,null,null,null,null,null,null,null,null,383,38,"δέρω"," ","I beat, I whip","DERR-owe","Verb  "," ","ἔδερον","δερῶ","ἔδειρα","derw edeira derw ederon","1194",1194,"δέρω",true,true,true,38," ","I beat, I whip","DERR-owe","Verb  "," ","ἔδερον","δερῶ","ἔδειρα","1194",383,383,38,"δέρω"," ","I beat, I whip","DERR-owe","Verb  ","","ἔδερον","δερῶ","","ἔδειρα","1194",383,383,38,"Verb  ","δέρω","ἔδερον","δερῶ"," ","DERR-owe","I beat, I whip","δέρω","Index of Textbook: Verb  ","ἔδειρα","1194",false,5383,385," "," "," ",383,""," ","  "," ",false,5383,384," "," "," ",383,""," "," "," ",false,5383,493,383,""," "," "," "]
[null,null,null,null,null,null,null,null,null,null,null,null,null,null,null,null,null,null,null,null,null,null,null,null,null,null,null,null,null,null,390,38,"δέω"," ","I bind","DEH-owe","Verb  "," ","ἔδουν","δήσω","ἔδησα","dew edhsa edoun dhsw","1210",1210,"δέω",true,true,true,38," ","I bind","DEH-owe","Verb  "," ","ἔδουν","δήσω","ἔδησα","1210",390,390,38,"δέω"," ","I bind","DEH-owe","Verb  ","","ἔδουν","δήσω","","ἔδησα","1210",390,390,38,"Verb  ","δέω","ἔδουν","δήσω"," ","DEH-owe","I bind","δέω","Index of Textbook: Verb  ","ἔδησα","1210",false,5390,392," "," "," ",390,""," ","  "," ",false,5390,391," "," "," ",390,""," "," "," ",true,390,17,390,"","δέω","I bind"," "]
[null,null,null,null,null,null,null,null,null,null,null,null,null,null,null,null,null,null,null,null,null,null,null,null,null,null,null,null,null,null,402,"35","διακονέω","*διακονε","I serve","dee-ah-konn-EH-owe","Verb  "," ","διηκόνουν","διακονήσω","διηκόνησα","diakonew dihkonoun diakonhsw dihkonhsa","1247",1247,"διακονέω",true,true,true,"35","*διακονε","I serve","dee-ah-konn-EH-owe","Verb  "," ","διηκόνουν","διακονήσω","διηκόνησα","1247",402,402,"35","διακονέω","*διακονε","I serve","dee-ah-konn-EH-owe","Verb  ","","διηκόνουν","διακονήσω","","διηκόνησα","1247",402,402,"35","Verb  ","διακονέω","διηκόνουν","διακονήσω","*διακονε","dee-ah-konn-EH-owe","I serve","διακονέω","Chapter 35: Verb  ","διηκόνησα","1247",false,5402,404," "," "," ",402,""," ","  "," ",false,5402,403," "," "," ",402,""," "," "," ",false,5402,510,402,""," "," "," "]
[null,null,null,null,null,null,null,null,null,null,null,null,null,null,null,null,null,null,null,null,null,null,null,null,null,null,null,null,null,null,403,"35","διακονία","*διακονια","service","dee-ah-konn-EE-ah","Noun  ","ἡ"," "," ","  ","diakonia","1248",1248,"διακονία",true,true,true,"35","*διακονια","service","dee-ah-konn-EE-ah","Noun  ","ἡ"," "," ","  ","1248",403,403,"35","ἡ διακονία","*διακονια","service","dee-ah-konn-EE-ah","Noun  ","ἡ "," "," ","ἡ ","  ","1248",403,403,"35","Noun  ","ἡ διακονία"," "," ","*διακονια","dee-ah-konn-EE-ah","service","ἡ διακονία","Chapter 35: Noun  ","  ","1248",false,5403,405," "," "," ",403,""," ","  "," ",false,5403,404," "," "," ",403,""," "," "," ",false,5403,511,403,""," "," "," "]
[null,null,null,null,null,null,null,null,null,null,null,null,null,null,null,null,null,null,null,null,null,null,null,null,null,null,null,null,null,null,415,"37","διάφορος"," ","different, superior, excellent","dee-AH-for-oss","Adjective"," "," "," "," ","diaforos","1313",1313.1,"διάφορος",true,true,true,"37"," ","different, superior, excellent","dee-AH-for-oss","Adjective"," "," "," "," ","1313",415,415,"37","διάφορος"," ","different, superior, excellent","dee-AH-for-oss","Adjective",""," "," ",""," ","1313",415,415,"37","Adjective","διάφορος"," "," "," ","dee-AH-for-oss","different, superior, excellent","διάφορος","Extra: Adjective"," ","1313",false,5415,417," "," "," ",415,""," ","  "," ",false,5415,416," "," "," ",415,""," "," "," ",false,5415,523,415,""," "," "," "]
[null,null,null,null,null,null,null,null,null,null,null,null,null,null,null,null,null,null,null,null,null,null,null,null,null,null,null,null,null,null,421,38,"διέρχομαι"," ","I go through","dee-ERR-khom-eye","Verb  "," ","διηρχόμην","διελεύσομαι","διῆλθον","diercomai dihrcomhn dieleusomai dihlqon","1330",1330,"διέρχομαι",true,true,true,38," ","I go through","dee-ERR-khom-eye","Verb  "," ","διηρχόμην","διελεύσομαι","διῆλθον","1330",421,421,38,"διέρχομαι"," ","I go through","dee-ERR-khom-eye","Verb  ","","διηρχόμην","διελεύσομαι","","διῆλθον","1330",421,421,38,"Verb  ","διέρχομαι","διηρχόμην","διελεύσομαι"," ","dee-ERR-khom-eye","I go through","διέρχομαι","Index of Textbook: Verb  ","διῆλθον","1330",false,5421,423," "," "," ",421,""," ","  "," ",false,5421,422," "," "," ",421,""," "," "," ",false,5421,529,421,""," "," "," "]
[null,null,null,null,null,null,null,null,null,null,null,null,null,null,null,null,null,null,null,null,null,null,null,null,null,null,null,null,null,null,423,"13","δικαιοσύνη","*δικαιοσυνη","righteousness","dik-eye-oss-OO-nay","Noun  ","ἡ"," "," ","  ","dikaiosunh","1343",1343,"δικαιοσύνη",true,true,true,"13","*δικαιοσυνη","righteousness","dik-eye-oss-OO-nay","Noun  ","ἡ"," "," ","  ","1343",423,423,"13","ἡ δικαιοσύνη","*δικαιοσυνη","righteousness","dik-eye-oss-OO-nay","Noun  ","ἡ "," "," ","ἡ ","  ","1343",423,423,"13","Noun  ","ἡ δικαιοσύνη"," "," ","*δικαιοσυνη","dik-eye-oss-OO-nay","righteousness","ἡ δικαιοσύνη","Chapter 13: Noun  ","  ","1343",false,5423,425," "," "," ",423,""," ","  "," ",false,5423,424," "," "," ",423,""," "," "," ",false,5423,531,423,""," "," "," "]
[null,null,null,null,null,null,null,null,null,null,null,null,null,null,null,null,null,null,null,null,null,null,null,null,null,null,null,null,null,null,435,38,"δοκιμάζω"," ","I test, I approve","dock-im-AH-zoe","Verb  "," ","ἐδοκίμαζον","δοκιμάσω","ἐδοκίμασα","dokimazw dokimasw edokimasa edokimazon","1381",1381,"δοκιμάζω",true,true,true,38," ","I test, I approve","dock-im-AH-zoe","Verb  "," ","ἐδοκίμαζον","δοκιμάσω","ἐδοκίμασα","1381",435,435,38,"δοκιμάζω"," ","I test, I approve","dock-im-AH-zoe","Verb  ","","ἐδοκίμαζον","δοκιμάσω","","ἐδοκίμασα","1381",435,435,38,"Verb  ","δοκιμάζω","ἐδοκίμαζον","δοκιμάσω"," ","dock-im-AH-zoe","I test, I approve","δοκιμάζω","Index of Textbook: Verb  ","ἐδοκίμασα","1381",false,5435,437," "," "," ",435,""," ","  "," ",false,5435,436," "," "," ",435,""," "," "," ",false,5435,542,435,""," "," "," "]
[null,null,null,null,null,null,null,null,null,null,null,null,null,null,null,null,null,null,null,null,null,null,null,null,null,null,null,null,null,null,443,"23","δύναμις","*δυναμι","power, miracle","DOO-nah-miss","Noun  ","ἡ"," "," ","  ","dunamis","1411",1411,"δύναμις",true,true,true,"23","*δυναμι","power, miracle","DOO-nah-miss","Noun  ","ἡ"," "," ","  ","1411",443,443,"23","ἡ δύναμις","*δυναμι","power, miracle","DOO-nah-miss","Noun  ","ἡ "," "," ","ἡ ","  ","1411",443,443,"23","Noun  ","ἡ δύναμις"," "," ","*δυναμι","DOO-nah-miss","power, miracle","ἡ δύναμις","Chapter 23: Noun  ","  ","1411",false,5443,445," "," "," ",443,""," ","  "," ",false,5443,444," "," "," ",443,""," "," "," ",false,5443,550,443,""," "," "," "]
[null,null,null,null,null,null,null,null,null,null,null,null,null,null,null,null,null,null,null,null,null,null,null,null,null,null,null,null,null,null,444,38,"δυνατός","*δυνα","able, capable, possible","doon-ah-TOSS","Adjective"," "," "," ","  ","dunatos","1415",1415,"δυνατός",true,true,true,38,"*δυνα","able, capable, possible","doon-ah-TOSS","Adjective"," "," "," ","  ","1415",444,444,38,"δυνατός","*δυνα","able, capable, possible","doon-ah-TOSS","Adjective",""," "," ","","  ","1415",444,444,38,"Adjective","δυνατός"," "," ","*δυνα","doon-ah-TOSS","able, capable, possible","δυνατός","Index of Textbook: Adjective","  ","1415",false,5444,446," "," "," ",444,""," ","  "," ",false,5444,445," "," "," ",444,""," "," "," ",false,5444,551,444,""," "," "," "]
[null,null,null,null,null,null,null,null,null,null,null,null,null,null,null,null,null,null,null,null,null,null,null,null,null,null,null,null,null,null,455,"13","ἑαυτόν","*ἑαυτο","himself (accusative, singular, masculine)","hey-ow-TONN","Pronoun"," "," "," "," ","eauton","1438",1438.06,"ἑαυτόν",true,true,true,"13","*ἑαυτο","himself (accusative, singular, masculine)","hey-ow-TONN","Pronoun"," "," "," "," ","1438",455,455,"13","ἑαυτόν","*ἑαυτο","himself (accusative, singular, masculine)","hey-ow-TONN","Pronoun",""," "," ",""," ","1438",455,455,"13","Pronoun","ἑαυτόν"," "," ","*ἑαυτο","hey-ow-TONN","himself (accusative, singular, masculine)","ἑαυτόν","Chapter 13: Pronoun"," ","1438",false,5455,457," "," "," ",455,""," ","  "," ",false,5455,456," "," "," ",455,""," "," "," ",false,5455,560,455,""," "," "," "]
[null,null,null,null,null,null,null,null,null,null,null,null,null,null,null,null,null,null,null,null,null,null,null,null,null,null,null,null,null,null,463,38,"ἐάω"," ","I permit, I allow, I let go","eh-AH-owe","Verb  "," ","εἴων","ἐάσω","εἴασα","eaw eiwn easw wiasa","1439",1439,"ἐάω",true,true,true,38," ","I permit, I allow, I let go","eh-AH-owe","Verb  "," ","εἴων","ἐάσω","εἴασα","1439",463,463,38,"ἐάω"," ","I permit, I allow, I let go","eh-AH-owe","Verb  ","","εἴων","ἐάσω","","εἴασα","1439",463,463,38,"Verb  ","ἐάω","εἴων","ἐάσω"," ","eh-AH-owe","I permit, I allow, I let go","ἐάω","Index of Textbook: Verb  ","εἴασα","1439",false,5463,465," "," "," ",463,""," ","  "," ",false,5463,464," "," "," ",463,""," "," "," ",true,463,22,463,"","ἐάω","I permit, I allow, I let go"," "]
[null,null,null,null,null,null,null,null,null,null,null,null,null,null,null,null,null,null,null,null,null,null,null,null,null,null,null,null,null,null,468,"04","ἐγώ","ἐγώ","I (nominative, singular)","egg-Oh","Pronoun"," "," "," ","  ","egw","1473",1473.1,"ἐγώ",true,true,true,"04","ἐγώ","I (nominative, singular)","egg-Oh","Pronoun"," "," "," ","  ","1473",468,468,{"$f":"IF(AV471,AW471,\" \")","v":"04"},"ἐγώ","ἐγώ","I (nominative, singular)","egg-Oh","Pronoun",""," "," ","","  ","1473",468,468,"04","Pronoun","ἐγώ"," "," ","ἐγώ","egg-Oh","I (nominative, singular)","ἐγώ","Chapter 04: Pronoun","  ","1473",false,5468,470," "," "," ",468,""," ","  "," ",false,5468,469," "," "," ",468,""," "," "," ",true,468,23,468,"","ἐγώ","I (nominative, singular)"," "]
[null,null,null,null,null,null,null,null,null,null,null,null,null,null,null,null,null,null,null,null,null,null,null,null,null,null,null,null,null,null,475,38,"ἔθος"," ","custom, habit","ETH-oss","Noun  ","τό"," "," ","  ","eqos","1485",1485,"ἔθος",true,true,true,38," ","custom, habit","ETH-oss","Noun  ","τό"," "," ","  ","1485",475,475,38,"τό ἔθος"," ","custom, habit","ETH-oss","Noun  ","τό "," "," ","τό ","  ","1485",475,475,38,"Noun  ","τό ἔθος"," "," "," ","ETH-oss","custom, habit","τό ἔθος","Index of Textbook: Noun  ","  ","1485",false,5475,477," "," "," ",475,""," ","  "," ",false,5475,476," "," "," ",475,""," "," "," ",false,5475,575,475,""," "," "," "]
[null,null,null,null,null,null,null,null,null,null,null,null,null,null,null,null,null,null,null,null,null,null,null,null,null,null,null,null,null,null,483,38,"εἰκών"," ","image, likeness","eye-KONE","Noun  ","ἡ"," "," ","  ","eikwn","1504",1504,"εἰκών",true,true,true,38," ","image, likeness","eye-KONE","Noun  ","ἡ"," "," ","  ","1504",483,483,38,"ἡ εἰκών"," ","image, likeness","eye-KONE","Noun  ","ἡ "," "," ","ἡ ","  ","1504",483,483,38,"Noun  ","ἡ εἰκών"," "," "," ","eye-KONE","image, likeness","ἡ εἰκών","Index of Textbook: Noun  ","  ","1504",false,5483,485," "," "," ",483,""," ","  "," ",false,5483,484," "," "," ",483,""," "," "," ",false,5483,581,483,""," "," "," "]
[null,null,null,null,null,null,null,null,null,null,null,null,null,null,null,null,null,null,null,null,null,null,null,null,null,null,null,null,null,null,488,"10","μία","*μια","one (nominative, feminine) (is also an adjective)","MEE-ah","Noun  "," "," "," ","  ","mia","1520",1520.2,"μία",true,true,true,"10","*μια","one (nominative, feminine) (is also an adjective)","MEE-ah","Noun  "," "," "," ","  ","1520",488,488,"10","μία","*μια","one (nominative, feminine) (is also an adjective)","MEE-ah","Noun  ",""," "," ","","  ","1520",488,488,"10","Noun  ","μία"," "," ","*μια","MEE-ah","one (nominative, feminine) (is also an adjective)","μία","Chapter 10: Noun  ","  ","1520",false,5488,490," "," "," ",488,""," ","  "," ",false,5488,489," "," "," ",488,""," "," "," ",true,488,30,488,"","μία","one (nominative, feminine) (is also an adjective)"," "]
[null,null,null,null,null,null,null,null,null,null,null,null,null,null,null,null,null,null,null,null,null,null,null,null,null,null,null,null,null,null,496,"38","εἰσάγω"," ","I lead in, I bring in","ACE-ah-go","Verb  "," ","εἰσῆγον","εἰσάξω","ἐἰσήγαγον","eisagw eishgagon eishgon eisaxw","1521",1521,"εἰσάγω",true,true,true,"38"," ","I lead in, I bring in","ACE-ah-go","Verb  "," ","εἰσῆγον","εἰσάξω","ἐἰσήγαγον","1521",496,496,"38","εἰσάγω"," ","I lead in, I bring in","ACE-ah-go","Verb  ","","εἰσῆγον","εἰσάξω","","ἐἰσήγαγον","1521",496,496,"38","Verb  ","εἰσάγω","εἰσῆγον","εἰσάξω"," ","ACE-ah-go","I lead in, I bring in","εἰσάγω","Chapter 38: Verb  ","ἐἰσήγαγον","1521",false,5496,498," "," "," ",496,""," ","  "," ",false,5496,497," "," "," ",496,""," "," "," ",false,5496,588,496,""," "," "," "]
[null,null,null,null,null,null,null,null,null,null,null,null,null,null,null,null,null,null,null,null,null,null,null,null,null,null,null,null,null,null,501,"33","εἴτε"," ","if, whether","AY-teh","Conjunction"," "," "," ","  ","eite","1535",1535,"εἴτε",true,true,true,"33"," ","if, whether","AY-teh","Conjunction"," "," "," ","  ","1535",501,501,"33","εἴτε"," ","if, whether","AY-teh","Conjunction",""," "," ","","  ","1535",501,501,"33","Conjunction","εἴτε"," "," "," ","AY-teh","if, whether","εἴτε","Chapter 33: Conjunction","  ","1535",false,5501,503," "," "," ",501,""," ","  "," ",false,5501,502," "," "," ",501,""," "," "," ",false,5501,593,501,""," "," "," "]
[null,null,null,null,null,null,null,null,null,null,null,null,null,null,null,null,null,null,null,null,null,null,null,null,null,null,null,null,null,null,508,38,"ἐκεῖθεν"," ","from there","eh-KYE-then","Adverb"," "," "," ","  ","ekeiqen","1564",1564,"ἐκεῖθεν",true,true,true,38," ","from there","eh-KYE-then","Adverb"," "," "," ","  ","1564",508,508,38,"ἐκεῖθεν"," ","from there","eh-KYE-then","Adverb",""," "," ","","  ","1564",508,508,38,"Adverb","ἐκεῖθεν"," "," "," ","eh-KYE-then","from there","ἐκεῖθεν","Index of Textbook: Adverb","  ","1564",false,5508,510," "," "," ",508,""," ","  "," ",false,5508,509," "," "," ",508,""," "," "," ",false,5508,600,508,""," "," "," "]
[null,null,null,null,null,null,null,null,null,null,null,null,null,null,null,null,null,null,null,null,null,null,null,null,null,null,null,null,null,null,516,"13","ἐκείνῃ","*ἐκεινο","to that (dative, singular, feminine)","ek-KAY-nay","Pronoun"," "," "," ","  ","ekeinh","1565",1565.07,"ἐκείνῃ",true,true,true,"13","*ἐκεινο","to that (dative, singular, feminine)","ek-KAY-nay","Pronoun"," "," "," ","  ","1565",516,516,"13","ἐκείνῃ","*ἐκεινο","to that (dative, singular, feminine)","ek-KAY-nay","Pronoun",""," "," ","","  ","1565",516,516,"13","Pronoun","ἐκείνῃ"," "," ","*ἐκεινο","ek-KAY-nay","to that (dative, singular, feminine)","ἐκείνῃ","Chapter 13: Pronoun","  ","1565",false,5516,518," "," "," ",516,""," ","  "," ",false,5516,517," "," "," ",516,""," "," "," ",false,5516,608,516,""," "," "," "]
[null,null,null,null,null,null,null,null,null,null,null,null,null,null,null,null,null,null,null,null,null,null,null,null,null,null,null,null,null,null,521,"13","ἐκεῖνα","*ἐκεινο","those (nominative or accusative, plural, neuter)","ek-KAY-nah","Pronoun"," "," "," ","  ","ekeina","1565",1565.12,"ἐκεῖνα",true,true,true,"13","*ἐκεινο","those (nominative or accusative, plural, neuter)","ek-KAY-nah","Pronoun"," "," "," ","  ","1565",521,521,"13","ἐκεῖνα","*ἐκεινο","those (nominative or accusative, plural, neuter)","ek-KAY-nah","Pronoun",""," "," ","","  ","1565",521,521,"13","Pronoun","ἐκεῖνα"," "," ","*ἐκεινο","ek-KAY-nah","those (nominative or accusative, plural, neuter)","ἐκεῖνα","Chapter 13: Pronoun","  ","1565",false,5521,523," "," "," ",521,""," ","  "," ",false,5521,522," "," "," ",521,""," "," "," ",false,5521,613,521,""," "," "," "]
[null,null,null,null,null,null,null,null,null,null,null,null,null,null,null,null,null,null,null,null,null,null,null,null,null,null,null,null,null,null,529,38,"ἐκλέγομαι"," ","I choose, I select","ekk-LEG-om-eye","Verb  "," ","ἐξελεγόμην","ἐκλέξομαι","ἐξελεξάμην","eklegomai exelegomhn exelexamhn eklexomai","1586",1586,"ἐκλέγομαι",true,true,true,38," ","I choose, I select","ekk-LEG-om-eye","Verb  "," ","ἐξελεγόμην","ἐκλέξομαι","ἐξελεξάμην","1586",529,529,38,"ἐκλέγομαι"," ","I choose, I select","ekk-LEG-om-eye","Verb  ","","ἐξελεγόμην","ἐκλέξομαι","","ἐξελεξάμην","1586",529,529,38,"Verb  ","ἐκλέγομαι","ἐξελεγόμην","ἐκλέξομαι"," ","ekk-LEG-om-eye","I choose, I select","ἐκλέγομαι","Index of Textbook: Verb  ","ἐξελεξάμην","1586",false,5529,531," "," "," ",529,""," ","  "," ",false,5529,530," "," "," ",529,""," "," "," ",false,5529,621,529,""," "," "," "]
[null,null,null,null,null,null,null,null,null,null,null,null,null,null,null,null,null,null,null,null,null,null,null,null,null,null,null,null,null,null,537,"38","ἐκχέω"," ","I pour out","ekk-EH-owe","Verb  "," ","ἐξέχουν","ἐκχεω","ἐξέχεα","ekcew ekcew execea execoun","1632",1632.1,"ἐκχέω",true,true,true,"38"," ","I pour out","ekk-EH-owe","Verb  "," ","ἐξέχουν","ἐκχεω","ἐξέχεα","1632",537,537,"38","ἐκχέω"," ","I pour out","ekk-EH-owe","Verb  ","","ἐξέχουν","ἐκχεω","","ἐξέχεα","1632",537,537,"38","Verb  ","ἐκχέω","ἐξέχουν","ἐκχεω"," ","ekk-EH-owe","I pour out","ἐκχέω","Chapter 38: Verb  ","ἐξέχεα","1632",false,5537,539," "," "," ",537,""," ","  "," ",false,5537,538," "," "," ",537,""," "," "," ",false,5537,629,537,""," "," "," "]
[null,null,null,null,null,null,null,null,null,null,null,null,null,null,null,null,null,null,null,null,null,null,null,null,null,null,null,null,null,null,541,"38","ἐλάχιστος"," ","least, smallest","ell-AHK-iss-toss","Adjective"," "," "," "," ","elacistos","1646",1646,"ἐλάχιστος",true,true,true,"38"," ","least, smallest","ell-AHK-iss-toss","Adjective"," "," "," "," ","1646",541,541,"38","ἐλάχιστος"," ","least, smallest","ell-AHK-iss-toss","Adjective",""," "," ",""," ","1646",541,541,"38","Adjective","ἐλάχιστος"," "," "," ","ell-AHK-iss-toss","least, smallest","ἐλάχιστος","Chapter 38: Adjective"," ","1646",false,5541,543," "," "," ",541,""," ","  "," ",false,5541,542," "," "," ",541,""," "," "," ",false,5541,633,541,""," "," "," "]
[null,null,null,null,null,null,null,null,null,null,null,null,null,null,null,null,null,null,null,null,null,null,null,null,null,null,null,null,null,null,549,38,"ἐλπίζω"," ","I hope","Ell-PIZ-owe","Verb  "," ","ἤλπιζον","ἐλπιῶ","ἤλπιῶ","elpizw hlpizon elpiw hlpiw","1679",1679,"ἐλπίζω",true,true,true,38," ","I hope","Ell-PIZ-owe","Verb  "," ","ἤλπιζον","ἐλπιῶ","ἤλπιῶ","1679",549,549,38,"ἐλπίζω"," ","I hope","Ell-PIZ-owe","Verb  ","","ἤλπιζον","ἐλπιῶ","","ἤλπιῶ","1679",549,549,38,"Verb  ","ἐλπίζω","ἤλπιζον","ἐλπιῶ"," ","Ell-PIZ-owe","I hope","ἐλπίζω","Index of Textbook: Verb  ","ἤλπιῶ","1679",false,5549,551," "," "," ",549,""," ","  "," ",false,5549,550," "," "," ",549,""," "," "," ",false,5549,641,549,""," "," "," "]
[null,null,null,null,null,null,null,null,null,null,null,null,null,null,null,null,null,null,null,null,null,null,null,null,null,null,null,null,null,null,554,"11","ἐμοί","ἐγώ","to me (emphatic dative singular)","em-OY","Pronoun"," "," "," ","  ","emoi","1698",1698,"ἐμοί",true,true,true,"11","ἐγώ","to me (emphatic dative singular)","em-OY","Pronoun"," "," "," ","  ","1698",554,554,"11","ἐμοί","ἐγώ","to me (emphatic dative singular)","em-OY","Pronoun",""," "," ","","  ","1698",554,554,"11","Pronoun","ἐμοί"," "," ","ἐγώ","em-OY","to me (emphatic dative singular)","ἐμοί","Chapter 11: Pronoun","  ","1698",false,5554,556," "," "," ",554,""," ","  "," ",false,5554,555," "," "," ",554,""," "," "," ",false,5554,646,554,""," "," "," "]
[null,null,null,null,null,null,null,null,null,null,null,null,null,null,null,null,null,null,null,null,null,null,null,null,null,null,null,null,null,null,562,38,"ἔμπροσθεν"," ","in front of, before [genitive]","EMM-pross-then","Preposition"," "," "," ","  ","emprosqen","1715",1715,"ἔμπροσθεν",true,true,true,38," ","in front of, before [genitive]","EMM-pross-then","Preposition"," "," "," ","  ","1715",562,562,38,"ἔμπροσθεν"," ","in front of, before [genitive]","EMM-pross-then","Preposition",""," "," ","","  ","1715",562,562,38,"Preposition","ἔμπροσθεν"," "," "," ","EMM-pross-then","in front of, before [genitive]","ἔμπροσθεν","Index of Textbook: Preposition","  ","1715",false,5562,564," "," "," ",562,""," ","  "," ",false,5562,563," "," "," ",562,""," "," "," ",false,5562,653,562,""," "," "," "]
[null,null,null,null,null,null,null,null,null,null,null,null,null,null,null,null,null,null,null,null,null,null,null,null,null,null,null,null,null,null,569,38,"ἐνδύω"," ","I put on, I wear, I clothe","end-OOH-owe","Verb  "," ","ἐνέδυον","ἐνδύσω","ἐνέδυσα","enduw enedusa eneduon endusw","1746",1746,"ἐνδύω",true,true,true,38," ","I put on, I wear, I clothe","end-OOH-owe","Verb  "," ","ἐνέδυον","ἐνδύσω","ἐνέδυσα","1746",569,569,38,"ἐνδύω"," ","I put on, I wear, I clothe","end-OOH-owe","Verb  ","","ἐνέδυον","ἐνδύσω","","ἐνέδυσα","1746",569,569,38,"Verb  ","ἐνδύω","ἐνέδυον","ἐνδύσω"," ","end-OOH-owe","I put on, I wear, I clothe","ἐνδύω","Index of Textbook: Verb  ","ἐνέδυσα","1746",false,5569,571," "," "," ",569,""," ","  "," ",false,5569,570," "," "," ",569,""," "," "," ",false,5569,660,569,""," "," "," "]
[null,null,null,null,null,null,null,null,null,null,null,null,null,null,null,null,null,null,null,null,null,null,null,null,null,null,null,null,null,null,574,"10","ἑνί","*ἑν","to one (dative, masculine or neuter)","hen-EE","Adjective"," "," "," ","  ","eni","1762",1762,"ἑνί",true,true,true,"10","*ἑν","to one (dative, masculine or neuter)","hen-EE","Adjective"," "," "," ","  ","1762",574,574,"10","ἑνί","*ἑν","to one (dative, masculine or neuter)","hen-EE","Adjective",""," "," ","","  ","1762",574,574,"10","Adjective","ἑνί"," "," ","*ἑν","hen-EE","to one (dative, masculine or neuter)","ἑνί","Chapter 10: Adjective","  ","1762",false,5574,576," "," "," ",574,""," ","  "," ",false,5574,575," "," "," ",574,""," "," "," ",true,574,36,574,"","ἑνί","to one (dative, masculine or neuter)"," "]
[null,null,null,null,null,null,null,null,null,null,null,null,null,null,null,null,null,null,null,null,null,null,null,null,null,null,null,null,null,null,582,38,"ἕξ"," ","six","HEX","Adjective"," "," "," ","  ","ex","1803",1803,"ἕξ",true,true,true,38," ","six","HEX","Adjective"," "," "," ","  ","1803",582,582,38,"ἕξ"," ","six","HEX","Adjective",""," "," ","","  ","1803",582,582,38,"Adjective","ἕξ"," "," "," ","HEX","six","ἕξ","Index of Textbook: Adjective","  ","1803",false,5582,584," "," "," ",582,""," ","  "," ",false,5582,583," "," "," ",582,""," "," "," ",true,582,37,582,"","ἕξ","six"," "]
[null,null,null,null,null,null,null,null,null,null,null,null,null,null,null,null,null,null,null,null,null,null,null,null,null,null,null,null,null,null,591,"07","ἐξουσία","*ἐξουσια","authority, power","ex-soo-SEE-ah","Noun  ","ἡ"," "," ","  ","exousia","1849",1849,"ἐξουσία",true,true,true,"07","*ἐξουσια","authority, power","ex-soo-SEE-ah","Noun  ","ἡ"," "," ","  ","1849",591,591,"07","ἡ ἐξουσία","*ἐξουσια","authority, power","ex-soo-SEE-ah","Noun  ","ἡ "," "," ","ἡ ","  ","1849",591,591,"07","Noun  ","ἡ ἐξουσία"," "," ","*ἐξουσια","ex-soo-SEE-ah","authority, power","ἡ ἐξουσία","Chapter 07: Noun  ","  ","1849",false,5591,593," "," "," ",591,""," ","  "," ",false,5591,592," "," "," ",591,""," "," "," ",false,5591,680,591,""," "," "," "]
[null,null,null,null,null,null,null,null,null,null,null,null,null,null,null,null,null,null,null,null,null,null,null,null,null,null,null,null,null,null,594,38,"ἔξωθεν"," ","outside, from outside","EX-owe-then","Adverb"," "," "," ","  ","exwqen","1855",1855,"ἔξωθεν",true,true,true,38," ","outside, from outside","EX-owe-then","Adverb"," "," "," ","  ","1855",594,594,38,"ἔξωθεν"," ","outside, from outside","EX-owe-then","Adverb",""," "," ","","  ","1855",594,594,38,"Adverb","ἔξωθεν"," "," "," ","EX-owe-then","outside, from outside","ἔξωθεν","Index of Textbook: Adverb","  ","1855",false,5594,596," "," "," ",594,""," ","  "," ",false,5594,595," "," "," ",594,""," "," "," ",false,5594,683,594,""," "," "," "]
[null,null,null,null,null,null,null,null,null,null,null,null,null,null,null,null,null,null,null,null,null,null,null,null,null,null,null,null,null,null,602,38,"ἐπάνω"," ","above","epp-AH-noe","Adverb"," "," "," ","  ","epanw","1883",1883.1,"ἐπάνω",true,true,true,38," ","above","epp-AH-noe","Adverb"," "," "," ","  ","1883",602,602,38,"ἐπάνω"," ","above","epp-AH-noe","Adverb",""," "," ","","  ","1883",602,602,38,"Adverb","ἐπάνω"," "," "," ","epp-AH-noe","above","ἐπάνω","Index of Textbook: Adverb","  ","1883",false,5602,604," "," "," ",602,""," ","  "," ",false,5602,603," "," "," ",602,""," "," "," ",false,5602,691,602,""," "," "," "]
[null,null,null,null,null,null,null,null,null,null,null,null,null,null,null,null,null,null,null,null,null,null,null,null,null,null,null,null,null,null,607,"37","ἐπέρχομαι"," ","I arrive, I come upon","epp-ERK-omm-eye","Verb  "," ","ἐπηρχόμην","ἐπελεύσομαι","ἐπῆλθον","epercomai ephrcomhn epeleusomai ephlqon","1904",1904,"ἐπέρχομαι",true,true,true,"37"," ","I arrive, I come upon","epp-ERK-omm-eye","Verb  "," ","ἐπηρχόμην","ἐπελεύσομαι","ἐπῆλθον","1904",607,607,"37","ἐπέρχομαι"," ","I arrive, I come upon","epp-ERK-omm-eye","Verb  ","","ἐπηρχόμην","ἐπελεύσομαι","","ἐπῆλθον","1904",607,607,"37","Verb  ","ἐπέρχομαι","ἐπηρχόμην","ἐπελεύσομαι"," ","epp-ERK-omm-eye","I arrive, I come upon","ἐπέρχομαι","Extra: Verb  ","ἐπῆλθον","1904",false,5607,609," "," "," ",607,""," ","  "," ",false,5607,608," "," "," ",607,""," "," "," ",false,5607,696,607,""," "," "," "]
[null,null,null,null,null,null,null,null,null,null,null,null,null,null,null,null,null,null,null,null,null,null,null,null,null,null,null,null,null,null,615,38,"ἐπίγνωσις"," ","knowledge","epp-IG-noe-sis","Noun  ","ἡ"," "," ","  ","epignosis","1922",1922,"ἐπίγνωσις",true,true,true,38," ","knowledge","epp-IG-noe-sis","Noun  ","ἡ"," "," ","  ","1922",615,615,38,"ἡ ἐπίγνωσις"," ","knowledge","epp-IG-noe-sis","Noun  ","ἡ "," "," ","ἡ ","  ","1922",615,615,38,"Noun  ","ἡ ἐπίγνωσις"," "," "," ","epp-IG-noe-sis","knowledge","ἡ ἐπίγνωσις","Index of Textbook: Noun  ","  ","1922",false,5615,617," "," "," ",615,""," ","  "," ",false,5615,616," "," "," ",615,""," "," "," ",false,5615,704,615,""," "," "," "]
[null,null,null,null,null,null,null,null,null,null,null,null,null,null,null,null,null,null,null,null,null,null,null,null,null,null,null,null,null,null,624,38,"ἐπίσταμαι"," ","I understand","epp-IST-om-eye","Verb  "," ","ἠπιστάμην","ἐπιστήσομαι","ἠπιστήθην","epistamai hpistamhn episthsomai hpisthqhn","1987",1987,"ἐπίσταμαι",true,true,true,38," ","I understand","epp-IST-om-eye","Verb  "," ","ἠπιστάμην","ἐπιστήσομαι","ἠπιστήθην","1987",624,624,38,"ἐπίσταμαι"," ","I understand","epp-IST-om-eye","Verb  ","","ἠπιστάμην","ἐπιστήσομαι","","ἠπιστήθην","1987",624,624,38,"Verb  ","ἐπίσταμαι","ἠπιστάμην","ἐπιστήσομαι"," ","epp-IST-om-eye","I understand","ἐπίσταμαι","Index of Textbook: Verb  ","ἠπιστήθην","1987",false,5624,626," "," "," ",624,""," ","  "," ",false,5624,625," "," "," ",624,""," "," "," ",false,5624,713,624,""," "," "," "]
[null,null,null,null,null,null,null,null,null,null,null,null,null,null,null,null,null,null,null,null,null,null,null,null,null,null,null,null,null,null,627,"38","ἐπιτάσσω"," ","I command, I order","eh-pit-AHS-owe","Verb  "," ","ἐπέτασσον","ἐπιτάξω","ἐπέταξα","epitassw epetasson epitaxw epetaxa","2004",2004,"ἐπιτάσσω",true,true,true,"38"," ","I command, I order","eh-pit-AHS-owe","Verb  "," ","ἐπέτασσον","ἐπιτάξω","ἐπέταξα","2004",627,627,"38","ἐπιτάσσω"," ","I command, I order","eh-pit-AHS-owe","Verb  ","","ἐπέτασσον","ἐπιτάξω","","ἐπέταξα","2004",627,627,"38","Verb  ","ἐπιτάσσω","ἐπέτασσον","ἐπιτάξω"," ","eh-pit-AHS-owe","I command, I order","ἐπιτάσσω","Chapter 38: Verb  ","ἐπέταξα","2004",false,5627,629," "," "," ",627,""," ","  "," ",false,5627,628," "," "," ",627,""," "," "," ",false,5627,716,627,""," "," "," "]
[null,null,null,null,null,null,null,null,null,null,null,null,null,null,null,null,null,null,null,null,null,null,null,null,null,null,null,null,null,null,635,38,"ἐργάζομαι"," ","I work, I do","er-GAHZ-om-eye","Verb  "," ","ἠργαζόμην","ἐργάσομαι","ἠργασάμην","ergazomai hrgazomhn hrgasamhn ergasomai","2038",2038,"ἐργάζομαι",true,true,true,38," ","I work, I do","er-GAHZ-om-eye","Verb  "," ","ἠργαζόμην","ἐργάσομαι","ἠργασάμην","2038",635,635,38,"ἐργάζομαι"," ","I work, I do","er-GAHZ-om-eye","Verb  ","","ἠργαζόμην","ἐργάσομαι","","ἠργασάμην","2038",635,635,38,"Verb  ","ἐργάζομαι","ἠργαζόμην","ἐργάσομαι"," ","er-GAHZ-om-eye","I work, I do","ἐργάζομαι","Index of Textbook: Verb  ","ἠργασάμην","2038",false,5635,637," "," "," ",635,""," ","  "," ",false,5635,636," "," "," ",635,""," "," "," ",false,5635,724,635,""," "," "," "]
[null,null,null,null,null,null,null,null,null,null,null,null,null,null,null,null,null,null,null,null,null,null,null,null,null,null,null,null,null,null,640,"18","ἔρχομαι","*ἐρχ","I come, (I go)","ERK-om-eye","Verb  "," ","ἠρχόμην","ἐλεύσομαι","ἦλθον, ἦλθα","ercomai hrcomhn eleusomai hlqon hqa","2064",2064,"ἔρχομαι",true,true,true,"18","*ἐρχ","I come, (I go)","ERK-om-eye","Verb  "," ","ἠρχόμην","ἐλεύσομαι","ἦλθον, ἦλθα","2064",640,640,"18","ἔρχομαι","*ἐρχ","I come, (I go)","ERK-om-eye","Verb  ","","ἠρχόμην","ἐλεύσομαι","","ἦλθον, ἦλθα","2064",640,640,"18","Verb  ","ἔρχομαι","ἠρχόμην","ἐλεύσομαι","*ἐρχ","ERK-om-eye","I come, (I go)","ἔρχομαι","Chapter 18: Verb  ","ἦλθον, ἦλθα","2064",false,5640,642," "," "," ",640,""," ","  "," ",false,5640,641," "," "," ",640,""," "," "," ",false,5640,729,640,""," "," "," "]
[null,null,null,null,null,null,null,null,null,null,null,null,null,null,null,null,null,null,null,null,null,null,null,null,null,null,null,null,null,null,649,"19","ἔσεσθε","*ἐς/εἰμί","ya’ll will be","ESS-ess-theh","Verb  "," ","ἦτε","(ἔσεσθε)","see εἰμί","esesqe the eimi","2071, 1510",2071.4,"ἔσεσθε",true,true,true,"19","*ἐς/εἰμί","ya’ll will be","ESS-ess-theh","Verb  "," ","ἦτε","(ἔσεσθε)","see εἰμί","2071, 1510",649,649,"19","ἔσεσθε","*ἐς/εἰμί","ya’ll will be","ESS-ess-theh","Verb  ","","ἦτε","(ἔσεσθε)","","see εἰμί","2071, 1510",649,649,"19","Verb  ","ἔσεσθε","ἦτε","(ἔσεσθε)","*ἐς/εἰμί","ESS-ess-theh","ya’ll will be","ἔσεσθε","Chapter 19: Verb  ","see εἰμί","2071, 1510",false,5649,651," "," "," ",649,""," ","  "," ",false,5649,650," "," "," ",649,""," "," "," ",false,5649,737,649,""," "," "," "]
[null,null,null,null,null,null,null,null,null,null,null,null,null,null,null,null,null,null,null,null,null,null,null,null,null,null,null,null,null,null,655,"27","ἕτερος","*ἑτερο","different, other, another","HET-err-oss","Adjective"," "," "," ","  ","eteros","2087",2087,"ἕτερος",true,true,true,"27","*ἑτερο","different, other, another","HET-err-oss","Adjective"," "," "," ","  ","2087",655,655,"27","ἕτερος","*ἑτερο","different, other, another","HET-err-oss","Adjective",""," "," ","","  ","2087",655,655,"27","Adjective","ἕτερος"," "," ","*ἑτερο","HET-err-oss","different, other, another","ἕτερος","Chapter 27: Adjective","  ","2087",false,5655,657," "," "," ",655,""," ","  "," ",false,5655,656," "," "," ",655,""," "," "," ",false,5655,743,655,""," "," "," "]
[null,null,null,null,null,null,null,null,null,null,null,null,null,null,null,null,null,null,null,null,null,null,null,null,null,null,null,null,null,null,660,"27","εὐαγγελίζω","*εύαγγελιδ","I preach, I bring good news","you-ahng-ell-EE-zoe","Verb  "," ","εὐηγγέλιζον","εὐαγγελιοῦμαι","εὐηγγέλισα","euaggelizw euhggelizon euhggelisa euaggelioumai","2097",2097,"εὐαγγελίζω",true,true,true,"27","*εύαγγελιδ","I preach, I bring good news","you-ahng-ell-EE-zoe","Verb  "," ","εὐηγγέλιζον","εὐαγγελιοῦμαι","εὐηγγέλισα","2097",660,660,"27","εὐαγγελίζω","*εύαγγελιδ","I preach, I bring good news","you-ahng-ell-EE-zoe","Verb  ","","εὐηγγέλιζον","εὐαγγελιοῦμαι","","εὐηγγέλισα","2097",660,660,"27","Verb  ","εὐαγγελίζω","εὐηγγέλιζον","εὐαγγελιοῦμαι","*εύαγγελιδ","you-ahng-ell-EE-zoe","I preach, I bring good news","εὐαγγελίζω","Chapter 27: Verb  ","εὐηγγέλισα","2097",false,5660,662," "," "," ",660,""," ","  "," ",false,5660,661," "," "," ",660,""," "," "," ",false,5660,747,660,""," "," "," "]
[null,null,null,null,null,null,null,null,null,null,null,null,null,null,null,null,null,null,null,null,null,null,null,null,null,null,null,null,null,null,668,38,"εὐλογία"," ","blessing","you-log-EE-ah","Noun  ","ἡ"," "," ","  ","eulogia","2129",2129,"εὐλογία",true,true,true,38," ","blessing","you-log-EE-ah","Noun  ","ἡ"," "," ","  ","2129",668,668,38,"ἡ εὐλογία"," ","blessing","you-log-EE-ah","Noun  ","ἡ "," "," ","ἡ ","  ","2129",668,668,38,"Noun  ","ἡ εὐλογία"," "," "," ","you-log-EE-ah","blessing","ἡ εὐλογία","Index of Textbook: Noun  ","  ","2129",false,5668,670," "," "," ",668,""," ","  "," ",false,5668,669," "," "," ",668,""," "," "," ",false,5668,755,668,""," "," "," "]
[null,null,null,null,null,null,null,null,null,null,null,null,null,null,null,null,null,null,null,null,null,null,null,null,null,null,null,null,null,null,678,"16","ἔχω","*σεχ","I have, I hold, I possess","ekh-owe","Verb  "," ","εἶχον","ἔξω","ἔσχον","ecw eicon exw escon","2192",2192,"ἔχω",true,true,true,"16","*σεχ","I have, I hold, I possess","ekh-owe","Verb  "," ","εἶχον","ἔξω","ἔσχον","2192",678,678,"16","ἔχω","*σεχ","I have, I hold, I possess","ekh-owe","Verb  ","","εἶχον","ἔξω","","ἔσχον","2192",678,678,"16","Verb  ","ἔχω","εἶχον","ἔξω","*σεχ","ekh-owe","I have, I hold, I possess","ἔχω","Chapter 16: Verb  ","ἔσχον","2192",false,5678,680," "," "," ",678,""," ","  "," ",false,5678,679," "," "," ",678,""," "," "," ",true,678,40,678,"","ἔχω","I have, I hold, I possess"," "]
[null,null,null,null,null,null,null,null,null,null,null,null,null,null,null,null,null,null,null,null,null,null,null,null,null,null,null,null,null,null,680,"12","ἕως (preposition)"," ","as far as","HAY-ose","Preposition"," "," "," ","  ","ews","2193",2193,"ἕως (preposition)",true,true,true,"12"," ","as far as","HAY-ose","Preposition"," "," "," ","  ","2193",680,680,"12","ἕως (preposition)"," ","as far as","HAY-ose","Preposition",""," "," ","","  ","2193",680,680,"12","Preposition","ἕως (preposition)"," "," "," ","HAY-ose","as far as","ἕως (preposition)","Chapter 12: Preposition","  ","2193",false,5680,682," "," "," ",680,""," ","  "," ",false,5680,681," "," "," ",680,""," "," "," ",false,5680,766,680,""," "," "," "]
[null,null,null,null,null,null,null,null,null,null,null,null,null,null,null,null,null,null,null,null,null,null,null,null,null,null,null,null,null,null,688,"17","ζητέω","*ζητε","I seek, I desire","zay-TEH-owe","Verb  "," ","ἐζήτουν","ζητήσω","ἐζήτησα","zhtew ezhtoun zhthsw ezhthsa","2212",2212,"ζητέω",true,true,true,"17","*ζητε","I seek, I desire","zay-TEH-owe","Verb  "," ","ἐζήτουν","ζητήσω","ἐζήτησα","2212",688,688,"17","ζητέω","*ζητε","I seek, I desire","zay-TEH-owe","Verb  ","","ἐζήτουν","ζητήσω","","ἐζήτησα","2212",688,688,"17","Verb  ","ζητέω","ἐζήτουν","ζητήσω","*ζητε","zay-TEH-owe","I seek, I desire","ζητέω","Chapter 17: Verb  ","ἐζήτησα","2212",false,5688,690," "," "," ",688,""," ","  "," ",false,5688,689," "," "," ",688,""," "," "," ",false,5688,773,688,""," "," "," "]
[null,null,null,null,null,null,null,null,null,null,null,null,null,null,null,null,null,null,null,null,null,null,null,null,null,null,null,null,null,null,700,38,"ἥλιος"," ","sun","HAY-lee-oss","Noun  ","ὁ"," "," ","  ","hlios","2246",2246,"ἥλιος",true,true,true,38," ","sun","HAY-lee-oss","Noun  ","ὁ"," "," ","  ","2246",700,700,38,"ὁ ἥλιος"," ","sun","HAY-lee-oss","Noun  ","ὁ "," "," ","ὁ ","  ","2246",700,700,38,"Noun  ","ὁ ἥλιος"," "," "," ","HAY-lee-oss","sun","ὁ ἥλιος","Index of Textbook: Noun  ","  ","2246",false,5700,702," "," "," ",700,""," ","  "," ",false,5700,701," "," "," ",700,""," "," "," ",false,5700,781,700,""," "," "," "]
[null,null,null,null,null,null,null,null,null,null,null,null,null,null,null,null,null,null,null,null,null,null,null,null,null,null,null,null,null,null,703,"37","ἡμέτερος"," ","our","hay-MET-err-oss","Adjective"," "," "," ","  ","hmeteros","2251",2251,"ἡμέτερος",true,true,true,"37"," ","our","hay-MET-err-oss","Adjective"," "," "," ","  ","2251",703,703,"37","ἡμέτερος"," ","our","hay-MET-err-oss","Adjective",""," "," ","","  ","2251",703,703,"37","Adjective","ἡμέτερος"," "," "," ","hay-MET-err-oss","our","ἡμέτερος","Extra: Adjective","  ","2251",false,5703,705," "," "," ",703,""," ","  "," ",false,5703,704," "," "," ",703,""," "," "," ",false,5703,784,703,""," "," "," "]
[null,null,null,null,null,null,null,null,null,null,null,null,null,null,null,null,null,null,null,null,null,null,null,null,null,null,null,null,null,null,708,38,"Ἠσαΐας"," ","Isaiah","ay-sah-EE-ahss","Proper Noun","ὁ"," "," ","  ","hsaias","2268",2268,"Ἠσαΐας",true,true,true,38," ","Isaiah","ay-sah-EE-ahss","Proper Noun","ὁ"," "," ","  ","2268",708,708,38,"ὁ Ἠσαΐας"," ","Isaiah","ay-sah-EE-ahss","Proper Noun","ὁ "," "," ","ὁ ","  ","2268",708,708,38,"Proper Noun","ὁ Ἠσαΐας"," "," "," ","ay-sah-EE-ahss","Isaiah","ὁ Ἠσαΐας","Index of Textbook: Proper Noun","  ","2268",false,5708,710," "," "," ",708,""," ","  "," ",false,5708,709," "," "," ",708,""," "," "," ",false,5708,788,708,""," "," "," "]
[null,null,null,null,null,null,null,null,null,null,null,null,null,null,null,null,null,null,null,null,null,null,null,null,null,null,null,null,null,null,720,38,"θεραπεύω"," ","I heal","thare-a-PYU-owe","Verb  "," ","ἐθεράπευον","θεραπεύσω","ἐθέράπευσα","qerapeuw eqerapeuon qerapeusw eqerapeusa","2323",2323,"θεραπεύω",true,true,true,38," ","I heal","thare-a-PYU-owe","Verb  "," ","ἐθεράπευον","θεραπεύσω","ἐθέράπευσα","2323",720,720,38,"θεραπεύω"," ","I heal","thare-a-PYU-owe","Verb  ","","ἐθεράπευον","θεραπεύσω","","ἐθέράπευσα","2323",720,720,38,"Verb  ","θεραπεύω","ἐθεράπευον","θεραπεύσω"," ","thare-a-PYU-owe","I heal","θεραπεύω","Index of Textbook: Verb  ","ἐθέράπευσα","2323",false,5720,722," "," "," ",720,""," ","  "," ",false,5720,721," "," "," ",720,""," "," "," ",false,5720,800,720,""," "," "," "]
[null,null,null,null,null,null,null,null,null,null,null,null,null,null,null,null,null,null,null,null,null,null,null,null,null,null,null,null,null,null,721,38,"θερίζω"," ","I reap","thare-IZ-owe","Verb  "," ","ἐθέριζον","θερίσω","ἐθέρισα","qerizw qerisw eqerisa eqerizon","2325",2325,"θερίζω",true,true,true,38," ","I reap","thare-IZ-owe","Verb  "," ","ἐθέριζον","θερίσω","ἐθέρισα","2325",721,721,38,"θερίζω"," ","I reap","thare-IZ-owe","Verb  ","","ἐθέριζον","θερίσω","","ἐθέρισα","2325",721,721,38,"Verb  ","θερίζω","ἐθέριζον","θερίσω"," ","thare-IZ-owe","I reap","θερίζω","Index of Textbook: Verb  ","ἐθέρισα","2325",false,5721,723," "," "," ",721,""," ","  "," ",false,5721,722," "," "," ",721,""," "," "," ",false,5721,801,721,""," "," "," "]
[null,null,null,null,null,null,null,null,null,null,null,null,null,null,null,null,null,null,null,null,null,null,null,null,null,null,null,null,null,null,733,38,"θύρα"," ","door","THOOR-ah","Noun  ","ἡ"," "," ","  ","qura","2374",2374,"θύρα",true,true,true,38," ","door","THOOR-ah","Noun  ","ἡ"," "," ","  ","2374",733,733,38,"ἡ θύρα"," ","door","THOOR-ah","Noun  ","ἡ "," "," ","ἡ ","  ","2374",733,733,38,"Noun  ","ἡ θύρα"," "," "," ","THOOR-ah","door","ἡ θύρα","Index of Textbook: Noun  ","  ","2374",false,5733,735," "," "," ",733,""," ","  "," ",false,5733,734," "," "," ",733,""," "," "," ",false,5733,813,733,""," "," "," "]
[null,null,null,null,null,null,null,null,null,null,null,null,null,null,null,null,null,null,null,null,null,null,null,null,null,null,null,null,"`",null,736,38,"θύω"," ","I sacrifice, I kill","THOO-owe","Verb  "," ","ἔθυον","θύσω","ἔθυσα","quw equon equsa qusw","2380",2380,"θύω",true,true,true,38," ","I sacrifice, I kill","THOO-owe","Verb  "," ","ἔθυον","θύσω","ἔθυσα","2380",736,736,38,"θύω"," ","I sacrifice, I kill","THOO-owe","Verb  ","","ἔθυον","θύσω","","ἔθυσα","2380",736,736,38,"Verb  ","θύω","ἔθυον","θύσω"," ","THOO-owe","I sacrifice, I kill","θύω","Index of Textbook: Verb  ","ἔθυσα","2380",false,5736,738," "," "," ",736,""," ","  "," ",false,5736,737," "," "," ",736,""," "," "," ",true,736,47,736,"","θύω","I sacrifice, I kill"," "]
[null,null,null,null,null,null,null,null,null,null,null,null,null,null,null,null,null,null,null,null,null,null,null,null,null,null,null,null,null,null,741,"11","ἴδε"," ","See! Behold!","EE-deh","Interjection"," "," "," ","  ","ide","2396",2396,"ἴδε",true,true,true,"11"," ","See! Behold!","EE-deh","Interjection"," "," "," ","  ","2396",741,741,"11","ἴδε"," ","See! Behold!","EE-deh","Interjection",""," "," ","","  ","2396",741,741,"11","Interjection","ἴδε"," "," "," ","EE-deh","See! Behold!","ἴδε","Chapter 11: Interjection","  ","2396",false,5741,743," "," "," ",741,""," ","  "," ",false,5741,742," "," "," ",741,""," "," "," ",true,741,48,741,"","ἴδε","See! Behold!"," "]
[null,null,null,null,null,null,null,null,null,null,null,null,null,null,null,null,null,null,null,null,null,null,null,null,null,null,null,null,null,null,753,"37","ἱλασμός"," ","atoning sacrifice","hill-ahs-MOSS","Noun  ","ὁ"," "," ","  ","ilasmos","2434",2434,"ἱλασμός",true,true,true,"37"," ","atoning sacrifice","hill-ahs-MOSS","Noun  ","ὁ"," "," ","  ","2434",753,753,"37","ὁ ἱλασμός"," ","atoning sacrifice","hill-ahs-MOSS","Noun  ","ὁ "," "," ","ὁ ","  ","2434",753,753,"37","Noun  ","ὁ ἱλασμός"," "," "," ","hill-ahs-MOSS","atoning sacrifice","ὁ ἱλασμός","Extra: Noun  ","  ","2434",false,5753,755," "," "," ",753,""," ","  "," ",false,5753,754," "," "," ",753,""," "," "," ",false,5753,831,753,""," "," "," "]
[null,null,null,null,null,null,null,null,null,null,null,null,null,null,null,null,null,null,null,null,null,null,null,null,null,null,null,null,null,null,761,"19","Ἰουδαίος","*ἰουδαιο","Jewish","ee-ohh-DYE-oss","Adjective"," "," "," ","  ","ioudaios","2453",2453.1,"Ἰουδαίος",true,true,true,"19","*ἰουδαιο","Jewish","ee-ohh-DYE-oss","Adjective"," "," "," ","  ","2453",761,761,"19","Ἰουδαίος","*ἰουδαιο","Jewish","ee-ohh-DYE-oss","Adjective",""," "," ","","  ","2453",761,761,"19","Adjective","Ἰουδαίος"," "," ","*ἰουδαιο","ee-ohh-DYE-oss","Jewish","Ἰουδαίος","Chapter 19: Adjective","  ","2453",false,5761,763," "," "," ",761,""," ","  "," ",false,5761,762," "," "," ",761,""," "," "," ",false,5761,838,761,""," "," "," "]
[null,null,null,null,null,null,null,null,null,null,null,null,null,null,null,null,null,null,null,null,null,null,null,null,null,null,null,null,null,null,765,"37","ἴσος"," ","equal, same, alike, similar","EE-soss","Adjective"," "," "," "," ","isos",2470,2470,"ἴσος",{"$f":"IF(ISERR(FIND(AF768,$Y$22,1)),FALSE,TRUE)","v":true},{"$f":"IF(ISERR(FIND(AK768,$Y$23,1)),FALSE,TRUE)","v":true},{"$f":"AND(AT768,AU768)","v":true},{"$f":"IF(AC$3,AF768,\" \")","v":"37"},{"$f":"IF(AC$4,AH768,\" \")","v":" "},{"$f":"IF(TRUE,AI768,\" \")","v":"equal, same, alike, similar"},{"$f":"IF(AC$6,AJ768,\" \")","v":"EE-soss"},{"$f":"IF(AC$7,AK768,\" \")","v":"Adjective"},{"$f":"IF(AC$8,AL768,\" \")","v":" "},{"$f":"IF(AC$9,AM768,\" \")","v":" "},{"$f":"IF(AC$10,AN768,\" \")","v":" "}," ",2470,765,765,{"$f":"IF(AV768,AW768,\" \")","v":"37"},"ἴσος",{"$f":"IF($AV768,AX768,\" \")","v":" "},{"$f":"IF($AV768,AY768,\" \")","v":"equal, same, alike, similar"},{"$f":"IF($AV768,AZ768,\" \")","v":"EE-soss"},{"$f":"IF($AV768,BA768,\" \")","v":"Adjective"},{"$f":"IF($AV768,IF(BB768=\" \",\"\",BB768&\" \"),\"\")","v":""},{"$f":"IF($AV768,BC768,\" \")","v":" "},{"$f":"IF($AV768,BD768,\" \")","v":" "},""," ",2470,765,765,"37","Adjective","ἴσος"," "," "," ","EE-soss","equal, same, alike, similar","ἴσος","Extra: Adjective"," ",2470,{"$f":"IF(ISERR(SEARCH(CL$2,AY768,1)),FALSE, TRUE)","v":false},5765,767," ",{"$f":"IF($CI768,AY768,\" \")","v":" "}," ",765,""," ","  "," ",{"$f":"IF(ISERR(FIND(CW$2,AP768,1)),FALSE, TRUE)","v":false},5765,766," "," "," ",765,""," "," "," ",false,5765,842,765,""," ",{"$f":"IF($DE768,AY768,\" \")","v":" "}," "]
[null,null,null,null,null,null,null,null,null,null,null,null,null,null,null,null,null,null,null,null,null,null,null,null,null,null,null,null,null,null,773,38,"Ἰωσήφ"," ","Joseph","ii-owe-SAFE","Proper Noun","ὁ"," "," ","  ","iwshf","2501",2501,"Ἰωσήφ",true,true,true,38," ","Joseph","ii-owe-SAFE","Proper Noun","ὁ"," "," ","  ","2501",773,773,38,"ὁ Ἰωσήφ"," ","Joseph","ii-owe-SAFE","Proper Noun","ὁ "," "," ","ὁ ","  ","2501",773,773,38,"Proper Noun","ὁ Ἰωσήφ"," "," "," ","ii-owe-SAFE","Joseph","ὁ Ἰωσήφ","Index of Textbook: Proper Noun","  ","2501",false,5773,775," "," "," ",773,""," ","  "," ",false,5773,774," "," "," ",773,""," "," "," ",false,5773,850,773,""," "," "," "]
[null,null,null,null,null,null,null,null,null,null,null,null,null,null,null,null,null,null,null,null,null,null,null,null,null,null,null,null,null,null,781,38,"καθίστημι"," ","I appoint, I authorize","kath-ISS-tay-me","Verb  "," ","καθίστην","καταστήσω","κάτέστησα","kaqisthmi katasthsw katesthsa kaqisthn","2525",2525,"καθίστημι",true,true,true,38," ","I appoint, I authorize","kath-ISS-tay-me","Verb  "," ","καθίστην","καταστήσω","κάτέστησα","2525",781,781,38,"καθίστημι"," ","I appoint, I authorize","kath-ISS-tay-me","Verb  ","","καθίστην","καταστήσω","","κάτέστησα","2525",781,781,38,"Verb  ","καθίστημι","καθίστην","καταστήσω"," ","kath-ISS-tay-me","I appoint, I authorize","καθίστημι","Index of Textbook: Verb  ","κάτέστησα","2525",false,5781,783," "," "," ",781,""," ","  "," ",false,5781,782," "," "," ",781,""," "," "," ",false,5781,858,781,""," "," "," "]
[null,null,null,null,null,null,null,null,null,null,null,null,null,null,null,null,null,null,null,null,null,null,null,null,null,null,null,null,null,null,786,"37","καίπερ"," ","although, even though (particle)","KYE-per","Conjunction"," "," "," "," ","kaiper","2539",2539,"καίπερ",true,true,true,"37"," ","although, even though (particle)","KYE-per","Conjunction"," "," "," "," ","2539",786,786,"37","καίπερ"," ","although, even though (particle)","KYE-per","Conjunction",""," "," ",""," ","2539",786,786,"37","Conjunction","καίπερ"," "," "," ","KYE-per","although, even though (particle)","καίπερ","Extra: Conjunction"," ","2539",false,5786,788," "," "," ",786,""," ","  "," ",false,5786,787," "," "," ",786,""," "," "," ",false,5786,862,786,""," "," "," "]
[null,null,null,null,null,null,null,null,null,null,null,null,null,null,null,null,null,null,null,null,null,null,null,null,null,null,null,null,null,null,790,38,"καίω"," ","I burn, I light","KAI-owe","Verb  "," ","ἔκαιον","καύσω","ἔκαυσα","kaiw kausw ekausa ekaion","2545",2545,"καίω",true,true,true,38," ","I burn, I light","KAI-owe","Verb  "," ","ἔκαιον","καύσω","ἔκαυσα","2545",790,790,38,"καίω"," ","I burn, I light","KAI-owe","Verb  ","","ἔκαιον","καύσω","","ἔκαυσα","2545",790,790,38,"Verb  ","καίω","ἔκαιον","καύσω"," ","KAI-owe","I burn, I light","καίω","Index of Textbook: Verb  ","ἔκαυσα","2545",false,5790,792," "," "," ",790,""," ","  "," ",false,5790,791," "," "," ",790,""," "," "," ",false,5790,866,790,""," "," "," "]
[null,null,null,null,null,null,null,null,null,null,null,null,null,null,null,null,null,null,null,null,null,null,null,null,null,null,null,null,null,null,801,"38","κἄν"," *και","and if, even if (particle)","KAHN","Conjunction"," "," "," "," ","kan","2579",2579,"κἄν",true,true,true,"38"," *και","and if, even if (particle)","KAHN","Conjunction"," "," "," "," ","2579",801,801,"38","κἄν"," *και","and if, even if (particle)","KAHN","Conjunction",""," "," ",""," ","2579",801,801,"38","Conjunction","κἄν"," "," "," *και","KAHN","and if, even if (particle)","κἄν","Chapter 38: Conjunction"," ","2579",false,5801,803," "," "," ",801,""," ","  "," ",false,5801,802," "," "," ",801,""," "," "," ",true,801,51,801,"","κἄν","and if, even if (particle)"," "]
[null,null,null,null,null,null,null,null,null,null,null,null,null,null,null,null,null,null,null,null,null,null,null,null,null,null,null,null,null,null,806,"37","καρποφορέω"," ","I produce, I bear fruit, I am fertile","kar-poff-or-EH-owe","Verb  "," ","ἐκαρποφόρουν","καρποφορήσω","καρποφόρησα","karpoforew ekarpoforoun karpoforhsw karpoforhsa","2592",2592,"καρποφορέω",true,true,true,"37"," ","I produce, I bear fruit, I am fertile","kar-poff-or-EH-owe","Verb  "," ","ἐκαρποφόρουν","καρποφορήσω","καρποφόρησα","2592",806,806,"37","καρποφορέω"," ","I produce, I bear fruit, I am fertile","kar-poff-or-EH-owe","Verb  ","","ἐκαρποφόρουν","καρποφορήσω","","καρποφόρησα","2592",806,806,"37","Verb  ","καρποφορέω","ἐκαρποφόρουν","καρποφορήσω"," ","kar-poff-or-EH-owe","I produce, I bear fruit, I am fertile","καρποφορέω","Extra: Verb  ","καρποφόρησα","2592",false,5806,808," "," "," ",806,""," ","  "," ",false,5806,807," "," "," ",806,""," "," "," ",false,5806,881,806,""," "," "," "]
[null,null,null,null,null,null,null,null,null,null,null,null,null,null,null,null,null,null,null,null,null,null,null,null,null,null,null,null,null,null,814,"38","κατάκειμαι"," ","I recline, I lie down","kah-TAH-kay-my","Verb  "," ","κατεκείμην","κατακείω","(none)","katakeimai katekeimhn katakeiw","2621",2621,"κατάκειμαι",true,true,true,"38"," ","I recline, I lie down","kah-TAH-kay-my","Verb  "," ","κατεκείμην","κατακείω","(none)","2621",814,814,"38","κατάκειμαι"," ","I recline, I lie down","kah-TAH-kay-my","Verb  ","","κατεκείμην","κατακείω","","(none)","2621",814,814,"38","Verb  ","κατάκειμαι","κατεκείμην","κατακείω"," ","kah-TAH-kay-my","I recline, I lie down","κατάκειμαι","Chapter 38: Verb  ","(none)","2621",false,5814,816," "," "," ",814,""," ","  "," ",false,5814,815," "," "," ",814,""," "," "," ",false,5814,889,814,""," "," "," "]
[null,null,null,null,null,null,null,null,null,null,null,null,null,null,null,null,null,null,null,null,null,null,null,null,null,null,null,null,null,null,819,38,"κατανοέω"," ","I consider, I notice","kah-tah-naw-EH-owe","Verb  "," ","κατανόουν","κατανοήσω","κατενόησα","katanoew katanooun katenohsa katanohsw","2657",2657,"κατανοέω",true,true,true,38," ","I consider, I notice","kah-tah-naw-EH-owe","Verb  "," ","κατανόουν","κατανοήσω","κατενόησα","2657",819,819,38,"κατανοέω"," ","I consider, I notice","kah-tah-naw-EH-owe","Verb  ","","κατανόουν","κατανοήσω","","κατενόησα","2657",819,819,38,"Verb  ","κατανοέω","κατανόουν","κατανοήσω"," ","kah-tah-naw-EH-owe","I consider, I notice","κατανοέω","Index of Textbook: Verb  ","κατενόησα","2657",false,5819,821," "," "," ",819,""," ","  "," ",false,5819,820," "," "," ",819,""," "," "," ",false,5819,894,819,""," "," "," "]
[null,null,null,null,null,null,null,null,null,null,null,null,null,null,null,null,null,null,null,null,null,null,null,null,null,null,null,null,null,null,826,38,"κατέρχομαι"," ","I come down","kah-TERX-om-eye","Verb  "," ","κατηρχόμην","κατελεύσομαι","κατῆλθον","katercomai kathlqon kathrcomhn kateleusomai","2718",2718,"κατέρχομαι",true,true,true,38," ","I come down","kah-TERX-om-eye","Verb  "," ","κατηρχόμην","κατελεύσομαι","κατῆλθον","2718",826,826,38,"κατέρχομαι"," ","I come down","kah-TERX-om-eye","Verb  ","","κατηρχόμην","κατελεύσομαι","","κατῆλθον","2718",826,826,38,"Verb  ","κατέρχομαι","κατηρχόμην","κατελεύσομαι"," ","kah-TERX-om-eye","I come down","κατέρχομαι","Index of Textbook: Verb  ","κατῆλθον","2718",false,5826,828," "," "," ",826,""," ","  "," ",false,5826,827," "," "," ",826,""," "," "," ",false,5826,901,826,""," "," "," "]
[null,null,null,null,null,null,null,null,null,null,null,null,null,null,null,null,null,null,null,null,null,null,null,null,null,null,null,null,null,null,834,38,"καύχησις"," ","boasting","KOWX-ay-sis","Noun  ","ἡ"," "," ","  ","kauchsis","2746",2746,{"$f":"IF(AG837=\"\",\"\",AG837)","v":"καύχησις"},true,true,true,38," ","boasting","KOWX-ay-sis","Noun  ","ἡ"," "," ",{"$f":"IF(AC$9,AO837,\" \")","v":"  "},{"$f":"IF(AC$12,AQ837,\" \")","v":"2746"},834,834,38,"ἡ καύχησις"," ","boasting","KOWX-ay-sis","Noun  ","ἡ "," "," ",{"$f":"IF($AV837,IF(AL837=\" \",\"\",AL837&\" \"),\"\")","v":"ἡ "},{"$f":"IF($AV837,BE837,\" \")","v":"  "},"2746",834,834,38,"Noun  ","ἡ καύχησις"," "," "," ","KOWX-ay-sis","boasting","ἡ καύχησις",{"$f":"IF(BV837=\"\",\"\",IF(BW837=\"37\",\"Extra\", IF(BW837=38, \"Index of Textbook\",\"Chapter \" &BW837))&\": \"&BX837)","v":"Index of Textbook: Noun  "},"  ","2746",false,5834,836," "," ",{"$f":"IF($CI837,IF(AW837=\"37\",\" [Extra]\",IF(AW837=\"38\",\" [Index]\",  \" [Chap. \"&TEXT(VALUE(AW837),\"#\")&\"]\")),\" \")","v":" "},834,""," ","  "," ",false,5834,835," "," ",{"$f":"IF($CT837,IF(BB837=\" \",\"\",BB837&\" \")&AG837&CW837&\": \"&AY837&  IF(AF837=\"37\",\"  (Extra\",IF(AF837=\"38\",\"  (Index\",\"  (Chapter \"&TEXT(AF837,\"#\"))) &\", \"&CX837& IF(LEN(AM837)>1,\" [\"&AM837&\"]\",\"\") &IF(LEN(AN837)>1,\" [\"&AN837&\"]\",\"\")         &\")\",\" \")","v":" "},834,""," "," "," ",false,5834,909,834,""," "," "," "]
[null,null,null,null,null,null,null,null,null,null,null,null,null,null,null,null,null,null,null,null,null,null,null,null,null,null,null,null,null,null,839,38,"κερδαίνω"," ","I gain","kerr-DYE-owe","Verb  "," ","ἐκέρδαινον","κερδήσω","ἐκέρδησα","kerdainw kerdhsw ekerdhsa ekerdainon","2770",2770,"κερδαίνω",true,true,true,38," ","I gain","kerr-DYE-owe","Verb  "," ","ἐκέρδαινον","κερδήσω","ἐκέρδησα","2770",839,839,38,"κερδαίνω"," ","I gain","kerr-DYE-owe","Verb  ","","ἐκέρδαινον","κερδήσω","","ἐκέρδησα","2770",839,839,38,"Verb  ","κερδαίνω","ἐκέρδαινον","κερδήσω"," ","kerr-DYE-owe","I gain","κερδαίνω","Index of Textbook: Verb  ","ἐκέρδησα","2770",false,5839,841," "," "," ",839,""," ","  "," ",false,5839,840," "," "," ",839,""," "," "," ",false,5839,914,839,""," "," "," "]
[null,null,null,null,null,null,null,null,null,null,null,null,null,null,null,null,null,null,null,null,null,null,null,null,null,null,null,null,null,null,844,38,"κλάω"," ","I break","KLAH-owe","Verb  "," ","ἔκλων","κλάσω","ἔκλασα","klaw eklasa eklwn klasw","2806",2806,"κλάω",true,true,true,38," ","I break","KLAH-owe","Verb  "," ","ἔκλων","κλάσω","ἔκλασα","2806",844,844,38,"κλάω"," ","I break","KLAH-owe","Verb  ","","ἔκλων","κλάσω","","ἔκλασα","2806",844,844,38,"Verb  ","κλάω","ἔκλων","κλάσω"," ","KLAH-owe","I break","κλάω","Index of Textbook: Verb  ","ἔκλασα","2806",false,5844,846," "," "," ",844,""," ","  "," ",false,5844,845," "," "," ",844,""," "," "," ",false,5844,919,844,""," "," "," "]
[null,null,null,null,null,null,null,null,null,null,null,null,null,null,null,null,null,null,null,null,null,null,null,null,null,null,null,null,null,null,854,"37","κλίνη"," ","couch, bed, mat, table","KLEEN-ay","Noun  ","ἡ"," "," "," ","klinh","2825",2825,"κλίνη",true,true,true,"37"," ","couch, bed, mat, table","KLEEN-ay","Noun  ","ἡ"," "," "," ","2825",854,854,"37","ἡ κλίνη"," ","couch, bed, mat, table","KLEEN-ay","Noun  ","ἡ "," "," ","ἡ "," ","2825",854,854,"37","Noun  ","ἡ κλίνη"," "," "," ","KLEEN-ay","couch, bed, mat, table","ἡ κλίνη","Extra: Noun  "," ","2825",false,5854,856," "," "," ",854,""," ","  "," ",false,5854,855," "," "," ",854,""," "," "," ",false,5854,929,854,""," "," "," "]
[null,null,null,null,null,null,null,null,null,null,null,null,null,null,null,null,null,null,null,null,null,null,null,null,null,null,null,null,null,null,859,38,"κοινόω","  ","I defile, I make impure","koin-A-owe","Verb  "," ","ἐκοίουν","κοινώσω","ἐκοίνωσα","koinow ekoinwsa ekoioun koinwsw","2840",2840,"κοινόω",true,true,true,38,"  ","I defile, I make impure","koin-A-owe","Verb  "," ","ἐκοίουν","κοινώσω","ἐκοίνωσα","2840",859,859,38,"κοινόω","  ","I defile, I make impure","koin-A-owe","Verb  ","","ἐκοίουν","κοινώσω","","ἐκοίνωσα","2840",859,859,38,"Verb  ","κοινόω","ἐκοίουν","κοινώσω","  ","koin-A-owe","I defile, I make impure","κοινόω","Index of Textbook: Verb  ","ἐκοίνωσα","2840",false,5859,861," "," "," ",859,""," ","  "," ",false,5859,860," "," "," ",859,""," "," "," ",false,5859,934,859,""," "," "," "]
[null,null,null,null,null,null,null,null,null,null,null,null,null,null,null,null,null,null,null,null,null,null,null,null,null,null,null,null,null,null,867,"04","κόσμος","*κοσμο","world, universe, humanity","KOSS-moss","Noun  ","ὁ"," "," ","  ","kosmos","2889",2889,"κόσμος",true,true,true,"04","*κοσμο","world, universe, humanity","KOSS-moss","Noun  ","ὁ"," "," ","  ","2889",867,867,"04","ὁ κόσμος","*κοσμο","world, universe, humanity","KOSS-moss","Noun  ","ὁ "," "," ","ὁ ","  ","2889",867,867,"04","Noun  ","ὁ κόσμος"," "," ","*κοσμο","KOSS-moss","world, universe, humanity","ὁ κόσμος","Chapter 04: Noun  ","  ","2889",false,5867,869," "," "," ",867,""," ","  "," ",false,5867,868," "," "," ",867,""," "," "," ",false,5867,942,867,""," "," "," "]
[null,null,null,null,null,null,null,null,null,null,null,null,null,null,null,null,null,null,null,null,null,null,null,null,null,null,null,null,null,null,872,38,"κράτος"," ","power, might","KRATT-oss","Noun  ","τό"," "," ","  ","kratos","2904",2904,"κράτος",true,true,true,38," ","power, might","KRATT-oss","Noun  ","τό"," "," ","  ","2904",872,872,38,"τό κράτος"," ","power, might","KRATT-oss","Noun  ","τό "," "," ","τό ","  ","2904",872,872,38,"Noun  ","τό κράτος"," "," "," ","KRATT-oss","power, might","τό κράτος","Index of Textbook: Noun  ","  ","2904",false,5872,874," "," "," ",872,""," ","  "," ",false,5872,873," "," "," ",872,""," "," "," ",false,5872,947,872,""," "," "," "]
[null,null,null,null,null,null,null,null,null,null,null,null,null,null,null,null,null,null,null,null,null,null,null,null,null,null,null,null,null,null,877,"38","κρίσις","*κριν","judgement, justice","KREE-siss","Noun  ","ἡ"," "," ","  ","krisis","2920",2920,"κρίσις",true,true,true,"38","*κριν","judgement, justice","KREE-siss","Noun  ","ἡ"," "," ","  ","2920",877,877,"38","ἡ κρίσις","*κριν","judgement, justice","KREE-siss","Noun  ","ἡ "," "," ","ἡ ","  ","2920",877,877,"38","Noun  ","ἡ κρίσις"," "," ","*κριν","KREE-siss","judgement, justice","ἡ κρίσις","Chapter 38: Noun  ","  ","2920",false,5877,879," "," "," ",877,""," ","  "," ",false,5877,878," "," "," ",877,""," "," "," ",false,5877,952,877,""," "," "," "]
[null,null,null,null,null,null,null,null,null,null,null,null,null,null,null,null,null,null,null,null,null,null,null,null,null,null,null,null,null,null,887,38,"κωλύω"," ","I forbid, I hinder","koe-LOO-owe","Verb  "," ","ἐκώλυον","κωλύσω","ἐκώλυσα","kwluw ekwluon ekwlusa kwlusw","2967",2967,"κωλύω",true,true,true,38," ","I forbid, I hinder","koe-LOO-owe","Verb  "," ","ἐκώλυον","κωλύσω","ἐκώλυσα","2967",887,887,38,"κωλύω"," ","I forbid, I hinder","koe-LOO-owe","Verb  ","","ἐκώλυον","κωλύσω","","ἐκώλυσα","2967",887,887,38,"Verb  ","κωλύω","ἐκώλυον","κωλύσω"," ","koe-LOO-owe","I forbid, I hinder","κωλύω","Index of Textbook: Verb  ","ἐκώλυσα","2967",false,5887,889," "," "," ",887,""," ","  "," ",false,5887,888," "," "," ",887,""," "," "," ",false,5887,962,887,""," "," "," "]
[null,null,null,null,null,null,null,null,null,null,null,null,null,null,null,null,null,null,null,null,null,null,null,null,null,null,null,null,null,null,892,"22","λαμβάνω","*λαβ","I take, I receive","lahm-BAH-no","Verb  "," ","ἐλάμβανον","λήμψομαι","ἔλάβον","lambanw elambanon  lhmyomai elabon","2983",2983,"λαμβάνω",true,true,true,"22","*λαβ","I take, I receive","lahm-BAH-no","Verb  "," ","ἐλάμβανον","λήμψομαι","ἔλάβον","2983",892,892,"22","λαμβάνω","*λαβ","I take, I receive","lahm-BAH-no","Verb  ","","ἐλάμβανον","λήμψομαι","","ἔλάβον","2983",892,892,"22","Verb  ","λαμβάνω","ἐλάμβανον","λήμψομαι","*λαβ","lahm-BAH-no","I take, I receive","λαμβάνω","Chapter 22: Verb  ","ἔλάβον","2983",false,5892,894," "," "," ",892,""," ","  "," ",false,5892,893," "," "," ",892,""," "," "," ",false,5892,967,892,""," "," "," "]
[null,null,null,null,null,null,null,null,null,null,null,null,null,null,null,null,null,null,null,null,null,null,null,null,null,null,null,null,null,null,900,"31","λίθος","*λιθο","stone","LITH-oss","Noun  ","ὁ"," "," ","  ","liqos","3037",3037,"λίθος",true,true,true,"31","*λιθο","stone","LITH-oss","Noun  ","ὁ"," "," ","  ","3037",900,900,"31","ὁ λίθος","*λιθο","stone","LITH-oss","Noun  ","ὁ "," "," ","ὁ ","  ","3037",900,900,"31","Noun  ","ὁ λίθος"," "," ","*λιθο","LITH-oss","stone","ὁ λίθος","Chapter 31: Noun  ","  ","3037",false,5900,901," "," "," ",900,""," ","  "," ",false,5900,901," "," "," ",900,""," "," "," ",false,5900,975,900,""," "," "," "]
[null,null,null,null,null,null,null,null,null,null,null,null,null,null,null,null,null,null,null,null,null,null,null,null,null,null,null,null,null,null,906,"34","λοιπός [adjective]","*λοιπο","remaining","loy-POSS","Adjective"," "," "," ","  ","loipos","3062",3062.1,"λοιπός [adjective]",true,true,true,"34","*λοιπο","remaining","loy-POSS","Adjective"," "," "," ","  ","3062",906,906,"34","λοιπός [adjective]","*λοιπο","remaining","loy-POSS","Adjective",""," "," ","","  ","3062",906,906,"34","Adjective","λοιπός [adjective]"," "," ","*λοιπο","loy-POSS","remaining","λοιπός [adjective]","Chapter 34: Adjective","  ","3062",false,5906,907," "," "," ",906,""," ","  "," ",false,5906,907," "," "," ",906,""," "," "," ",false,5906,981,906,""," "," "," "]
[null,null,null,null,null,null,null,null,null,null,null,null,null,null,null,null,null,null,null,null,null,null,null,null,null,null,null,null,null,null,912,38,"λύχνος"," ","lamp","LOOKS-noss","Noun  ","ὁ"," "," ","  ","lucnos","3088",3088,"λύχνος",true,true,true,38," ","lamp","LOOKS-noss","Noun  ","ὁ"," "," ","  ","3088",912,912,38,"ὁ λύχνος"," ","lamp","LOOKS-noss","Noun  ","ὁ "," "," ","ὁ ","  ","3088",912,912,38,"Noun  ","ὁ λύχνος"," "," "," ","LOOKS-noss","lamp","ὁ λύχνος","Index of Textbook: Noun  ","  ","3088",false,5912,913," "," "," ",912,""," ","  "," ",false,5912,913," "," "," ",912,""," "," "," ",false,5912,987,912,""," "," "," "]
[null,null,null,null,null,null,null,null,null,null,null,null,null,null,null,null,null,null,null,null,null,null,null,null,null,null,null,null,null,null,920,"38","μακροθυμέω"," ","I am patient","mahk-roth-oom-EH-owe","Verb  "," ","ἐμακροθύμουν","μακροθυμήσω","ἐμακροθύμησα","makroqumew emakroqumhsa emakroqumoun makroqumhsw","3114",3114,"μακροθυμέω",true,true,true,"38"," ","I am patient","mahk-roth-oom-EH-owe","Verb  "," ","ἐμακροθύμουν","μακροθυμήσω","ἐμακροθύμησα","3114",920,920,"38","μακροθυμέω"," ","I am patient","mahk-roth-oom-EH-owe","Verb  ","","ἐμακροθύμουν","μακροθυμήσω","","ἐμακροθύμησα","3114",920,920,"38","Verb  ","μακροθυμέω","ἐμακροθύμουν","μακροθυμήσω"," ","mahk-roth-oom-EH-owe","I am patient","μακροθυμέω","Chapter 38: Verb  ","ἐμακροθύμησα","3114",false,5920,921," "," "," ",920,""," ","  "," ",false,5920,921," "," "," ",920,""," "," "," ",false,5920,994,920,""," "," "," "]
[null,null,null,null,null,null,null,null,null,null,null,null,null,null,null,null,null,null,null,null,null,null,null,null,null,null,null,null,null,null,925,38,"μανθάνω"," ","I learn","mann-THAHN-owe","Verb  "," ","ἐμάνθανον","μαθήσω","ἔμαθον","manqanw emaqon emanqanon maqhsw","3129",3129,"μανθάνω",true,true,true,38," ","I learn","mann-THAHN-owe","Verb  "," ","ἐμάνθανον","μαθήσω","ἔμαθον","3129",925,925,38,"μανθάνω"," ","I learn","mann-THAHN-owe","Verb  ","","ἐμάνθανον","μαθήσω","","ἔμαθον","3129",925,925,38,"Verb  ","μανθάνω","ἐμάνθανον","μαθήσω"," ","mann-THAHN-owe","I learn","μανθάνω","Index of Textbook: Verb  ","ἔμαθον","3129",false,5925,926," "," "," ",925,""," ","  "," ",false,5925,926," "," "," ",925,""," "," "," ",false,5925,999,925,""," "," "," "]
[null,null,null,null,null,null,null,null,null,null,null,null,null,null,null,null,null,null,null,null,null,null,null,null,null,null,null,null,null,null,931,38,"μαρτύριον"," ","testimony, proof","marr-TOOR-ee-on","Noun  ","τό"," "," ","  ","marturion","3142",3142,"μαρτύριον",true,true,true,38," ","testimony, proof","marr-TOOR-ee-on","Noun  ","τό"," "," ","  ","3142",931,931,38,"τό μαρτύριον"," ","testimony, proof","marr-TOOR-ee-on","Noun  ","τό "," "," ","τό ","  ","3142",931,931,38,"Noun  ","τό μαρτύριον"," "," "," ","marr-TOOR-ee-on","testimony, proof","τό μαρτύριον","Index of Textbook: Noun  ","  ","3142",false,5931,932," "," "," ",931,""," ","  "," ",false,5931,932," "," "," ",931,""," "," "," ",false,5931,1005,931,""," "," "," "]
[null,null,null,null,null,null,null,null,null,null,null,null,null,null,null,null,null,null,null,null,null,null,null,null,null,null,null,null,null,null,940,"32","μέλλω","*μελλε","I am about to","MELL-owe","Verb  "," ","ἔμελλον or ἤμελλον","μελλήσω","ἐμέλλησα","mellw emellon hmel mellhsw emellhsa","3195",3195,"μέλλω",true,true,true,"32","*μελλε","I am about to","MELL-owe","Verb  "," ","ἔμελλον or ἤμελλον","μελλήσω","ἐμέλλησα","3195",940,940,"32","μέλλω","*μελλε","I am about to","MELL-owe","Verb  ","","ἔμελλον or ἤμελλον","μελλήσω","","ἐμέλλησα","3195",940,940,"32","Verb  ","μέλλω","ἔμελλον or ἤμελλον","μελλήσω","*μελλε","MELL-owe","I am about to","μέλλω","Chapter 32: Verb  ","ἐμέλλησα","3195",false,5940,941," "," "," ",940,""," ","  "," ",false,5940,941," "," "," ",940,""," "," "," ",false,5940,1014,940,""," "," "," "]
[null,null,null,null,null,null,null,null,null,null,null,null,null,null,null,null,null,null,null,null,null,null,null,null,null,null,null,null,null,null,945,"37","μέντοι"," ","however, nevertheless, but, really (particle)","MEN-toy","Conjunction"," "," "," "," ","mentoi","3305",3305,"μέντοι",true,true,true,"37"," ","however, nevertheless, but, really (particle)","MEN-toy","Conjunction"," "," "," "," ","3305",945,945,"37","μέντοι"," ","however, nevertheless, but, really (particle)","MEN-toy","Conjunction",""," "," ",""," ","3305",945,945,"37","Conjunction","μέντοι"," "," "," ","MEN-toy","however, nevertheless, but, really (particle)","μέντοι","Extra: Conjunction"," ","3305",false,5945,946," "," "," ",945,""," ","  "," ",false,5945,946," "," "," ",945,""," "," "," ",false,5945,1018,945,""," "," "," "]
[null,null,null,null,null,null,null,null,null,null,null,null,null,null,null,null,null,null,null,null,null,null,null,null,null,null,null,null,null,null,953,38,"μεταβαίνω"," ","I go over, I pass over","met-ah-BYE-no","Verb  "," ","μετέβαινον","μεταβήσομαι","μετέβην","metabainw metabhsomai metebhn metebainon","3327",3327,"μεταβαίνω",true,true,true,38," ","I go over, I pass over","met-ah-BYE-no","Verb  "," ","μετέβαινον","μεταβήσομαι","μετέβην","3327",953,953,38,"μεταβαίνω"," ","I go over, I pass over","met-ah-BYE-no","Verb  ","","μετέβαινον","μεταβήσομαι","","μετέβην","3327",953,953,38,"Verb  ","μεταβαίνω","μετέβαινον","μεταβήσομαι"," ","met-ah-BYE-no","I go over, I pass over","μεταβαίνω","Index of Textbook: Verb  ","μετέβην","3327",false,5953,954," "," "," ",953,""," ","  "," ",false,5953,954," "," "," ",953,""," "," "," ",false,5953,1026,953,""," "," "," "]
[null,null,null,null,null,null,null,null,null,null,null,null,null,null,null,null,null,null,null,null,null,null,null,null,null,null,null,null,null,null,960,"07","μή"," ","not, lest (particle; used in non-indicative moods like subjunctive or imperative)","MAY","Adverb"," "," "," ","  ","mh","3361",3361,"μή",true,true,true,"07"," ","not, lest (particle; used in non-indicative moods like subjunctive or imperative)","MAY","Adverb"," "," "," ","  ","3361",960,960,"07","μή"," ","not, lest (particle; used in non-indicative moods like subjunctive or imperative)","MAY","Adverb",""," "," ","","  ","3361",960,960,"07","Adverb","μή"," "," "," ","MAY","not, lest (particle; used in non-indicative moods like subjunctive or imperative)","μή","Chapter 07: Adverb","  ","3361",false,5960,961," "," "," ",960,""," ","  "," ",false,5960,961," "," "," ",960,""," "," "," ",true,960,54,960,"","μή","not, lest (particle; used in non-indicative moods like subjunctive or imperative)"," "]
[null,null,null,null,null,null,null,null,null,null,null,null,null,null,null,null,null,null,null,null,null,null,null,null,null,null,null,null,null,null,965,38,"μηκέτι"," ","no longer","may-KET-ee","Adverb"," "," "," ","  ","mhketi","3371",3371,"μηκέτι",true,true,true,38," ","no longer","may-KET-ee","Adverb"," "," "," ","  ","3371",965,965,38,"μηκέτι"," ","no longer","may-KET-ee","Adverb",""," "," ","","  ","3371",965,965,38,"Adverb","μηκέτι"," "," "," ","may-KET-ee","no longer","μηκέτι","Index of Textbook: Adverb","  ","3371",false,5965,966," "," "," ",965,""," ","  "," ",false,5965,966," "," "," ",965,""," "," "," ",false,5965,1037,965,""," "," "," "]
[null,null,null,null,null,null,null,null,null,null,null,null,null,null,null,null,null,null,null,null,null,null,null,null,null,null,null,null,null,null,973,38,"μικρός"," ","small, little, less","mick-ROSS","Adjective"," "," "," ","  ","mikros","3398",3398,"μικρός",true,true,true,38," ","small, little, less","mick-ROSS","Adjective"," "," "," ","  ","3398",973,973,38,"μικρός"," ","small, little, less","mick-ROSS","Adjective",""," "," ","","  ","3398",973,973,38,"Adjective","μικρός"," "," "," ","mick-ROSS","small, little, less","μικρός","Index of Textbook: Adjective","  ","3398",false,5973,974," "," "," ",973,""," ","  "," ",false,5973,974," "," "," ",973,""," "," "," ",false,5973,1045,973,""," "," "," "]
[null,null,null,null,null,null,null,null,null,null,null,null,null,null,null,null,null,null,null,null,null,null,null,null,null,null,null,null,null,null,978,38,"μνημονεύω"," ","I remember","mnay-mon-OY-owe","Verb  "," ","ἐμνημόνευον","μνημονεύσω","ἐμνημόνευσα","mnhmoneuw emnhmoneuon emnhmoneusa mnhmoneusw","3421",3421,"μνημονεύω",true,true,true,38," ","I remember","mnay-mon-OY-owe","Verb  "," ","ἐμνημόνευον","μνημονεύσω","ἐμνημόνευσα","3421",978,978,38,"μνημονεύω"," ","I remember","mnay-mon-OY-owe","Verb  ","","ἐμνημόνευον","μνημονεύσω","","ἐμνημόνευσα","3421",978,978,38,"Verb  ","μνημονεύω","ἐμνημόνευον","μνημονεύσω"," ","mnay-mon-OY-owe","I remember","μνημονεύω","Index of Textbook: Verb  ","ἐμνημόνευσα","3421",false,5978,979," "," "," ",978,""," ","  "," ",false,5978,979," "," "," ",978,""," "," "," ",false,5978,1050,978,""," "," "," "]
[null,null,null,null,null,null,null,null,null,null,null,null,null,null,null,null,null,null,null,null,null,null,null,null,null,null,null,null,null,null,986,"34","Μωϋσῆς","*μωϋση","Moses","moe-ooh-SACE","Proper Noun","ὁ"," "," ","  ","mwushs","3475",3475,"Μωϋσῆς",true,true,true,"34","*μωϋση","Moses","moe-ooh-SACE","Proper Noun","ὁ"," "," ","  ","3475",986,986,"34","ὁ Μωϋσῆς","*μωϋση","Moses","moe-ooh-SACE","Proper Noun","ὁ "," "," ","ὁ ","  ","3475",986,986,"34","Proper Noun","ὁ Μωϋσῆς"," "," ","*μωϋση","moe-ooh-SACE","Moses","ὁ Μωϋσῆς","Chapter 34: Proper Noun","  ","3475",false,5986,987," "," "," ",986,""," ","  "," ",false,5986,987," "," "," ",986,""," "," "," ",false,5986,1056,986,""," "," "," "]
[null,null,null,null,null,null,null,null,null,null,null,null,null,null,null,null,null,null,null,null,null,null,null,null,null,null,null,null,null,null,993,38,"νέος"," ","new, young","NEH-oss","Adjective"," "," "," ","  ","neos","3501",3501,"νέος",true,true,true,38," ","new, young","NEH-oss","Adjective"," "," "," ","  ","3501",993,993,38,"νέος"," ","new, young","NEH-oss","Adjective",""," "," ","","  ","3501",993,993,38,"Adjective","νέος"," "," "," ","NEH-oss","new, young","νέος","Index of Textbook: Adjective","  ","3501",false,5993,994," "," "," ",993,""," ","  "," ",false,5993,994," "," "," ",993,""," "," "," ",false,5993,1062,993,""," "," "," "]
[null,null,null,null,null,null,null,null,null,null,null,null,null,null,null,null,null,null,null,null,null,null,null,null,null,null,null,null,null,null,998,38,"νικάω"," ","I conquer, I overcome","nikk-AH-owe","Verb  "," ","ἐνήστευον","νηστεύσω","ἐνήστευσα","nhsteuw nhsteusw enhsteusa enhsteuon","3528",3528,"νικάω",true,true,true,38," ","I conquer, I overcome","nikk-AH-owe","Verb  "," ","ἐνήστευον","νηστεύσω","ἐνήστευσα","3528",998,998,38,"νικάω"," ","I conquer, I overcome","nikk-AH-owe","Verb  ","","ἐνήστευον","νηστεύσω","","ἐνήστευσα","3528",998,998,38,"Verb  ","νικάω","ἐνήστευον","νηστεύσω"," ","nikk-AH-owe","I conquer, I overcome","νικάω","Index of Textbook: Verb  ","ἐνήστευσα","3528",false,5998,999," "," "," ",998,""," ","  "," ",false,5998,999," "," "," ",998,""," "," "," ",false,5998,1067,998,""," "," "," "]
[null,null,null,null,null,null,null,null,null,null,null,null,null,null,null,null,null,null,null,null,null,null,null,null,null,null,null,null,null,null,1006,38,"νυμφίος"," ","bridegroom","num-FEE-oss","Noun  ","ὁ"," "," ","  ","numfios","3566",3566,"νυμφίος",true,true,true,38," ","bridegroom","num-FEE-oss","Noun  ","ὁ"," "," ","  ","3566",1006,1006,38,"ὁ νυμφίος"," ","bridegroom","num-FEE-oss","Noun  ","ὁ "," "," ","ὁ ","  ","3566",1006,1006,38,"Noun  ","ὁ νυμφίος"," "," "," ","num-FEE-oss","bridegroom","ὁ νυμφίος","Index of Textbook: Noun  ","  ","3566",false,6006,1007," "," "," ",1006,""," ","  "," ",false,6006,1007," "," "," ",1006,""," "," "," ",false,6006,1075,1006,""," "," "," "]
[null,null,null,null,null,null,null,null,null,null,null,null,null,null,null,null,null,null,null,null,null,null,null,null,null,null,null,null,null,null,1018,"07","τοῦ","ὁ","the/of the (genitive, singular, masculine or neuter)","TOO","Article"," "," "," ","  ","tou","3588",3588.04,"τοῦ",true,true,true,"07","ὁ","the/of the (genitive, singular, masculine or neuter)","TOO","Article"," "," "," ","  ","3588",1018,1018,"07","τοῦ","ὁ","the/of the (genitive, singular, masculine or neuter)","TOO","Article",""," "," ","","  ","3588",1018,1018,"07","Article","τοῦ"," "," ","ὁ","TOO","the/of the (genitive, singular, masculine or neuter)","τοῦ","Chapter 07: Article","  ","3588",false,6018,1019," "," "," ",1018,""," ","  "," ",false,6018,1019," "," "," ",1018,""," "," "," ",true,1018,63,1018,"","τοῦ","the/of the (genitive, singular, masculine or neuter)"," "]
[null,null,null,null,null,null,null,null,null,null,null,null,null,null,null,null,null,null,null,null,null,null,null,null,null,null,null,null,null,null,1024,"06","οἱ","ὁ","the (nominative, plural, masculine)","HOY","Article"," "," "," ","  ","oi","3588",3588.1,"οἱ",true,true,true,"06","ὁ","the (nominative, plural, masculine)","HOY","Article"," "," "," ","  ","3588",1024,1024,"06","οἱ","ὁ","the (nominative, plural, masculine)","HOY","Article",""," "," ","","  ","3588",1024,1024,"06","Article","οἱ"," "," ","ὁ","HOY","the (nominative, plural, masculine)","οἱ","Chapter 06: Article","  ","3588",false,6024,1025," "," "," ",1024,""," ","  "," ",false,6024,1025," "," "," ",1024,""," "," "," ",true,1024,69,1024,"","οἱ","the (nominative, plural, masculine)"," "]
[null,null,null,null,null,null,null,null,null,null,null,null,null,null,null,null,null,null,null,null,null,null,null,null,null,null,null,null,null,null,1026,"06","τά","ὁ","the (nominative or accusative, plural, neuter)","TAH","Article"," "," "," ","  ","ta","3588",3588.12,{"$f":"IF(AG1029=\"\",\"\",AG1029)","v":"τά"},true,true,true,"06","ὁ","the (nominative or accusative, plural, neuter)","TAH","Article"," "," "," ",{"$f":"IF(AC$9,AO1029,\" \")","v":"  "},{"$f":"IF(AC$12,AQ1029,\" \")","v":"3588"},1026,1026,"06","τά","ὁ","the (nominative or accusative, plural, neuter)","TAH","Article",""," "," ",{"$f":"IF($AV1029,IF(AL1029=\" \",\"\",AL1029&\" \"),\"\")","v":""},{"$f":"IF($AV1029,BE1029,\" \")","v":"  "},"3588",1026,1026,"06","Article","τά"," "," ","ὁ","TAH","the (nominative or accusative, plural, neuter)","τά",{"$f":"IF(BV1029=\"\",\"\",IF(BW1029=\"37\",\"Extra\", IF(BW1029=38, \"Index of Textbook\",\"Chapter \" &BW1029))&\": \"&BX1029)","v":"Chapter 06: Article"},"  ","3588",false,6026,1027," "," ",{"$f":"IF($CI1029,IF(AW1029=\"37\",\" [Extra]\",IF(AW1029=\"38\",\" [Index]\",  \" [Chap. \"&TEXT(VALUE(AW1029),\"#\")&\"]\")),\" \")","v":" "},1026,""," ","  "," ",false,6026,1027," "," ",{"$f":"IF($CT1029,IF(BB1029=\" \",\"\",BB1029&\" \")&AG1029&CW1029&\": \"&AY1029&  IF(AF1029=\"37\",\"  (Extra\",IF(AF1029=\"38\",\"  (Index\",\"  (Chapter \"&TEXT(AF1029,\"#\"))) &\", \"&CX1029& IF(LEN(AM1029)>1,\" [\"&AM1029&\"]\",\"\") &IF(LEN(AN1029)>1,\" [\"&AN1029&\"]\",\"\")         &\")\",\" \")","v":" "},1026,""," "," "," ",true,1026,71,1026,"","τά","the (nominative or accusative, plural, neuter)"," "]
[null,null,null,null,null,null,null,null,null,null,null,null,null,null,null,null,null,null,null,null,null,null,null,null,null,null,null,null,null,null,1038,"38","οἰκοδεσπότης"," ","master of the house","oy-kod-ess-POT-ace","Noun  ","ὁ"," "," "," ","oikodespoths","3617",3617,"οἰκοδεσπότης",true,true,true,"38"," ","master of the house","oy-kod-ess-POT-ace","Noun  ","ὁ"," "," "," ","3617",1038,1038,"38","ὁ οἰκοδεσπότης"," ","master of the house","oy-kod-ess-POT-ace","Noun  ","ὁ "," "," ","ὁ "," ","3617",1038,1038,"38","Noun  ","ὁ οἰκοδεσπότης"," "," "," ","oy-kod-ess-POT-ace","master of the house","ὁ οἰκοδεσπότης","Chapter 38: Noun  "," ","3617",false,6038,1039," "," "," ",1038,""," ","  "," ",false,6038,1039," "," "," ",1038,""," "," "," ",false,6038,1091,1038,""," "," "," "]
[null,null,null,null,null,null,null,null,null,null,null,null,null,null,null,null,null,null,null,null,null,null,null,null,null,null,null,null,null,null,1039,38,"οἰκοδομέω"," ","I build, I construct","oy-kod-om-EH-owe","Verb  "," ","ᾠκοδόμουν","οἰκοδομήσω","ᾠκοδόμησα","oikodomew wkodomoun oikodomhsw wkodomhsa","3618",3618,"οἰκοδομέω",true,true,true,38," ","I build, I construct","oy-kod-om-EH-owe","Verb  "," ","ᾠκοδόμουν","οἰκοδομήσω","ᾠκοδόμησα","3618",1039,1039,38,"οἰκοδομέω"," ","I build, I construct","oy-kod-om-EH-owe","Verb  ","","ᾠκοδόμουν","οἰκοδομήσω","","ᾠκοδόμησα","3618",1039,1039,38,"Verb  ","οἰκοδομέω","ᾠκοδόμουν","οἰκοδομήσω"," ","oy-kod-om-EH-owe","I build, I construct","οἰκοδομέω","Index of Textbook: Verb  ","ᾠκοδόμησα","3618",false,6039,1040," "," "," ",1039,""," ","  "," ",false,6039,1040," "," "," ",1039,""," "," "," ",false,6039,1092,1039,""," "," "," "]
[null,null,null,null,null,null,null,null,null,null,null,null,null,null,null,null,null,null,null,null,null,null,null,null,null,null,null,null,null,null,1047,"19","ὅλος","*ὁλο","whole, complete","HOLL-oss","Adjective"," "," "," ","  ","olos","3650",3650,"ὅλος",true,true,true,"19","*ὁλο","whole, complete","HOLL-oss","Adjective"," "," "," ","  ","3650",1047,1047,"19","ὅλος","*ὁλο","whole, complete","HOLL-oss","Adjective",""," "," ","","  ","3650",1047,1047,"19","Adjective","ὅλος"," "," ","*ὁλο","HOLL-oss","whole, complete","ὅλος","Chapter 19: Adjective","  ","3650",false,6047,1048," "," "," ",1047,""," ","  "," ",false,6047,1048," "," "," ",1047,""," "," "," ",false,6047,1100,1047,""," "," "," "]
[null,null,null,null,null,null,null,null,null,null,null,null,null,null,null,null,null,null,null,null,null,null,null,null,null,null,null,null,null,null,1058,38,"ὀνομάζω"," ","I name","on-om-AHZ-owe","Verb  "," ","ὀνόμαζον","ὀνομάσω","ὠνόμασα","onomazw wnomasa onomazon onomasw","3687",3687,"ὀνομάζω",true,true,true,38," ","I name","on-om-AHZ-owe","Verb  "," ","ὀνόμαζον","ὀνομάσω","ὠνόμασα","3687",1058,1058,38,"ὀνομάζω"," ","I name","on-om-AHZ-owe","Verb  ","","ὀνόμαζον","ὀνομάσω","","ὠνόμασα","3687",1058,1058,38,"Verb  ","ὀνομάζω","ὀνόμαζον","ὀνομάσω"," ","on-om-AHZ-owe","I name","ὀνομάζω","Index of Textbook: Verb  ","ὠνόμασα","3687",false,6058,1059," "," "," ",1058,""," ","  "," ",false,6058,1059," "," "," ",1058,""," "," "," ",false,6058,1111,1058,""," "," "," "]
[null,null,null,null,null,null,null,null,null,null,null,null,null,null,null,null,null,null,null,null,null,null,null,null,null,null,null,null,null,null,1059,38,"ὄντωσ"," ","real","ONN-tose","Adjective"," "," "," ","  ","ontws","3689",3689,"ὄντωσ",true,true,true,38," ","real","ONN-tose","Adjective"," "," "," ","  ","3689",1059,1059,38,"ὄντωσ"," ","real","ONN-tose","Adjective",""," "," ","","  ","3689",1059,1059,38,"Adjective","ὄντωσ"," "," "," ","ONN-tose","real","ὄντωσ","Index of Textbook: Adjective","  ","3689",false,6059,1060," "," "," ",1059,""," ","  "," ",false,6059,1060," "," "," ",1059,""," "," "," ",false,6059,1112,1059,""," "," "," "]
[null,null,null,null,null,null,null,null,null,null,null,null,null,null,null,null,null,null,null,null,null,null,null,null,null,null,null,null,null,null,1071,38,"ὅρκος"," ","oath","HORR-koss","Noun  ","ὁ"," "," ","  ","orkos","3727",3727,"ὅρκος",true,true,true,38," ","oath","HORR-koss","Noun  ","ὁ"," "," ","  ","3727",1071,1071,38,"ὁ ὅρκος"," ","oath","HORR-koss","Noun  ","ὁ "," "," ","ὁ ","  ","3727",1071,1071,38,"Noun  ","ὁ ὅρκος"," "," "," ","HORR-koss","oath","ὁ ὅρκος","Index of Textbook: Noun  ","  ","3727",false,6071,1072," "," "," ",1071,""," ","  "," ",false,6071,1072," "," "," ",1071,""," "," "," ",false,6071,1124,1071,""," "," "," "]
[null,null,null,null,null,null,null,null,null,null,null,null,null,null,null,null,null,null,null,null,null,null,null,null,null,null,null,null,null,null,1078,"14","ᾧ","ὅς","to whom/to which (dative, singular, masculine or neuter)","HOE","Pronoun"," "," "," ","  ","w","3739",3739.06,"ᾧ",true,true,true,"14","ὅς","to whom/to which (dative, singular, masculine or neuter)","HOE","Pronoun"," "," "," ","  ","3739",1078,1078,"14","ᾧ","ὅς","to whom/to which (dative, singular, masculine or neuter)","HOE","Pronoun",""," "," ","","  ","3739",1078,1078,"14","Pronoun","ᾧ"," "," ","ὅς","HOE","to whom/to which (dative, singular, masculine or neuter)","ᾧ","Chapter 14: Pronoun","  ","3739",false,6078,1079," "," "," ",1078,""," ","  "," ",false,6078,1079," "," "," ",1078,""," "," "," ",true,1078,79,1078,"","ᾧ","to whom/to which (dative, singular, masculine or neuter)"," "]
[null,null,null,null,null,null,null,null,null,null,null,null,null,null,null,null,null,null,null,null,null,null,null,null,null,null,null,null,null,null,1079,"14","ᾗ","*ὁς","to whom/to which (dative, singular, feminine)","HAY","Pronoun"," "," "," ","  ","h","3739",3739.07,"ᾗ",true,true,true,"14","*ὁς","to whom/to which (dative, singular, feminine)","HAY","Pronoun"," "," "," ","  ","3739",1079,1079,"14","ᾗ","*ὁς","to whom/to which (dative, singular, feminine)","HAY","Pronoun",""," "," ","","  ","3739",1079,1079,"14","Pronoun","ᾗ"," "," ","*ὁς","HAY","to whom/to which (dative, singular, feminine)","ᾗ","Chapter 14: Pronoun","  ","3739",false,6079,1080," "," "," ",1079,""," ","  "," ",false,6079,1080," "," "," ",1079,""," "," "," ",true,1079,80,1079,"","ᾗ","to whom/to which (dative, singular, feminine)"," "]
[null,null,null,null,null,null,null,null,null,null,null,null,null,null,null,null,null,null,null,null,null,null,null,null,null,null,null,null,null,null,1091,"09","ὅς ἐὰν"," ","whoever","HOSS eh-AHN","Idiom"," "," "," ","  ","os ean","3739+1437",3739.99,"ὅς ἐὰν",true,true,true,"09"," ","whoever","HOSS eh-AHN","Idiom"," "," "," ","  ","3739+1437",1091,1091,"09","ὅς ἐὰν"," ","whoever","HOSS eh-AHN","Idiom",""," "," ","","  ","3739+1437",1091,1091,"09","Idiom","ὅς ἐὰν"," "," "," ","HOSS eh-AHN","whoever","ὅς ἐὰν","Chapter 09: Idiom","  ","3739+1437",false,6091,1092," "," "," ",1091,""," ","  "," ",false,6091,1092," "," "," ",1091,""," "," "," ",false,6091,1127,1091,""," "," "," "]
[null,null,null,null,null,null,null,null,null,null,null,null,null,null,null,null,null,null,null,null,null,null,null,null,null,null,null,null,null,null,1099,"06","ὅτι"," ","that, since, because, or begin a quotation","HA-tee","Conjunction"," "," "," ","  ","oti","3754",3754,"ὅτι",true,true,true,"06"," ","that, since, because, or begin a quotation","HA-tee","Conjunction"," "," "," ","  ","3754",1099,1099,"06","ὅτι"," ","that, since, because, or begin a quotation","HA-tee","Conjunction",""," "," ","","  ","3754",1099,1099,"06","Conjunction","ὅτι"," "," "," ","HA-tee","that, since, because, or begin a quotation","ὅτι","Chapter 06: Conjunction","  ","3754",false,6099,1100," "," "," ",1099,""," ","  "," ",false,6099,1100," "," "," ",1099,""," "," "," ",true,1099,93,1099,"","ὅτι","that, since, because, or begin a quotation"," "]
[null,null,null,null,null,null,null,null,null,null,null,null,null,null,null,null,null,null,null,null,null,null,null,null,null,null,null,null,null,null,1104,"11","οὐδέ"," ","and not, not even, neither, nor","ooh-DEH","Conjunction"," "," "," ","  ","oude","3761",3761,"οὐδέ",true,true,true,"11"," ","and not, not even, neither, nor","ooh-DEH","Conjunction"," "," "," ","  ","3761",1104,1104,"11","οὐδέ"," ","and not, not even, neither, nor","ooh-DEH","Conjunction",""," "," ","","  ","3761",1104,1104,"11","Conjunction","οὐδέ"," "," "," ","ooh-DEH","and not, not even, neither, nor","οὐδέ","Chapter 11: Conjunction","  ","3761",false,6104,1105," "," "," ",1104,""," ","  "," ",false,6104,1105," "," "," ",1104,""," "," "," ",false,6104,1136,1104,""," "," "," "]
[null,null,null,null,null,null,null,null,null,null,null,null,null,null,null,null,null,null,null,null,null,null,null,null,null,null,null,null,null,null,1111,"12","οὖν"," ","so, therefore, accordingly, then (particle)","OON","Conjunction"," "," "," ","  ","oun","3767",3767,"οὖν",true,true,true,"12"," ","so, therefore, accordingly, then (particle)","OON","Conjunction"," "," "," ","  ","3767",1111,1111,"12","οὖν"," ","so, therefore, accordingly, then (particle)","OON","Conjunction",""," "," ","","  ","3767",1111,1111,"12","Conjunction","οὖν"," "," "," ","OON","so, therefore, accordingly, then (particle)","οὖν","Chapter 12: Conjunction","  ","3767",false,6111,1112," "," "," ",1111,""," ","  "," ",false,6111,1112," "," "," ",1111,""," "," "," ",true,1111,95,1111,"","οὖν","so, therefore, accordingly, then (particle)"," "]
[null,null,null,null,null,null,null,null,null,null,null,null,null,null,null,null,null,null,null,null,null,null,null,null,null,null,null,null,null,null,1119,"07","αὗτη","*τουτο","this one (nominative, singular, feminine)","WHO-tay","Pronoun"," "," "," ","  ","outh","846",3778.02,"αὗτη",true,true,true,"07","*τουτο","this one (nominative, singular, feminine)","WHO-tay","Pronoun"," "," "," ","  ","846",1119,1119,"07","αὗτη","*τουτο","this one (nominative, singular, feminine)","WHO-tay","Pronoun",""," "," ","","  ","846",1119,1119,"07","Pronoun","αὗτη"," "," ","*τουτο","WHO-tay","this one (nominative, singular, feminine)","αὗτη","Chapter 07: Pronoun","  ","846",false,6119,1120," "," "," ",1119,""," ","  "," ",false,6119,1120," "," "," ",1119,""," "," "," ",false,6119,1150,1119,""," "," "," "]
[null,null,null,null,null,null,null,null,null,null,null,null,null,null,null,null,null,null,null,null,null,null,null,null,null,null,null,null,null,null,1124,"13","αὗται","*τουτο","these (nominative, plural, feminine)","HOW-tie","Pronoun"," "," "," ","  ","autai","3778",3778.12,"αὗται",true,true,true,"13","*τουτο","these (nominative, plural, feminine)","HOW-tie","Pronoun"," "," "," ","  ","3778",1124,1124,"13","αὗται","*τουτο","these (nominative, plural, feminine)","HOW-tie","Pronoun",""," "," ","","  ","3778",1124,1124,"13","Pronoun","αὗται"," "," ","*τουτο","HOW-tie","these (nominative, plural, feminine)","αὗται","Chapter 13: Pronoun","  ","3778",false,6124,1125," "," "," ",1124,""," ","  "," ",false,6124,1125," "," "," ",1124,""," "," "," ",false,6124,1155,1124,""," "," "," "]
[null,null,null,null,null,null,null,null,null,null,null,null,null,null,null,null,null,null,null,null,null,null,null,null,null,null,null,null,null,null,1132,38,"ὄψιος"," ","evening","OFF-ee-oss","Adjective"," "," "," ","  ","ofios","3798",3798,"ὄψιος",true,true,true,38," ","evening","OFF-ee-oss","Adjective"," "," "," ","  ","3798",1132,1132,38,"ὄψιος"," ","evening","OFF-ee-oss","Adjective",""," "," ","","  ","3798",1132,1132,38,"Adjective","ὄψιος"," "," "," ","OFF-ee-oss","evening","ὄψιος","Index of Textbook: Adjective","  ","3798",false,6132,1132," "," "," ",1132,""," ","  "," ",false,6132,1133," "," "," ",1132,""," "," "," ",false,6132,1163,1132,""," "," "," "]
[null,null,null,null,null,null,null,null,null,null,null,null,null,null,null,null,null,null,null,null,null,null,null,null,null,null,null,null,null,null,1134,38,"παιδεύω"," ","I train, I discipline","pie-DYEW-owe","Verb  "," ","ἐπαίδευον","παιδεύσω","ἐπαίδευσα","paideuw epaideuon epaideusa paideusw","3811",3811,"παιδεύω",true,true,true,38," ","I train, I discipline","pie-DYEW-owe","Verb  "," ","ἐπαίδευον","παιδεύσω","ἐπαίδευσα","3811",1134,1134,38,"παιδεύω"," ","I train, I discipline","pie-DYEW-owe","Verb  ","","ἐπαίδευον","παιδεύσω","","ἐπαίδευσα","3811",1134,1134,38,"Verb  ","παιδεύω","ἐπαίδευον","παιδεύσω"," ","pie-DYEW-owe","I train, I discipline","παιδεύω","Index of Textbook: Verb  ","ἐπαίδευσα","3811",false,6134,1134," "," "," ",1134,""," ","  "," ",false,6134,1135," "," "," ",1134,""," "," "," ",false,6134,1165,1134,""," "," "," "]
[null,null,null,null,null,null,null,null,null,null,null,null,null,null,null,null,null,null,null,null,null,null,null,null,null,null,null,null,null,null,1144,"08","παρά (παρʼ) [accusative]"," ","alongside of [accusative]","parr-AH","Preposition"," "," "," ","  ","para","3844",3844,"παρά (παρʼ) [accusative]",true,true,true,"08"," ","alongside of [accusative]","parr-AH","Preposition"," "," "," ","  ","3844",1144,1144,"08","παρά (παρʼ) [accusative]"," ","alongside of [accusative]","parr-AH","Preposition",""," "," ","","  ","3844",1144,1144,"08","Preposition","παρά (παρʼ) [accusative]"," "," "," ","parr-AH","alongside of [accusative]","παρά (παρʼ) [accusative]","Chapter 08: Preposition","  ","3844",false,6144,1144," "," "," ",1144,""," ","  "," ",false,6144,1145," "," "," ",1144,""," "," "," ",false,6144,1175,1144,""," "," "," "]
[null,null,null,null,null,null,null,null,null,null,null,null,null,null,null,null,null,null,null,null,null,null,null,null,null,null,null,null,null,null,1152,"34","παραδίδωμι","παρά + *δο","I deliver, I entrust, I hand over, I betray","par-ah-DID-owe-mee","Verb  "," ","παρεδίδουν","παραδώσω","παρέδωκα","paradidwmi paredidoun paradwsw paredwka","3860",3860,"παραδίδωμι",true,true,true,"34","παρά + *δο","I deliver, I entrust, I hand over, I betray","par-ah-DID-owe-mee","Verb  "," ","παρεδίδουν","παραδώσω","παρέδωκα","3860",1152,1152,"34","παραδίδωμι","παρά + *δο","I deliver, I entrust, I hand over, I betray","par-ah-DID-owe-mee","Verb  ","","παρεδίδουν","παραδώσω","","παρέδωκα","3860",1152,1152,"34","Verb  ","παραδίδωμι","παρεδίδουν","παραδώσω","παρά + *δο","par-ah-DID-owe-mee","I deliver, I entrust, I hand over, I betray","παραδίδωμι","Chapter 34: Verb  ","παρέδωκα","3860",false,6152,1152," "," "," ",1152,""," ","  "," ",false,6152,1153," "," "," ",1152,""," "," "," ",false,6152,1183,1152,""," "," "," "]
[null,null,null,null,null,null,null,null,null,null,null,null,null,null,null,null,null,null,null,null,null,null,null,null,null,null,null,null,null,null,1157,"37","παράκλητος"," ","advocate","par-AH-klay-toss","Noun  ","ὁ"," "," ","  ","paraklhtos","3875",3875,"παράκλητος",true,true,true,"37"," ","advocate","par-AH-klay-toss","Noun  ","ὁ"," "," ","  ","3875",1157,1157,"37","ὁ παράκλητος"," ","advocate","par-AH-klay-toss","Noun  ","ὁ "," "," ","ὁ ","  ","3875",1157,1157,"37","Noun  ","ὁ παράκλητος"," "," "," ","par-AH-klay-toss","advocate","ὁ παράκλητος","Extra: Noun  ","  ","3875",false,6157,1157," "," "," ",1157,""," ","  "," ",false,6157,1158," "," "," ",1157,""," "," "," ",false,6157,1188,1157,""," "," "," "]
[null,null,null,null,null,null,null,null,null,null,null,null,null,null,null,null,null,null,null,null,null,null,null,null,null,null,null,null,null,null,1165,38,"παραχρῆμα"," ","immediately","parr-ahk-RAY-mah","Adverb"," "," "," ","  ","paracrhma","3916",3916,"παραχρῆμα",true,true,true,38," ","immediately","parr-ahk-RAY-mah","Adverb"," "," "," ","  ","3916",1165,1165,38,"παραχρῆμα"," ","immediately","parr-ahk-RAY-mah","Adverb",""," "," ","","  ","3916",1165,1165,38,"Adverb","παραχρῆμα"," "," "," ","parr-ahk-RAY-mah","immediately","παραχρῆμα","Index of Textbook: Adverb","  ","3916",false,6165,1165," "," "," ",1165,""," ","  "," ",false,6165,1166," "," "," ",1165,""," "," "," ",false,6165,1196,1165,""," "," "," "]
[null,null,null,null,null,null,null,null,null,null,null,null,null,null,null,null,null,null,null,null,null,null,null,null,null,null,null,null,null,null,1172,"37","παροικέω"," ","I visit or I dwell (as an outsider)","par-oy-KEH-owe","Verb  "," ","παρῴκουν","παροικήσω","παρῴκησα","paroikew","3939",3939,"παροικέω",true,true,true,"37"," ","I visit or I dwell (as an outsider)","par-oy-KEH-owe","Verb  "," ","παρῴκουν","παροικήσω","παρῴκησα","3939",1172,1172,"37","παροικέω"," ","I visit or I dwell (as an outsider)","par-oy-KEH-owe","Verb  ","","παρῴκουν","παροικήσω","","παρῴκησα","3939",1172,1172,"37","Verb  ","παροικέω","παρῴκουν","παροικήσω"," ","par-oy-KEH-owe","I visit or I dwell (as an outsider)","παροικέω","Extra: Verb  ","παρῴκησα","3939",false,6172,1172," "," "," ",1172,""," ","  "," ",false,6172,1172," "," "," ",1172,""," "," "," ",false,6172,1203,1172,""," "," "," "]
[null,null,null,null,null,null,null,null,null,null,null,null,null,null,null,null,null,null,null,null,null,null,null,null,null,null,null,null,null,null,1177,"10","πᾶν","*παντ","each, every, all (neuter)","PAHN","Adjective"," "," "," ","  ","pan","3956",3956.4,"πᾶν",true,true,true,"10","*παντ","each, every, all (neuter)","PAHN","Adjective"," "," "," ","  ","3956",1177,1177,"10","πᾶν","*παντ","each, every, all (neuter)","PAHN","Adjective",""," "," ","","  ","3956",1177,1177,"10","Adjective","πᾶν"," "," ","*παντ","PAHN","each, every, all (neuter)","πᾶν","Chapter 10: Adjective","  ","3956",false,6177,1177," "," "," ",1177,""," ","  "," ",false,6177,1177," "," "," ",1177,""," "," "," ",true,1177,97,1177,"","πᾶν","each, every, all (neuter)"," "]
[null,null,null,null,null,null,null,null,null,null,null,null,null,null,null,null,null,null,null,null,null,null,null,null,null,null,null,null,null,null,1185,38,"πεινάω"," ","I hunger, I am hungry, I need","pay-NAH-owe","Verb  "," ","ἐπείνων","πεινάσω","ἐπείνασα","peinaw peinasw epeinasa epeinwn","3983",3983,"πεινάω",true,true,true,38," ","I hunger, I am hungry, I need","pay-NAH-owe","Verb  "," ","ἐπείνων","πεινάσω","ἐπείνασα","3983",1185,1185,38,"πεινάω"," ","I hunger, I am hungry, I need","pay-NAH-owe","Verb  ","","ἐπείνων","πεινάσω","","ἐπείνασα","3983",1185,1185,38,"Verb  ","πεινάω","ἐπείνων","πεινάσω"," ","pay-NAH-owe","I hunger, I am hungry, I need","πεινάω","Index of Textbook: Verb  ","ἐπείνασα","3983",false,6185,1185," "," "," ",1185,""," ","  "," ",false,6185,1185," "," "," ",1185,""," "," "," ",false,6185,1214,1185,""," "," "," "]
[null,null,null,null,null,null,null,null,null,null,null,null,null,null,null,null,null,null,null,null,null,null,null,null,null,null,null,null,null,null,1188,"29","πέμπω","*πεμπ","I send","PEM-poe","Verb  "," ","ἔπεμπον","πέμψω","ἔπεμψα","pempw pemyw epemya epempon","3992",3992,"πέμπω",true,true,true,"29","*πεμπ","I send","PEM-poe","Verb  "," ","ἔπεμπον","πέμψω","ἔπεμψα","3992",1188,1188,"29","πέμπω","*πεμπ","I send","PEM-poe","Verb  ","","ἔπεμπον","πέμψω","","ἔπεμψα","3992",1188,1188,"29","Verb  ","πέμπω","ἔπεμπον","πέμψω","*πεμπ","PEM-poe","I send","πέμπω","Chapter 29: Verb  ","ἔπεμψα","3992",false,6188,1188," "," "," ",1188,""," ","  "," ",false,6188,1188," "," "," ",1188,""," "," "," ",false,6188,1217,1188,""," "," "," "]
[null,null,null,null,null,null,null,null,null,null,null,null,null,null,null,null,null,null,null,null,null,null,null,null,null,null,null,null,null,null,1197,38,"περισσεύω"," ","I abound, I exceed","perr-iss-you-owe","Verb  "," ","ἐπερίσσευον","περισσεύσω","ἐπερίσσευσα","perisseuw eperisseuon eperisseusa perisseusw","4052",4052,"περισσεύω",true,true,true,38," ","I abound, I exceed","perr-iss-you-owe","Verb  "," ","ἐπερίσσευον","περισσεύσω","ἐπερίσσευσα","4052",1197,1197,38,"περισσεύω"," ","I abound, I exceed","perr-iss-you-owe","Verb  ","","ἐπερίσσευον","περισσεύσω","","ἐπερίσσευσα","4052",1197,1197,38,"Verb  ","περισσεύω","ἐπερίσσευον","περισσεύσω"," ","perr-iss-you-owe","I abound, I exceed","περισσεύω","Index of Textbook: Verb  ","ἐπερίσσευσα","4052",false,6197,1197," "," "," ",1197,""," ","  "," ",false,6197,1197," "," "," ",1197,""," "," "," ",false,6197,1226,1197,""," "," "," "]
[null,null,null,null,null,null,null,null,null,null,null,null,null,null,null,null,null,null,null,null,null,null,null,null,null,null,null,null,null,null,1205,"04","Πέτρος","*Πετρο","Peter","PET-ross","Proper Noun","ὁ"," "," ","  ","petros","4074",4074,"Πέτρος",true,true,true,"04","*Πετρο","Peter","PET-ross","Proper Noun","ὁ"," "," ","  ","4074",1205,1205,"04","ὁ Πέτρος","*Πετρο","Peter","PET-ross","Proper Noun","ὁ "," "," ","ὁ ","  ","4074",1205,1205,"04","Proper Noun","ὁ Πέτρος"," "," ","*Πετρο","PET-ross","Peter","ὁ Πέτρος","Chapter 04: Proper Noun","  ","4074",false,6205,1205," "," "," ",1205,""," ","  "," ",false,6205,1205," "," "," ",1205,""," "," "," ",false,6205,1234,1205,""," "," "," "]
[null,null,null,null,null,null,null,null,null,null,null,null,null,null,null,null,null,null,null,null,null,null,null,null,null,null,null,null,null,null,1210,"34","πίπτω","*πετ","I fall","PIP-toe","Verb  "," ","ἔπιπτον","πεσοῦμαι","ἔπεσον, ἔπεσα","piptw epipton pesoumai epeson epesa","4098",4098,"πίπτω",true,true,true,"34","*πετ","I fall","PIP-toe","Verb  "," ","ἔπιπτον","πεσοῦμαι","ἔπεσον, ἔπεσα","4098",1210,1210,"34","πίπτω","*πετ","I fall","PIP-toe","Verb  ","","ἔπιπτον","πεσοῦμαι","","ἔπεσον, ἔπεσα","4098",1210,1210,"34","Verb  ","πίπτω","ἔπιπτον","πεσοῦμαι","*πετ","PIP-toe","I fall","πίπτω","Chapter 34: Verb  ","ἔπεσον, ἔπεσα","4098",false,6210,1210," "," "," ",1210,""," ","  "," ",false,6210,1210," "," "," ",1210,""," "," "," ",false,6210,1239,1210,""," "," "," "]
[null,null,null,null,null,null,null,null,null,null,null,null,null,null,null,null,null,null,null,null,null,null,null,null,null,null,null,null,null,null,1218,"13","πολύ","*πολλο","much, many, often (neuter)","poll-OOH","Adjective"," "," "," ","  ","polu","4118",4118.3999999999996,{"$f":"IF(AG1221=\"\",\"\",AG1221)","v":"πολύ"},true,true,true,"13","*πολλο","much, many, often (neuter)","poll-OOH","Adjective"," "," "," ",{"$f":"IF(AC$9,AO1221,\" \")","v":"  "},{"$f":"IF(AC$12,AQ1221,\" \")","v":"4118"},1218,1218,"13","πολύ","*πολλο","much, many, often (neuter)","poll-OOH","Adjective",""," "," ",{"$f":"IF($AV1221,IF(AL1221=\" \",\"\",AL1221&\" \"),\"\")","v":""},{"$f":"IF($AV1221,BE1221,\" \")","v":"  "},"4118",1218,1218,"13","Adjective","πολύ"," "," ","*πολλο","poll-OOH","much, many, often (neuter)","πολύ",{"$f":"IF(BV1221=\"\",\"\",IF(BW1221=\"37\",\"Extra\", IF(BW1221=38, \"Index of Textbook\",\"Chapter \" &BW1221))&\": \"&BX1221)","v":"Chapter 13: Adjective"},"  ","4118",false,6218,1218," "," ",{"$f":"IF($CI1221,IF(AW1221=\"37\",\" [Extra]\",IF(AW1221=\"38\",\" [Index]\",  \" [Chap. \"&TEXT(VALUE(AW1221),\"#\")&\"]\")),\" \")","v":" "},1218,""," ","  "," ",false,6218,1218," "," ",{"$f":"IF($CT1221,IF(BB1221=\" \",\"\",BB1221&\" \")&AG1221&CW1221&\": \"&AY1221&  IF(AF1221=\"37\",\"  (Extra\",IF(AF1221=\"38\",\"  (Index\",\"  (Chapter \"&TEXT(AF1221,\"#\"))) &\", \"&CX1221& IF(LEN(AM1221)>1,\" [\"&AM1221&\"]\",\"\") &IF(LEN(AN1221)>1,\" [\"&AN1221&\"]\",\"\")         &\")\",\" \")","v":" "},1218,""," "," "," ",false,6218,1247,1218,""," "," "," "]
[null,null,null,null,null,null,null,null,null,null,null,null,null,null,null,null,null,null,null,null,null,null,null,null,null,null,null,null,null,null,1227,38,"πλήρης"," ","full","PLARE-ace","Adjective","  "," "," ","  ","plhrhs","4134",4134,"πλήρης",true,true,true,38," ","full","PLARE-ace","Adjective","  "," "," ","  ","4134",1227,1227,38,"   πλήρης"," ","full","PLARE-ace","Adjective","   "," "," ","   ","  ","4134",1227,1227,38,"Adjective","   πλήρης"," "," "," ","PLARE-ace","full","   πλήρης","Index of Textbook: Adjective","  ","4134",false,6227,1227," "," "," ",1227,""," ","  "," ",false,6227,1227," "," "," ",1227,""," "," "," ",false,6227,1256,1227,""," "," "," "]
[null,null,null,null,null,null,null,null,null,null,null,null,null,null,null,null,null,null,null,null,null,null,null,null,null,null,null,null,null,null,1230,38,"πλησίον"," ","neighbor","play-SEE-on","Noun  ","ὁ"," "," ","  ","plhsion","4139",4139,"πλησίον",true,true,true,38," ","neighbor","play-SEE-on","Noun  ","ὁ"," "," ","  ","4139",1230,1230,38,"ὁ πλησίον"," ","neighbor","play-SEE-on","Noun  ","ὁ "," "," ","ὁ ","  ","4139",1230,1230,38,"Noun  ","ὁ πλησίον"," "," "," ","play-SEE-on","neighbor","ὁ πλησίον","Index of Textbook: Noun  ","  ","4139",false,6230,1230," "," "," ",1230,""," ","  "," ",false,6230,1230," "," "," ",1230,""," "," "," ",false,6230,1259,1230,""," "," "," "]
[null,null,null,null,null,null,null,null,null,null,null,null,null,null,null,null,null,null,null,null,null,null,null,null,null,null,null,null,null,null,1238,38,"πόθεν"," ","from where? from whom?","POTH-enn","Adverb"," "," "," ","  ","poqen","4159",4159,"πόθεν",true,true,true,38," ","from where? from whom?","POTH-enn","Adverb"," "," "," ","  ","4159",1238,1238,38,"πόθεν"," ","from where? from whom?","POTH-enn","Adverb",""," "," ","","  ","4159",1238,1238,38,"Adverb","πόθεν"," "," "," ","POTH-enn","from where? from whom?","πόθεν","Index of Textbook: Adverb","  ","4159",false,6238,1238," "," "," ",1238,""," ","  "," ",false,6238,1238," "," "," ",1238,""," "," "," ",false,6238,1267,1238,""," "," "," "]
[null,null,null,null,null,null,null,null,null,null,null,null,null,null,null,null,null,null,null,null,null,null,null,null,null,null,null,null,null,null,1243,38,"ποῖος"," ","which? of what kind? what?","POY-oss","Adjective"," "," "," ","  ","poios","4169",4169,"ποῖος",true,true,true,38," ","which? of what kind? what?","POY-oss","Adjective"," "," "," ","  ","4169",1243,1243,38,"ποῖος"," ","which? of what kind? what?","POY-oss","Adjective",""," "," ","","  ","4169",1243,1243,38,"Adjective","ποῖος"," "," "," ","POY-oss","which? of what kind? what?","ποῖος","Index of Textbook: Adjective","  ","4169",false,6243,1243," "," "," ",1243,""," ","  "," ",false,6243,1243," "," "," ",1243,""," "," "," ",false,6243,1272,1243,""," "," "," "]
[null,null,null,null,null,null,null,null,null,null,null,null,null,null,null,null,null,null,null,null,null,null,null,null,null,null,null,null,null,null,1252,"38","πόρνος "," ","fornicator","PORN-oss","Noun  ","ὁ"," "," "," ","pornos","4205",4205,"πόρνος ",true,true,true,"38"," ","fornicator","PORN-oss","Noun  ","ὁ"," "," "," ","4205",1252,1252,"38","ὁ πόρνος "," ","fornicator","PORN-oss","Noun  ","ὁ "," "," ","ὁ "," ","4205",1252,1252,"38","Noun  ","ὁ πόρνος "," "," "," ","PORN-oss","fornicator","ὁ πόρνος ","Chapter 38: Noun  "," ","4205",false,6252,1252," "," "," ",1252,""," ","  "," ",false,6252,1252," "," "," ",1252,""," "," "," ",false,6252,1281,1252,""," "," "," "]
[null,null,null,null,null,null,null,null,null,null,null,null,null,null,null,null,null,null,null,null,null,null,null,null,null,null,null,null,null,null,1258,38,"ποτίζω"," ","I give to drink","pot-EEZE-owe","Verb  "," ","ἐπότιζον","ποτίσω","ἐπότισα","potizw epotizon epotisa potisw","4222",4222,"ποτίζω",true,true,true,38," ","I give to drink","pot-EEZE-owe","Verb  "," ","ἐπότιζον","ποτίσω","ἐπότισα","4222",1258,1258,38,"ποτίζω"," ","I give to drink","pot-EEZE-owe","Verb  ","","ἐπότιζον","ποτίσω","","ἐπότισα","4222",1258,1258,38,"Verb  ","ποτίζω","ἐπότιζον","ποτίσω"," ","pot-EEZE-owe","I give to drink","ποτίζω","Index of Textbook: Verb  ","ἐπότισα","4222",false,6258,1258," "," "," ",1258,""," ","  "," ",false,6258,1258," "," "," ",1258,""," "," "," ",false,6258,1287,1258,""," "," "," "]
[null,null,null,null,null,null,null,null,null,null,null,null,null,null,null,null,null,null,null,null,null,null,null,null,null,null,null,null,null,null,1263,38,"πραΰτης"," ","gentleness, humility","prah-OOH-tace","Noun  ","ἡ"," "," ","  ","prauths","4240",4240,"πραΰτης",true,true,true,38," ","gentleness, humility","prah-OOH-tace","Noun  ","ἡ"," "," ","  ","4240",1263,1263,38,"ἡ πραΰτης"," ","gentleness, humility","prah-OOH-tace","Noun  ","ἡ "," "," ","ἡ ","  ","4240",1263,1263,38,"Noun  ","ἡ πραΰτης"," "," "," ","prah-OOH-tace","gentleness, humility","ἡ πραΰτης","Index of Textbook: Noun  ","  ","4240",false,6263,1263," "," "," ",1263,""," ","  "," ",false,6263,1263," "," "," ",1263,""," "," "," ",false,6263,1291,1263,""," "," "," "]
[null,null,null,null,null,null,null,null,null,null,null,null,null,null,null,null,null,null,null,null,null,null,null,null,null,null,null,null,null,null,1271,38,"πρόθεσις"," ","plan, purpose","PRA-thess-iss","Noun  ","ἡ"," "," ","  ","proqesis","4286",4286,"πρόθεσις",true,true,true,38," ","plan, purpose","PRA-thess-iss","Noun  ","ἡ"," "," ","  ","4286",1271,1271,38,"ἡ πρόθεσις"," ","plan, purpose","PRA-thess-iss","Noun  ","ἡ "," "," ","ἡ ","  ","4286",1271,1271,38,"Noun  ","ἡ πρόθεσις"," "," "," ","PRA-thess-iss","plan, purpose","ἡ πρόθεσις","Index of Textbook: Noun  ","  ","4286",false,6271,1271," "," "," ",1271,""," ","  "," ",false,6271,1271," "," "," ",1271,""," "," "," ",false,6271,1298,1271,""," "," "," "]
[null,null,null,null,null,null,null,null,null,null,null,null,null,null,null,null,null,null,null,null,null,null,null,null,null,null,null,null,null,null,1281,"38","προσκαρτερέω"," ","I am devoted to, I am faithful","pross-kar-terr-EH-owe","Verb  "," ","προσεκαρτέρουν","προσκαρτερήσω","προσεκαρτέρησα","proskarterew proskarterhsw prosekarteroun prosekarterhsa","4342",4342,"προσκαρτερέω",true,true,true,"38"," ","I am devoted to, I am faithful","pross-kar-terr-EH-owe","Verb  "," ","προσεκαρτέρουν","προσκαρτερήσω","προσεκαρτέρησα","4342",{"$f":"IF(AV1284,AE1284,AE1284+5000)","v":1281},{"$f":"RANK(BG1284,BG$4:BG$2003,1)","v":1281},"38",{"$f":"IF($AV1284,BO1284&AG1284,\" \")","v":"προσκαρτερέω"}," ","I am devoted to, I am faithful","pross-kar-terr-EH-owe","Verb  ","","προσεκαρτέρουν","προσκαρτερήσω","","προσεκαρτέρησα","4342",1281,{"$f":"IF(BU1284<=BJ$2,MATCH(BU1284,BH$4:BH$2003,0),\"\")","v":1281},{"$f":"VLOOKUP($BU1284,BH$4:BQ$2003,2,0)","v":"38"},{"$f":"VLOOKUP($BU1284,BH$4:BQ$2003,7,0)","v":"Verb  "},{"$f":"VLOOKUP($BU1284,BH$4:BQ$2003,3,0)","v":"προσκαρτερέω"},{"$f":"VLOOKUP($BU1284,BH$4:BQ$2003,9,0)","v":"προσεκαρτέρουν"},{"$f":"VLOOKUP($BU1284,BH$4:BQ$2003,10,0)","v":"προσκαρτερήσω"},{"$f":"VLOOKUP($BU1284,BH$4:BQ$2003,4,0)","v":" "},{"$f":"VLOOKUP($BU1284,BH$4:BQ$2003,6,0)","v":"pross-kar-terr-EH-owe"},{"$f":"VLOOKUP($BU1284,BH$4:BQ$2003,5,0)","v":"I am devoted to, I am faithful"},{"$f":"IF(AC$8,BY1284,VLOOKUP($BU1284,BH$4:BR$2003,11,0)&BY1284)","v":"προσκαρτερέω"},"Chapter 38: Verb  ",{"$f":"VLOOKUP($BU1284,BH$4:BS$2003,12,0)","v":"προσεκαρτέρησα"},{"$f":"VLOOKUP($BU1284,BH$4:BT$2003,13,0)","v":"4342"},false,{"$f":"IF(CI1284,AE1284,AE1284+5000)","v":6281},{"$f":"RANK(CJ1284,CJ$4:CJ$2003,1)","v":1281},{"$f":"IF($CI1284,IF(BB1284=\" \",\"\",BB1284&\" \")&AG1284,\" \")","v":" "}," "," ",1281,{"$f":"IF(CO1284<=CP$2,MATCH(CO1284,CK$4:CK$2003,0),\"\")","v":""},{"$f":"VLOOKUP($CO1284,CK$4:CM$2003,2,0)","v":" "},{"$f":"VLOOKUP($CO1284,CK$4:CN$2003,3,0)&VLOOKUP($CO1284,CK$4:CN$2003,4,0)","v":"  "}," ",false,{"$f":"IF(CT1284,AE1284,AE1284+5000)","v":6281},{"$f":"RANK(CU1284,CU$4:CU$2003,1)","v":1281},{"$f":"IF($CT1284,IF(AH1284=\" \",\"\",\" [\"&AH1284&\"]\"),\" \")","v":" "},{"$f":"IF($CT1284,IF(AK1284=\"Noun  \",\"Noun\",IF(AK1284=\"Verb  \",\"Verb\",AK1284)),\" \")","v":" "}," ",1281,{"$f":"IF(CZ1284<=DA$2,MATCH(CZ1284,CV$4:CV$2003,0),\"\")","v":""},{"$f":"VLOOKUP($CZ1284,CV$4:CY$2003,4,0)","v":" "}," "," ",{"$f":"IF(AND(LEN(AG1284)<=DF$2,AG1284<>\" \"),TRUE,FALSE)","v":false},{"$f":"IF(DE1284,AE1284,AE1284+5000)","v":6281},{"$f":"RANK(DF1284,DF$4:DF$2003,1)","v":1308},1281,{"$f":"IF(DH1284<=DA$2,MATCH(DH1284,DG$4:DG$2003,0),\"\")","v":""},{"$f":"IF($DE1284,IF(BB1284=\" \",\"\",BB1284&\" \")&AG1284,\" \")","v":" "}," ",{"$f":"IF($DH1284<=$DI$2,VLOOKUP($DH1284,DG$4:DK$2003,4,0)&\" [\" &VLOOKUP($DH1284,DG$4:DK$2003,5,0) &\"]\",\" \")","v":" "}]
[null,null,null,null,null,null,null,null,null,null,null,null,null,null,null,null,null,null,null,null,null,null,null,null,null,null,null,null,null,null,1283,38,"προσλαμβάνω"," ","I receive","pross-lahm-BAHN-owe","Verb  "," ","προσελάμβανον","προσλήψομαι","προσελαβόμην","proslambanw proselabomhn proselambanon proslhyomai","4355",4355,"προσλαμβάνω",true,true,true,38," ","I receive","pross-lahm-BAHN-owe","Verb  "," ","προσελάμβανον","προσλήψομαι","προσελαβόμην","4355",1283,1283,38,"προσλαμβάνω"," ","I receive","pross-lahm-BAHN-owe","Verb  ","","προσελάμβανον","προσλήψομαι","","προσελαβόμην","4355",1283,1283,38,"Verb  ","προσλαμβάνω","προσελάμβανον","προσλήψομαι"," ","pross-lahm-BAHN-owe","I receive","προσλαμβάνω","Index of Textbook: Verb  ","προσελαβόμην","4355",false,6283,1283," "," "," ",1283,""," ","  "," ",false,6283,1283," "," "," ",1283,""," "," "," ",false,6283,1310,1283,""," "," "," "]
[null,null,null,null,null,null,null,null,null,null,null,null,null,null,null,null,null,null,null,null,null,null,null,null,null,null,null,null,null,null,1291,38,"πρωΐ"," ","early (in the morning)","proe-EE","Adverb"," "," "," ","  ","prwi","4404",4404,"πρωΐ",true,true,true,38," ","early (in the morning)","proe-EE","Adverb"," "," "," ","  ","4404",1291,1291,38,"πρωΐ"," ","early (in the morning)","proe-EE","Adverb",""," "," ","","  ","4404",1291,1291,38,"Adverb","πρωΐ"," "," "," ","proe-EE","early (in the morning)","πρωΐ","Index of Textbook: Adverb","  ","4404",false,6291,1291," "," "," ",1291,""," ","  "," ",false,6291,1291," "," "," ",1291,""," "," "," ",false,6291,1318,1291,""," "," "," "]
[null,null,null,null,null,null,null,null,null,null,null,null,null,null,null,null,null,null,null,null,null,null,null,null,null,null,null,null,null,null,1296,38,"πύλη"," ","gate, (large) door","POOL-ay","Noun  ","ἡ"," "," ","  ","pulh","4439",4439,"πύλη",true,true,true,38," ","gate, (large) door","POOL-ay","Noun  ","ἡ"," "," ","  ","4439",1296,1296,38,"ἡ πύλη"," ","gate, (large) door","POOL-ay","Noun  ","ἡ "," "," ","ἡ ","  ","4439",1296,1296,38,"Noun  ","ἡ πύλη"," "," "," ","POOL-ay","gate, (large) door","ἡ πύλη","Index of Textbook: Noun  ","  ","4439",false,6296,1296," "," "," ",1296,""," ","  "," ",false,6296,1296," "," "," ",1296,""," "," "," ",false,6296,1323,1296,""," "," "," "]
[null,null,null,null,null,null,null,null,null,null,null,null,null,null,null,null,null,null,null,null,null,null,null,null,null,null,null,null,null,null,1306,"37","ῥήγνυμι"," ","I break, I sunder, I tear, I break forth","HGRAY-noo-mee","Verb  "," ","ἐρρήγνῡν","ῥήξω","ἐρρήχθην","rhgnumi errhgnun rhxw errhcqhn","4486",4486,"ῥήγνυμι",true,true,true,"37"," ","I break, I sunder, I tear, I break forth","HGRAY-noo-mee","Verb  "," ","ἐρρήγνῡν","ῥήξω","ἐρρήχθην","4486",1306,1306,"37","ῥήγνυμι"," ","I break, I sunder, I tear, I break forth","HGRAY-noo-mee","Verb  ","","ἐρρήγνῡν","ῥήξω","","ἐρρήχθην","4486",1306,1306,"37","Verb  ","ῥήγνυμι","ἐρρήγνῡν","ῥήξω"," ","HGRAY-noo-mee","I break, I sunder, I tear, I break forth","ῥήγνυμι","Extra: Verb  ","ἐρρήχθην","4486",false,6306,1306," "," "," ",1306,""," ","  "," ",false,6306,1306," "," "," ",1306,""," "," "," ",false,6306,1330,1306,""," "," "," "]
[null,null,null,null,null,null,null,null,null,null,null,null,null,null,null,null,null,null,null,null,null,null,null,null,null,null,null,null,null,null,1311,"04","σάββατον","*σαββατο","sabbath, week","SAHB-ah-tawn","Noun  ","τό"," "," ","  ","sabbaton","4521",4521,"σάββατον",true,true,true,"04","*σαββατο","sabbath, week","SAHB-ah-tawn","Noun  ","τό"," "," ","  ","4521",1311,1311,"04","τό σάββατον","*σαββατο","sabbath, week","SAHB-ah-tawn","Noun  ","τό "," "," ","τό ","  ","4521",1311,1311,"04","Noun  ","τό σάββατον"," "," ","*σαββατο","SAHB-ah-tawn","sabbath, week","τό σάββατον","Chapter 04: Noun  ","  ","4521",false,6311,1311," "," "," ",1311,""," ","  "," ",false,6311,1311," "," "," ",1311,""," "," "," ",false,6311,1335,1311,""," "," "," "]
[null,null,null,null,null,null,null,null,null,null,null,null,null,null,null,null,null,null,null,null,null,null,null,null,null,null,null,null,null,null,1316,38,"Σαμάρεια"," ","Samaria","sahm-ARR-ay-ah","Proper Noun","ἡ"," "," ","  ","samareia","4540",4540,"Σαμάρεια",true,true,true,38," ","Samaria","sahm-ARR-ay-ah","Proper Noun","ἡ"," "," ","  ","4540",1316,1316,38,"ἡ Σαμάρεια"," ","Samaria","sahm-ARR-ay-ah","Proper Noun","ἡ "," "," ","ἡ ","  ","4540",1316,1316,38,"Proper Noun","ἡ Σαμάρεια"," "," "," ","sahm-ARR-ay-ah","Samaria","ἡ Σαμάρεια","Index of Textbook: Proper Noun","  ","4540",false,6316,1316," "," "," ",1316,""," ","  "," ",false,6316,1316," "," "," ",1316,""," "," "," ",false,6316,1340,1316,""," "," "," "]
[null,null,null,null,null,null,null,null,null,null,null,null,null,null,null,null,null,null,null,null,null,null,null,null,null,null,null,null,null,null,1324,"11","σέ","ἐγώ","you (emphatic accusative singular)","SEH","Pronoun"," "," "," ","  ","se","4571",4571.6000000000004,"σέ",true,true,true,"11","ἐγώ","you (emphatic accusative singular)","SEH","Pronoun"," "," "," ","  ","4571",1324,1324,"11","σέ","ἐγώ","you (emphatic accusative singular)","SEH","Pronoun",""," "," ","","  ","4571",1324,1324,"11","Pronoun","σέ"," "," ","ἐγώ","SEH","you (emphatic accusative singular)","σέ","Chapter 11: Pronoun","  ","4571",false,6324,1324," "," "," ",1324,""," ","  "," ",false,6324,1324," "," "," ",1324,""," "," "," ",true,1324,107,1324,"","σέ","you (emphatic accusative singular)"," "]
[null,null,null,null,null,null,null,null,null,null,null,null,null,null,null,null,null,null,null,null,null,null,null,null,null,null,null,null,null,null,1336,38,"σκάνδαλον"," ","temptation, temptation to sin, offense","SKAHN-dall-onn","Noun  ","τό"," "," ","  ","skandalon","4625",4625,"σκάνδαλον",true,true,true,38," ","temptation, temptation to sin, offense","SKAHN-dall-onn","Noun  ","τό"," "," ","  ","4625",1336,1336,38,"τό σκάνδαλον"," ","temptation, temptation to sin, offense","SKAHN-dall-onn","Noun  ","τό "," "," ","τό ","  ","4625",1336,1336,38,"Noun  ","τό σκάνδαλον"," "," "," ","SKAHN-dall-onn","temptation, temptation to sin, offense","τό σκάνδαλον","Index of Textbook: Noun  ","  ","4625",false,6336,1336," "," "," ",1336,""," ","  "," ",false,6336,1336," "," "," ",1336,""," "," "," ",false,6336,1355,1336,""," "," "," "]
[null,null,null,null,null,null,null,null,null,null,null,null,null,null,null,null,null,null,null,null,null,null,null,null,null,null,null,null,null,null,1339,37,"σκιρτάω"," ","I leap, I jump, I skip","skirr-TAH-owe","Verb  "," ","ἐσκίρτων","σκίρτησεται","ἐσκίρτησα","skirtaw eskirtqn skirthsetai eskirthsa",4640,4640,"σκιρτάω",true,true,true,37," ","I leap, I jump, I skip","skirr-TAH-owe","Verb  "," ","ἐσκίρτων","σκίρτησεται","ἐσκίρτησα",4640,1339,1339,37,"σκιρτάω"," ","I leap, I jump, I skip","skirr-TAH-owe","Verb  ","","ἐσκίρτων","σκίρτησεται","","ἐσκίρτησα",4640,1339,1339,37,"Verb  ","σκιρτάω","ἐσκίρτων","σκίρτησεται"," ","skirr-TAH-owe","I leap, I jump, I skip","σκιρτάω","Chapter 37: Verb  ","ἐσκίρτησα",4640,false,6339,1339," "," "," ",1339,""," ","  "," ",false,6339,1339," "," "," ",1339,""," "," "," ",false,6339,1358,1339,""," "," "," "]
[null,null,null,null,null,null,null,null,null,null,null,null,null,null,null,null,null,null,null,null,null,null,null,null,null,null,null,null,null,null,1344,38,"σός, σή, σόν","ἐγώ","your, yours, of you (singular) [masc., fem., neut.]","SOSS, SAY, SONN","Pronoun"," "," "," ","  ","sos, sh, son","4674",4674,"σός, σή, σόν",true,true,true,38,"ἐγώ","your, yours, of you (singular) [masc., fem., neut.]","SOSS, SAY, SONN","Pronoun"," "," "," ","  ","4674",1344,1344,38,"σός, σή, σόν","ἐγώ","your, yours, of you (singular) [masc., fem., neut.]","SOSS, SAY, SONN","Pronoun",""," "," ","","  ","4674",1344,1344,38,"Pronoun","σός, σή, σόν"," "," ","ἐγώ","SOSS, SAY, SONN","your, yours, of you (singular) [masc., fem., neut.]","σός, σή, σόν","Index of Textbook: Pronoun","  ","4674",false,6344,1344," "," "," ",1344,""," ","  "," ",false,6344,1344," "," "," ",1344,""," "," "," ",false,6344,1362,1344,""," "," "," "]
[null,null,null,null,null,null,null,null,null,null,null,null,null,null,null,null,null,null,null,null,null,null,null,null,null,null,null,null,null,null,1356,"38","σταυρός"," ","cross","stauw-ROSS","Noun  ","ὁ"," "," ","  ","stauros","4716",4716,"σταυρός",true,true,true,"38"," ","cross","stauw-ROSS","Noun  ","ὁ"," "," ","  ","4716",1356,1356,"38","ὁ σταυρός"," ","cross","stauw-ROSS","Noun  ","ὁ "," "," ","ὁ ","  ","4716",1356,1356,"38","Noun  ","ὁ σταυρός"," "," "," ","stauw-ROSS","cross","ὁ σταυρός","Chapter 38: Noun  ","  ","4716",false,6356,1356," "," "," ",1356,""," ","  "," ",false,6356,1356," "," "," ",1356,""," "," "," ",false,6356,1371,1356,""," "," "," "]
[null,null,null,null,null,null,null,null,null,null,null,null,null,null,null,null,null,null,null,null,null,null,null,null,null,null,null,null,null,null,1357,"35","σταυρόω","*σταυρο","I crucify","stau-ra-owe","Verb  "," ","ἐσταύρουν","σταυρώσω","ἐσταύρωσα","staurow staurwsw estaurwsa estauroun","4717",4717,"σταυρόω",true,true,true,"35","*σταυρο","I crucify","stau-ra-owe","Verb  "," ","ἐσταύρουν","σταυρώσω","ἐσταύρωσα","4717",1357,1357,"35","σταυρόω","*σταυρο","I crucify","stau-ra-owe","Verb  ","","ἐσταύρουν","σταυρώσω","","ἐσταύρωσα","4717",1357,1357,"35","Verb  ","σταυρόω","ἐσταύρουν","σταυρώσω","*σταυρο","stau-ra-owe","I crucify","σταυρόω","Chapter 35: Verb  ","ἐσταύρωσα","4717",false,6357,1357," "," "," ",1357,""," ","  "," ",false,6357,1357," "," "," ",1357,""," "," "," ",false,6357,1372,1357,""," "," "," "]
[null,null,null,null,null,null,null,null,null,null,null,null,null,null,null,null,null,null,null,null,null,null,null,null,null,null,null,null,null,null,1368,"38","συγγενής"," ","(a) relative","soohn-ghen-ACE","Noun  ","ὁ"," "," "," ","suggenhs","4773",4773,"συγγενής",true,true,true,"38"," ","(a) relative","soohn-ghen-ACE","Noun  ","ὁ"," "," "," ","4773",1368,1368,"38","ὁ συγγενής"," ","(a) relative","soohn-ghen-ACE","Noun  ","ὁ "," "," ","ὁ "," ","4773",1368,1368,"38","Noun  ","ὁ συγγενής"," "," "," ","soohn-ghen-ACE","(a) relative","ὁ συγγενής","Chapter 38: Noun  "," ","4773",false,6368,1368," "," "," ",1368,""," ","  "," ",false,6368,1368," "," "," ",1368,""," "," "," ",false,6368,1381,1368,""," "," "," "]
[null,null,null,null,null,null,null,null,null,null,null,null,null,null,null,null,null,null,null,null,null,null,null,null,null,null,null,null,null,null,1376,38,"συμφέρω"," ","I am useful/profitable","soom-FER-owe","Verb  "," ","συνέφερον","συνοίσω","συνήνεγκα","sumferw sunhnegka suneferon sunoisw","4851",4851,"συμφέρω",true,true,true,38," ","I am useful/profitable","soom-FER-owe","Verb  "," ","συνέφερον","συνοίσω","συνήνεγκα","4851",1376,1376,38,"συμφέρω"," ","I am useful/profitable","soom-FER-owe","Verb  ","","συνέφερον","συνοίσω","","συνήνεγκα","4851",1376,1376,38,"Verb  ","συμφέρω","συνέφερον","συνοίσω"," ","soom-FER-owe","I am useful/profitable","συμφέρω","Index of Textbook: Verb  ","συνήνεγκα","4851",false,6376,1376," "," "," ",1376,""," ","  "," ",false,6376,1376," "," "," ",1376,""," "," "," ",false,6376,1389,1376,""," "," "," "]
[null,null,null,null,null,null,null,null,null,null,null,null,null,null,null,null,null,null,null,null,null,null,null,null,null,null,null,null,null,null,1377,37,"συμφωνέω"," ","I agree, I concur, I agree with","soom-foe-NEH-owe","Verb  "," ","συμφωνούσα","συμφωνήσω","συνεφώνησα","sumfwnew sumfwnousa sumfwnhsw synefwnhsa","4856",4856,"συμφωνέω",true,true,true,37," ","I agree, I concur, I agree with","soom-foe-NEH-owe","Verb  "," ","συμφωνούσα","συμφωνήσω","συνεφώνησα","4856",1377,1377,37,"συμφωνέω"," ","I agree, I concur, I agree with","soom-foe-NEH-owe","Verb  ","","συμφωνούσα","συμφωνήσω","","συνεφώνησα","4856",1377,1377,37,"Verb  ","συμφωνέω","συμφωνούσα","συμφωνήσω"," ","soom-foe-NEH-owe","I agree, I concur, I agree with","συμφωνέω","Chapter 37: Verb  ","συνεφώνησα","4856",false,6377,1377," "," "," ",1377,""," ","  "," ",false,6377,1377," "," "," ",1377,""," "," "," ",false,6377,1390,1377,""," "," "," "]
[null,null,null,null,null,null,null,null,null,null,null,null,null,null,null,null,null,null,null,null,null,null,null,null,null,null,null,null,null,null,1389,38,"συνίημι"," ","I understand","soon-EE-ay-mee","Verb  "," ","συνίην","συνήσω","συνῆκα","sunihmi sunhsw sunhka sunihn","4920",4920,"συνίημι",true,true,true,38," ","I understand","soon-EE-ay-mee","Verb  "," ","συνίην","συνήσω","συνῆκα","4920",1389,1389,38,"συνίημι"," ","I understand","soon-EE-ay-mee","Verb  ","","συνίην","συνήσω","","συνῆκα","4920",1389,1389,38,"Verb  ","συνίημι","συνίην","συνήσω"," ","soon-EE-ay-mee","I understand","συνίημι","Index of Textbook: Verb  ","συνῆκα","4920",false,6389,1389," "," "," ",1389,""," ","  "," ",false,6389,1389," "," "," ",1389,""," "," "," ",false,6389,1402,1389,""," "," "," "]
[null,null,null,null,null,null,null,null,null,null,null,null,null,null,null,null,null,null,null,null,null,null,null,null,null,null,null,null,null,null,1393,38,"σφόδρα"," ","extremely, greatly","SFOH-drah","Adverb"," "," "," ","  ","sfodra","4970",4970,"σφόδρα",true,true,true,38," ","extremely, greatly","SFOH-drah","Adverb"," "," "," ","  ","4970",1393,1393,38,"σφόδρα"," ","extremely, greatly","SFOH-drah","Adverb",""," "," ","","  ","4970",1393,1393,38,"Adverb","σφόδρα"," "," "," ","SFOH-drah","extremely, greatly","σφόδρα","Index of Textbook: Adverb","  ","4970",false,6393,1393," "," "," ",1393,""," ","  "," ",false,6393,1393," "," "," ",1393,""," "," "," ",false,6393,1406,1393,""," "," "," "]
[null,null,null,null,null,null,null,null,null,null,null,null,null,null,null,null,null,null,null,null,null,null,null,null,null,null,null,null,null,null,1397,"20","σῴζω","*σωδ","I save, I deliver, I rescue","SOE-zoe","Verb  "," ","ἔσῴζον","σώσω","ἔσωσα","swzw eswzon swsw eswsa","4982",4982,"σῴζω",true,true,true,"20","*σωδ","I save, I deliver, I rescue","SOE-zoe","Verb  "," ","ἔσῴζον","σώσω","ἔσωσα","4982",1397,1397,"20","σῴζω","*σωδ","I save, I deliver, I rescue","SOE-zoe","Verb  ","","ἔσῴζον","σώσω","","ἔσωσα","4982",1397,1397,"20","Verb  ","σῴζω","ἔσῴζον","σώσω","*σωδ","SOE-zoe","I save, I deliver, I rescue","σῴζω","Chapter 20: Verb  ","ἔσωσα","4982",false,6397,1397," "," "," ",1397,""," ","  "," ",false,6397,1397," "," "," ",1397,""," "," "," ",false,6397,1410,1397,""," "," "," "]
[null,null,null,null,null,null,null,null,null,null,null,null,null,null,null,null,null,null,null,null,null,null,null,null,null,null,null,null,null,null,1409,38,"ταχύς"," ","quick, swift","tah-KOOSE","Adjective"," "," "," ","  ","tacus","5036",5036,"ταχύς",true,true,true,38," ","quick, swift","tah-KOOSE","Adjective"," "," "," ","  ","5036",{"$f":"IF(AV1412,AE1412,AE1412+5000)","v":1409},{"$f":"RANK(BG1412,BG$4:BG$2003,1)","v":1409},38,{"$f":"IF($AV1412,BO1412&AG1412,\" \")","v":"ταχύς"}," ","quick, swift","tah-KOOSE","Adjective",""," "," ","","  ","5036",1409,{"$f":"IF(BU1412<=BJ$2,MATCH(BU1412,BH$4:BH$2003,0),\"\")","v":1409},{"$f":"VLOOKUP($BU1412,BH$4:BQ$2003,2,0)","v":38},{"$f":"VLOOKUP($BU1412,BH$4:BQ$2003,7,0)","v":"Adjective"},{"$f":"VLOOKUP($BU1412,BH$4:BQ$2003,3,0)","v":"ταχύς"},{"$f":"VLOOKUP($BU1412,BH$4:BQ$2003,9,0)","v":" "},{"$f":"VLOOKUP($BU1412,BH$4:BQ$2003,10,0)","v":" "},{"$f":"VLOOKUP($BU1412,BH$4:BQ$2003,4,0)","v":" "},{"$f":"VLOOKUP($BU1412,BH$4:BQ$2003,6,0)","v":"tah-KOOSE"},{"$f":"VLOOKUP($BU1412,BH$4:BQ$2003,5,0)","v":"quick, swift"},{"$f":"IF(AC$8,BY1412,VLOOKUP($BU1412,BH$4:BR$2003,11,0)&BY1412)","v":"ταχύς"},"Index of Textbook: Adjective",{"$f":"VLOOKUP($BU1412,BH$4:BS$2003,12,0)","v":"  "},{"$f":"VLOOKUP($BU1412,BH$4:BT$2003,13,0)","v":"5036"},false,{"$f":"IF(CI1412,AE1412,AE1412+5000)","v":6409},{"$f":"RANK(CJ1412,CJ$4:CJ$2003,1)","v":1409},{"$f":"IF($CI1412,IF(BB1412=\" \",\"\",BB1412&\" \")&AG1412,\" \")","v":" "}," "," ",1409,{"$f":"IF(CO1412<=CP$2,MATCH(CO1412,CK$4:CK$2003,0),\"\")","v":""},{"$f":"VLOOKUP($CO1412,CK$4:CM$2003,2,0)","v":" "},{"$f":"VLOOKUP($CO1412,CK$4:CN$2003,3,0)&VLOOKUP($CO1412,CK$4:CN$2003,4,0)","v":"  "}," ",false,{"$f":"IF(CT1412,AE1412,AE1412+5000)","v":6409},{"$f":"RANK(CU1412,CU$4:CU$2003,1)","v":1409},{"$f":"IF($CT1412,IF(AH1412=\" \",\"\",\" [\"&AH1412&\"]\"),\" \")","v":" "},{"$f":"IF($CT1412,IF(AK1412=\"Noun  \",\"Noun\",IF(AK1412=\"Verb  \",\"Verb\",AK1412)),\" \")","v":" "}," ",1409,{"$f":"IF(CZ1412<=DA$2,MATCH(CZ1412,CV$4:CV$2003,0),\"\")","v":""},{"$f":"VLOOKUP($CZ1412,CV$4:CY$2003,4,0)","v":" "}," "," ",{"$f":"IF(AND(LEN(AG1412)<=DF$2,AG1412<>\" \"),TRUE,FALSE)","v":false},{"$f":"IF(DE1412,AE1412,AE1412+5000)","v":6409},{"$f":"RANK(DF1412,DF$4:DF$2003,1)","v":1422},1409,{"$f":"IF(DH1412<=DA$2,MATCH(DH1412,DG$4:DG$2003,0),\"\")","v":""},{"$f":"IF($DE1412,IF(BB1412=\" \",\"\",BB1412&\" \")&AG1412,\" \")","v":" "}," ",{"$f":"IF($DH1412<=$DI$2,VLOOKUP($DH1412,DG$4:DK$2003,4,0)&\" [\" &VLOOKUP($DH1412,DG$4:DK$2003,5,0) &\"]\",\" \")","v":" "}]
[null,null,null,null,null,null,null,null,null,null,null,null,null,null,null,null,null,null,null,null,null,null,null,null,null,null,null,null,null,null,1417,"37","τελεσφορέω"," ","I ripen, I bring to maturity","tell-ess-for-EH-owe","Verb  "," ","ἐτελεσφόρεον","τελεσφορήσω","ἐτελεσφόρησα","telesforew etelesforeon telesforhsw etelesforhsa","5052",5052,"τελεσφορέω",true,true,true,"37"," ","I ripen, I bring to maturity","tell-ess-for-EH-owe","Verb  "," ","ἐτελεσφόρεον","τελεσφορήσω","ἐτελεσφόρησα","5052",1417,1417,"37","τελεσφορέω"," ","I ripen, I bring to maturity","tell-ess-for-EH-owe","Verb  ","","ἐτελεσφόρεον","τελεσφορήσω","","ἐτελεσφόρησα","5052",1417,1417,"37","Verb  ","τελεσφορέω","ἐτελεσφόρεον","τελεσφορήσω"," ","tell-ess-for-EH-owe","I ripen, I bring to maturity","τελεσφορέω","Extra: Verb  ","ἐτελεσφόρησα","5052",false,6417,1417," "," "," ",1417,""," ","  "," ",false,6417,1417," "," "," ",1417,""," "," "," ",false,6417,1429,1417,""," "," "," "]
[null,null,null,null,null,null,null,null,null,null,null,null,null,null,null,null,null,null,null,null,null,null,null,null,null,null,null,null,null,null,1422,38,"τέρας"," ","omen, wonder","TERR-ahss","Noun  ","τό"," "," ","  ","teras","5059",5059,"τέρας",true,true,true,38," ","omen, wonder","TERR-ahss","Noun  ","τό"," "," ","  ","5059",1422,1422,38,"τό τέρας"," ","omen, wonder","TERR-ahss","Noun  ","τό "," "," ","τό ","  ","5059",1422,1422,38,"Noun  ","τό τέρας"," "," "," ","TERR-ahss","omen, wonder","τό τέρας","Index of Textbook: Noun  ","  ","5059",false,6422,1422," "," "," ",1422,""," ","  "," ",false,6422,1422," "," "," ",1422,""," "," "," ",false,6422,1434,1422,""," "," "," "]
[null,null,null,null,null,null,null,null,null,null,null,null,null,null,null,null,null,null,null,null,null,null,null,null,null,null,null,null,null,null,1429,"38","τιμάω"," ","I honor","tim-AH-owe","Verb  "," ","ἐτίμων","τιμήσω","ἐτίμησα","timaw etimwn timhsw etimhsa","5091",5091,"τιμάω",true,true,true,"38"," ","I honor","tim-AH-owe","Verb  "," ","ἐτίμων","τιμήσω","ἐτίμησα","5091",1429,1429,"38","τιμάω"," ","I honor","tim-AH-owe","Verb  ","","ἐτίμων","τιμήσω","","ἐτίμησα",{"$f":"IF($AV1432,BF1432,\" \")","v":"5091"},1429,1429,"38","Verb  ","τιμάω","ἐτίμων","τιμήσω"," ","tim-AH-owe","I honor","τιμάω","Chapter 38: Verb  ","ἐτίμησα","5091",false,6429,1429," "," "," ",1429,""," ","  "," ",false,6429,1429," "," "," ",1429,""," "," "," ",false,6429,1441,1429,""," "," "," "]
[null,null,null,null,null,null,null,null,null,null,null,null,null,null,null,null,null,null,null,null,null,null,null,null,null,null,null,null,null,null,1437,"10","τινά","*τιν","someone/something [accusative, singular, masculine or feminine] or [ accusative, singular, neuter], or [accusative, plural, neuter] ","tin-NAH","Pronoun"," "," "," "," ","tina","5100",5100.05,"τινά",true,true,true,"10","*τιν","someone/something [accusative, singular, masculine or feminine] or [ accusative, singular, neuter], or [accusative, plural, neuter] ","tin-NAH","Pronoun"," "," "," "," ","5100",1437,1437,"10","τινά","*τιν","someone/something [accusative, singular, masculine or feminine] or [ accusative, singular, neuter], or [accusative, plural, neuter] ","tin-NAH","Pronoun",""," "," ",""," ","5100",1437,1437,"10","Pronoun","τινά"," "," ","*τιν","tin-NAH","someone/something [accusative, singular, masculine or feminine] or [ accusative, singular, neuter], or [accusative, plural, neuter] ","τινά","Chapter 10: Pronoun"," ","5100",false,6437,1437," "," "," ",1437,""," ","  "," ",false,6437,1437," "," "," ",1437,""," "," "," ",false,6437,1447,1437,""," "," "," "]
[null,null,null,null,null,null,null,null,null,null,null,null,null,null,null,null,null,null,null,null,null,null,null,null,null,null,null,null,null,null,1442,"10","τίς","*τιν","who? what? which? (nominative, singular, masculine or feminine)","TEESE","Pronoun"," "," "," ","  ","tis","5101",5101.01,"τίς",true,true,true,"10","*τιν","who? what? which? (nominative, singular, masculine or feminine)","TEESE","Pronoun"," "," "," ","  ","5101",1442,1442,"10","τίς","*τιν","who? what? which? (nominative, singular, masculine or feminine)","TEESE","Pronoun",""," "," ","","  ","5101",1442,1442,"10","Pronoun","τίς"," "," ","*τιν","TEESE","who? what? which? (nominative, singular, masculine or feminine)","τίς","Chapter 10: Pronoun","  ","5101",false,6442,1442," "," "," ",1442,""," ","  "," ",false,6442,1442," "," "," ",1442,""," "," "," ",true,1442,117,1442,"","τίς","who? what? which? (nominative, singular, masculine or feminine)"," "]
[null,null,null,null,null,null,null,null,null,null,null,null,null,null,null,null,null,null,null,null,null,null,null,null,null,null,null,null,null,null,1447,"10","τίνες","*τιν","who? what? which? (nominative, plural, masculine or feminine)","TIN-ess","Pronoun"," "," "," "," ","tines","5101",5101.1000000000004,"τίνες",true,true,true,"10","*τιν","who? what? which? (nominative, plural, masculine or feminine)","TIN-ess","Pronoun"," "," "," "," ","5101",1447,1447,"10","τίνες","*τιν","who? what? which? (nominative, plural, masculine or feminine)","TIN-ess","Pronoun",""," "," ",""," ","5101",1447,1447,"10","Pronoun","τίνες"," "," ","*τιν","TIN-ess","who? what? which? (nominative, plural, masculine or feminine)","τίνες","Chapter 10: Pronoun"," ","5101",false,6447,1447," "," "," ",1447,""," ","  "," ",false,6447,1447," "," "," ",1447,""," "," "," ",false,6447,1455,1447,""," "," "," "]
[null,null,null,null,null,null,null,null,null,null,null,null,null,null,null,null,null,null,null,null,null,null,null,null,null,null,null,null,null,null,1457,"38","τοσοῦτος"," ","so great, so much, so many","toss-OW-toss","Adjective"," "," "," "," ","tosoutos","5118",5118,"τοσοῦτος",true,true,true,"38"," ","so great, so much, so many","toss-OW-toss","Adjective"," "," "," "," ","5118",1457,1457,"38","τοσοῦτος"," ","so great, so much, so many","toss-OW-toss","Adjective",""," "," ",""," ","5118",1457,1457,"38","Adjective","τοσοῦτος"," "," "," ","toss-OW-toss","so great, so much, so many","τοσοῦτος","Chapter 38: Adjective"," ","5118",false,6457,1457," "," "," ",1457,""," ","  "," ",false,6457,1457," "," "," ",1457,""," "," "," ",false,6457,1464,1457,""," "," "," "]
[null,null,null,null,null,null,null,null,null,null,null,null,null,null,null,null,null,null,null,null,null,null,null,null,null,null,null,null,null,null,1462,"13","τοῦτον","*τουτο","this (accusative, singular, masculine)","TWO-tawn","Pronoun"," "," "," ","  ","touton","5126",5126,"τοῦτον",true,true,true,"13","*τουτο","this (accusative, singular, masculine)","TWO-tawn","Pronoun"," "," "," ","  ","5126",1462,1462,"13","τοῦτον","*τουτο","this (accusative, singular, masculine)","TWO-tawn","Pronoun",""," "," ","","  ","5126",1462,1462,"13","Pronoun","τοῦτον"," "," ","*τουτο","TWO-tawn","this (accusative, singular, masculine)","τοῦτον","Chapter 13: Pronoun","  ","5126",false,6462,1462," "," "," ",1462,""," ","  "," ",false,6462,1462," "," "," ",1462,""," "," "," ",false,6462,1469,1462,""," "," "," "]
[null,null,null,null,null,null,null,null,null,null,null,null,null,null,null,null,null,null,null,null,null,null,null,null,null,null,null,null,null,null,1470,"27","τρία"," ","three","TREE-ah","Adjective"," "," "," ","  ","tria","5140",5140.5,"τρία",true,true,true,"27"," ","three","TREE-ah","Adjective"," "," "," ","  ","5140",1470,1470,"27","τρία"," ","three","TREE-ah","Adjective",""," "," ","","  ","5140",1470,1470,"27","Adjective","τρία"," "," "," ","TREE-ah","three","τρία","Chapter 27: Adjective","  ","5140",false,6470,1470," "," "," ",1470,""," ","  "," ",false,6470,1470," "," "," ",1470,""," "," "," ",false,6470,1477,1470,""," "," "," "]
[null,null,null,null,null,null,null,null,null,null,null,null,null,null,null,null,null,null,null,null,null,null,null,null,null,null,null,null,null,null,1475,38,"τρόπος"," ","manner, way","TROP-oss","Noun  ","ὁ"," "," ","  ","tropos","5158",5158,"τρόπος",true,true,true,38," ","manner, way","TROP-oss","Noun  ","ὁ"," "," ","  ","5158",1475,1475,38,"ὁ τρόπος"," ","manner, way","TROP-oss","Noun  ","ὁ "," "," ","ὁ ","  ","5158",1475,1475,38,"Noun  ","ὁ τρόπος"," "," "," ","TROP-oss","manner, way","ὁ τρόπος","Index of Textbook: Noun  ","  ","5158",false,6475,1475," "," "," ",1475,""," ","  "," ",false,6475,1475," "," "," ",1475,""," "," "," ",false,6475,1482,1475,""," "," "," "]
[null,null,null,null,null,null,null,null,null,null,null,null,null,null,null,null,null,null,null,null,null,null,null,null,null,null,null,null,null,null,1480,38,"Τύρος"," ","Tyre","TOO-ross","Proper Noun","ὁ"," "," ","  ","turos","5184",5184,"Τύρος",true,true,true,38," ","Tyre","TOO-ross","Proper Noun","ὁ"," "," ","  ","5184",1480,1480,38,"ὁ Τύρος"," ","Tyre","TOO-ross","Proper Noun","ὁ "," "," ","ὁ ","  ","5184",1480,1480,38,"Proper Noun","ὁ Τύρος"," "," "," ","TOO-ross","Tyre","ὁ Τύρος","Index of Textbook: Proper Noun","  ","5184",false,6480,1480," "," "," ",1480,""," ","  "," ",false,6480,1480," "," "," ",1480,""," "," "," ",false,6480,1487,1480,""," "," "," "]
[null,null,null,null,null,null,null,null,null,null,null,null,null,null,null,null,null,null,null,null,null,null,null,null,null,null,null,null,null,null,1490,"11","ὑμῶν","ἐγώ","your/of ya'll (genitive plural)","hoo-MONE","Pronoun"," "," "," ","  ","umwn","5216",5216,"ὑμῶν",true,true,true,"11","ἐγώ","your/of ya'll (genitive plural)","hoo-MONE","Pronoun"," "," "," ","  ","5216",1490,1490,"11","ὑμῶν","ἐγώ","your/of ya'll (genitive plural)","hoo-MONE","Pronoun",""," "," ","","  ","5216",1490,1490,"11","Pronoun","ὑμῶν"," "," ","ἐγώ","hoo-MONE","your/of ya'll (genitive plural)","ὑμῶν","Chapter 11: Pronoun","  ","5216",false,6490,1490," "," "," ",1490,""," ","  "," ",false,6490,1490," "," "," ",1490,""," "," "," ",false,6490,1497,1490,""," "," "," "]
[null,null,null,null,null,null,null,null,null,null,null,null,null,null,null,null,null,null,null,null,null,null,null,null,null,null,null,null,null,null,1495,"34","ὑπάρχω","ὑπό + *ἀρχ","I am, I exist","hoop-ARK-owe","Verb  "," ","ὑπῆρχον","ὑπάρξω","ὑπῆρξα","uparcw uphrcon uparxw uphrxa","5225",5225,"ὑπάρχω",true,true,true,"34","ὑπό + *ἀρχ","I am, I exist","hoop-ARK-owe","Verb  "," ","ὑπῆρχον","ὑπάρξω","ὑπῆρξα","5225",1495,1495,"34","ὑπάρχω","ὑπό + *ἀρχ","I am, I exist","hoop-ARK-owe","Verb  ","","ὑπῆρχον","ὑπάρξω","","ὑπῆρξα","5225",1495,1495,"34","Verb  ","ὑπάρχω","ὑπῆρχον","ὑπάρξω","ὑπό + *ἀρχ","hoop-ARK-owe","I am, I exist","ὑπάρχω","Chapter 34: Verb  ","ὑπῆρξα","5225",false,6495,1495," "," "," ",1495,""," ","  "," ",false,6495,1495," "," "," ",1495,""," "," "," ",false,6495,1502,1495,""," "," "," "]
[null,null,null,null,null,null,null,null,null,null,null,null,null,null,null,null,null,null,null,null,null,null,null,null,null,null,null,null,null,null,1503,38,"ὑποκριτής"," ","hypocrite","hoo-pok-rit-ACE","Noun  ","ὁ"," "," ","  ","upokriths","5273",5273,"ὑποκριτής",true,true,true,38," ","hypocrite","hoo-pok-rit-ACE","Noun  ","ὁ"," "," ","  ","5273",1503,1503,38,"ὁ ὑποκριτής"," ","hypocrite","hoo-pok-rit-ACE","Noun  ","ὁ "," "," ","ὁ ","  ","5273",1503,1503,38,"Noun  ","ὁ ὑποκριτής"," "," "," ","hoo-pok-rit-ACE","hypocrite","ὁ ὑποκριτής","Index of Textbook: Noun  ","  ","5273",false,6503,1503," "," "," ",1503,""," ","  "," ",false,6503,1503," "," "," ",1503,""," "," "," ",false,6503,1510,1503,""," "," "," "]
[null,null,null,null,null,null,null,null,null,null,null,null,null,null,null,null,null,null,null,null,null,null,null,null,null,null,null,null,null,null,1509,38,"ὑστερέω"," ","I lack","hoo-ster-EH-owe","Verb  "," ","ὑστέρουν","ὑστερήσω","ὑστέρησα","usterew usterhsa usteroun usterhsw","5302",5302,"ὑστερέω",true,true,true,38," ","I lack","hoo-ster-EH-owe","Verb  "," ","ὑστέρουν","ὑστερήσω","ὑστέρησα","5302",1509,1509,38,"ὑστερέω"," ","I lack","hoo-ster-EH-owe","Verb  ","","ὑστέρουν","ὑστερήσω","","ὑστέρησα","5302",1509,1509,38,"Verb  ","ὑστερέω","ὑστέρουν","ὑστερήσω"," ","hoo-ster-EH-owe","I lack","ὑστερέω","Index of Textbook: Verb  ","ὑστέρησα","5302",false,6509,1509," "," "," ",1509,""," ","  "," ",false,6509,1509," "," "," ",1509,""," "," "," ",false,6509,1516,1509,""," "," "," "]
[null,null,null,null,null,null,null,null,null,null,null,null,null,null,null,null,null,null,null,null,null,null,null,null,null,null,null,null,null,null,1515,38,"φανερός"," ","visible, evident","fahn-err-OSS","Adjective"," "," "," ","  ","faneros","5318",5318,"φανερός",true,true,true,38," ","visible, evident","fahn-err-OSS","Adjective"," "," "," ","  ","5318",1515,1515,38,"φανερός"," ","visible, evident","fahn-err-OSS","Adjective",""," "," ","","  ","5318",1515,1515,38,"Adjective","φανερός"," "," "," ","fahn-err-OSS","visible, evident","φανερός","Index of Textbook: Adjective","  ","5318",false,6515,1515," "," "," ",1515,""," ","  "," ",false,6515,1515," "," "," ",1515,""," "," "," ",false,6515,1522,1515,""," "," "," "]
[null,null,null,null,null,null,null,null,null,null,null,null,null,null,null,null,null,null,null,null,null,null,null,null,null,null,null,null,null,null,1523,"28","ἔφη"," ","he/she/it said/was saying/was affirming (3rd person singular)","EF-ay","Verb  "," ","see φημί","φθήσω","see φημί","efh fhmi fqhsw","5346",5346.5,"ἔφη",true,true,true,"28"," ","he/she/it said/was saying/was affirming (3rd person singular)","EF-ay","Verb  "," ","see φημί","φθήσω","see φημί","5346",1523,1523,"28","ἔφη"," ","he/she/it said/was saying/was affirming (3rd person singular)","EF-ay","Verb  ","","see φημί","φθήσω","","see φημί","5346",1523,1523,"28","Verb  ","ἔφη","see φημί","φθήσω"," ","EF-ay","he/she/it said/was saying/was affirming (3rd person singular)","ἔφη","Chapter 28: Verb  ","see φημί","5346",false,6523,1523," "," "," ",1523,""," ","  "," ",false,6523,1523," "," "," ",1523,""," "," "," ",true,1523,120,1523,"","ἔφη","he/she/it said/was saying/was affirming (3rd person singular)"," "]
[null,null,null,null,null,null,null,null,null,null,null,null,null,null,null,null,null,null,null,null,null,null,null,null,null,null,null,null,null,null,1528,38,"Φίλιππος"," ","Philip","FEE-lip-oss","Proper Noun","ὁ"," "," ","  ","filippos","5376",5376,"Φίλιππος",true,true,true,38," ","Philip","FEE-lip-oss","Proper Noun","ὁ"," "," ","  ","5376",1528,1528,38,"ὁ Φίλιππος"," ","Philip","FEE-lip-oss","Proper Noun","ὁ "," "," ","ὁ ","  ","5376",1528,1528,38,"Proper Noun","ὁ Φίλιππος"," "," "," ","FEE-lip-oss","Philip","ὁ Φίλιππος","Index of Textbook: Proper Noun","  ","5376",false,6528,1528," "," "," ",1528,""," ","  "," ",false,6528,1528," "," "," ",1528,""," "," "," ",false,6528,1534,1528,""," "," "," "]
[null,null,null,null,null,null,null,null,null,null,null,null,null,null,null,null,null,null,null,null,null,null,null,null,null,null,null,null,null,null,1534,"37","φρίσσω"," ","I tremble","FRISS-owe","Verb  "," ","ἔφρισσον","φρίξω","ἔφριξα","frissw efrisson frixw efrixa","5425",5425,"φρίσσω",true,true,true,"37"," ","I tremble","FRISS-owe","Verb  "," ","ἔφρισσον","φρίξω","ἔφριξα","5425",1534,1534,"37","φρίσσω"," ","I tremble","FRISS-owe","Verb  ","","ἔφρισσον","φρίξω","","ἔφριξα","5425",1534,1534,"37","Verb  ","φρίσσω","ἔφρισσον","φρίξω"," ","FRISS-owe","I tremble","φρίσσω","Extra: Verb  ","ἔφριξα","5425",false,6534,1534," "," "," ",1534,""," ","  "," ",false,6534,1534," "," "," ",1534,""," "," "," ",false,6534,1540,1534,""," "," "," "]
[null,null,null,null,null,null,null,null,null,null,null,null,null,null,null,null,null,null,null,null,null,null,null,null,null,null,null,null,null,null,1543,38,"φωνέω"," ","I summon, I call out","fone-EH-owe","Verb  "," ","ἐφώνουν","φωνήσω","ἐφώνησα","fwnew efwnoun fwnhsw efwnhsa","5455",5455,"φωνέω",true,true,true,38," ","I summon, I call out","fone-EH-owe","Verb  "," ","ἐφώνουν","φωνήσω","ἐφώνησα","5455",1543,1543,38,"φωνέω"," ","I summon, I call out","fone-EH-owe","Verb  ","","ἐφώνουν","φωνήσω","","ἐφώνησα","5455",1543,1543,38,"Verb  ","φωνέω","ἐφώνουν","φωνήσω"," ","fone-EH-owe","I summon, I call out","φωνέω","Index of Textbook: Verb  ","ἐφώνησα","5455",false,6543,1543," "," "," ",1543,""," ","  "," ",false,6543,1543," "," "," ",1543,""," "," "," ",false,6543,1548,1543,""," "," "," "]
[null,null,null,null,null,null,null,null,null,null,null,null,null,null,null,null,null,null,null,null,null,null,null,null,null,null,null,null,null,null,1548,"37","χαμαί"," ","prostrate, earthward","kah-MY","Adverb"," "," "," "," ","camai","5476",5476,"χαμαί",true,true,true,"37"," ","prostrate, earthward","kah-MY","Adverb"," "," "," "," ","5476",1548,1548,"37","χαμαί"," ","prostrate, earthward","kah-MY","Adverb",""," "," ",""," ","5476",1548,1548,"37","Adverb","χαμαί"," "," "," ","kah-MY","prostrate, earthward","χαμαί","Extra: Adverb"," ","5476",false,6548,1548," "," "," ",1548,""," ","  "," ",false,6548,1548," "," "," ",1548,""," "," "," ",false,6548,1552,1548,""," "," "," "]
[null,null,null,null,null,null,null,null,null,null,null,null,null,null,null,null,null,null,null,null,null,null,null,null,null,null,null,null,null,null,1556,"37","ἐχθὲς"," ","yesterday","ekh-THESS","Adverb"," "," "," ","  ","exqes","5504",5504,"ἐχθὲς",true,true,true,"37"," ","yesterday","ekh-THESS","Adverb"," "," "," ","  ","5504",1556,1556,"37","ἐχθὲς"," ","yesterday","ekh-THESS","Adverb",""," "," ","","  ","5504",1556,1556,"37","Adverb","ἐχθὲς"," "," "," ","ekh-THESS","yesterday","ἐχθὲς","Extra: Adverb","  ","5504",false,6556,1556," "," "," ",1556,""," ","  "," ",false,6556,1556," "," "," ",1556,""," "," "," ",false,6556,1560,1556,""," "," "," "]
[null,null,null,null,null,null,null,null,null,null,null,null,null,null,null,null,null,null,null,null,null,null,null,null,null,null,null,null,null,null,1563,38,"χόρτος"," ","grass, hay","KORR-toss","Noun  ","ὁ"," "," ","  ","cortos","5528",5528,"χόρτος",true,true,true,38," ","grass, hay","KORR-toss","Noun  ","ὁ"," "," ","  ","5528",1563,1563,38,"ὁ χόρτος"," ","grass, hay","KORR-toss","Noun  ","ὁ "," "," ","ὁ ","  ","5528",1563,1563,38,"Noun  ","ὁ χόρτος"," "," "," ","KORR-toss","grass, hay","ὁ χόρτος","Index of Textbook: Noun  ","  ","5528",false,6563,1563," "," "," ",1563,""," ","  "," ",false,6563,1563," "," "," ",1563,""," "," "," ",false,6563,1567,1563,""," "," "," "]
[null,null,null,null,null,null,null,null,null,null,null,null,null,null,null,null,null,null,null,null,null,null,null,null,null,null,null,null,null,null,1568,"21","χρόνος","*χρονο","time","KRON-oss","Noun  ","ὁ"," "," ","  ","cronos","5550",5550,"χρόνος",true,true,true,"21","*χρονο","time","KRON-oss","Noun  ","ὁ"," "," ","  ","5550",1568,1568,"21","ὁ χρόνος","*χρονο","time","KRON-oss","Noun  ","ὁ "," "," ","ὁ ","  ","5550",1568,1568,"21","Noun  ","ὁ χρόνος"," "," ","*χρονο","KRON-oss","time","ὁ χρόνος","Chapter 21: Noun  ","  ","5550",false,6568,1568," "," "," ",1568,""," ","  "," ",false,6568,1568," "," "," ",1568,""," "," "," ",false,6568,1572,1568,""," "," "," "]
[null,null,null,null,null,null,null,null,null,null,null,null,null,null,null,null,null,null,null,null,null,null,null,null,null,null,null,null,null,null,1576,38,"χωρίον"," ","place, land, field","koe-REE-on","Noun  ","τό"," "," ","  ","cwrion","5564",5564,"χωρίον",true,true,true,38," ","place, land, field","koe-REE-on","Noun  ","τό"," "," ","  ","5564",1576,1576,38,"τό χωρίον"," ","place, land, field","koe-REE-on","Noun  ","τό "," "," ","τό ","  ","5564",1576,1576,38,"Noun  ","τό χωρίον"," "," "," ","koe-REE-on","place, land, field","τό χωρίον","Index of Textbook: Noun  ","  ","5564",false,6576,1576," "," "," ",1576,""," ","  "," ",false,6576,1576," "," "," ",1576,""," "," "," ",false,6576,1580,1576,""," "," "," "]
[null,null,null,null,null,null,null,null,null,null,null,null,null,null,null,null,null,null,null,null,null,null,null,null,null,null,null,null,null,null,1581,38,"ψεῦδος"," ","lie","PSYOU-doss","Noun  ","τό"," "," ","  ","yeudos","5579",5579,"ψεῦδος",true,true,true,38," ","lie","PSYOU-doss","Noun  ","τό"," "," ","  ","5579",1581,1581,38,"τό ψεῦδος"," ","lie","PSYOU-doss","Noun  ","τό "," "," ","τό ","  ","5579",1581,1581,38,"Noun  ","τό ψεῦδος"," "," "," ","PSYOU-doss","lie","τό ψεῦδος","Index of Textbook: Noun  ","  ","5579",false,6581,1581," "," "," ",1581,""," ","  "," ",false,6581,1581," "," "," ",1581,""," "," "," ",false,6581,1585,1581,""," "," "," "]
[null,null,null,null,null,null,null,null,null,null,null,null,null,null,null,null,null,null,null,null,null,null,null,null,null,null,null,null,null,null,1589,38,"ὡσεί"," ","as, like, about","hoess-AY","Adverb"," "," "," ","  ","wsei","5616",5616,"ὡσεί",true,true,true,38," ","as, like, about","hoess-AY","Adverb"," "," "," ","  ","5616",1589,1589,38,"ὡσεί"," ","as, like, about","hoess-AY","Adverb",""," "," ","","  ","5616",1589,1589,38,"Adverb","ὡσεί"," "," "," ","hoess-AY","as, like, about","ὡσεί","Index of Textbook: Adverb","  ","5616",false,6589,1589," "," "," ",1589,""," ","  "," ",false,6589,1589," "," "," ",1589,""," "," "," ",false,6589,1589,1589,""," "," "," "]
[null,null,null,null,null,null,null,null,null,null,null,null,null,null,null,null,null,null,null,null,null,null,null,null,null,null,null,null,null,null,1596,"x"," "," "," "," "," "," "," "," ","  ",null,null,null," ",false,true,false,"x"," "," "," "," "," "," "," ","  ",0,6596,1596," "," "," "," "," "," ",""," "," ",""," "," ",1596,""," "," "," "," "," "," "," "," "," ",""," "," ",false,6596,1596," "," "," ",1596,""," ","  "," ",false,6596,1596," "," "," ",1596,""," "," "," ",false,6596,1596,1596,""," "," "," "]
[null,null,null,null,null,null,null,null,null,null,null,null,null,null,null,null,null,null,null,null,null,null,null,null,null,null,null,null,null,null,1601,"x"," "," "," "," "," "," "," "," ","  ",null,null,null," ",false,true,false,"x"," "," "," "," "," "," "," ","  ",0,6601,{"$f":"RANK(BG1604,BG$4:BG$2003,1)","v":1601}," "," "," "," "," "," ",""," "," ",""," "," ",1601,{"$f":"IF(BU1604<=BJ$2,MATCH(BU1604,BH$4:BH$2003,0),\"\")","v":""},{"$f":"VLOOKUP($BU1604,BH$4:BQ$2003,2,0)","v":" "},{"$f":"VLOOKUP($BU1604,BH$4:BQ$2003,7,0)","v":" "},{"$f":"VLOOKUP($BU1604,BH$4:BQ$2003,3,0)","v":" "},{"$f":"VLOOKUP($BU1604,BH$4:BQ$2003,9,0)","v":" "},{"$f":"VLOOKUP($BU1604,BH$4:BQ$2003,10,0)","v":" "},{"$f":"VLOOKUP($BU1604,BH$4:BQ$2003,4,0)","v":" "},{"$f":"VLOOKUP($BU1604,BH$4:BQ$2003,6,0)","v":" "},{"$f":"VLOOKUP($BU1604,BH$4:BQ$2003,5,0)","v":" "},{"$f":"IF(AC$8,BY1604,VLOOKUP($BU1604,BH$4:BR$2003,11,0)&BY1604)","v":" "},"",{"$f":"VLOOKUP($BU1604,BH$4:BS$2003,12,0)","v":" "},{"$f":"VLOOKUP($BU1604,BH$4:BT$2003,13,0)","v":" "},false,6601,{"$f":"RANK(CJ1604,CJ$4:CJ$2003,1)","v":1601}," "," "," ",1601,{"$f":"IF(CO1604<=CP$2,MATCH(CO1604,CK$4:CK$2003,0),\"\")","v":""},{"$f":"VLOOKUP($CO1604,CK$4:CM$2003,2,0)","v":" "},{"$f":"VLOOKUP($CO1604,CK$4:CN$2003,3,0)&VLOOKUP($CO1604,CK$4:CN$2003,4,0)","v":"  "}," ",false,6601,{"$f":"RANK(CU1604,CU$4:CU$2003,1)","v":1601}," "," "," ",1601,{"$f":"IF(CZ1604<=DA$2,MATCH(CZ1604,CV$4:CV$2003,0),\"\")","v":""},{"$f":"VLOOKUP($CZ1604,CV$4:CY$2003,4,0)","v":" "}," "," ",false,6601,{"$f":"RANK(DF1604,DF$4:DF$2003,1)","v":1601},1601,{"$f":"IF(DH1604<=DA$2,MATCH(DH1604,DG$4:DG$2003,0),\"\")","v":""}," "," ",{"$f":"IF($DH1604<=$DI$2,VLOOKUP($DH1604,DG$4:DK$2003,4,0)&\" [\" &VLOOKUP($DH1604,DG$4:DK$2003,5,0) &\"]\",\" \")","v":" "}]
[null,null,null,null,null,null,null,null,null,null,null,null,null,null,null,null,null,null,null,null,null,null,null,null,null,null,null,null,null,null,1609,"x"," "," "," "," "," "," "," "," ","  ",null,null,null," ",false,true,false,"x"," "," "," "," "," "," "," ","  ",0,6609,1609," "," "," "," "," "," ",""," "," ",""," "," ",1609,""," "," "," "," "," "," "," "," "," ",""," "," ",false,6609,1609," "," "," ",1609,""," ","  "," ",false,6609,1609," "," "," ",1609,""," "," "," ",false,6609,1609,1609,""," "," "," "]
[null,null,null,null,null,null,null,null,null,null,null,null,null,null,null,null,null,null,null,null,null,null,null,null,null,null,null,null,null,null,1614,"x"," "," "," "," "," "," "," "," ","  ",null,null,null," ",false,true,false,"x"," "," "," "," "," "," "," ","  ",0,6614,1614," "," "," "," "," "," ",""," "," ",""," "," ",1614,""," "," "," "," "," "," "," "," "," ",""," "," ",false,6614,1614," "," "," ",1614,""," ","  "," ",false,6614,1614," "," "," ",1614,""," "," "," ",false,6614,1614,1614,""," "," "," "]
[null,null,null,null,null,null,null,null,null,null,null,null,null,null,null,null,null,null,null,null,null,null,null,null,null,null,null,null,null,null,1621,"x"," "," "," "," "," "," "," "," ","  ",null,null,null," ",false,true,false,"x"," "," "," "," "," "," "," ","  ",0,6621,1621," "," "," "," "," "," ",""," "," ",""," ",{"$f":"IF($AV1624,BF1624,\" \")","v":" "},1621,""," "," "," "," "," "," "," "," "," ",""," "," ",false,6621,1621," "," "," ",1621,""," ","  "," ",false,6621,1621," "," "," ",1621,""," "," "," ",false,6621,1621,1621,""," "," "," "]
[null,null,null,null,null,null,null,null,null,null,null,null,null,null,null,null,null,null,null,null,null,null,null,null,null,null,null,null,null,null,1629,"x"," "," "," "," "," "," "," "," ","  ",null,null,null,{"$f":"IF(AG1632=\"\",\"\",AG1632)","v":" "},{"$f":"IF(ISERR(FIND(AF1632,$Y$22,1)),FALSE,TRUE)","v":false},{"$f":"IF(ISERR(FIND(AK1632,$Y$23,1)),FALSE,TRUE)","v":true},{"$f":"AND(AT1632,AU1632)","v":false},{"$f":"IF(AC$3,AF1632,\" \")","v":"x"},{"$f":"IF(AC$4,AH1632,\" \")","v":" "},{"$f":"IF(TRUE,AI1632,\" \")","v":" "},{"$f":"IF(AC$6,AJ1632,\" \")","v":" "},{"$f":"IF(AC$7,AK1632,\" \")","v":" "},{"$f":"IF(AC$8,AL1632,\" \")","v":" "},{"$f":"IF(AC$9,AM1632,\" \")","v":" "},{"$f":"IF(AC$10,AN1632,\" \")","v":" "},{"$f":"IF(AC$9,AO1632,\" \")","v":"  "},0,{"$f":"IF(AV1632,AE1632,AE1632+5000)","v":6629},1629,{"$f":"IF(AV1632,AW1632,\" \")","v":" "},{"$f":"IF($AV1632,BO1632&AG1632,\" \")","v":" "},{"$f":"IF($AV1632,AX1632,\" \")","v":" "},{"$f":"IF($AV1632,AY1632,\" \")","v":" "},{"$f":"IF($AV1632,AZ1632,\" \")","v":" "},{"$f":"IF($AV1632,BA1632,\" \")","v":" "},{"$f":"IF($AV1632,IF(BB1632=\" \",\"\",BB1632&\" \"),\"\")","v":""},{"$f":"IF($AV1632,BC1632,\" \")","v":" "},{"$f":"IF($AV1632,BD1632,\" \")","v":" "},{"$f":"IF($AV1632,IF(AL1632=\" \",\"\",AL1632&\" \"),\"\")","v":""},{"$f":"IF($AV1632,BE1632,\" \")","v":" "}," ",1629,""," "," "," "," "," "," "," "," "," ",""," "," ",{"$f":"IF(ISERR(SEARCH(CL$2,AY1632,1)),FALSE, TRUE)","v":false},{"$f":"IF(CI1632,AE1632,AE1632+5000)","v":6629},1629,{"$f":"IF($CI1632,IF(BB1632=\" \",\"\",BB1632&\" \")&AG1632,\" \")","v":" "},{"$f":"IF($CI1632,AY1632,\" \")","v":" "}," ",1629,""," ","  "," ",{"$f":"IF(ISERR(FIND(CW$2,AP1632,1)),FALSE, TRUE)","v":false},{"$f":"IF(CT1632,AE1632,AE1632+5000)","v":6629},1629,{"$f":"IF($CT1632,IF(AH1632=\" \",\"\",\" [\"&AH1632&\"]\"),\" \")","v":" "},{"$f":"IF($CT1632,IF(AK1632=\"Noun  \",\"Noun\",IF(AK1632=\"Verb  \",\"Verb\",AK1632)),\" \")","v":" "}," ",1629,""," "," "," ",{"$f":"IF(AND(LEN(AG1632)<=DF$2,AG1632<>\" \"),TRUE,FALSE)","v":false},{"$f":"IF(DE1632,AE1632,AE1632+5000)","v":6629},1629,1629,"",{"$f":"IF($DE1632,IF(BB1632=\" \",\"\",BB1632&\" \")&AG1632,\" \")","v":" "},{"$f":"IF($DE1632,AY1632,\" \")","v":" "}," "]
[null,null,null,null,null,null,null,null,null,null,null,null,null,null,null,null,null,null,null,null,null,null,null,null,null,null,null,null,null,null,1634,"x"," "," "," "," "," "," "," "," ","  ",null,null,null," ",false,true,false,"x"," "," "," "," "," "," "," ","  ",0,6634,1634," "," "," "," "," "," ",""," "," ",""," "," ",1634,""," "," "," "," "," "," "," "," "," ",""," "," ",false,6634,1634," "," "," ",1634,""," ","  "," ",false,6634,1634," "," "," ",1634,""," "," "," ",false,6634,1634,1634,""," "," "," "]
[null,null,null,null,null,null,null,null,null,null,null,null,null,null,null,null,null,null,null,null,null,null,null,null,null,null,null,null,null,null,1642,"x"," "," "," "," "," "," "," "," ","  ",null,null,null," ",false,true,false,"x"," "," "," "," "," "," "," ","  ",0,6642,1642," "," "," "," "," "," ",""," "," ",""," "," ",1642,""," "," "," "," "," "," "," "," "," ",""," "," ",false,6642,1642," "," "," ",1642,""," ","  "," ",false,6642,1642," "," "," ",1642,""," "," "," ",false,6642,1642,1642,""," "," "," "]
[null,null,null,null,null,null,null,null,null,null,null,null,null,null,null,null,null,null,null,null,null,null,null,null,null,null,null,null,null,null,1650,"x"," "," "," "," "," "," "," "," ","  ",null,null,null," ",false,true,false,"x"," "," "," "," "," "," "," ","  ",0,6650,1650," "," "," "," "," "," ",""," "," ",""," "," ",1650,""," "," "," "," "," "," "," "," "," ",""," "," ",false,6650,1650," "," "," ",1650,""," ","  "," ",false,6650,1650," "," "," ",1650,""," "," "," ",false,6650,1650,1650,""," "," "," "]
[null,null,null,null,null,null,null,null,null,null,null,null,null,null,null,null,null,null,null,null,null,null,null,null,null,null,null,null,null,null,1654,"x"," "," "," "," "," "," "," "," ","  ",null,null,null," ",false,true,false,"x"," "," "," "," "," "," "," ","  ",0,6654,1654," "," "," "," "," "," ",""," "," ",""," "," ",1654,""," "," "," "," "," "," "," "," "," ",""," "," ",false,6654,1654," "," "," ",1654,""," ","  "," ",false,6654,1654," "," "," ",1654,""," "," "," ",false,6654,1654,1654,""," "," "," "]
[null,null,null,null,null,null,null,null,null,null,null,null,null,null,null,null,null,null,null,null,null,null,null,null,null,null,null,null,null,null,1662,"x"," "," "," "," "," "," "," "," ","  ",null,null,null," ",false,true,false,"x"," "," "," "," "," "," "," ","  ",0,6662,1662," "," "," "," "," "," ",""," "," ",""," "," ",1662,""," "," "," "," "," "," "," "," "," ",""," "," ",false,6662,1662," "," "," ",1662,""," ","  "," ",false,6662,1662," "," "," ",1662,""," "," "," ",false,6662,1662,1662,""," "," "," "]
[null,null,null,null,null,null,null,null,null,null,null,null,null,null,null,null,null,null,null,null,null,null,null,null,null,null,null,null,null,null,1674,"x"," "," "," "," "," "," "," "," ","  ",null,null,null," ",false,true,false,"x"," "," "," "," "," "," "," ","  ",0,6674,1674," "," "," "," "," "," ",""," "," ",""," "," ",1674,""," "," "," "," "," "," "," "," "," ",""," "," ",false,6674,1674," "," "," ",1674,""," ","  "," ",false,6674,1674," "," "," ",1674,""," "," "," ",false,6674,1674,1674,""," "," "," "]
[null,null,null,null,null,null,null,null,null,null,null,null,null,null,null,null,null,null,null,null,null,null,null,null,null,null,null,null,null,null,1675,"x"," "," "," "," "," "," "," "," ","  ",null,null,null," ",false,true,false,"x"," "," "," "," "," "," "," ","  ",0,6675,1675," "," "," "," "," "," ",""," "," ",""," "," ",1675,""," "," "," "," "," "," "," "," "," ",""," "," ",false,6675,1675," "," "," ",1675,""," ","  "," ",false,6675,1675," "," "," ",1675,""," "," "," ",false,6675,1675,1675,""," "," "," "]
[null,null,null,null,null,null,null,null,null,null,null,null,null,null,null,null,null,null,null,null,null,null,null,null,null,null,null,null,null,null,1682,"x"," "," "," "," "," "," "," "," ","  ",null,null,null," ",false,true,false,"x"," "," "," "," "," "," "," ","  ",0,6682,1682," "," "," "," "," "," ",""," "," ",""," "," ",1682,""," "," "," "," "," "," "," "," "," ",""," "," ",false,6682,1682," "," "," ",1682,""," ","  "," ",false,6682,1682," "," "," ",1682,""," "," "," ",false,6682,1682,1682,""," "," "," "]
[null,null,null,null,null,null,null,null,null,null,null,null,null,null,null,null,null,null,null,null,null,null,null,null,null,null,null,null,null,null,1694,"x"," "," "," "," "," "," "," "," ","  ",null,null,null," ",false,true,false,"x"," "," "," "," "," "," "," ","  ",0,6694,1694," "," "," "," "," "," ",""," "," ",""," "," ",1694,""," "," "," "," "," "," "," "," "," ",""," "," ",false,6694,1694," "," "," ",1694,""," ","  "," ",false,6694,1694," "," "," ",1694,""," "," "," ",false,6694,1694,1694,""," "," "," "]
[null,null,null,null,null,null,null,null,null,null,null,null,null,null,null,null,null,null,null,null,null,null,null,null,null,null,null,null,null,null,1695,"x"," "," "," "," "," "," "," "," ","  ",null,null,null," ",false,true,false,"x"," "," "," "," "," "," "," ","  ",0,6695,1695," "," "," "," "," "," ",""," "," ",""," "," ",1695,""," "," "," "," "," "," "," "," "," ",""," "," ",false,6695,1695," "," "," ",1695,""," ","  "," ",false,6695,1695," "," "," ",1695,""," "," "," ",false,6695,1695,1695,""," "," "," "]
[null,null,null,null,null,null,null,null,null,null,null,null,null,null,null,null,null,null,null,null,null,null,null,null,null,null,null,null,null,null,1707,"x"," "," "," "," "," "," "," "," ","  ",null,null,null," ",false,true,false,"x"," "," "," "," "," "," "," ","  ",0,6707,1707," "," "," "," "," "," ",""," "," ",""," "," ",1707,""," "," "," "," "," "," "," "," "," ",""," "," ",false,6707,1707," "," "," ",1707,""," ","  "," ",false,6707,1707," "," "," ",1707,""," "," "," ",false,6707,1707,1707,""," "," "," "]
[null,null,null,null,null,null,null,null,null,null,null,null,null,null,null,null,null,null,null,null,null,null,null,null,null,null,null,null,null,null,1714,"x"," "," "," "," "," "," "," "," ","  ",null,null,null," ",false,true,false,"x"," "," "," "," "," "," "," ","  ",0,6714,1714," "," "," "," "," "," ",""," "," ",""," "," ",1714,""," "," "," "," "," "," "," "," "," ",""," "," ",false,6714,1714," "," "," ",1714,""," ","  "," ",false,6714,1714," "," "," ",1714,""," "," "," ",false,6714,1714,1714,""," "," "," "]
[null,null,null,null,null,null,null,null,null,null,null,null,null,null,null,null,null,null,null,null,null,null,null,null,null,null,null,null,null,null,1715,"x"," "," "," "," "," "," "," "," ","  ",null,null,null," ",false,true,false,"x"," "," "," "," "," "," "," ","  ",0,6715,1715," "," "," "," "," "," ",""," "," ",""," "," ",1715,""," "," "," "," "," "," "," "," "," ",""," "," ",false,6715,1715," "," "," ",1715,""," ","  "," ",false,6715,1715," "," "," ",1715,""," "," "," ",false,6715,1715,1715,""," "," "," "]
[null,null,null,null,null,null,null,null,null,null,null,null,null,null,null,null,null,null,null,null,null,null,null,null,null,null,null,null,null,null,1727,"x"," "," "," "," "," "," "," "," ","  ",null,null,null," ",false,true,false,"x"," "," "," "," "," "," "," ","  ",0,6727,1727," "," "," "," "," "," ",""," "," ",""," "," ",1727,""," "," "," "," "," "," "," "," "," ",""," "," ",false,6727,1727," "," "," ",1727,""," ","  "," ",false,6727,1727," "," "," ",1727,""," "," "," ",false,6727,1727,1727,""," "," "," "]
[null,null,null,null,null,null,null,null,null,null,null,null,null,null,null,null,null,null,null,null,null,null,null,null,null,null,null,null,null,null,1735,"x"," "," "," "," "," "," "," "," ","  ",null,null,null," ",false,true,false,"x"," "," "," "," "," "," "," ","  ",0,6735,1735," "," "," "," "," "," ",""," "," ",""," "," ",1735,""," "," "," "," "," "," "," "," "," ",""," "," ",false,6735,1735," "," "," ",1735,""," ","  "," ",false,6735,1735," "," "," ",1735,""," "," "," ",false,6735,1735,1735,""," "," "," "]
[null,null,null,null,null,null,null,null,null,null,null,null,null,null,null,null,null,null,null,null,null,null,null,null,null,null,null,null,null,null,1737,"x"," "," "," "," "," "," "," "," ","  ",null,null,null," ",false,true,false,"x"," "," "," "," "," "," "," ","  ",0,6737,1737," "," "," "," "," "," ",""," "," ",""," "," ",1737,""," "," "," "," "," "," "," "," "," ",""," "," ",false,6737,1737," "," "," ",1737,""," ","  "," ",false,6737,1737," "," "," ",1737,""," "," "," ",false,6737,1737,1737,""," "," "," "]
[null,null,null,null,null,null,null,null,null,null,null,null,null,null,null,null,null,null,null,null,null,null,null,null,null,null,null,null,null,null,1747,"x"," "," "," "," "," "," "," "," ","  ",null,null,null," ",false,true,false,"x"," "," "," "," "," "," "," ","  ",0,6747,1747," "," "," "," "," "," ",""," "," ",""," "," ",1747,""," "," "," "," "," "," "," "," "," ",""," "," ",false,6747,1747," "," "," ",1747,""," ","  "," ",false,6747,1747," "," "," ",1747,""," "," "," ",false,6747,1747,1747,""," "," "," "]
[null,null,null,null,null,null,null,null,null,null,null,null,null,null,null,null,null,null,null,null,null,null,null,null,null,null,null,null,null,null,1755,"x"," "," "," "," "," "," "," "," ","  ",null,null,null," ",false,true,false,"x"," "," "," "," "," "," "," ","  ",0,6755,1755," "," "," "," "," "," ",""," "," ",""," "," ",1755,""," "," "," "," "," "," "," "," "," ",""," "," ",false,6755,1755," "," "," ",1755,""," ","  "," ",false,6755,1755," "," "," ",1755,""," "," "," ",false,6755,1755,1755,""," "," "," "]
[null,null,null,null,null,null,null,null,null,null,null,null,null,null,null,null,null,null,null,null,null,null,null,null,null,null,null,null,null,null,1760,"x"," "," "," "," "," "," "," "," ","  ",null,null,null," ",false,true,false,"x"," "," "," "," "," "," "," ","  ",0,6760,1760," "," "," "," "," "," ",""," "," ",""," "," ",1760,""," "," "," "," "," "," "," "," "," ",""," "," ",false,6760,1760," "," "," ",1760,""," ","  "," ",false,6760,1760," "," "," ",1760,""," "," "," ",false,6760,1760,1760,""," "," "," "]
[null,null,null,null,null,null,null,null,null,null,null,null,null,null,null,null,null,null,null,null,null,null,null,null,null,null,null,null,null,null,1768,"x"," "," "," "," "," "," "," "," ","  ",null,null,null," ",false,true,false,"x"," "," "," "," "," "," "," ","  ",0,6768,1768," "," "," "," "," "," ",""," "," ",""," "," ",1768,""," "," "," "," "," "," "," "," "," ",""," "," ",false,6768,1768," "," "," ",1768,""," ","  "," ",false,6768,1768," "," "," ",1768,""," "," "," ",false,6768,1768,1768,""," "," "," "]
[null,null,null,null,null,null,null,null,null,null,null,null,null,null,null,null,null,null,null,null,null,null,null,null,null,null,null,null,null,null,1775,"x"," "," "," "," "," "," "," "," ","  ",null,null,null," ",false,true,false,"x"," "," "," "," "," "," "," ","  ",0,6775,1775," "," "," "," "," "," ",""," "," ",""," "," ",1775,""," "," "," "," "," "," "," "," "," ",""," "," ",false,6775,1775," "," "," ",1775,""," ","  "," ",false,6775,1775," "," "," ",1775,""," "," "," ",false,6775,1775,1775,""," "," "," "]
[null,null,null,null,null,null,null,null,null,null,null,null,null,null,null,null,null,null,null,null,null,null,null,null,null,null,null,null,null,null,1780,"x"," "," "," "," "," "," "," "," ","  ",null,null,null," ",false,true,false,"x"," "," "," "," "," "," "," ","  ",0,6780,1780," "," "," "," "," "," ",""," "," ",""," "," ",1780,""," "," "," "," "," "," "," "," "," ",""," "," ",false,6780,1780," "," "," ",1780,""," ","  "," ",false,6780,1780," "," "," ",1780,""," "," "," ",false,6780,1780,1780,""," "," "," "]
[null,null,null,null,null,null,null,null,null,null,null,null,null,null,null,null,null,null,null,null,null,null,null,null,null,null,null,null,null,null,1788,"x"," "," "," "," "," "," "," "," ","  ",null,null,null," ",false,true,false,"x"," "," "," "," "," "," "," ","  ",0,6788,1788," "," "," "," "," "," ",""," "," ",""," "," ",1788,""," "," "," "," "," "," "," "," "," ",""," "," ",false,6788,1788," "," "," ",1788,""," ","  "," ",false,6788,1788," "," "," ",1788,""," "," "," ",false,6788,1788,1788,""," "," "," "]
[null,null,null,null,null,null,null,null,null,null,null,null,null,null,null,null,null,null,null,null,null,null,null,null,null,null,null,null,null,null,1791,"x"," "," "," "," "," "," "," "," ","  ",null,null,null," ",false,true,false,"x"," "," "," "," "," "," "," ","  ",0,6791,1791," "," "," "," "," "," ",""," "," ",""," "," ",1791,""," "," "," "," "," "," "," "," "," ",""," "," ",false,6791,1791," "," "," ",1791,""," ","  "," ",false,6791,1791," "," "," ",1791,""," "," "," ",false,6791,1791,1791,""," "," "," "]
[null,null,null,null,null,null,null,null,null,null,null,null,null,null,null,null,null,null,null,null,null,null,null,null,null,null,null,null,null,null,1800,"x"," "," "," "," "," "," "," "," ","  ",null,null,null," ",false,true,false,"x"," "," "," "," "," "," "," ","  ",0,6800,1800," "," "," "," "," "," ",""," "," ",""," "," ",1800,""," "," "," "," "," "," "," "," "," ",""," "," ",false,6800,1800," "," "," ",1800,""," ","  "," ",false,6800,1800," "," "," ",1800,""," "," "," ",false,6800,1800,1800,""," "," "," "]
[null,null,null,null,null,null,null,null,null,null,null,null,null,null,null,null,null,null,null,null,null,null,null,null,null,null,null,null,null,null,1808,"x"," "," "," "," "," "," "," "," ","  ",null,null,null," ",false,true,false,"x"," "," "," "," "," "," "," ","  ",0,6808,1808," "," "," "," "," "," ",""," "," ",""," "," ",1808,""," "," "," "," "," "," "," "," "," ",""," "," ",false,6808,1808," "," "," ",1808,""," ","  "," ",false,6808,1808," "," "," ",1808,""," "," "," ",false,6808,1808,1808,""," "," "," "]
[null,null,null,null,null,null,null,null,null,null,null,null,null,null,null,null,null,null,null,null,null,null,null,null,null,null,null,null,null,null,1813,"x"," "," "," "," "," "," "," "," ","  ",null,null,null," ",false,true,false,"x"," "," "," "," "," "," "," ","  ",0,6813,1813," "," "," "," "," "," ",""," "," ",""," ",{"$f":"IF($AV1816,BF1816,\" \")","v":" "},1813,""," "," "," "," "," "," "," "," "," ",""," "," ",false,6813,1813," "," "," ",1813,""," ","  "," ",false,6813,1813," "," "," ",1813,""," "," "," ",false,6813,1813,1813,""," "," "," "]
[null,null,null,null,null,null,null,null,null,null,null,null,null,null,null,null,null,null,null,null,null,null,null,null,null,null,null,null,null,null,1821,"x"," "," "," "," "," "," "," "," ","  ",null,null,null,{"$f":"IF(AG1824=\"\",\"\",AG1824)","v":" "},{"$f":"IF(ISERR(FIND(AF1824,$Y$22,1)),FALSE,TRUE)","v":false},{"$f":"IF(ISERR(FIND(AK1824,$Y$23,1)),FALSE,TRUE)","v":true},{"$f":"AND(AT1824,AU1824)","v":false},{"$f":"IF(AC$3,AF1824,\" \")","v":"x"},{"$f":"IF(AC$4,AH1824,\" \")","v":" "},{"$f":"IF(TRUE,AI1824,\" \")","v":" "},{"$f":"IF(AC$6,AJ1824,\" \")","v":" "},{"$f":"IF(AC$7,AK1824,\" \")","v":" "},{"$f":"IF(AC$8,AL1824,\" \")","v":" "},{"$f":"IF(AC$9,AM1824,\" \")","v":" "},{"$f":"IF(AC$10,AN1824,\" \")","v":" "},{"$f":"IF(AC$9,AO1824,\" \")","v":"  "},0,{"$f":"IF(AV1824,AE1824,AE1824+5000)","v":6821},1821,{"$f":"IF(AV1824,AW1824,\" \")","v":" "},{"$f":"IF($AV1824,BO1824&AG1824,\" \")","v":" "},{"$f":"IF($AV1824,AX1824,\" \")","v":" "},{"$f":"IF($AV1824,AY1824,\" \")","v":" "},{"$f":"IF($AV1824,AZ1824,\" \")","v":" "},{"$f":"IF($AV1824,BA1824,\" \")","v":" "},{"$f":"IF($AV1824,IF(BB1824=\" \",\"\",BB1824&\" \"),\"\")","v":""},{"$f":"IF($AV1824,BC1824,\" \")","v":" "},{"$f":"IF($AV1824,BD1824,\" \")","v":" "},{"$f":"IF($AV1824,IF(AL1824=\" \",\"\",AL1824&\" \"),\"\")","v":""},{"$f":"IF($AV1824,BE1824,\" \")","v":" "}," ",1821,""," "," "," "," "," "," "," "," "," ",""," "," ",{"$f":"IF(ISERR(SEARCH(CL$2,AY1824,1)),FALSE, TRUE)","v":false},{"$f":"IF(CI1824,AE1824,AE1824+5000)","v":6821},1821,{"$f":"IF($CI1824,IF(BB1824=\" \",\"\",BB1824&\" \")&AG1824,\" \")","v":" "},{"$f":"IF($CI1824,AY1824,\" \")","v":" "}," ",1821,""," ","  "," ",{"$f":"IF(ISERR(FIND(CW$2,AP1824,1)),FALSE, TRUE)","v":false},{"$f":"IF(CT1824,AE1824,AE1824+5000)","v":6821},1821,{"$f":"IF($CT1824,IF(AH1824=\" \",\"\",\" [\"&AH1824&\"]\"),\" \")","v":" "},{"$f":"IF($CT1824,IF(AK1824=\"Noun  \",\"Noun\",IF(AK1824=\"Verb  \",\"Verb\",AK1824)),\" \")","v":" "}," ",1821,""," "," "," ",{"$f":"IF(AND(LEN(AG1824)<=DF$2,AG1824<>\" \"),TRUE,FALSE)","v":false},{"$f":"IF(DE1824,AE1824,AE1824+5000)","v":6821},1821,1821,"",{"$f":"IF($DE1824,IF(BB1824=\" \",\"\",BB1824&\" \")&AG1824,\" \")","v":" "},{"$f":"IF($DE1824,AY1824,\" \")","v":" "}," "]
[null,null,null,null,null,null,null,null,null,null,null,null,null,null,null,null,null,null,null,null,null,null,null,null,null,null,null,null,null,null,1826,"x"," "," "," "," "," "," "," "," ","  ",null,null,null," ",false,true,false,"x"," "," "," "," "," "," "," ","  ",0,6826,1826," "," "," "," "," "," ",""," "," ",""," "," ",1826,""," "," "," "," "," "," "," "," "," ",""," "," ",false,6826,1826," "," "," ",1826,""," ","  "," ",false,6826,1826," "," "," ",1826,""," "," "," ",false,6826,1826,1826,""," "," "," "]
[null,null,null,null,null,null,null,null,null,null,null,null,null,null,null,null,null,null,null,null,null,null,null,null,null,null,null,null,null,null,1833,"x"," "," "," "," "," "," "," "," ","  ",null,null,null," ",false,true,false,"x"," "," "," "," "," "," "," ","  ",0,6833,1833," "," "," "," "," "," ",""," "," ",""," "," ",1833,""," "," "," "," "," "," "," "," "," ",""," "," ",false,6833,1833," "," "," ",1833,""," ","  "," ",false,6833,1833," "," "," ",1833,""," "," "," ",false,6833,1833,1833,""," "," "," "]
[null,null,null,null,null,null,null,null,null,null,null,null,null,null,null,null,null,null,null,null,null,null,null,null,null,null,null,null,null,null,1841,"x"," "," "," "," "," "," "," "," ","  ",null,null,null," ",false,true,false,"x"," "," "," "," "," "," "," ","  ",0,6841,1841," "," "," "," "," "," ",""," "," ",""," "," ",1841,""," "," "," "," "," "," "," "," "," ",""," "," ",false,6841,1841," "," "," ",1841,""," ","  "," ",false,6841,1841," "," "," ",1841,""," "," "," ",false,6841,1841,1841,""," "," "," "]
[null,null,null,null,null,null,null,null,null,null,null,null,null,null,null,null,null,null,null,null,null,null,null,null,null,null,null,null,null,null,1846,"x"," "," "," "," "," "," "," "," ","  ",null,null,null," ",false,true,false,"x"," "," "," "," "," "," "," ","  ",0,6846,1846," "," "," "," "," "," ",""," "," ",""," "," ",1846,""," "," "," "," "," "," "," "," "," ",""," "," ",false,6846,1846," "," "," ",1846,""," ","  "," ",false,6846,1846," "," "," ",1846,""," "," "," ",false,6846,1846,1846,""," "," "," "]
[null,null,null,null,null,null,null,null,null,null,null,null,null,null,null,null,null,null,null,null,null,null,null,null,null,null,null,null,null,null,1855,"x"," "," "," "," "," "," "," "," ","  ",null,null,null," ",false,true,false,"x"," "," "," "," "," "," "," ","  ",0,6855,1855," "," "," "," "," "," ",""," "," ",""," "," ",1855,""," "," "," "," "," "," "," "," "," ",""," "," ",false,6855,1855," "," "," ",1855,""," ","  "," ",false,6855,1855," "," "," ",1855,""," "," "," ",false,6855,1855,1855,""," "," "," "]
[null,null,null,null,null,null,null,null,null,null,null,null,null,null,null,null,null,null,null,null,null,null,null,null,null,null,null,null,null,null,1861,"x"," "," "," "," "," "," "," "," ","  ",null,null,null," ",false,true,false,"x"," "," "," "," "," "," "," ","  ",0,6861,1861," "," "," "," "," "," ",""," "," ",""," "," ",1861,""," "," "," "," "," "," "," "," "," ",""," "," ",false,6861,1861," "," "," ",1861,""," ","  "," ",false,6861,1861," "," "," ",1861,""," "," "," ",false,6861,1861,1861,""," "," "," "]
[null,null,null,null,null,null,null,null,null,null,null,null,null,null,null,null,null,null,null,null,null,null,null,null,null,null,null,null,null,null,1866,"x"," "," "," "," "," "," "," "," ","  ",null,null,null," ",false,true,false,"x"," "," "," "," "," "," "," ","  ",0,6866,1866," "," "," "," "," "," ",""," "," ",""," "," ",1866,""," "," "," "," "," "," "," "," "," ",""," "," ",false,6866,1866," "," "," ",1866,""," ","  "," ",false,6866,1866," "," "," ",1866,""," "," "," ",false,6866,1866,1866,""," "," "," "]
[null,null,null,null,null,null,null,null,null,null,null,null,null,null,null,null,null,null,null,null,null,null,null,null,null,null,null,null,null,null,1874,"x"," "," "," "," "," "," "," "," ","  ",null,null,null," ",false,true,false,"x"," "," "," "," "," "," "," ","  ",0,6874,1874," "," "," "," "," "," ",""," "," ",""," "," ",1874,""," "," "," "," "," "," "," "," "," ",""," "," ",false,6874,1874," "," "," ",1874,""," ","  "," ",false,6874,1874," "," "," ",1874,""," "," "," ",false,6874,1874,1874,""," "," "," "]
[null,null,null,null,null,null,null,null,null,null,null,null,null,null,null,null,null,null,null,null,null,null,null,null,null,null,null,null,null,null,1878,"x"," "," "," "," "," "," "," "," ","  ",null,null,null," ",false,true,false,"x"," "," "," "," "," "," "," ","  ",0,6878,1878," "," "," "," "," "," ",""," "," ",""," "," ",1878,""," "," "," "," "," "," "," "," "," ",""," "," ",false,6878,1878," "," "," ",1878,""," ","  "," ",false,6878,1878," "," "," ",1878,""," "," "," ",false,6878,1878,1878,""," "," "," "]
[null,null,null,null,null,null,null,null,null,null,null,null,null,null,null,null,null,null,null,null,null,null,null,null,null,null,null,null,null,null,1886,"x"," "," "," "," "," "," "," "," ","  ",null,null,null," ",false,true,false,"x"," "," "," "," "," "," "," ","  ",0,6886,1886," "," "," "," "," "," ",""," "," ",""," "," ",1886,""," "," "," "," "," "," "," "," "," ",""," "," ",false,6886,1886," "," "," ",1886,""," ","  "," ",false,6886,1886," "," "," ",1886,""," "," "," ",false,6886,1886,1886,""," "," "," "]
[null,null,null,null,null,null,null,null,null,null,null,null,null,null,null,null,null,null,null,null,null,null,null,null,null,null,null,null,null,null,1894,"x"," "," "," "," "," "," "," "," ","  ",null,null,null," ",false,true,false,"x"," "," "," "," "," "," "," ","  ",0,6894,1894," "," "," "," "," "," ",""," "," ",""," "," ",1894,""," "," "," "," "," "," "," "," "," ",""," "," ",false,6894,1894," "," "," ",1894,""," ","  "," ",false,6894,1894," "," "," ",1894,""," "," "," ",false,6894,1894,1894,""," "," "," "]
[null,null,null,null,null,null,null,null,null,null,null,null,null,null,null,null,null,null,null,null,null,null,null,null,null,null,null,null,null,null,1899,"x"," "," "," "," "," "," "," "," ","  ",null,null,null," ",false,true,false,"x"," "," "," "," "," "," "," ","  ",0,6899,1899," "," "," "," "," "," ",""," "," ",""," "," ",1899,""," "," "," "," "," "," "," "," "," ",""," "," ",false,6899,1899," "," "," ",1899,""," ","  "," ",false,6899,1899," "," "," ",1899,""," "," "," ",false,6899,1899,1899,""," "," "," "]
[null,null,null,null,null,null,null,null,null,null,null,null,null,null,null,null,null,null,null,null,null,null,null,null,null,null,null,null,null,null,1909,"x"," "," "," "," "," "," "," "," ","  ",null,null,null," ",false,true,false,"x"," "," "," "," "," "," "," ","  ",0,6909,1909," "," "," "," "," "," ",""," "," ",""," "," ",1909,""," "," "," "," "," "," "," "," "," ",""," "," ",false,6909,1909," "," "," ",1909,""," ","  "," ",false,6909,1909," "," "," ",1909,""," "," "," ",false,6909,1909,1909,""," "," "," "]
[null,null,null,null,null,null,null,null,null,null,null,null,null,null,null,null,null,null,null,null,null,null,null,null,null,null,null,null,null,null,1914,"x"," "," "," "," "," "," "," "," ","  ",null,null,null," ",false,true,false,"x"," "," "," "," "," "," "," ","  ",0,6914,1914," "," "," "," "," "," ",""," "," ",""," "," ",1914,""," "," "," "," "," "," "," "," "," ",""," "," ",false,6914,1914," "," "," ",1914,""," ","  "," ",false,6914,1914," "," "," ",1914,""," "," "," ",false,6914,1914,1914,""," "," "," "]
[null,null,null,null,null,null,null,null,null,null,null,null,null,null,null,null,null,null,null,null,null,null,null,null,null,null,null,null,null,null,1919,"x"," "," "," "," "," "," "," "," ","  ",null,null,null," ",false,true,false,"x"," "," "," "," "," "," "," ","  ",0,6919,1919," "," "," "," "," "," ",""," "," ",""," "," ",1919,""," "," "," "," "," "," "," "," "," ",""," "," ",false,6919,1919," "," "," ",1919,""," ","  "," ",false,6919,1919," "," "," ",1919,""," "," "," ",false,6919,1919,1919,""," "," "," "]
[null,null,null,null,null,null,null,null,null,null,null,null,null,null,null,null,null,null,null,null,null,null,null,null,null,null,null,null,null,null,1927,"x"," "," "," "," "," "," "," "," ","  ",null,null,null," ",false,true,false,"x"," "," "," "," "," "," "," ","  ",0,6927,1927," "," "," "," "," "," ",""," "," ",""," "," ",1927,""," "," "," "," "," "," "," "," "," ",""," "," ",false,6927,1927," "," "," ",1927,""," ","  "," ",false,6927,1927," "," "," ",1927,""," "," "," ",false,6927,1927,1927,""," "," "," "]
[null,null,null,null,null,null,null,null,null,null,null,null,null,null,null,null,null,null,null,null,null,null,null,null,null,null,null,null,null,null,1932,"x"," "," "," "," "," "," "," "," ","  ",null,null,null," ",false,true,false,"x"," "," "," "," "," "," "," ","  ",0,6932,1932," "," "," "," "," "," ",""," "," ",""," "," ",1932,""," "," "," "," "," "," "," "," "," ",""," "," ",false,6932,1932," "," "," ",1932,""," ","  "," ",false,6932,1932," "," "," ",1932,""," "," "," ",false,6932,1932,1932,""," "," "," "]
[null,null,null,null,null,null,null,null,null,null,null,null,null,null,null,null,null,null,null,null,null,null,null,null,null,null,null,null,null,null,1939,"x"," "," "," "," "," "," "," "," ","  ",null,null,null," ",false,true,false,"x"," "," "," "," "," "," "," ","  ",0,6939,1939," "," "," "," "," "," ",""," "," ",""," "," ",1939,""," "," "," "," "," "," "," "," "," ",""," "," ",false,6939,1939," "," "," ",1939,""," ","  "," ",false,6939,1939," "," "," ",1939,""," "," "," ",false,6939,1939,1939,""," "," "," "]
[null,null,null,null,null,null,null,null,null,null,null,null,null,null,null,null,null,null,null,null,null,null,null,null,null,null,null,null,null,null,1940,"x"," "," "," "," "," "," "," "," ","  ",null,null,null," ",false,true,false,"x"," "," "," "," "," "," "," ","  ",0,6940,1940," "," "," "," "," "," ",""," "," ",""," "," ",1940,""," "," "," "," "," "," "," "," "," ",""," "," ",false,6940,1940," "," "," ",1940,""," ","  "," ",false,6940,1940," "," "," ",1940,""," "," "," ",false,6940,1940,1940,""," "," "," "]
[null,null,null,null,null,null,null,null,null,null,null,null,null,null,null,null,null,null,null,null,null,null,null,null,null,null,null,null,null,null,1941,"x"," "," "," "," "," "," "," "," ","  ",null,null,null," ",false,true,false,"x"," "," "," "," "," "," "," ","  ",0,6941,1941," "," "," "," "," "," ",""," "," ",""," ",{"$f":"IF($AV1944,BF1944,\" \")","v":" "},1941,""," "," "," "," "," "," "," "," "," ",""," "," ",false,6941,1941," "," "," ",1941,""," ","  "," ",false,6941,1941," "," "," ",1941,""," "," "," ",false,6941,1941,1941,""," "," "," "]
[null,null,null,null,null,null,null,null,null,null,null,null,null,null,null,null,null,null,null,null,null,null,null,null,null,null,null,null,null,null,1942,"x"," "," "," "," "," "," "," "," ","  ",null,null,null," ",false,true,false,"x"," "," "," "," "," "," "," ","  ",0,6942,1942," "," "," "," "," "," ",""," "," ",""," "," ",1942,""," "," "," "," "," "," "," "," "," ",""," "," ",false,6942,1942," "," "," ",1942,""," ","  "," ",false,6942,1942," "," "," ",1942,""," "," "," ",false,6942,1942,1942,""," "," "," "]
[null,null,null,null,null,null,null,null,null,null,null,null,null,null,null,null,null,null,null,null,null,null,null,null,null,null,null,null,null,null,1943,"x"," "," "," "," "," "," "," "," ","  ",null,null,null," ",false,true,false,"x"," "," "," "," "," "," "," ","  ",0,6943,1943," "," "," "," "," "," ",""," "," ",""," "," ",1943,""," "," "," "," "," "," "," "," "," ",""," "," ",false,6943,1943," "," "," ",1943,""," ","  "," ",false,6943,1943," "," "," ",1943,""," "," "," ",false,6943,1943,1943,""," "," "," "]
[null,null,null,null,null,null,null,null,null,null,null,null,null,null,null,null,null,null,null,null,null,null,null,null,null,null,null,null,null,null,1944,"x"," "," "," "," "," "," "," "," ","  ",null,null,null," ",false,true,false,"x"," "," "," "," "," "," "," ","  ",0,6944,1944," "," "," "," "," "," ",""," "," ",""," "," ",1944,""," "," "," "," "," "," "," "," "," ",""," "," ",false,6944,1944," "," "," ",1944,""," ","  "," ",false,6944,1944," "," "," ",1944,""," "," "," ",false,6944,1944,1944,""," "," "," "]
[null,null,null,null,null,null,null,null,null,null,null,null,null,null,null,null,null,null,null,null,null,null,null,null,null,null,null,null,null,null,1945,"x"," "," "," "," "," "," "," "," ","  ",null,null,null," ",false,true,false,"x"," "," "," "," "," "," "," ","  ",0,6945,1945," "," "," "," "," "," ",""," "," ",""," "," ",1945,""," "," "," "," "," "," "," "," "," ",""," "," ",false,6945,1945," "," "," ",1945,""," ","  "," ",false,6945,1945," "," "," ",1945,""," "," "," ",false,6945,1945,1945,""," "," "," "]
[null,null,null,null,null,null,null,null,null,null,null,null,null,null,null,null,null,null,null,null,null,null,null,null,null,null,null,null,null,null,1946,"x"," "," "," "," "," "," "," "," ","  ",null,null,null," ",false,true,false,"x"," "," "," "," "," "," "," ","  ",0,6946,1946," "," "," "," "," "," ",""," "," ",""," "," ",1946,""," "," "," "," "," "," "," "," "," ",""," "," ",false,6946,1946," "," "," ",1946,""," ","  "," ",false,6946,1946," "," "," ",1946,""," "," "," ",false,6946,1946,1946,""," "," "," "]
[null,null,null,null,null,null,null,null,null,null,null,null,null,null,null,null,null,null,null,null,null,null,null,null,null,null,null,null,null,null,1947,"x"," "," "," "," "," "," "," "," ","  ",null,null,null," ",false,true,false,"x"," "," "," "," "," "," "," ","  ",0,6947,1947," "," "," "," "," "," ",""," "," ",""," "," ",1947,""," "," "," "," "," "," "," "," "," ",""," "," ",false,6947,1947," "," "," ",1947,""," ","  "," ",false,6947,1947," "," "," ",1947,""," "," "," ",false,6947,1947,1947,""," "," "," "]
[null,null,null,null,null,null,null,null,null,null,null,null,null,null,null,null,null,null,null,null,null,null,null,null,null,null,null,null,null,null,1948,"x"," "," "," "," "," "," "," "," ","  ",null,null,null," ",false,true,false,"x"," "," "," "," "," "," "," ","  ",0,6948,1948," "," "," "," "," "," ",""," "," ",""," "," ",1948,""," "," "," "," "," "," "," "," "," ",""," "," ",false,6948,1948," "," "," ",1948,""," ","  "," ",false,6948,1948," "," "," ",1948,""," "," "," ",false,6948,1948,1948,""," "," "," "]
[null,null,null,null,null,null,null,null,null,null,null,null,null,null,null,null,null,null,null,null,null,null,null,null,null,null,null,null,null,null,1949,"x"," "," "," "," "," "," "," "," ","  ",null,null,null,{"$f":"IF(AG1952=\"\",\"\",AG1952)","v":" "},{"$f":"IF(ISERR(FIND(AF1952,$Y$22,1)),FALSE,TRUE)","v":false},{"$f":"IF(ISERR(FIND(AK1952,$Y$23,1)),FALSE,TRUE)","v":true},{"$f":"AND(AT1952,AU1952)","v":false},{"$f":"IF(AC$3,AF1952,\" \")","v":"x"},{"$f":"IF(AC$4,AH1952,\" \")","v":" "},{"$f":"IF(TRUE,AI1952,\" \")","v":" "},{"$f":"IF(AC$6,AJ1952,\" \")","v":" "},{"$f":"IF(AC$7,AK1952,\" \")","v":" "},{"$f":"IF(AC$8,AL1952,\" \")","v":" "},{"$f":"IF(AC$9,AM1952,\" \")","v":" "},{"$f":"IF(AC$10,AN1952,\" \")","v":" "},{"$f":"IF(AC$9,AO1952,\" \")","v":"  "},0,{"$f":"IF(AV1952,AE1952,AE1952+5000)","v":6949},1949,{"$f":"IF(AV1952,AW1952,\" \")","v":" "},{"$f":"IF($AV1952,BO1952&AG1952,\" \")","v":" "},{"$f":"IF($AV1952,AX1952,\" \")","v":" "},{"$f":"IF($AV1952,AY1952,\" \")","v":" "},{"$f":"IF($AV1952,AZ1952,\" \")","v":" "},{"$f":"IF($AV1952,BA1952,\" \")","v":" "},{"$f":"IF($AV1952,IF(BB1952=\" \",\"\",BB1952&\" \"),\"\")","v":""},{"$f":"IF($AV1952,BC1952,\" \")","v":" "},{"$f":"IF($AV1952,BD1952,\" \")","v":" "},{"$f":"IF($AV1952,IF(AL1952=\" \",\"\",AL1952&\" \"),\"\")","v":""},{"$f":"IF($AV1952,BE1952,\" \")","v":" "}," ",1949,""," "," "," "," "," "," "," "," "," ",""," "," ",{"$f":"IF(ISERR(SEARCH(CL$2,AY1952,1)),FALSE, TRUE)","v":false},{"$f":"IF(CI1952,AE1952,AE1952+5000)","v":6949},1949,{"$f":"IF($CI1952,IF(BB1952=\" \",\"\",BB1952&\" \")&AG1952,\" \")","v":" "},{"$f":"IF($CI1952,AY1952,\" \")","v":" "}," ",1949,""," ","  "," ",{"$f":"IF(ISERR(FIND(CW$2,AP1952,1)),FALSE, TRUE)","v":false},{"$f":"IF(CT1952,AE1952,AE1952+5000)","v":6949},1949,{"$f":"IF($CT1952,IF(AH1952=\" \",\"\",\" [\"&AH1952&\"]\"),\" \")","v":" "},{"$f":"IF($CT1952,IF(AK1952=\"Noun  \",\"Noun\",IF(AK1952=\"Verb  \",\"Verb\",AK1952)),\" \")","v":" "}," ",1949,""," "," "," ",{"$f":"IF(AND(LEN(AG1952)<=DF$2,AG1952<>\" \"),TRUE,FALSE)","v":false},{"$f":"IF(DE1952,AE1952,AE1952+5000)","v":6949},1949,1949,"",{"$f":"IF($DE1952,IF(BB1952=\" \",\"\",BB1952&\" \")&AG1952,\" \")","v":" "},{"$f":"IF($DE1952,AY1952,\" \")","v":" "}," "]
[null,null,null,null,null,null,null,null,null,null,null,null,null,null,null,null,null,null,null,null,null,null,null,null,null,null,null,null,null,null,1950,"x"," "," "," "," "," "," "," "," ","  ",null,null,null," ",false,true,false,"x"," "," "," "," "," "," "," ","  ",0,6950,1950," "," "," "," "," "," ",""," "," ",""," "," ",1950,""," "," "," "," "," "," "," "," "," ",""," "," ",false,6950,1950," "," "," ",1950,""," ","  "," ",false,6950,1950," "," "," ",1950,""," "," "," ",false,6950,1950,1950,""," "," "," "]
[null,null,null,null,null,null,null,null,null,null,null,null,null,null,null,null,null,null,null,null,null,null,null,null,null,null,null,null,null,null,1951,"x"," "," "," "," "," "," "," "," ","  ",null,null,null," ",false,true,false,"x"," "," "," "," "," "," "," ","  ",0,6951,1951," "," "," "," "," "," ",""," "," ",""," "," ",1951,""," "," "," "," "," "," "," "," "," ",""," "," ",false,6951,1951," "," "," ",1951,""," ","  "," ",false,6951,1951," "," "," ",1951,""," "," "," ",false,6951,1951,1951,""," "," "," "]
[null,null,null,null,null,null,null,null,null,null,null,null,null,null,null,null,null,null,null,null,null,null,null,null,null,null,null,null,null,null,1952,"x"," "," "," "," "," "," "," "," ","  ",null,null,null," ",false,true,false,"x"," "," "," "," "," "," "," ","  ",0,6952,1952," "," "," "," "," "," ",""," "," ",""," "," ",1952,""," "," "," "," "," "," "," "," "," ",""," "," ",false,6952,1952," "," "," ",1952,""," ","  "," ",false,6952,1952," "," "," ",1952,""," "," "," ",false,6952,1952,1952,""," "," "," "]
[null,null,null,null,null,null,null,null,null,null,null,null,null,null,null,null,null,null,null,null,null,null,null,null,null,null,null,null,null,null,1953,"x"," "," "," "," "," "," "," "," ","  ",null,null,null," ",false,true,false,"x"," "," "," "," "," "," "," ","  ",0,6953,1953," "," "," "," "," "," ",""," "," ",""," "," ",1953,""," "," "," "," "," "," "," "," "," ",""," "," ",false,6953,1953," "," "," ",1953,""," ","  "," ",false,6953,1953," "," "," ",1953,""," "," "," ",false,6953,1953,1953,""," "," "," "]
[null,null,null,null,null,null,null,null,null,null,null,null,null,null,null,null,null,null,null,null,null,null,null,null,null,null,null,null,null,null,1954,"x"," "," "," "," "," "," "," "," ","  ",null,null,null," ",false,true,false,"x"," "," "," "," "," "," "," ","  ",0,6954,1954," "," "," "," "," "," ",""," "," ",""," "," ",1954,""," "," "," "," "," "," "," "," "," ",""," "," ",false,6954,1954," "," "," ",1954,""," ","  "," ",false,6954,1954," "," "," ",1954,""," "," "," ",false,6954,1954,1954,""," "," "," "]
[null,null,null,null,null,null,null,null,null,null,null,null,null,null,null,null,null,null,null,null,null,null,null,null,null,null,null,null,null,null,1955,"x"," "," "," "," "," "," "," "," ","  ",null,null,null," ",false,true,false,"x"," "," "," "," "," "," "," ","  ",0,6955,1955," "," "," "," "," "," ",""," "," ",""," "," ",1955,""," "," "," "," "," "," "," "," "," ",""," "," ",false,6955,1955," "," "," ",1955,""," ","  "," ",false,6955,1955," "," "," ",1955,""," "," "," ",false,6955,1955,1955,""," "," "," "]
[null,null,null,null,null,null,null,null,null,null,null,null,null,null,null,null,null,null,null,null,null,null,null,null,null,null,null,null,null,null,1956,"x"," "," "," "," "," "," "," "," ","  ",null,null,null," ",false,true,false,"x"," "," "," "," "," "," "," ","  ",0,6956,1956," "," "," "," "," "," ",""," "," ",""," "," ",1956,""," "," "," "," "," "," "," "," "," ",""," "," ",false,6956,1956," "," "," ",1956,""," ","  "," ",false,6956,1956," "," "," ",1956,""," "," "," ",false,6956,1956,1956,""," "," "," "]
[null,null,null,null,null,null,null,null,null,null,null,null,null,null,null,null,null,null,null,null,null,null,null,null,null,null,null,null,null,null,1957,"x"," "," "," "," "," "," "," "," ","  ",null,null,null," ",false,true,false,"x"," "," "," "," "," "," "," ","  ",0,6957,1957," "," "," "," "," "," ",""," "," ",""," "," ",1957,""," "," "," "," "," "," "," "," "," ",""," "," ",false,6957,1957," "," "," ",1957,""," ","  "," ",false,6957,1957," "," "," ",1957,""," "," "," ",false,6957,1957,1957,""," "," "," "]
[null,null,null,null,null,null,null,null,null,null,null,null,null,null,null,null,null,null,null,null,null,null,null,null,null,null,null,null,null,null,1958,"x"," "," "," "," "," "," "," "," ","  ",null,null,null," ",false,true,false,"x"," "," "," "," "," "," "," ","  ",0,6958,1958," "," "," "," "," "," ",""," "," ",""," "," ",1958,""," "," "," "," "," "," "," "," "," ",""," "," ",false,6958,1958," "," "," ",1958,""," ","  "," ",false,6958,1958," "," "," ",1958,""," "," "," ",false,6958,1958,1958,""," "," "," "]
[null,null,null,null,null,null,null,null,null,null,null,null,null,null,null,null,null,null,null,null,null,null,null,null,null,null,null,null,null,null,1959,"x"," "," "," "," "," "," "," "," ","  ",null,null,null," ",false,true,false,"x"," "," "," "," "," "," "," ","  ",0,6959,1959," "," "," "," "," "," ",""," "," ",""," "," ",1959,""," "," "," "," "," "," "," "," "," ",""," "," ",false,6959,1959," "," "," ",1959,""," ","  "," ",false,6959,1959," "," "," ",1959,""," "," "," ",false,6959,1959,1959,""," "," "," "]
[null,null,null,null,null,null,null,null,null,null,null,null,null,null,null,null,null,null,null,null,null,null,null,null,null,null,null,null,null,null,1960,"x"," "," "," "," "," "," "," "," ","  ",null,null,null," ",false,true,false,"x"," "," "," "," "," "," "," ","  ",0,6960,1960," "," "," "," "," "," ",""," "," ",""," "," ",1960,""," "," "," "," "," "," "," "," "," ",""," "," ",false,6960,1960," "," "," ",1960,""," ","  "," ",false,6960,1960," "," "," ",1960,""," "," "," ",false,6960,1960,1960,""," "," "," "]
[null,null,null,null,null,null,null,null,null,null,null,null,null,null,null,null,null,null,null,null,null,null,null,null,null,null,null,null,null,null,1961,"x"," "," "," "," "," "," "," "," ","  ",null,null,null," ",false,true,false,"x"," "," "," "," "," "," "," ","  ",0,6961,1961," "," "," "," "," "," ",""," "," ",""," "," ",1961,""," "," "," "," "," "," "," "," "," ",""," "," ",false,6961,1961," "," "," ",1961,""," ","  "," ",false,6961,1961," "," "," ",1961,""," "," "," ",false,6961,1961,1961,""," "," "," "]
[null,null,null,null,null,null,null,null,null,null,null,null,null,null,null,null,null,null,null,null,null,null,null,null,null,null,null,null,null,null,1962,"x"," "," "," "," "," "," "," "," ","  ",null,null,null," ",false,true,false,"x"," "," "," "," "," "," "," ","  ",0,6962,1962," "," "," "," "," "," ",""," "," ",""," "," ",1962,""," "," "," "," "," "," "," "," "," ",""," "," ",false,6962,1962," "," "," ",1962,""," ","  "," ",false,6962,1962," "," "," ",1962,""," "," "," ",false,6962,1962,1962,""," "," "," "]
[null,null,null,null,null,null,null,null,null,null,null,null,null,null,null,null,null,null,null,null,null,null,null,null,null,null,null,null,null,null,1963,"x"," "," "," "," "," "," "," "," ","  ",null,null,null," ",false,true,false,"x"," "," "," "," "," "," "," ","  ",0,6963,1963," "," "," "," "," "," ",""," "," ",""," "," ",1963,""," "," "," "," "," "," "," "," "," ",""," "," ",false,6963,1963," "," "," ",1963,""," ","  "," ",false,6963,1963," "," "," ",1963,""," "," "," ",false,6963,1963,1963,""," "," "," "]
[null,null,null,null,null,null,null,null,null,null,null,null,null,null,null,null,null,null,null,null,null,null,null,null,null,null,null,null,null,null,1964,"x"," "," "," "," "," "," "," "," ","  ",null,null,null," ",false,true,false,"x"," "," "," "," "," "," "," ","  ",0,6964,1964," "," "," "," "," "," ",""," "," ",""," "," ",1964,""," "," "," "," "," "," "," "," "," ",""," "," ",false,6964,1964," "," "," ",1964,""," ","  "," ",false,6964,1964," "," "," ",1964,""," "," "," ",false,6964,1964,1964,""," "," "," "]
[null,null,null,null,null,null,null,null,null,null,null,null,null,null,null,null,null,null,null,null,null,null,null,null,null,null,null,null,null,null,1965,"x"," "," "," "," "," "," "," "," ","  ",null,null,null," ",false,true,false,"x"," "," "," "," "," "," "," ","  ",0,6965,1965," "," "," "," "," "," ",""," "," ",""," "," ",1965,""," "," "," "," "," "," "," "," "," ",""," "," ",false,6965,1965," "," "," ",1965,""," ","  "," ",false,6965,1965," "," "," ",1965,""," "," "," ",false,6965,1965,1965,""," "," "," "]
[null,null,null,null,null,null,null,null,null,null,null,null,null,null,null,null,null,null,null,null,null,null,null,null,null,null,null,null,null,null,1966,"x"," "," "," "," "," "," "," "," ","  ",null,null,null," ",false,true,false,"x"," "," "," "," "," "," "," ","  ",0,6966,1966," "," "," "," "," "," ",""," "," ",""," "," ",1966,""," "," "," "," "," "," "," "," "," ",""," "," ",false,6966,1966," "," "," ",1966,""," ","  "," ",false,6966,1966," "," "," ",1966,""," "," "," ",false,6966,1966,1966,""," "," "," "]
[null,null,null,null,null,null,null,null,null,null,null,null,null,null,null,null,null,null,null,null,null,null,null,null,null,null,null,null,null,null,1967,"x"," "," "," "," "," "," "," "," ","  ",null,null,null," ",false,true,false,"x"," "," "," "," "," "," "," ","  ",0,6967,1967," "," "," "," "," "," ",""," "," ",""," "," ",1967,""," "," "," "," "," "," "," "," "," ",""," "," ",false,6967,1967," "," "," ",1967,""," ","  "," ",false,6967,1967," "," "," ",1967,""," "," "," ",false,6967,1967,1967,""," "," "," "]
[null,null,null,null,null,null,null,null,null,null,null,null,null,null,null,null,null,null,null,null,null,null,null,null,null,null,null,null,null,null,1968,"x"," "," "," "," "," "," "," "," ","  ",null,null,null," ",false,true,false,"x"," "," "," "," "," "," "," ","  ",0,6968,1968," "," "," "," "," "," ",""," "," ",""," "," ",1968,""," "," "," "," "," "," "," "," "," ",""," "," ",false,6968,1968," "," "," ",1968,""," ","  "," ",false,6968,1968," "," "," ",1968,""," "," "," ",false,6968,1968,1968,""," "," "," "]
[null,null,null,null,null,null,null,null,null,null,null,null,null,null,null,null,null,null,null,null,null,null,null,null,null,null,null,null,null,null,1969,"x"," "," "," "," "," "," "," "," ","  ",null,null,null," ",false,true,false,"x"," "," "," "," "," "," "," ","  ",0,6969,1969," "," "," "," "," "," ",""," "," ",""," "," ",1969,""," "," "," "," "," "," "," "," "," ",""," "," ",false,6969,1969," "," "," ",1969,""," ","  "," ",false,6969,1969," "," "," ",1969,""," "," "," ",false,6969,1969,1969,""," "," "," "]
[null,null,null,null,null,null,null,null,null,null,null,null,null,null,null,null,null,null,null,null,null,null,null,null,null,null,null,null,null,null,1970,"x"," "," "," "," "," "," "," "," ","  ",null,null,null," ",false,true,false,"x"," "," "," "," "," "," "," ","  ",0,6970,1970," "," "," "," "," "," ",""," "," ",""," "," ",1970,""," "," "," "," "," "," "," "," "," ",""," "," ",false,6970,1970," "," "," ",1970,""," ","  "," ",false,6970,1970," "," "," ",1970,""," "," "," ",false,6970,1970,1970,""," "," "," "]
[null,null,null,null,null,null,null,null,null,null,null,null,null,null,null,null,null,null,null,null,null,null,null,null,null,null,null,null,null,null,1971,"x"," "," "," "," "," "," "," "," ","  ",null,null,null," ",false,true,false,"x"," "," "," "," "," "," "," ","  ",0,6971,1971," "," "," "," "," "," ",""," "," ",""," "," ",1971,""," "," "," "," "," "," "," "," "," ",""," "," ",false,6971,1971," "," "," ",1971,""," ","  "," ",false,6971,1971," "," "," ",1971,""," "," "," ",false,6971,1971,1971,""," "," "," "]
[null,null,null,null,null,null,null,null,null,null,null,null,null,null,null,null,null,null,null,null,null,null,null,null,null,null,null,null,null,null,1972,"x"," "," "," "," "," "," "," "," ","  ",null,null,null," ",false,true,false,"x"," "," "," "," "," "," "," ","  ",0,6972,1972," "," "," "," "," "," ",""," "," ",""," "," ",1972,""," "," "," "," "," "," "," "," "," ",""," "," ",false,6972,1972," "," "," ",1972,""," ","  "," ",false,6972,1972," "," "," ",1972,""," "," "," ",false,6972,1972,1972,""," "," "," "]
[null,null,null,null,null,null,null,null,null,null,null,null,null,null,null,null,null,null,null,null,null,null,null,null,null,null,null,null,null,null,1973,"x"," "," "," "," "," "," "," "," ","  ",null,null,null," ",false,true,false,"x"," "," "," "," "," "," "," ","  ",0,6973,1973," "," "," "," "," "," ",""," "," ",""," "," ",1973,""," "," "," "," "," "," "," "," "," ",""," "," ",false,6973,1973," "," "," ",1973,""," ","  "," ",false,6973,1973," "," "," ",1973,""," "," "," ",false,6973,1973,1973,""," "," "," "]
[null,null,null,null,null,null,null,null,null,null,null,null,null,null,null,null,null,null,null,null,null,null,null,null,null,null,null,null,null,null,1974,"x"," "," "," "," "," "," "," "," ","  ",null,null,null," ",false,true,false,"x"," "," "," "," "," "," "," ","  ",0,6974,1974," "," "," "," "," "," ",""," "," ",""," "," ",1974,""," "," "," "," "," "," "," "," "," ",""," "," ",false,6974,1974," "," "," ",1974,""," ","  "," ",false,6974,1974," "," "," ",1974,""," "," "," ",false,6974,1974,1974,""," "," "," "]
[null,null,null,null,null,null,null,null,null,null,null,null,null,null,null,null,null,null,null,null,null,null,null,null,null,null,null,null,null,null,1975,"x"," "," "," "," "," "," "," "," ","  ",null,null,null," ",false,true,false,"x"," "," "," "," "," "," "," ","  ",0,6975,1975," "," "," "," "," "," ",""," "," ",""," "," ",1975,""," "," "," "," "," "," "," "," "," ",""," "," ",false,6975,1975," "," "," ",1975,""," ","  "," ",false,6975,1975," "," "," ",1975,""," "," "," ",false,6975,1975,1975,""," "," "," "]
[null,null,null,null,null,null,null,null,null,null,null,null,null,null,null,null,null,null,null,null,null,null,null,null,null,null,null,null,null,null,1976,"x"," "," "," "," "," "," "," "," ","  ",null,null,null," ",false,true,false,"x"," "," "," "," "," "," "," ","  ",0,6976,1976," "," "," "," "," "," ",""," "," ",""," "," ",1976,""," "," "," "," "," "," "," "," "," ",""," "," ",false,6976,1976," "," "," ",1976,""," ","  "," ",false,6976,1976," "," "," ",1976,""," "," "," ",false,6976,1976,1976,""," "," "," "]
[null,null,null,null,null,null,null,null,null,null,null,null,null,null,null,null,null,null,null,null,null,null,null,null,null,null,null,null,null,null,1977,"x"," "," "," "," "," "," "," "," ","  ",null,null,null," ",false,true,false,"x"," "," "," "," "," "," "," ","  ",0,6977,1977," "," "," "," "," "," ",""," "," ",""," "," ",1977,""," "," "," "," "," "," "," "," "," ",""," "," ",false,6977,1977," "," "," ",1977,""," ","  "," ",false,6977,1977," "," "," ",1977,""," "," "," ",false,6977,1977,1977,""," "," "," "]
[null,null,null,null,null,null,null,null,null,null,null,null,null,null,null,null,null,null,null,null,null,null,null,null,null,null,null,null,null,null,1978,"x"," "," "," "," "," "," "," "," ","  ",null,null,null," ",false,true,false,"x"," "," "," "," "," "," "," ","  ",0,6978,1978," "," "," "," "," "," ",""," "," ",""," "," ",1978,""," "," "," "," "," "," "," "," "," ",""," "," ",false,6978,1978," "," "," ",1978,""," ","  "," ",false,6978,1978," "," "," ",1978,""," "," "," ",false,6978,1978,1978,""," "," "," "]
[null,null,null,null,null,null,null,null,null,null,null,null,null,null,null,null,null,null,null,null,null,null,null,null,null,null,null,null,null,null,1979,"x"," "," "," "," "," "," "," "," ","  ",null,null,null," ",false,true,false,"x"," "," "," "," "," "," "," ","  ",0,6979,1979," "," "," "," "," "," ",""," "," ",""," "," ",1979,""," "," "," "," "," "," "," "," "," ",""," "," ",false,6979,1979," "," "," ",1979,""," ","  "," ",false,6979,1979," "," "," ",1979,""," "," "," ",false,6979,1979,1979,""," "," "," "]
[null,null,null,null,null,null,null,null,null,null,null,null,null,null,null,null,null,null,null,null,null,null,null,null,null,null,null,null,null,null,1980,"x"," "," "," "," "," "," "," "," ","  ",null,null,null," ",false,true,false,"x"," "," "," "," "," "," "," ","  ",0,6980,1980," "," "," "," "," "," ",""," "," ",""," "," ",1980,""," "," "," "," "," "," "," "," "," ",""," "," ",false,6980,1980," "," "," ",1980,""," ","  "," ",false,6980,1980," "," "," ",1980,""," "," "," ",false,6980,1980,1980,""," "," "," "]
[null,null,null,null,null,null,null,null,null,null,null,null,null,null,null,null,null,null,null,null,null,null,null,null,null,null,null,null,null,null,1981,"x"," "," "," "," "," "," "," "," ","  ",null,null,null," ",false,true,false,"x"," "," "," "," "," "," "," ","  ",0,6981,1981," "," "," "," "," "," ",""," "," ",""," "," ",1981,""," "," "," "," "," "," "," "," "," ",""," "," ",false,6981,1981," "," "," ",1981,""," ","  "," ",false,6981,1981," "," "," ",1981,""," "," "," ",false,6981,1981,1981,""," "," "," "]
[null,null,null,null,null,null,null,null,null,null,null,null,null,null,null,null,null,null,null,null,null,null,null,null,null,null,null,null,null,null,1982,"x"," "," "," "," "," "," "," "," ","  ",null,null,null," ",false,true,false,"x"," "," "," "," "," "," "," ","  ",0,6982,1982," "," "," "," "," "," ",""," "," ",""," "," ",1982,""," "," "," "," "," "," "," "," "," ",""," "," ",false,6982,1982," "," "," ",1982,""," ","  "," ",false,6982,1982," "," "," ",1982,""," "," "," ",false,6982,1982,1982,""," "," "," "]
[null,null,null,null,null,null,null,null,null,null,null,null,null,null,null,null,null,null,null,null,null,null,null,null,null,null,null,null,null,null,1983,"x"," "," "," "," "," "," "," "," ","  ",null,null,null," ",false,true,false,"x"," "," "," "," "," "," "," ","  ",0,6983,1983," "," "," "," "," "," ",""," "," ",""," "," ",1983,""," "," "," "," "," "," "," "," "," ",""," "," ",false,6983,1983," "," "," ",1983,""," ","  "," ",false,6983,1983," "," "," ",1983,""," "," "," ",false,6983,1983,1983,""," "," "," "]
[null,null,null,null,null,null,null,null,null,null,null,null,null,null,null,null,null,null,null,null,null,null,null,null,null,null,null,null,null,null,1984,"x"," "," "," "," "," "," "," "," ","  ",null,null,null," ",false,true,false,"x"," "," "," "," "," "," "," ","  ",0,6984,1984," "," "," "," "," "," ",""," "," ",""," "," ",1984,""," "," "," "," "," "," "," "," "," ",""," "," ",false,6984,1984," "," "," ",1984,""," ","  "," ",false,6984,1984," "," "," ",1984,""," "," "," ",false,6984,1984,1984,""," "," "," "]
[null,null,null,null,null,null,null,null,null,null,null,null,null,null,null,null,null,null,null,null,null,null,null,null,null,null,null,null,null,null,1985,"x"," "," "," "," "," "," "," "," ","  ",null,null,null," ",false,true,false,"x"," "," "," "," "," "," "," ","  ",0,6985,{"$f":"RANK(BG1988,BG$4:BG$2003,1)","v":1985}," "," "," "," "," "," ",""," "," ",""," "," ",1985,{"$f":"IF(BU1988<=BJ$2,MATCH(BU1988,BH$4:BH$2003,0),\"\")","v":""},{"$f":"VLOOKUP($BU1988,BH$4:BQ$2003,2,0)","v":" "},{"$f":"VLOOKUP($BU1988,BH$4:BQ$2003,7,0)","v":" "},{"$f":"VLOOKUP($BU1988,BH$4:BQ$2003,3,0)","v":" "},{"$f":"VLOOKUP($BU1988,BH$4:BQ$2003,9,0)","v":" "},{"$f":"VLOOKUP($BU1988,BH$4:BQ$2003,10,0)","v":" "},{"$f":"VLOOKUP($BU1988,BH$4:BQ$2003,4,0)","v":" "},{"$f":"VLOOKUP($BU1988,BH$4:BQ$2003,6,0)","v":" "},{"$f":"VLOOKUP($BU1988,BH$4:BQ$2003,5,0)","v":" "},{"$f":"IF(AC$8,BY1988,VLOOKUP($BU1988,BH$4:BR$2003,11,0)&BY1988)","v":" "},"",{"$f":"VLOOKUP($BU1988,BH$4:BS$2003,12,0)","v":" "},{"$f":"VLOOKUP($BU1988,BH$4:BT$2003,13,0)","v":" "},false,6985,{"$f":"RANK(CJ1988,CJ$4:CJ$2003,1)","v":1985}," "," "," ",1985,{"$f":"IF(CO1988<=CP$2,MATCH(CO1988,CK$4:CK$2003,0),\"\")","v":""},{"$f":"VLOOKUP($CO1988,CK$4:CM$2003,2,0)","v":" "},{"$f":"VLOOKUP($CO1988,CK$4:CN$2003,3,0)&VLOOKUP($CO1988,CK$4:CN$2003,4,0)","v":"  "}," ",false,6985,{"$f":"RANK(CU1988,CU$4:CU$2003,1)","v":1985}," "," "," ",1985,{"$f":"IF(CZ1988<=DA$2,MATCH(CZ1988,CV$4:CV$2003,0),\"\")","v":""},{"$f":"VLOOKUP($CZ1988,CV$4:CY$2003,4,0)","v":" "}," "," ",false,6985,{"$f":"RANK(DF1988,DF$4:DF$2003,1)","v":1985},1985,{"$f":"IF(DH1988<=DA$2,MATCH(DH1988,DG$4:DG$2003,0),\"\")","v":""}," "," ",{"$f":"IF($DH1988<=$DI$2,VLOOKUP($DH1988,DG$4:DK$2003,4,0)&\" [\" &VLOOKUP($DH1988,DG$4:DK$2003,5,0) &\"]\",\" \")","v":" "}]
[null,null,null,null,null,null,null,null,null,null,null,null,null,null,null,null,null,null,null,null,null,null,null,null,null,null,null,null,null,null,1986,"x"," "," "," "," "," "," "," "," ","  ",null,null,null," ",false,true,false,"x"," "," "," "," "," "," "," ","  ",{"$f":"IF(AC$12,AQ1989,\" \")","v":0},6986,1986," "," "," "," "," "," ",""," "," ",""," "," ",1986,""," "," "," "," "," "," "," "," "," ",{"$f":"IF(BV1989=\"\",\"\",IF(BW1989=\"37\",\"Extra\", IF(BW1989=38, \"Index of Textbook\",\"Chapter \" &BW1989))&\": \"&BX1989)","v":""}," "," ",false,6986,1986," "," ",{"$f":"IF($CI1989,IF(AW1989=\"37\",\" [Extra]\",IF(AW1989=\"38\",\" [Index]\",  \" [Chap. \"&TEXT(VALUE(AW1989),\"#\")&\"]\")),\" \")","v":" "},1986,""," ","  "," ",false,6986,1986," "," ",{"$f":"IF($CT1989,IF(BB1989=\" \",\"\",BB1989&\" \")&AG1989&CW1989&\": \"&AY1989&  IF(AF1989=\"37\",\"  (Extra\",IF(AF1989=\"38\",\"  (Index\",\"  (Chapter \"&TEXT(AF1989,\"#\"))) &\", \"&CX1989& IF(LEN(AM1989)>1,\" [\"&AM1989&\"]\",\"\") &IF(LEN(AN1989)>1,\" [\"&AN1989&\"]\",\"\")         &\")\",\" \")","v":" "},1986,""," "," "," ",false,6986,1986,1986,""," "," "," "]
[null,null,null,null,null,null,null,null,null,null,null,null,null,null,null,null,null,null,null,null,null,null,null,null,null,null,null,null,null,null,1987,"x"," "," "," "," "," "," "," "," ","  ",null,null,null," ",false,true,false,"x"," "," "," "," "," "," "," ","  ",0,6987,1987," "," "," "," "," "," ",""," "," ",""," "," ",1987,""," "," "," "," "," "," "," "," "," ",""," "," ",false,6987,1987," "," "," ",1987,""," ","  "," ",false,6987,1987," "," "," ",1987,""," "," "," ",false,6987,1987,1987,""," "," "," "]
[null,null,null,null,null,null,null,null,null,null,null,null,null,null,null,null,null,null,null,null,null,null,null,null,null,null,null,null,null,null,1988,"x"," "," "," "," "," "," "," "," ","  ",null,null,null," ",false,true,false,"x"," "," "," "," "," "," "," ","  ",0,6988,1988," "," "," "," "," "," ",""," "," ",""," "," ",1988,""," "," "," "," "," "," "," "," "," ",""," "," ",false,6988,1988," "," "," ",1988,""," ","  "," ",false,6988,1988," "," "," ",1988,""," "," "," ",false,6988,1988,1988,""," "," "," "]
[null,null,null,null,null,null,null,null,null,null,null,null,null,null,null,null,null,null,null,null,null,null,null,null,null,null,null,null,null,null,1989,"x"," "," "," "," "," "," "," "," ","  ",null,null,null," ",false,true,false,"x"," "," "," "," "," "," "," ","  ",0,6989,1989," "," "," "," "," "," ",""," "," ",""," "," ",1989,""," "," "," "," "," "," "," "," "," ",""," "," ",false,6989,1989," "," "," ",1989,""," ","  "," ",false,6989,1989," "," "," ",1989,""," "," "," ",false,6989,1989,1989,""," "," "," "]
[null,null,null,null,null,null,null,null,null,null,null,null,null,null,null,null,null,null,null,null,null,null,null,null,null,null,null,null,null,null,1990,"x"," "," "," "," "," "," "," "," ","  ",null,null,null," ",false,true,false,"x"," "," "," "," "," "," "," ","  ",0,6990,1990," "," "," "," "," "," ",""," "," ",""," "," ",1990,""," "," "," "," "," "," "," "," "," ",""," "," ",false,6990,1990," "," "," ",1990,""," ","  "," ",false,6990,1990," "," "," ",1990,""," "," "," ",false,6990,1990,1990,""," "," "," "]
[null,null,null,null,null,null,null,null,null,null,null,null,null,null,null,null,null,null,null,null,null,null,null,null,null,null,null,null,null,null,1991,"x"," "," "," "," "," "," "," "," ","  ",null,null,null," ",false,true,false,"x"," "," "," "," "," "," "," ","  ",0,6991,1991," "," "," "," "," "," ",""," "," ",""," "," ",1991,""," "," "," "," "," "," "," "," "," ",""," "," ",false,6991,1991," "," "," ",1991,""," ","  "," ",false,6991,1991," "," "," ",1991,""," "," "," ",false,6991,1991,1991,""," "," "," "]
[null,null,null,null,null,null,null,null,null,null,null,null,null,null,null,null,null,null,null,null,null,null,null,null,null,null,null,null,null,null,1992,"x"," "," "," "," "," "," "," "," ","  ",null,null,null," ",false,true,false,"x"," "," "," "," "," "," "," ","  ",0,6992,1992," "," "," "," "," "," ",""," "," ",""," "," ",1992,""," "," "," "," "," "," "," "," "," ",""," "," ",false,6992,1992," "," "," ",1992,""," ","  "," ",false,6992,1992," "," "," ",1992,""," "," "," ",false,6992,1992,1992,""," "," "," "]
[null,null,null,null,null,null,null,null,null,null,null,null,null,null,null,null,null,null,null,null,null,null,null,null,null,null,null,null,null,null,1993,"x"," "," "," "," "," "," "," "," ","  ",null,null,null," ",false,true,false,"x"," "," "," "," "," "," "," ","  ",0,6993,1993," "," "," "," "," "," ",""," "," ",""," "," ",1993,""," "," "," "," "," "," "," "," "," ",""," "," ",false,6993,1993," "," "," ",1993,""," ","  "," ",false,6993,1993," "," "," ",1993,""," "," "," ",false,6993,1993,1993,""," "," "," "]
[null,null,null,null,null,null,null,null,null,null,null,null,null,null,null,null,null,null,null,null,null,null,null,null,null,null,null,null,null,null,1994,"x"," "," "," "," "," "," "," "," ","  ",null,null,null," ",false,true,false,"x"," "," "," "," "," "," "," ","  ",0,6994,1994," "," "," "," "," "," ",""," "," ",""," "," ",1994,""," "," "," "," "," "," "," "," "," ",""," "," ",false,6994,1994," "," "," ",1994,""," ","  "," ",false,6994,1994," "," "," ",1994,""," "," "," ",false,6994,1994,1994,""," "," "," "]
[null,null,null,null,null,null,null,null,null,null,null,null,null,null,null,null,null,null,null,null,null,null,null,null,null,null,null,null,null,null,1995,"x"," "," "," "," "," "," "," "," ","  ",null,null,null," ",false,true,false,"x"," "," "," "," "," "," "," ","  ",0,6995,1995," "," "," "," "," "," ",""," "," ",""," "," ",1995,""," "," "," "," "," "," "," "," "," ",""," "," ",false,6995,1995," "," "," ",1995,""," ","  "," ",false,6995,1995," "," "," ",1995,""," "," "," ",false,6995,1995,1995,""," "," "," "]
[null,null,null,null,null,null,null,null,null,null,null,null,null,null,null,null,null,null,null,null,null,null,null,null,null,null,null,null,null,null,1996,"x"," "," "," "," "," "," "," "," ","  ",null,null,null," ",false,true,false,"x"," "," "," "," "," "," "," ","  ",0,6996,1996," "," "," "," "," "," ",""," "," ",""," "," ",1996,""," "," "," "," "," "," "," "," "," ",""," "," ",false,6996,1996," "," "," ",1996,""," ","  "," ",false,6996,1996," "," "," ",1996,""," "," "," ",false,6996,1996,1996,""," "," "," "]
[null,null,null,null,null,null,null,null,null,null,null,null,null,null,null,null,null,null,null,null,null,null,null,null,null,null,null,null,null,null,1997,"x"," "," "," "," "," "," "," "," ","  ",null,null,null," ",false,true,false,"x"," "," "," "," "," "," "," ","  ",0,6997,1997," "," "," "," "," "," ",""," "," ",""," "," ",1997,""," "," "," "," "," "," "," "," "," ",""," "," ",false,6997,1997," "," "," ",1997,""," ","  "," ",false,6997,1997," "," "," ",1997,""," "," "," ",false,6997,1997,1997,""," "," "," "]
[null,null,null,null,null,null,null,null,null,null,null,null,null,null,null,null,null,null,null,null,null,null,null,null,null,null,null,null,null,null,1998,"x"," "," "," "," "," "," "," "," ","  ",null,null,null," ",false,true,false,"x"," "," "," "," "," "," "," ","  ",0,6998,1998," "," "," "," "," "," ",""," "," ",""," "," ",1998,""," "," "," "," "," "," "," "," "," ",""," "," ",false,6998,1998," "," "," ",1998,""," ","  "," ",false,6998,1998," "," "," ",1998,""," "," "," ",false,6998,1998,1998,""," "," "," "]
[null,null,null,null,null,null,null,null,null,null,null,null,null,null,null,null,null,null,null,null,null,null,null,null,null,null,null,null,null,null,1999,"x"," "," "," "," "," "," "," "," ","  ",null,null,null," ",false,true,false,"x"," "," "," "," "," "," "," ","  ",0,6999,1999," "," "," "," "," "," ",""," "," ",""," "," ",1999,""," "," "," "," "," "," "," "," "," ",""," "," ",false,6999,1999," "," "," ",1999,""," ","  "," ",false,6999,1999," "," "," ",1999,""," "," "," ",false,6999,1999,1999,""," "," "," "]
[null,null,null,null,null,null,null,null,null,null,null,null,null,null,null,null,null,null,null,null,null,null,null,null,null,null,null,null,null,null,2000,"x"," "," "," "," "," "," "," "," ","  ",null,null,null," ",false,true,false,"x"," "," "," "," "," "," "," ","  ",0,7000,2000," "," "," "," "," "," ",""," "," ",""," "," ",2000,""," "," "," "," "," "," "," "," "," ",""," "," ",false,7000,2000," "," "," ",2000,""," ","  "," ",false,7000,2000," "," "," ",2000,""," "," "," ",false,7000,2000,2000,""," "," "," "]

{"sheet":"Selected List","index":1,"n_rows":2002,"n_cols":3,"rows_kept":2002,"cut":false,"hidden":false,"merged":[[0,0,0,2]]}
[{"$f":"\"The selected list has \" &FlashCards!P3&\".\"","v":"The selected list has 1592 words available."}]
["Greek Word",null,"English Definition"]
[{"$f":"FlashCards!BY4","v":"-ς, -ος  "}," ",{"$f":"FlashCards!CD4","v":"(nominative, singular, masculine)"}]
[{"$f":"FlashCards!BY5","v":"-, -η, -α"}," ",{"$f":"FlashCards!CD5","v":"(nominative, singular, feminine)"}]
[{"$f":"FlashCards!BY6","v":"-ν, -ον"}," ",{"$f":"FlashCards!CD6","v":"(nominative, singular, neuter; accusative, singular, masculine or neuter)"}]
[{"$f":"FlashCards!BY7","v":"-υ, -ου"}," ",{"$f":"FlashCards!CD7","v":"(genitive, singular, masculine or neuter)"}]
[{"$f":"FlashCards!BY8","v":"-ς, -ης, -ας"}," ",{"$f":"FlashCards!CD8","v":"(genitive, singular,  feminine)"}]
[{"$f":"FlashCards!BY9","v":"-ι, -ῳ"}," ",{"$f":"FlashCards!CD9","v":"(dative, singular, masculine; dative, singular, neuter)"}]
[{"$f":"FlashCards!BY10","v":"-ι, -ῃ, -ᾳ"}," ",{"$f":"FlashCards!CD10","v":"(dative, singular, feminine)"}]
[{"$f":"FlashCards!BY11","v":"-ν, -ην, -αν"}," ",{"$f":"FlashCards!CD11","v":"(accusative, singular, feminine)"}]
[{"$f":"FlashCards!BY12","v":"-ι, -οι"}," ",{"$f":"FlashCards!CD12","v":"(nominative, plural, masculine)"}]
[{"$f":"FlashCards!BY13","v":"-ες"}," ",{"$f":"FlashCards!CD13","v":"(nominative, plural, masculine or feminine, 3ʳᵈ declension)"}]
[{"$f":"FlashCards!BY14","v":"-ι, -αι"}," ",{"$f":"FlashCards!CD14","v":"(nominative, plural, feminine)"}]
[{"$f":"FlashCards!BY15","v":"-α     "}," ",{"$f":"FlashCards!CD15","v":"(nominative or accusative, plural, neuter)"}]
[{"$f":"FlashCards!BY16","v":"-ων     "}," ",{"$f":"FlashCards!CD16","v":"(genitive, plural, masculine, feminine, neuter)"}]
[{"$f":"FlashCards!BY17","v":"-ις, -οις"}," ",{"$f":"FlashCards!CD17","v":"(dative, plural, masculine or neuter)"}]
[{"$f":"FlashCards!BY18","v":"-ις, -αις"}," ",{"$f":"FlashCards!CD18","v":"(dative, plural, feminine)"}]
[{"$f":"FlashCards!BY19","v":"-σι(ν)"}," ",{"$f":"FlashCards!CD19","v":"(dative, plural, masculine/ feminine/neuter, 3ʳᵈ declension)"}]
[{"$f":"FlashCards!BY20","v":"-υς, -ους"}," ",{"$f":"FlashCards!CD20","v":"(accusative, plural, masculine)"}]
[{"$f":"FlashCards!BY21","v":"-ς, -ας"}," ",{"$f":"FlashCards!CD21","v":"(accusative, plural, feminine)"}]
[{"$f":"FlashCards!BY22","v":"-εύς "}," ",{"$f":"FlashCards!CD22","v":"suffix for a person related to the stem (genitive, singular, masculine)"}]
[{"$f":"FlashCards!BY23","v":"-ικός"}," ",{"$f":"FlashCards!CD23","v":"converts a noun into an adjective (\"king\" becomes \"royal\")"}]
[{"$f":"FlashCards!BY24","v":"[active stem] +ω"}," ",{"$f":"FlashCards!CD24","v":"I am verbing (it) [present active indicative]"}]
[{"$f":"FlashCards!BY25","v":"[active stem] +ες, +εις"}," ",{"$f":"FlashCards!CD25","v":"you are verbing (it) [present active indicative]"}]
[{"$f":"FlashCards!BY26","v":"[active stem] +ει"}," ",{"$f":"FlashCards!CD26","v":"he/she/it is verbing (it) [present active indicative]"}]
[{"$f":"FlashCards!BY27","v":"[active stem] +ομεν"}," ",{"$f":"FlashCards!CD27","v":"we are verbing (it) [present active indicative]"}]
[{"$f":"FlashCards!BY28","v":"[active stem] +ετε"}," ",{"$f":"FlashCards!CD28","v":"ya'll are verbing (it) [present active indicative]"}]
[{"$f":"FlashCards!BY29","v":"[active stem] +ονσι, +οσιν"}," ",{"$f":"FlashCards!CD29","v":"they are verbing (it) [present active indicative]"}]
[{"$f":"FlashCards!BY30","v":"[middle stem] +ομαι, "}," ",{"$f":"FlashCards!CD30","v":"I verb, I am verbing [present middle indicative]"}]
[{"$f":"FlashCards!BY31","v":"[middle stem] +εσαι, +ῃ"}," ",{"$f":"FlashCards!CD31","v":"you verb, you are verbing [present middle indicative]"}]
[{"$f":"FlashCards!BY32","v":"[middle stem] +εται"}," ",{"$f":"FlashCards!CD32","v":"he/she/it verbs, he is verbing [present middle indicative]"}]
[{"$f":"FlashCards!BY33","v":"[middle stem] +ομεθα"}," ",{"$f":"FlashCards!CD33","v":"we verb, we are verbing [present middle indicative]"}]
[{"$f":"FlashCards!BY34","v":"[middle stem] +εσθε "}," ",{"$f":"FlashCards!CD34","v":"ya'll verb, ya'll are verbing [present middle indicative]"}]
[{"$f":"FlashCards!BY35","v":"[middle stem] +ονται"}," ",{"$f":"FlashCards!CD35","v":"they verb, they are verbing [present middle indicative]"}]
[{"$f":"FlashCards!BY36","v":"[active stem] +ομαι"}," ",{"$f":"FlashCards!CD36","v":"I am being verbed (by it) [present passive indicative]"}]
[{"$f":"FlashCards!BY37","v":"[active stem] +εσαι, +ῃ"}," ",{"$f":"FlashCards!CD37","v":"you are being verbed (by it) [present passive indicative]"}]
[{"$f":"FlashCards!BY38","v":"[active stem] +εται"}," ",{"$f":"FlashCards!CD38","v":"he/she/it is being verbed (by it) [present passive indicative]"}]
[{"$f":"FlashCards!BY39","v":"[active stem] +ομεθα"}," ",{"$f":"FlashCards!CD39","v":"we are being verbed (by it) [present passive indicative]"}]
[{"$f":"FlashCards!BY40","v":"[active stem] +εσθε "}," ",{"$f":"FlashCards!CD40","v":"ya'll are being verbed (by it) [present passive indicative]"}]
[{"$f":"FlashCards!BY41","v":"[active stem] +ονται"}," ",{"$f":"FlashCards!CD41","v":"they are being verbed (by it) [present passive indicative]"}]
[{"$f":"FlashCards!BY42","v":"[active stem] +σω"}," ",{"$f":"FlashCards!CD42","v":"I will verb (it) [future active indicative]"}]
[{"$f":"FlashCards!BY43","v":"[active stem] +σες, +σεις"}," ",{"$f":"FlashCards!CD43","v":"you will verb (it) [future active indicative]"}]
[{"$f":"FlashCards!BY44","v":"[active stem] +σει"}," ",{"$f":"FlashCards!CD44","v":"he/she/it will verb (it) [future active indicative]"}]
[{"$f":"FlashCards!BY45","v":"[active stem] +σομεν"}," ",{"$f":"FlashCards!CD45","v":"we will verb (it) [future active indicative]"}]
[{"$f":"FlashCards!BY46","v":"[active stem] +σετε"}," ",{"$f":"FlashCards!CD46","v":"ya'll will verb (it) [future active indicative]"}]
[{"$f":"FlashCards!BY47","v":"[active stem] +σονσι, +σοσιν"}," ",{"$f":"FlashCards!CD47","v":"they will verb (it) [future active indicative]"}]
[{"$f":"FlashCards!BY48","v":"[middle stem] +σομαι, "}," ",{"$f":"FlashCards!CD48","v":"I will verb [future middle indicative]"}]
[{"$f":"FlashCards!BY49","v":"[middle stem] +σεσαι, +σῃ"}," ",{"$f":"FlashCards!CD49","v":"you will verb [future middle indicative]"}]
[{"$f":"FlashCards!BY50","v":"[middle stem] +σεται"}," ",{"$f":"FlashCards!CD50","v":"he/she/it will verb [future middle indicative]"}]
[{"$f":"FlashCards!BY51","v":"[middle stem] +σομεθα"}," ",{"$f":"FlashCards!CD51","v":"we will verb [future middle indicative]"}]
[{"$f":"FlashCards!BY52","v":"[middle stem] +σεσθε "}," ",{"$f":"FlashCards!CD52","v":"ya'll will verb [future middle indicative]"}]
[{"$f":"FlashCards!BY53","v":"[middle stem] +σονται"}," ",{"$f":"FlashCards!CD53","v":"they will verb [future middle indicative]"}]
[{"$f":"FlashCards!BY54","v":"ἐ + [active stem] +ον"}," ",{"$f":"FlashCards!CD54","v":"I was/they were verbing (it) [imperfect active indicative]"}]
[{"$f":"FlashCards!BY55","v":"ἐ + [active stem] +ες, +εις"}," ",{"$f":"FlashCards!CD55","v":"you were verbing (it) [imperfect active indicative]"}]
[{"$f":"FlashCards!BY56","v":"ἐ + [active stem] +ει"}," ",{"$f":"FlashCards!CD56","v":"he/she/it was verbing (it) [imperfect active indicative]"}]
[{"$f":"FlashCards!BY57","v":"ἐ + [active stem] +ομεν"}," ",{"$f":"FlashCards!CD57","v":"we were verbing (it) [imperfect active indicative]"}]
[{"$f":"FlashCards!BY58","v":"ἐ + [active stem] +ετε"}," ",{"$f":"FlashCards!CD58","v":"ya'll were verbing (it) [imperfect active indicative]"}]
[{"$f":"FlashCards!BY59","v":"ἐ + [active stem] +ον"}," ",{"$f":"FlashCards!CD59","v":"they were verbing (it) [imperfect active indicative]"}]
[{"$f":"FlashCards!BY60","v":"ἐ + [active stem] +ομην"}," ",{"$f":"FlashCards!CD60","v":"I was being verbed (by it) [imperfect passive indicative]"}]
[{"$f":"FlashCards!BY61","v":"ἐ + [active stem] +εσο"}," ",{"$f":"FlashCards!CD61","v":"you were being verbed (by it) [imperfect passive indicative]"}]
[{"$f":"FlashCards!BY62","v":"ἐ + [active stem] +ετο"}," ",{"$f":"FlashCards!CD62","v":"he/she/it was being verbed (by it) [imperfect passive indicative]"}]
[{"$f":"FlashCards!BY63","v":"ἐ + [active stem] +ομεθα"}," ",{"$f":"FlashCards!CD63","v":"we were being verbed (by it) [imperfect passive indicative]"}]
[{"$f":"FlashCards!BY64","v":"ἐ + [active stem] +εσθε"}," ",{"$f":"FlashCards!CD64","v":"ya'll were being verbed (by it) [imperfect passive indicative]"}]
[{"$f":"FlashCards!BY65","v":"ἐ + [active stem] +οντο"}," ",{"$f":"FlashCards!CD65","v":"they were being verbed (by it) [imperfect passive indicative]"}]
[{"$f":"FlashCards!BY66","v":"ἐ + [middle stem] +ομην "}," ",{"$f":"FlashCards!CD66","v":"I was verbing [imperfect middle indicative]"}]
[{"$f":"FlashCards!BY67","v":"ἐ + [middle stem] +εσο"}," ",{"$f":"FlashCards!CD67","v":"you were verbing [imperfect middle indicative]"}]
[{"$f":"FlashCards!BY68","v":"ἐ + [middle stem] +ετο"}," ",{"$f":"FlashCards!CD68","v":"he/she/it was verbing [imperfect middle indicative]"}]
[{"$f":"FlashCards!BY69","v":"ἐ + [middle stem] +ομεθα"}," ",{"$f":"FlashCards!CD69","v":"we were verbing [imperfect middle indicative]"}]
[{"$f":"FlashCards!BY70","v":"ἐ + [middle stem] +εσθε "}," ",{"$f":"FlashCards!CD70","v":"ya'll were verbing [imperfect middle indicative]"}]
[{"$f":"FlashCards!BY71","v":"ἐ + [middle stem] +οντο"}," ",{"$f":"FlashCards!CD71","v":"they were verbing [imperfect middle indicative]"}]
[{"$f":"FlashCards!BY72","v":"κατα-, κατε-"}," ",{"$f":"FlashCards!CD72","v":"verb prefix adding \"thoroughly\" to meaning"}]
[{"$f":"FlashCards!BY73","v":"ὁ Ἀβραάμ"}," ",{"$f":"FlashCards!CD73","v":"Abraham"}]
[{"$f":"FlashCards!BY74","v":"ἡ ἄβυσσος"}," ",{"$f":"FlashCards!CD74","v":"(infernal) abyss, bottomless"}]
[{"$f":"FlashCards!BY75","v":"ἀγαθοποιέω"}," ",{"$f":"FlashCards!CD75","v":"I do rightly, I do good"}]
[{"$f":"FlashCards!BY76","v":"ἀγαθός"}," ",{"$f":"FlashCards!CD76","v":"good, useful"}]
[{"$f":"FlashCards!BY77","v":"ἀγαλλιάω"}," ",{"$f":"FlashCards!CD77","v":"I exult"}]
[{"$f":"FlashCards!BY78","v":"ἡ ἄγαμος"}," ",{"$f":"FlashCards!CD78","v":"unmarried (person)"}]
[{"$f":"FlashCards!BY79","v":"ἀγανακτέω"}," ",{"$f":"FlashCards!CD79","v":"I am indignant, I am afflicted"}]
[{"$f":"FlashCards!BY80","v":"ἀγαπάω"}," ",{"$f":"FlashCards!CD80","v":"I love, I cherish"}]
[{"$f":"FlashCards!BY81","v":"ἡ ἀγάπη"}," ",{"$f":"FlashCards!CD81","v":"love"}]
[{"$f":"FlashCards!BY82","v":"ἀγαπητός"}," ",{"$f":"FlashCards!CD82","v":"beloved"}]
[{"$f":"FlashCards!BY83","v":"ἡ ἀγγελία"}," ",{"$f":"FlashCards!CD83","v":"message"}]
[{"$f":"FlashCards!BY84","v":"ὁ ἄγγελος"}," ",{"$f":"FlashCards!CD84","v":"angel, messenger"}]
[{"$f":"FlashCards!BY85","v":"ἡ ἀγέλη"}," ",{"$f":"FlashCards!CD85","v":"herd"}]
[{"$f":"FlashCards!BY86","v":"ἁγιάζω"}," ",{"$f":"FlashCards!CD86","v":"I consecrate, I sanctify"}]
[{"$f":"FlashCards!BY87","v":"ὁ ἁγιασμός"}," ",{"$f":"FlashCards!CD87","v":"holiness, consecration"}]
[{"$f":"FlashCards!BY88","v":"ὁ ἅγιος (noun)"}," ",{"$f":"FlashCards!CD88","v":"saint, holy one"}]
[{"$f":"FlashCards!BY89","v":"ἅγιος (adj)"}," ",{"$f":"FlashCards!CD89","v":"holy"}]
[{"$f":"FlashCards!BY90","v":"ἡ ἄγκυρα"}," ",{"$f":"FlashCards!CD90","v":"anchor"}]
[{"$f":"FlashCards!BY91","v":"ἁγνίζω"}," ",{"$f":"FlashCards!CD91","v":"I make clean, I sanctify"}]
[{"$f":"FlashCards!BY92","v":"ἀγνοέω"}," ",{"$f":"FlashCards!CD92","v":"I do not know"}]
[{"$f":"FlashCards!BY93","v":"ἁγνός"}," ",{"$f":"FlashCards!CD93","v":"innocent, modest, pure, clean"}]
[{"$f":"FlashCards!BY94","v":"ἡ ἀγορά"}," ",{"$f":"FlashCards!CD94","v":"marketplace"}]
[{"$f":"FlashCards!BY95","v":"ἀγοράζω"}," ",{"$f":"FlashCards!CD95","v":"I buy"}]
[{"$f":"FlashCards!BY96","v":"ἡ ἀγριέλαιος"}," ",{"$f":"FlashCards!CD96","v":"(wild, uncultivated) olive (tree)"}]
[{"$f":"FlashCards!BY97","v":"ἄγριος"}," ",{"$f":"FlashCards!CD97","v":"wild, fierce, natural"}]
[{"$f":"FlashCards!BY98","v":"ὁ Ἀγρίππας"}," ",{"$f":"FlashCards!CD98","v":"Agrippa"}]
[{"$f":"FlashCards!BY99","v":"ὁ ἀγρός"}," ",{"$f":"FlashCards!CD99","v":"field, land"}]
[{"$f":"FlashCards!BY100","v":"ἄγω"}," ",{"$f":"FlashCards!CD100","v":"I lead, I bring, I arrest"}]
[{"$f":"FlashCards!BY101","v":"ὁ ἀγών"}," ",{"$f":"FlashCards!CD101","v":"contest, conflict, fight, struggle, effort"}]
[{"$f":"FlashCards!BY102","v":"ἀγωνίζομαι"}," ",{"$f":"FlashCards!CD102","v":"I struggle, I compete, I contend, I strive"}]
[{"$f":"FlashCards!BY103","v":"ὁ Ἀδάμ"}," ",{"$f":"FlashCards!CD103","v":"Adam"}]
[{"$f":"FlashCards!BY104","v":"ἡ ἀδελφή"}," ",{"$f":"FlashCards!CD104","v":"sister"}]
[{"$f":"FlashCards!BY105","v":"ὁ ἀδελφός"}," ",{"$f":"FlashCards!CD105","v":"brother"}]
[{"$f":"FlashCards!BY106","v":"ὁ ᾁδης"}," ",{"$f":"FlashCards!CD106","v":"Hades or hades (\"the unseen place\"; not a proper noun as used in the New Testament)"}]
[{"$f":"FlashCards!BY107","v":"ἀδικέω"}," ",{"$f":"FlashCards!CD107","v":"I injure, I do wrong"}]
[{"$f":"FlashCards!BY108","v":"ἡ ἀδικία"}," ",{"$f":"FlashCards!CD108","v":"unrighteousness"}]
[{"$f":"FlashCards!BY109","v":"ἂδικος"}," ",{"$f":"FlashCards!CD109","v":"unjust"}]
[{"$f":"FlashCards!BY110","v":"ἀδόκιμος"}," ",{"$f":"FlashCards!CD110","v":"rejected, worthless, failing"}]
[{"$f":"FlashCards!BY111","v":"ἀδύνατος"}," ",{"$f":"FlashCards!CD111","v":"impossible"}]
[{"$f":"FlashCards!BY112","v":"ἄδω"}," ",{"$f":"FlashCards!CD112","v":"I sing"}]
[{"$f":"FlashCards!BY113","v":"ἀεί"}," ",{"$f":"FlashCards!CD113","v":"always, constantly"}]
[{"$f":"FlashCards!BY114","v":"ὁ ἀετός"}," ",{"$f":"FlashCards!CD114","v":"eagle, vulture"}]
[{"$f":"FlashCards!BY115","v":"ἄζυμος"}," ",{"$f":"FlashCards!CD115","v":"unleavened, uncorrupted"}]
[{"$f":"FlashCards!BY116","v":"ὁ ἀήρ"}," ",{"$f":"FlashCards!CD116","v":"air"}]
[{"$f":"FlashCards!BY117","v":"ἀθετέω"}," ",{"$f":"FlashCards!CD117","v":"I nullify, I reject"}]
[{"$f":"FlashCards!BY118","v":"ἡ Ἀθῆναι"}," ",{"$f":"FlashCards!CD118","v":"Athens"}]
[{"$f":"FlashCards!BY119","v":"ἡ Αἴγυπτος"}," ",{"$f":"FlashCards!CD119","v":"Egypt"}]
[{"$f":"FlashCards!BY120","v":"τό αἷμα"}," ",{"$f":"FlashCards!CD120","v":"blood"}]
[{"$f":"FlashCards!BY121","v":"αἰνέω"}," ",{"$f":"FlashCards!CD121","v":"I praise"}]
[{"$f":"FlashCards!BY122","v":"αἱρέω"}," ",{"$f":"FlashCards!CD122","v":"I choose, I prefer"}]
[{"$f":"FlashCards!BY123","v":"ἡ αἵρεσις"}," ",{"$f":"FlashCards!CD123","v":"preference, sect, choice, faction, (heresy)"}]
[{"$f":"FlashCards!BY124","v":"αἴρω"}," ",{"$f":"FlashCards!CD124","v":"I raise, I take up, I take away"}]
[{"$f":"FlashCards!BY125","v":"αἰσχρός"}," ",{"$f":"FlashCards!CD125","v":"filthy, disgraceful, shameful, improper"}]
[{"$f":"FlashCards!BY126","v":"ἡ αἰσχύνη"}," ",{"$f":"FlashCards!CD126","v":"shame, disgrace"}]
[{"$f":"FlashCards!BY127","v":"αἰσχύνω"}," ",{"$f":"FlashCards!CD127","v":"I shame, I disgrace (active)"}]
[{"$f":"FlashCards!BY128","v":"αἰσχύνομαι"}," ",{"$f":"FlashCards!CD128","v":"I am shamed, I am disgraced (passive)"}]
[{"$f":"FlashCards!BY129","v":"αἰτέω"}," ",{"$f":"FlashCards!CD129","v":"I ask, I demand"}]
[{"$f":"FlashCards!BY130","v":"ἡ αἰτία"}," ",{"$f":"FlashCards!CD130","v":"cause, guilt, charge, accusation"}]
[{"$f":"FlashCards!BY131","v":"ἡ αἰχμαλωσία"}," ",{"$f":"FlashCards!CD131","v":"captivity"}]
[{"$f":"FlashCards!BY132","v":"αἰχμαλωτίζω"}," ",{"$f":"FlashCards!CD132","v":"I capture, I take capture"}]
[{"$f":"FlashCards!BY133","v":"ὁ αἰών"}," ",{"$f":"FlashCards!CD133","v":"age, eternity"}]
[{"$f":"FlashCards!BY134","v":"εἰς τὸν αἰῶνα"}," ",{"$f":"FlashCards!CD134","v":"forever"}]
[{"$f":"FlashCards!BY135","v":"εἰς τοὺς αἰώνας"}," ",{"$f":"FlashCards!CD135","v":"forever"}]
[{"$f":"FlashCards!BY136","v":"αἰώνιος"}," ",{"$f":"FlashCards!CD136","v":"eternal"}]
[{"$f":"FlashCards!BY137","v":"ἡ ἀκαθαρσία"}," ",{"$f":"FlashCards!CD137","v":"immorality, uncleanness"}]
[{"$f":"FlashCards!BY138","v":"ἀκαθαρτος"}," ",{"$f":"FlashCards!CD138","v":"unclean, impure"}]
[{"$f":"FlashCards!BY139","v":"ἡ ἄκανθα"}," ",{"$f":"FlashCards!CD139","v":"thorn, thorny plant"}]
[{"$f":"FlashCards!BY140","v":"ἡ ἀκαταστασία"}," ",{"$f":"FlashCards!CD140","v":"confusion, disorder, tumult"}]
[{"$f":"FlashCards!BY141","v":"ἡ ἀκοή"}," ",{"$f":"FlashCards!CD141","v":"hearing, report"}]
[{"$f":"FlashCards!BY142","v":"ἀκολουθέω"}," ",{"$f":"FlashCards!CD142","v":"I follow, I accompany"}]
[{"$f":"FlashCards!BY143","v":"ἀκούω"}," ",{"$f":"FlashCards!CD143","v":"I hear, I learn, I obey, I understand"}]
[{"$f":"FlashCards!BY144","v":"ἀκριβῶς"}," ",{"$f":"FlashCards!CD144","v":"accurately, diligently, carefully, thoroughly"}]
[{"$f":"FlashCards!BY145","v":"ἡ ἀκροβυστία"}," ",{"$f":"FlashCards!CD145","v":"uncircumcision"}]
[{"$f":"FlashCards!BY146","v":"τό ἄκρον"}," ",{"$f":"FlashCards!CD146","v":"top, end, uttermost "}]
[{"$f":"FlashCards!BY147","v":"ἀλείφω"}," ",{"$f":"FlashCards!CD147","v":"I anoint"}]
[{"$f":"FlashCards!BY148","v":"ἡ ἀλέκτωρ"}," ",{"$f":"FlashCards!CD148","v":"rooster"}]
[{"$f":"FlashCards!BY149","v":"ὁ Ἀλέξανδρος"}," ",{"$f":"FlashCards!CD149","v":"Alexander"}]
[{"$f":"FlashCards!BY150","v":"ἡ ἀλήθεια"}," ",{"$f":"FlashCards!CD150","v":"truth"}]
[{"$f":"FlashCards!BY151","v":"ἀληθής"}," ",{"$f":"FlashCards!CD151","v":"true, truthful"}]
[{"$f":"FlashCards!BY152","v":"ἀληθινός"}," ",{"$f":"FlashCards!CD152","v":"true, genuine"}]
[{"$f":"FlashCards!BY153","v":"ἀληθῶς"}," ",{"$f":"FlashCards!CD153","v":"truly"}]
[{"$f":"FlashCards!BY154","v":"ὁ ἁλιεύς"}," ",{"$f":"FlashCards!CD154","v":"sailor, fisherman"}]
[{"$f":"FlashCards!BY155","v":"ἀλλά"}," ",{"$f":"FlashCards!CD155","v":"but, yet, rather (particle)"}]
[{"$f":"FlashCards!BY156","v":"ἀλλάσσω"}," ",{"$f":"FlashCards!CD156","v":"I change, I alter"}]
[{"$f":"FlashCards!BY157","v":"ἡ ἀλλήλωη"}," ",{"$f":"FlashCards!CD157","v":"one another [genitive plural…]"}]
[{"$f":"FlashCards!BY158","v":"ἅλλομαι"}," ",{"$f":"FlashCards!CD158","v":"I jump, I leap, I spring (up)"}]
[{"$f":"FlashCards!BY159","v":"ἄλλος"}," ",{"$f":"FlashCards!CD159","v":"other, another"}]
[{"$f":"FlashCards!BY160","v":"ἀλλότριος"}," ",{"$f":"FlashCards!CD160","v":"strange, not one's own"}]
[{"$f":"FlashCards!BY161","v":"ἄλογος"}," ",{"$f":"FlashCards!CD161","v":"irrational, unreasonable, absurd"}]
[{"$f":"FlashCards!BY162","v":"ἡ ἅλυσις"}," ",{"$f":"FlashCards!CD162","v":"chain"}]
[{"$f":"FlashCards!BY163","v":"ἡ ἀλώπηξ"}," ",{"$f":"FlashCards!CD163","v":"fox (i.e., the animal)"}]
[{"$f":"FlashCards!BY164","v":"ἅμα"}," ",{"$f":"FlashCards!CD164","v":"together with [dative]"}]
[{"$f":"FlashCards!BY165","v":"ἅμα"}," ",{"$f":"FlashCards!CD165","v":"at the same time"}]
[{"$f":"FlashCards!BY166","v":"ἁμαρτάνω"}," ",{"$f":"FlashCards!CD166","v":"I sin"}]
[{"$f":"FlashCards!BY167","v":"ἡ ἁμαρτία"}," ",{"$f":"FlashCards!CD167","v":"sin"}]
[{"$f":"FlashCards!BY168","v":"ὁ ἁμαρτωλός [noun]"}," ",{"$f":"FlashCards!CD168","v":"sinner"}]
[{"$f":"FlashCards!BY169","v":"ἁμαρτωλός [adjective]"}," ",{"$f":"FlashCards!CD169","v":"sinful"}]
[{"$f":"FlashCards!BY170","v":"ἀμελέω"}," ",{"$f":"FlashCards!CD170","v":"I neglect, I am careless"}]
[{"$f":"FlashCards!BY171","v":"ἄμεμπτος"}," ",{"$f":"FlashCards!CD171","v":"blameless, faultless"}]
[{"$f":"FlashCards!BY172","v":"ἀμῄν"}," ",{"$f":"FlashCards!CD172","v":"truly, amen, let it be so"}]
[{"$f":"FlashCards!BY173","v":"ἀμίαντος"}," ",{"$f":"FlashCards!CD173","v":"undefiled, pure, unsoiled"}]
[{"$f":"FlashCards!BY174","v":"ἡ ἄμμος"}," ",{"$f":"FlashCards!CD174","v":"sand, sand pile"}]
[{"$f":"FlashCards!BY175","v":"ὁ ἀμνός"}," ",{"$f":"FlashCards!CD175","v":"lamb"}]
[{"$f":"FlashCards!BY176","v":"ἡ ἄμπελος"}," ",{"$f":"FlashCards!CD176","v":"vine"}]
[{"$f":"FlashCards!BY177","v":"ὁ ἀμπελών"}," ",{"$f":"FlashCards!CD177","v":"vineyard"}]
[{"$f":"FlashCards!BY178","v":"ἀμφιέννυμι"}," ",{"$f":"FlashCards!CD178","v":"I clothe, I am clothed"}]
[{"$f":"FlashCards!BY179","v":"ἀμφότεροι"}," ",{"$f":"FlashCards!CD179","v":"both"}]
[{"$f":"FlashCards!BY180","v":"ἄμωμος"}," ",{"$f":"FlashCards!CD180","v":"blameless, unblemished, faultless"}]
[{"$f":"FlashCards!BY181","v":"ἄν"}," ",{"$f":"FlashCards!CD181","v":"modifies relative pronoun (\"who\" becomes \"whoever\") (particle)"}]
[{"$f":"FlashCards!BY182","v":"-ἄν"}," ",{"$f":"FlashCards!CD182","v":"ending that changes \"what\" to \"whatever\""}]
[{"$f":"FlashCards!BY183","v":"ἀνά"}," ",{"$f":"FlashCards!CD183","v":"among, between, each"}]
[{"$f":"FlashCards!BY184","v":"ἀναβαίνω"}," ",{"$f":"FlashCards!CD184","v":"I go up"}]
[{"$f":"FlashCards!BY185","v":"ἀναβλέπω"}," ",{"$f":"FlashCards!CD185","v":"I look up, I receive sight"}]
[{"$f":"FlashCards!BY186","v":"ἀναγγέλλω"}," ",{"$f":"FlashCards!CD186","v":"I proclaim, I announce, I report"}]
[{"$f":"FlashCards!BY187","v":"ἀναγινώσκω"}," ",{"$f":"FlashCards!CD187","v":"I read"}]
[{"$f":"FlashCards!BY188","v":"ἀναγκάζω"}," ",{"$f":"FlashCards!CD188","v":"I compel, I force, I constrain"}]
[{"$f":"FlashCards!BY189","v":"ἀναγκαῖος"}," ",{"$f":"FlashCards!CD189","v":"necessary, urgent, close (as a relative)"}]
[{"$f":"FlashCards!BY190","v":"ἡ ἀνάγκη"}," ",{"$f":"FlashCards!CD190","v":"necessity, pressure, distress"}]
[{"$f":"FlashCards!BY191","v":"ἀνάγω"}," ",{"$f":"FlashCards!CD191","v":"I lead up; (middle) I put out to sea"}]
[{"$f":"FlashCards!BY192","v":"ἀναιρέω"}," ",{"$f":"FlashCards!CD192","v":"I destroy, I slay, I make an end"}]
[{"$f":"FlashCards!BY193","v":"ἀνάκειμαι"}," ",{"$f":"FlashCards!CD193","v":"I recline"}]
[{"$f":"FlashCards!BY194","v":"ἀνακρίνω"}," ",{"$f":"FlashCards!CD194","v":"I question, I examine"}]
[{"$f":"FlashCards!BY195","v":"ἀναλαμβάνω"}," ",{"$f":"FlashCards!CD195","v":"I take up"}]
[{"$f":"FlashCards!BY196","v":"ὁ Ἁνανίας"}," ",{"$f":"FlashCards!CD196","v":"Ananias"}]
[{"$f":"FlashCards!BY197","v":"ἀναπαύω"}," ",{"$f":"FlashCards!CD197","v":"I give rest, I refresh, I take a rest"}]
[{"$f":"FlashCards!BY198","v":"ἀναπίπτω"}," ",{"$f":"FlashCards!CD198","v":"I lie down, I recline"}]
[{"$f":"FlashCards!BY199","v":"ἡ ἀνάστασις"}," ",{"$f":"FlashCards!CD199","v":"resurrection"}]
[{"$f":"FlashCards!BY200","v":"ἡ ἀναστροφή"}," ",{"$f":"FlashCards!CD200","v":"way of life, conduct, behavior"}]
[{"$f":"FlashCards!BY201","v":"ἡ ἀνατολή"}," ",{"$f":"FlashCards!CD201","v":"east"}]
[{"$f":"FlashCards!BY202","v":"ἀναφέρω"}," ",{"$f":"FlashCards!CD202","v":"I offer up, I bring up"}]
[{"$f":"FlashCards!BY203","v":"ἀναχωρέω"}," ",{"$f":"FlashCards!CD203","v":"I withdraw"}]
[{"$f":"FlashCards!BY204","v":"ὁ Ἀνδρέας"}," ",{"$f":"FlashCards!CD204","v":"Andrew"}]
[{"$f":"FlashCards!BY205","v":"ὁ ἄνεμος"}," ",{"$f":"FlashCards!CD205","v":"wind"}]
[{"$f":"FlashCards!BY206","v":"ἀνέχομαι"}," ",{"$f":"FlashCards!CD206","v":"I endure"}]
[{"$f":"FlashCards!BY207","v":"ὁ ἀνήρ"}," ",{"$f":"FlashCards!CD207","v":"husband, male, man"}]
[{"$f":"FlashCards!BY208","v":"ὁ ἀνδρός"}," ",{"$f":"FlashCards!CD208","v":"husband, male, man"}]
[{"$f":"FlashCards!BY209","v":"ἀνθίστημι"}," ",{"$f":"FlashCards!CD209","v":"I oppose"}]
[{"$f":"FlashCards!BY210","v":"ὁ ἄνθρωπος"}," ",{"$f":"FlashCards!CD210","v":"man, person, mankind, human"}]
[{"$f":"FlashCards!BY211","v":"ἀνίστημι"}," ",{"$f":"FlashCards!CD211","v":"I rise, I get up, I raise (another)"}]
[{"$f":"FlashCards!BY212","v":"ἡ ἀνοία"}," ",{"$f":"FlashCards!CD212","v":"folly, stupidity, rage"}]
[{"$f":"FlashCards!BY213","v":"ἀνοίγω"}," ",{"$f":"FlashCards!CD213","v":"I open"}]
[{"$f":"FlashCards!BY214","v":"ἡ ἀνομία"}," ",{"$f":"FlashCards!CD214","v":"lawlessness"}]
[{"$f":"FlashCards!BY215","v":"ἀντί"}," ",{"$f":"FlashCards!CD215","v":"on behalf of, for, instead of [genitive]"}]
[{"$f":"FlashCards!BY216","v":"ἀντιβάλλω"}," ",{"$f":"FlashCards!CD216","v":"I debate, (we) exchange"}]
[{"$f":"FlashCards!BY217","v":"ἡ Ἀντιόχεια"}," ",{"$f":"FlashCards!CD217","v":"Antioch"}]
[{"$f":"FlashCards!BY218","v":"ἄνω"}," ",{"$f":"FlashCards!CD218","v":"above, high"}]
[{"$f":"FlashCards!BY219","v":"ἄνωθεν"}," ",{"$f":"FlashCards!CD219","v":"from above, again"}]
[{"$f":"FlashCards!BY220","v":"ἄξιος"}," ",{"$f":"FlashCards!CD220","v":"worthy"}]
[{"$f":"FlashCards!BY221","v":"ἀπαγγέλλω"}," ",{"$f":"FlashCards!CD221","v":"I report, I tell"}]
[{"$f":"FlashCards!BY222","v":"ἀπάγω"}," ",{"$f":"FlashCards!CD222","v":"I lead away"}]
[{"$f":"FlashCards!BY223","v":"ἄπαξ"}," ",{"$f":"FlashCards!CD223","v":"once, once for all"}]
[{"$f":"FlashCards!BY224","v":"ἀπαρνέομαι"}," ",{"$f":"FlashCards!CD224","v":"I deny"}]
[{"$f":"FlashCards!BY225","v":"ἄπας"}," ",{"$f":"FlashCards!CD225","v":"all"}]
[{"$f":"FlashCards!BY226","v":"ἀπειθέω"}," ",{"$f":"FlashCards!CD226","v":"I disobey"}]
[{"$f":"FlashCards!BY227","v":"ἀπέρχομαι"}," ",{"$f":"FlashCards!CD227","v":"I depart"}]
[{"$f":"FlashCards!BY228","v":"ἀπέχω"}," ",{"$f":"FlashCards!CD228","v":"I receive in full; I am distant; I abstain"}]
[{"$f":"FlashCards!BY229","v":"ἡ ἀπιστία"}," ",{"$f":"FlashCards!CD229","v":"unbelief"}]
[{"$f":"FlashCards!BY230","v":"ἄπιστος"}," ",{"$f":"FlashCards!CD230","v":"unbelieving"}]
[{"$f":"FlashCards!BY231","v":"ἀπό (ἀπʼ, ἀφʼ) [genitive]"}," ",{"$f":"FlashCards!CD231","v":"(away) from [genitive]"}]
[{"$f":"FlashCards!BY232","v":"ἀποδίδωμι"}," ",{"$f":"FlashCards!CD232","v":"I pay, I recompense; [middle]: I sell"}]
[{"$f":"FlashCards!BY233","v":"ἀποθνῄσκω"}," ",{"$f":"FlashCards!CD233","v":"I die, I am about to die, I am freed from"}]
[{"$f":"FlashCards!BY234","v":"ἀποκαθιστάνω/ἀποκαθίστημι"}," ",{"$f":"FlashCards!CD234","v":"I restore"}]
[{"$f":"FlashCards!BY235","v":"ἀποκαλύπτω"}," ",{"$f":"FlashCards!CD235","v":"I reveal"}]
[{"$f":"FlashCards!BY236","v":"ἡ ἀποκάλυψις"}," ",{"$f":"FlashCards!CD236","v":"revelation"}]
[{"$f":"FlashCards!BY237","v":"ἀποκρίνομαι"}," ",{"$f":"FlashCards!CD237","v":"I answer"}]
[{"$f":"FlashCards!BY238","v":"ἀπεκρίθη"}," ",{"$f":"FlashCards!CD238","v":"he/she/it answered (3ʳᵈ person singular/aorist passive; non-lexical)"}]
[{"$f":"FlashCards!BY239","v":"ἀποκτείνω"}," ",{"$f":"FlashCards!CD239","v":"I kill"}]
[{"$f":"FlashCards!BY240","v":"ἀπολαμβάνω"}," ",{"$f":"FlashCards!CD240","v":"I receive"}]
[{"$f":"FlashCards!BY241","v":"ἀπόλλυμι [active]"}," ",{"$f":"FlashCards!CD241","v":"I destroy, I kill"}]
[{"$f":"FlashCards!BY242","v":"ἀπόλλυμι [middle]"}," ",{"$f":"FlashCards!CD242","v":"I perish, I die"}]
[{"$f":"FlashCards!BY243","v":"ὁ Ἀπολλῶς"}," ",{"$f":"FlashCards!CD243","v":"Apollos"}]
[{"$f":"FlashCards!BY244","v":"ἀπολογέομαι"}," ",{"$f":"FlashCards!CD244","v":"I defend myself (with speech)"}]
[{"$f":"FlashCards!BY245","v":"ἡ ἀπολογία"}," ",{"$f":"FlashCards!CD245","v":"defense, answer"}]
[{"$f":"FlashCards!BY246","v":"ἡ ἀπολύτρωσις"}," ",{"$f":"FlashCards!CD246","v":"redemption"}]
[{"$f":"FlashCards!BY247","v":"ἀπολύω"}," ",{"$f":"FlashCards!CD247","v":"I release, I set free"}]
[{"$f":"FlashCards!BY248","v":"ἀπορέω"}," ",{"$f":"FlashCards!CD248","v":"I am perplexed"}]
[{"$f":"FlashCards!BY249","v":"ἀποστέλλω"}," ",{"$f":"FlashCards!CD249","v":"I send (away)"}]
[{"$f":"FlashCards!BY250","v":"ὁ ἀπόστολος"}," ",{"$f":"FlashCards!CD250","v":"messenger, envoy, apostle"}]
[{"$f":"FlashCards!BY251","v":"ἅπτω"}," ",{"$f":"FlashCards!CD251","v":"I kindle; [middle]: I touch, I take hold of"}]
[{"$f":"FlashCards!BY252","v":"ἡ ἀπώλεια"}," ",{"$f":"FlashCards!CD252","v":"destruction"}]
[{"$f":"FlashCards!BY253","v":"ἄρα"}," ",{"$f":"FlashCards!CD253","v":"then, therefore (particle)"}]
[{"$f":"FlashCards!BY254","v":"ἄραγε"}," ",{"$f":"FlashCards!CD254","v":"expresses doubt or wonderment (particle)"}]
[{"$f":"FlashCards!BY255","v":"ἆρα"}," ",{"$f":"FlashCards!CD255","v":"really? (introduces question with incredulity) (particle)"}]
[{"$f":"FlashCards!BY256","v":"τό ἀργύριον"}," ",{"$f":"FlashCards!CD256","v":"silver, money"}]
[{"$f":"FlashCards!BY257","v":"ἀρέσκω"}," ",{"$f":"FlashCards!CD257","v":"I please"}]
[{"$f":"FlashCards!BY258","v":"ἀρεστός"}," ",{"$f":"FlashCards!CD258","v":"pleasing, agreeable"}]
[{"$f":"FlashCards!BY259","v":"ὁ ἀριθμός"}," ",{"$f":"FlashCards!CD259","v":"number"}]
[{"$f":"FlashCards!BY260","v":"ἀρκέω"}," ",{"$f":"FlashCards!CD260","v":"I am satisfied, I am content"}]
[{"$f":"FlashCards!BY261","v":"ἀρνέομαι"}," ",{"$f":"FlashCards!CD261","v":"I deny"}]
[{"$f":"FlashCards!BY262","v":"τό ἀρνίον"}," ",{"$f":"FlashCards!CD262","v":"sheep, lamb"}]
[{"$f":"FlashCards!BY263","v":"ἁρπάζω"}," ",{"$f":"FlashCards!CD263","v":"I seize, I snatch"}]
[{"$f":"FlashCards!BY264","v":"ἄρτι"}," ",{"$f":"FlashCards!CD264","v":"now"}]
[{"$f":"FlashCards!BY265","v":"ὁ ἄρτος"}," ",{"$f":"FlashCards!CD265","v":"bread, food, loaf"}]
[{"$f":"FlashCards!BY266","v":"ἀρχαῖος"}," ",{"$f":"FlashCards!CD266","v":"ancient, old"}]
[{"$f":"FlashCards!BY267","v":"ἡ ἀρχή"}," ",{"$f":"FlashCards!CD267","v":"beginning, ruler"}]
[{"$f":"FlashCards!BY268","v":"ὁ ἀρχιερεύς"}," ",{"$f":"FlashCards!CD268","v":"chief priest, high priest"}]
[{"$f":"FlashCards!BY269","v":"ἄρχομαι"}," ",{"$f":"FlashCards!CD269","v":"I begin, (I rule)"}]
[{"$f":"FlashCards!BY270","v":"ὁ ἄρχων"}," ",{"$f":"FlashCards!CD270","v":"ruler, official"}]
[{"$f":"FlashCards!BY271","v":"ἡ ἀσέλγεια"}," ",{"$f":"FlashCards!CD271","v":"licentiousness, debauchery, sensuality"}]
[{"$f":"FlashCards!BY272","v":"ἡ ἀσθένεια"}," ",{"$f":"FlashCards!CD272","v":"weakness, sickness"}]
[{"$f":"FlashCards!BY273","v":"ἀσθενέω"}," ",{"$f":"FlashCards!CD273","v":"I am sick, I am weak"}]
[{"$f":"FlashCards!BY274","v":"ἀσθενής"}," ",{"$f":"FlashCards!CD274","v":"weak, sick"}]
[{"$f":"FlashCards!BY275","v":"ἡ Ἀσία"}," ",{"$f":"FlashCards!CD275","v":"Asia (the Roman province that is now more-or-less Turkey; not the continent)"}]
[{"$f":"FlashCards!BY276","v":"ὁ ἀσκός"}," ",{"$f":"FlashCards!CD276","v":"leather bottle, wineskin"}]
[{"$f":"FlashCards!BY277","v":"ἀσπάζομαι"}," ",{"$f":"FlashCards!CD277","v":"I greet, I salute"}]
[{"$f":"FlashCards!BY278","v":"ὁ ἀσπασμός"}," ",{"$f":"FlashCards!CD278","v":"greeting"}]
[{"$f":"FlashCards!BY279","v":"ὁ ἀστήρ"}," ",{"$f":"FlashCards!CD279","v":"star, celestial body,"}]
[{"$f":"FlashCards!BY280","v":"ἀστράπτω"}," ",{"$f":"FlashCards!CD280","v":"I dazzle"}]
[{"$f":"FlashCards!BY281","v":"ἀσύμφορος"}," ",{"$f":"FlashCards!CD281","v":"harmful, unprofitable, inconvenient, useless"}]
[{"$f":"FlashCards!BY282","v":"ἀτενίζω"}," ",{"$f":"FlashCards!CD282","v":"I stare at; I look (at) intently"}]
[{"$f":"FlashCards!BY283","v":"ἡ αύλή"}," ",{"$f":"FlashCards!CD283","v":"courtyard"}]
[{"$f":"FlashCards!BY284","v":"αὐξάνω"}," ",{"$f":"FlashCards!CD284","v":"I grow, I increase"}]
[{"$f":"FlashCards!BY285","v":"αὔριον"}," ",{"$f":"FlashCards!CD285","v":"tomorrow, next day"}]
[{"$f":"FlashCards!BY286","v":"αὐτός"}," ",{"$f":"FlashCards!CD286","v":"he (nominative, singular, masculine)"}]
[{"$f":"FlashCards!BY287","v":"αὐτή"}," ",{"$f":"FlashCards!CD287","v":"she (nominative, singular, feminine)"}]
[{"$f":"FlashCards!BY288","v":"αὐτό"}," ",{"$f":"FlashCards!CD288","v":"it (nominative or accusative, singular, neuter)"}]
[{"$f":"FlashCards!BY289","v":"αὐτοῦ"}," ",{"$f":"FlashCards!CD289","v":"his/of him/its/of it (genitive, singular, masculine or neuter)"}]
[{"$f":"FlashCards!BY290","v":"αὐτῆς"}," ",{"$f":"FlashCards!CD290","v":"her/hers/of her (genitive, singular, feminine)"}]
[{"$f":"FlashCards!BY291","v":"αὐτῷ"}," ",{"$f":"FlashCards!CD291","v":"to him/to it (dative, singular, masculine or neuter)"}]
[{"$f":"FlashCards!BY292","v":"αὐτῇ"}," ",{"$f":"FlashCards!CD292","v":"to her (dative, singular, feminine)"}]
[{"$f":"FlashCards!BY293","v":"αὐτόν"}," ",{"$f":"FlashCards!CD293","v":"him (accusative, singular, masculine)"}]
[{"$f":"FlashCards!BY294","v":"αὐτήν"}," ",{"$f":"FlashCards!CD294","v":"her (accusative, singular, feminine)"}]
[{"$f":"FlashCards!BY295","v":"αὐτοί"}," ",{"$f":"FlashCards!CD295","v":"they (nominative, plural, masculine)"}]
[{"$f":"FlashCards!BY296","v":"αὐταί"}," ",{"$f":"FlashCards!CD296","v":"they (nominative, plural, feminine)"}]
[{"$f":"FlashCards!BY297","v":"αὐτά"}," ",{"$f":"FlashCards!CD297","v":"they/them (nominative or accusative, plural, neuter)"}]
[{"$f":"FlashCards!BY298","v":"αὐτῶν"}," ",{"$f":"FlashCards!CD298","v":"their/theirs/of them (genitive, plural, masculine, feminine, neuter)"}]
[{"$f":"FlashCards!BY299","v":"αὐτοῖς"}," ",{"$f":"FlashCards!CD299","v":"to them (dative, plural, masculine or neuter)"}]
[{"$f":"FlashCards!BY300","v":"αὐταῖς"}," ",{"$f":"FlashCards!CD300","v":"to them (dative, plural, feminine)"}]
[{"$f":"FlashCards!BY301","v":"αὐτούς"}," ",{"$f":"FlashCards!CD301","v":"them (accusative, plural, masculine)"}]
[{"$f":"FlashCards!BY302","v":"αὐτάς"}," ",{"$f":"FlashCards!CD302","v":"them (accusative, plural, feminine)"}]
[{"$f":"FlashCards!BY303","v":"ἀφαιρέω"}," ",{"$f":"FlashCards!CD303","v":"I remove, I cut off"}]
[{"$f":"FlashCards!BY304","v":"ἡ ἄφεσις"}," ",{"$f":"FlashCards!CD304","v":"forgiveness, pardon"}]
[{"$f":"FlashCards!BY305","v":"ἀφίημι"}," ",{"$f":"FlashCards!CD305","v":"I let go, I leave, I permit, I forgive"}]
[{"$f":"FlashCards!BY306","v":"ἀφίστημι"}," ",{"$f":"FlashCards!CD306","v":"I leave, I withdraw"}]
[{"$f":"FlashCards!BY307","v":"ἀφορίζω"}," ",{"$f":"FlashCards!CD307","v":"I separate, I set apart"}]
[{"$f":"FlashCards!BY308","v":"ἄφρων"}," ",{"$f":"FlashCards!CD308","v":"ignorant, foolish"}]
[{"$f":"FlashCards!BY309","v":"ἡ Ἀχαῗα"}," ",{"$f":"FlashCards!CD309","v":"Achaia"}]
[{"$f":"FlashCards!BY310","v":"ἄχρι, ἄχρις"}," ",{"$f":"FlashCards!CD310","v":"until, as far as"}]
[{"$f":"FlashCards!BY311","v":"ἡ Βαβυλών"}," ",{"$f":"FlashCards!CD311","v":"Babylon"}]
[{"$f":"FlashCards!BY312","v":"βαθύς"}," ",{"$f":"FlashCards!CD312","v":"deep, early"}]
[{"$f":"FlashCards!BY313","v":"βάλλω"}," ",{"$f":"FlashCards!CD313","v":"I throw"}]
[{"$f":"FlashCards!BY314","v":"βαπτίζω"}," ",{"$f":"FlashCards!CD314","v":"I baptize, I dip, I immerse"}]
[{"$f":"FlashCards!BY315","v":"τό βάπτισμα"}," ",{"$f":"FlashCards!CD315","v":"baptism"}]
[{"$f":"FlashCards!BY316","v":"ὁ βαπτιστής"}," ",{"$f":"FlashCards!CD316","v":"baptizer, baptist"}]
[{"$f":"FlashCards!BY317","v":"ὁ Βαραββᾶς"}," ",{"$f":"FlashCards!CD317","v":"Barabbas"}]
[{"$f":"FlashCards!BY318","v":"ὁ Βαρναβᾶς"}," ",{"$f":"FlashCards!CD318","v":"Barnabus"}]
[{"$f":"FlashCards!BY319","v":"βασανίζω"}," ",{"$f":"FlashCards!CD319","v":"I torment"}]
[{"$f":"FlashCards!BY320","v":"ἡ βασιλεία"}," ",{"$f":"FlashCards!CD320","v":"kingdom"}]
[{"$f":"FlashCards!BY321","v":"βασίλειος"}," ",{"$f":"FlashCards!CD321","v":"royal, kingly"}]
[{"$f":"FlashCards!BY322","v":"ὁ βασιλεύς"}," ",{"$f":"FlashCards!CD322","v":"king"}]
[{"$f":"FlashCards!BY323","v":"βασιλεύω"}," ",{"$f":"FlashCards!CD323","v":"I reign, I rule"}]
[{"$f":"FlashCards!BY324","v":"βαστάζω"}," ",{"$f":"FlashCards!CD324","v":"I bear, I carry"}]
[{"$f":"FlashCards!BY325","v":"ἡ Βηθανία"}," ",{"$f":"FlashCards!CD325","v":"Bethany"}]
[{"$f":"FlashCards!BY326","v":"τό βῆμα"}," ",{"$f":"FlashCards!CD326","v":"tribunal, judgement seat"}]
[{"$f":"FlashCards!BY327","v":"τό βιβλίον"}," ",{"$f":"FlashCards!CD327","v":"scroll, book"}]
[{"$f":"FlashCards!BY328","v":"ἡ βίβλος"}," ",{"$f":"FlashCards!CD328","v":"book"}]
[{"$f":"FlashCards!BY329","v":"ὁ βίος"}," ",{"$f":"FlashCards!CD329","v":"life"}]
[{"$f":"FlashCards!BY330","v":"βλασφημέω"}," ",{"$f":"FlashCards!CD330","v":"I revile, I blaspheme"}]
[{"$f":"FlashCards!BY331","v":"ἡ βλασφημία"}," ",{"$f":"FlashCards!CD331","v":"slander, blasphemy"}]
[{"$f":"FlashCards!BY332","v":"βλέπω"}," ",{"$f":"FlashCards!CD332","v":"I see, I look at, I observe, I notice"}]
[{"$f":"FlashCards!BY333","v":"βοάω"}," ",{"$f":"FlashCards!CD333","v":"I cry out, I shout"}]
[{"$f":"FlashCards!BY334","v":"ἡ βουλή"}," ",{"$f":"FlashCards!CD334","v":"plan, purpose"}]
[{"$f":"FlashCards!BY335","v":"βούλομαι"}," ",{"$f":"FlashCards!CD335","v":"I intend, I plan"}]
[{"$f":"FlashCards!BY336","v":"ἡ βροντή"}," ",{"$f":"FlashCards!CD336","v":"thunder"}]
[{"$f":"FlashCards!BY337","v":"τό βρῶμα"}," ",{"$f":"FlashCards!CD337","v":"food"}]
[{"$f":"FlashCards!BY338","v":"ἡ βρῶσις"}," ",{"$f":"FlashCards!CD338","v":"eating, consuming [i.e., a gerund]"}]
[{"$f":"FlashCards!BY339","v":"ἡ γαλήνη"}," ",{"$f":"FlashCards!CD339","v":"calm"}]
[{"$f":"FlashCards!BY340","v":"ἡ Γαλιλαία"}," ",{"$f":"FlashCards!CD340","v":"Galilee"}]
[{"$f":"FlashCards!BY341","v":"Γαλιλαῖος"}," ",{"$f":"FlashCards!CD341","v":"Galilean"}]
[{"$f":"FlashCards!BY342","v":"γαμέω"}," ",{"$f":"FlashCards!CD342","v":"I marry"}]
[{"$f":"FlashCards!BY343","v":"ὁ γάμος"}," ",{"$f":"FlashCards!CD343","v":"wedding"}]
[{"$f":"FlashCards!BY344","v":"γάρ"}," ",{"$f":"FlashCards!CD344","v":"for, then (particle)"}]
[{"$f":"FlashCards!BY345","v":"γε"}," ",{"$f":"FlashCards!CD345","v":"indeed, at least, even (particle)"}]
[{"$f":"FlashCards!BY346","v":"ἡ γέεννα"}," ",{"$f":"FlashCards!CD346","v":"gehenna, hell (not always a proper noun)"}]
[{"$f":"FlashCards!BY347","v":"γελάω"}," ",{"$f":"FlashCards!CD347","v":"I laugh"}]
[{"$f":"FlashCards!BY348","v":"γέμω"}," ",{"$f":"FlashCards!CD348","v":"I am full"}]
[{"$f":"FlashCards!BY349","v":"ἡ γενεά"}," ",{"$f":"FlashCards!CD349","v":"generation"}]
[{"$f":"FlashCards!BY350","v":"γεννάω"}," ",{"$f":"FlashCards!CD350","v":"I beget, I give birth (to), I produce, I make"}]
[{"$f":"FlashCards!BY351","v":"τό γένος"}," ",{"$f":"FlashCards!CD351","v":"race, people, descendant, kind"}]
[{"$f":"FlashCards!BY352","v":"γεύομαι"}," ",{"$f":"FlashCards!CD352","v":"I taste"}]
[{"$f":"FlashCards!BY353","v":"ὁ γεωργός"}," ",{"$f":"FlashCards!CD353","v":"farmer"}]
[{"$f":"FlashCards!BY354","v":"ἡ γῆ, γῆς"}," ",{"$f":"FlashCards!CD354","v":"earth, land, region, humanity"}]
[{"$f":"FlashCards!BY355","v":"γίνομαι"}," ",{"$f":"FlashCards!CD355","v":"I become, I exist, I am, I am created"}]
[{"$f":"FlashCards!BY356","v":"γινώσκω"}," ",{"$f":"FlashCards!CD356","v":"I know, I realize, I learn, I understand"}]
[{"$f":"FlashCards!BY357","v":"ἡ γλῶσσα"}," ",{"$f":"FlashCards!CD357","v":"tongue, language"}]
[{"$f":"FlashCards!BY358","v":"γνωρίζω"}," ",{"$f":"FlashCards!CD358","v":"I make known"}]
[{"$f":"FlashCards!BY359","v":"ἡ γνῶσις"}," ",{"$f":"FlashCards!CD359","v":"knowledge"}]
[{"$f":"FlashCards!BY360","v":"ὁ γνωστός"}," ",{"$f":"FlashCards!CD360","v":"acquaintance"}]
[{"$f":"FlashCards!BY361","v":"γνωστός"}," ",{"$f":"FlashCards!CD361","v":"known"}]
[{"$f":"FlashCards!BY362","v":"ὁ γονεύς"}," ",{"$f":"FlashCards!CD362","v":"parent"}]
[{"$f":"FlashCards!BY363","v":"τό γόνυ"}," ",{"$f":"FlashCards!CD363","v":"knee"}]
[{"$f":"FlashCards!BY364","v":"τό γράμμα"}," ",{"$f":"FlashCards!CD364","v":"letter, document"}]
[{"$f":"FlashCards!BY365","v":"ὁ γραμματεύς"}," ",{"$f":"FlashCards!CD365","v":"scribe"}]
[{"$f":"FlashCards!BY366","v":"ἡ γραφή"}," ",{"$f":"FlashCards!CD366","v":"writing, scripture"}]
[{"$f":"FlashCards!BY367","v":"γράφω"}," ",{"$f":"FlashCards!CD367","v":"I write"}]
[{"$f":"FlashCards!BY368","v":"γρηγορέω"}," ",{"$f":"FlashCards!CD368","v":"I am alert, I am watchful"}]
[{"$f":"FlashCards!BY369","v":"γυμνός"}," ",{"$f":"FlashCards!CD369","v":"naked"}]
[{"$f":"FlashCards!BY370","v":"ἡ γυνή"}," ",{"$f":"FlashCards!CD370","v":"woman, wife"}]
[{"$f":"FlashCards!BY371","v":"ὁ Δαυίδ"}," ",{"$f":"FlashCards!CD371","v":"David"}]
[{"$f":"FlashCards!BY372","v":"δαιμονίζομαι"}," ",{"$f":"FlashCards!CD372","v":"I am demon possessed"}]
[{"$f":"FlashCards!BY373","v":"τό δαιμόνιον"}," ",{"$f":"FlashCards!CD373","v":"demon"}]
[{"$f":"FlashCards!BY374","v":"τό δάκρυον"}," ",{"$f":"FlashCards!CD374","v":"tear, plural: weeping"}]
[{"$f":"FlashCards!BY375","v":"ὁ Δαμασκός"}," ",{"$f":"FlashCards!CD375","v":"Damascus"}]
[{"$f":"FlashCards!BY376","v":"δέ or δ"}," ",{"$f":"FlashCards!CD376","v":"but, and (particle)"}]
[{"$f":"FlashCards!BY377","v":"ὁ δέ"}," ",{"$f":"FlashCards!CD377","v":"but he"}]
[{"$f":"FlashCards!BY378","v":"ἡ δέησις"}," ",{"$f":"FlashCards!CD378","v":"prayer, entreaty"}]
[{"$f":"FlashCards!BY379","v":"δεῖ"}," ",{"$f":"FlashCards!CD379","v":"it is necessary"}]
[{"$f":"FlashCards!BY380","v":"δείκνυμι"}," ",{"$f":"FlashCards!CD380","v":"I show, I explain"}]
[{"$f":"FlashCards!BY381","v":"τό δεῖπνον"}," ",{"$f":"FlashCards!CD381","v":"dinner, an important meal"}]
[{"$f":"FlashCards!BY382","v":"δέκα"}," ",{"$f":"FlashCards!CD382","v":"ten"}]
[{"$f":"FlashCards!BY383","v":"τό δένδρον"}," ",{"$f":"FlashCards!CD383","v":"tree"}]
[{"$f":"FlashCards!BY384","v":"δεξιός"}," ",{"$f":"FlashCards!CD384","v":"right, right hand, right side"}]
[{"$f":"FlashCards!BY385","v":"δέομαι"}," ",{"$f":"FlashCards!CD385","v":"I ask, I request"}]
[{"$f":"FlashCards!BY386","v":"δέρω"}," ",{"$f":"FlashCards!CD386","v":"I beat, I whip"}]
[{"$f":"FlashCards!BY387","v":"ὁ δέσμιος"}," ",{"$f":"FlashCards!CD387","v":"prisoner"}]
[{"$f":"FlashCards!BY388","v":"ὁ δεσμός"}," ",{"$f":"FlashCards!CD388","v":"bond, fetter"}]
[{"$f":"FlashCards!BY389","v":"ὁ δεσπότης"}," ",{"$f":"FlashCards!CD389","v":"master, lord"}]
[{"$f":"FlashCards!BY390","v":"δεῦτε"}," ",{"$f":"FlashCards!CD390","v":"(ya’ll) come (here) [should be followed by an imperative verb]"}]
[{"$f":"FlashCards!BY391","v":"δεύτερος"}," ",{"$f":"FlashCards!CD391","v":"second"}]
[{"$f":"FlashCards!BY392","v":"δέχομαι"}," ",{"$f":"FlashCards!CD392","v":"I take, I receive"}]
[{"$f":"FlashCards!BY393","v":"δέω"}," ",{"$f":"FlashCards!CD393","v":"I bind"}]
[{"$f":"FlashCards!BY394","v":"δή"}," ",{"$f":"FlashCards!CD394","v":"now, therefore, indeed (particle)"}]
[{"$f":"FlashCards!BY395","v":"τό δηνάριον "}," ",{"$f":"FlashCards!CD395","v":"denarius"}]
[{"$f":"FlashCards!BY396","v":"διά (διʼ) [accusative]"}," ",{"$f":"FlashCards!CD396","v":"on account of (rare) [accusative]"}]
[{"$f":"FlashCards!BY397","v":"διά (διʼ) [genitive]"}," ",{"$f":"FlashCards!CD397","v":"through [genitive]"}]
[{"$f":"FlashCards!BY398","v":"διὰ παντός"}," ",{"$f":"FlashCards!CD398","v":"always"}]
[{"$f":"FlashCards!BY399","v":"διὰ τί"}," ",{"$f":"FlashCards!CD399","v":"Why?"}]
[{"$f":"FlashCards!BY400","v":"διὰ τοῦτο"}," ",{"$f":"FlashCards!CD400","v":"for that reason"}]
[{"$f":"FlashCards!BY401","v":"ὁ διάβολος"}," ",{"$f":"FlashCards!CD401","v":"devil"}]
[{"$f":"FlashCards!BY402","v":"διάβολος"}," ",{"$f":"FlashCards!CD402","v":"slanderous"}]
[{"$f":"FlashCards!BY403","v":"ἡ διαθήκη"}," ",{"$f":"FlashCards!CD403","v":"covenant"}]
[{"$f":"FlashCards!BY404","v":"ἡ διαίρεσις"}," ",{"$f":"FlashCards!CD404","v":"division, variety"}]
[{"$f":"FlashCards!BY405","v":"διακονέω"}," ",{"$f":"FlashCards!CD405","v":"I serve"}]
[{"$f":"FlashCards!BY406","v":"ἡ διακονία"}," ",{"$f":"FlashCards!CD406","v":"service"}]
[{"$f":"FlashCards!BY407","v":"ὁ/ἡ δίακονος"}," ",{"$f":"FlashCards!CD407","v":"assistant, servant, deacon"}]
[{"$f":"FlashCards!BY408","v":"διακρίνω"}," ",{"$f":"FlashCards!CD408","v":"I judge, I differentiate; middle: I doubt, I waver"}]
[{"$f":"FlashCards!BY409","v":"διαλέγομαι"}," ",{"$f":"FlashCards!CD409","v":"I discuss, I argue"}]
[{"$f":"FlashCards!BY410","v":"διαλογίζομαι"}," ",{"$f":"FlashCards!CD410","v":"I consider, I argue"}]
[{"$f":"FlashCards!BY411","v":"ὁ διαλογισμός"}," ",{"$f":"FlashCards!CD411","v":"reasoning, dispute"}]
[{"$f":"FlashCards!BY412","v":"διαμαρτύρομαι"}," ",{"$f":"FlashCards!CD412","v":"I testify, I solemnly urge"}]
[{"$f":"FlashCards!BY413","v":"διαμερίζω"}," ",{"$f":"FlashCards!CD413","v":"I divide, I distribute"}]
[{"$f":"FlashCards!BY414","v":"ἡ διάνοια"}," ",{"$f":"FlashCards!CD414","v":"(the) mind, understanding, intellect"}]
[{"$f":"FlashCards!BY415","v":"διατάσσω"}," ",{"$f":"FlashCards!CD415","v":"I order, I command"}]
[{"$f":"FlashCards!BY416","v":"διαφέρω"}," ",{"$f":"FlashCards!CD416","v":"I differ; I am more worthy"}]
[{"$f":"FlashCards!BY417","v":"ἡ διαφορά"}," ",{"$f":"FlashCards!CD417","v":"difference"}]
[{"$f":"FlashCards!BY418","v":"διάφορος"}," ",{"$f":"FlashCards!CD418","v":"different, superior, excellent"}]
[{"$f":"FlashCards!BY419","v":"ἡ διδασκαλία"}," ",{"$f":"FlashCards!CD419","v":"teaching"}]
[{"$f":"FlashCards!BY420","v":"ὁ διδάσκαλος"}," ",{"$f":"FlashCards!CD420","v":"teacher"}]
[{"$f":"FlashCards!BY421","v":"διδάσκω"}," ",{"$f":"FlashCards!CD421","v":"I teach "}]
[{"$f":"FlashCards!BY422","v":"ἡ διδαχή"}," ",{"$f":"FlashCards!CD422","v":"teaching"}]
[{"$f":"FlashCards!BY423","v":"δίδωμι"}," ",{"$f":"FlashCards!CD423","v":"I give, I entrust"}]
[{"$f":"FlashCards!BY424","v":"διέρχομαι"}," ",{"$f":"FlashCards!CD424","v":"I go through"}]
[{"$f":"FlashCards!BY425","v":"δίκαιος"}," ",{"$f":"FlashCards!CD425","v":"right, just, righteous"}]
[{"$f":"FlashCards!BY426","v":"ἡ δικαιοσύνη"}," ",{"$f":"FlashCards!CD426","v":"righteousness"}]
[{"$f":"FlashCards!BY427","v":"δικαιόω"}," ",{"$f":"FlashCards!CD427","v":"I justify, I vindicate"}]
[{"$f":"FlashCards!BY428","v":"τό δικαίωμα"}," ",{"$f":"FlashCards!CD428","v":"requirement, righteous deed, regulation"}]
[{"$f":"FlashCards!BY429","v":"τό δίκτυον"}," ",{"$f":"FlashCards!CD429","v":"fishing net"}]
[{"$f":"FlashCards!BY430","v":"διό"}," ",{"$f":"FlashCards!CD430","v":"therefore, for this reason"}]
[{"$f":"FlashCards!BY431","v":"διοδεύω"}," ",{"$f":"FlashCards!CD431","v":"I pass through"}]
[{"$f":"FlashCards!BY432","v":"διότι"}," ",{"$f":"FlashCards!CD432","v":"for, because"}]
[{"$f":"FlashCards!BY433","v":"διψάω"}," ",{"$f":"FlashCards!CD433","v":"I thirst, I am thirsty"}]
[{"$f":"FlashCards!BY434","v":"ὁ διωγμός"}," ",{"$f":"FlashCards!CD434","v":"persecution"}]
[{"$f":"FlashCards!BY435","v":"διώκω"}," ",{"$f":"FlashCards!CD435","v":"I pursue, I persecute"}]
[{"$f":"FlashCards!BY436","v":"τό δόγμα"}," ",{"$f":"FlashCards!CD436","v":"ordinance, decision, command"}]
[{"$f":"FlashCards!BY437","v":"δοκέω"}," ",{"$f":"FlashCards!CD437","v":"I think, I seem"}]
[{"$f":"FlashCards!BY438","v":"δοκιμάζω"}," ",{"$f":"FlashCards!CD438","v":"I test, I approve"}]
[{"$f":"FlashCards!BY439","v":"ὁ δόλος"}," ",{"$f":"FlashCards!CD439","v":"deceit, treachery"}]
[{"$f":"FlashCards!BY440","v":"ἡ δόξα"}," ",{"$f":"FlashCards!CD440","v":"glory, majesty, fame"}]
[{"$f":"FlashCards!BY441","v":"δοξάζω"}," ",{"$f":"FlashCards!CD441","v":"I praise, I honor, I glorify"}]
[{"$f":"FlashCards!BY442","v":"δουλεύω"}," ",{"$f":"FlashCards!CD442","v":"I serve, I obey, I (am a) slave"}]
[{"$f":"FlashCards!BY443","v":"ὁ δοῦλος"}," ",{"$f":"FlashCards!CD443","v":"slave, servant"}]
[{"$f":"FlashCards!BY444","v":"ὁ δράκων"}," ",{"$f":"FlashCards!CD444","v":"dragon, serpent"}]
[{"$f":"FlashCards!BY445","v":"δύναμαι"}," ",{"$f":"FlashCards!CD445","v":"I am able, I can, I am powerful"}]
[{"$f":"FlashCards!BY446","v":"ἡ δύναμις"}," ",{"$f":"FlashCards!CD446","v":"power, miracle"}]
[{"$f":"FlashCards!BY447","v":"δυνατός"}," ",{"$f":"FlashCards!CD447","v":"able, capable, possible"}]
[{"$f":"FlashCards!BY448","v":"δύο"}," ",{"$f":"FlashCards!CD448","v":"two"}]
[{"$f":"FlashCards!BY449","v":"δώδεκα"}," ",{"$f":"FlashCards!CD449","v":"twelve"}]
[{"$f":"FlashCards!BY450","v":"ἡ δωρεά"}," ",{"$f":"FlashCards!CD450","v":"gift"}]
[{"$f":"FlashCards!BY451","v":"τό δῶρον"}," ",{"$f":"FlashCards!CD451","v":"gift"}]
[{"$f":"FlashCards!BY452","v":"ἐάν"}," ",{"$f":"FlashCards!CD452","v":"if, when"}]
[{"$f":"FlashCards!BY453","v":"ἑαυτοῦ"}," ",{"$f":"FlashCards!CD453","v":"of himself/itself (lexical form) (genitive, singular, masculine or neuter)"}]
[{"$f":"FlashCards!BY454","v":"ἑαυτῆς"}," ",{"$f":"FlashCards!CD454","v":"of herself (genitive, singular, feminine)"}]
[{"$f":"FlashCards!BY455","v":"ἑαυτῷ"}," ",{"$f":"FlashCards!CD455","v":"to himself (dative, singular, masculine or neuter)"}]
[{"$f":"FlashCards!BY456","v":"ἑαυτῇ"}," ",{"$f":"FlashCards!CD456","v":"to herself (dative, singular, feminine)"}]
[{"$f":"FlashCards!BY457","v":"ἑαυτήν"}," ",{"$f":"FlashCards!CD457","v":"herself (accusative, singular, feminine)"}]
[{"$f":"FlashCards!BY458","v":"ἑαυτόν"}," ",{"$f":"FlashCards!CD458","v":"himself (accusative, singular, masculine)"}]
[{"$f":"FlashCards!BY459","v":"ἑαυτό"}," ",{"$f":"FlashCards!CD459","v":"itself (accusative, singular, neuter)"}]
[{"$f":"FlashCards!BY460","v":"ἑαυτῶν"}," ",{"$f":"FlashCards!CD460","v":"of themselves (genitive, plural, masculine, feminine, or neuter)"}]
[{"$f":"FlashCards!BY461","v":"ἑαυτοῖς"}," ",{"$f":"FlashCards!CD461","v":"to themselves (dative, plural, masculine or neuter) (alternative versions: ἑαυτοῖσῐ, ἑαυτοῖσῐν)"}]
[{"$f":"FlashCards!BY462","v":"ἑαυταῖς"}," ",{"$f":"FlashCards!CD462","v":"to themselves (dative, plural, feminine)"}]
[{"$f":"FlashCards!BY463","v":"ἑαυτούς "}," ",{"$f":"FlashCards!CD463","v":"themselves (accusative, plural, masculine)"}]
[{"$f":"FlashCards!BY464","v":"ἑαυτᾱ́ς"}," ",{"$f":"FlashCards!CD464","v":"themselves (accusative, plural, feminine)"}]
[{"$f":"FlashCards!BY465","v":"ἑαυτᾰ́ "}," ",{"$f":"FlashCards!CD465","v":"themselves (accusative, plural, neuter)"}]
[{"$f":"FlashCards!BY466","v":"ἐάω"}," ",{"$f":"FlashCards!CD466","v":"I permit, I allow, I let go"}]
[{"$f":"FlashCards!BY467","v":"ἐγγίζω"}," ",{"$f":"FlashCards!CD467","v":"I come near, I approach"}]
[{"$f":"FlashCards!BY468","v":"ἐγγύς"}," ",{"$f":"FlashCards!CD468","v":"near"}]
[{"$f":"FlashCards!BY469","v":"ἐγείρω"}," ",{"$f":"FlashCards!CD469","v":"I raise up, I wake"}]
[{"$f":"FlashCards!BY470","v":"ἐγκαταλείπω"}," ",{"$f":"FlashCards!CD470","v":"I forsake, I abandon"}]
[{"$f":"FlashCards!BY471","v":"ἐγώ"}," ",{"$f":"FlashCards!CD471","v":"I (nominative, singular)"}]
[{"$f":"FlashCards!BY472","v":"μοι"}," ",{"$f":"FlashCards!CD472","v":"to me (dative singular)"}]
[{"$f":"FlashCards!BY473","v":"με"}," ",{"$f":"FlashCards!CD473","v":"me (accusative singular)"}]
[{"$f":"FlashCards!BY474","v":"ἐμέ"}," ",{"$f":"FlashCards!CD474","v":"me (emphatic accusative singular)"}]
[{"$f":"FlashCards!BY475","v":"ἡμεῖς"}," ",{"$f":"FlashCards!CD475","v":"we (nominative, plural)"}]
[{"$f":"FlashCards!BY476","v":"τό ἔδεσμα"}," ",{"$f":"FlashCards!CD476","v":"food"}]
[{"$f":"FlashCards!BY477","v":"τό ἔθνος"}," ",{"$f":"FlashCards!CD477","v":"nation, (the) gentiles, people group"}]
[{"$f":"FlashCards!BY478","v":"τό ἔθος"}," ",{"$f":"FlashCards!CD478","v":"custom, habit"}]
[{"$f":"FlashCards!BY479","v":"εἰ"}," ",{"$f":"FlashCards!CD479","v":"if (note absence of circumflex)"}]
[{"$f":"FlashCards!BY480","v":"εἰ μή"}," ",{"$f":"FlashCards!CD480","v":"except, if not"}]
[{"$f":"FlashCards!BY481","v":"εί μὴ"}," ",{"$f":"FlashCards!CD481","v":"only"}]
[{"$f":"FlashCards!BY482","v":"εἶ"}," ",{"$f":"FlashCards!CD482","v":"you (singular) are (2ⁿᵈ person singular of εἰμί; non-lexical)"}]
[{"$f":"FlashCards!BY483","v":"οἶδα"}," ",{"$f":"FlashCards!CD483","v":"I know, I understand"}]
[{"$f":"FlashCards!BY484","v":"τό εἴδωλον"}," ",{"$f":"FlashCards!CD484","v":"image, idol"}]
[{"$f":"FlashCards!BY485","v":"εἴκοσι"}," ",{"$f":"FlashCards!CD485","v":"twenty"}]
[{"$f":"FlashCards!BY486","v":"ἡ εἰκών"}," ",{"$f":"FlashCards!CD486","v":"image, likeness"}]
[{"$f":"FlashCards!BY487","v":"εἰμί"}," ",{"$f":"FlashCards!CD487","v":"I am, I exist, I live, I am present"}]
[{"$f":"FlashCards!BY488","v":"ἡ εἰρήνη"}," ",{"$f":"FlashCards!CD488","v":"peace"}]
[{"$f":"FlashCards!BY489","v":"εἰς [accusative]"}," ",{"$f":"FlashCards!CD489","v":"into, in [accusative]"}]
[{"$f":"FlashCards!BY490","v":"εἷς"}," ",{"$f":"FlashCards!CD490","v":"one (nominative, masculine) (is also an adjective)"}]
[{"$f":"FlashCards!BY491","v":"μία"}," ",{"$f":"FlashCards!CD491","v":"one (nominative, feminine) (is also an adjective)"}]
[{"$f":"FlashCards!BY492","v":"ἕν"}," ",{"$f":"FlashCards!CD492","v":"one (nominative or accusative, neuter) (is also an adjective)"}]
[{"$f":"FlashCards!BY493","v":"ἑνός"}," ",{"$f":"FlashCards!CD493","v":"of one (genitive, masculine or neuter) (is also an adjective)"}]
[{"$f":"FlashCards!BY494","v":"μιᾶς"}," ",{"$f":"FlashCards!CD494","v":"of one (genitive, feminine) (is also an adjective)"}]
[{"$f":"FlashCards!BY495","v":"ἑνί"}," ",{"$f":"FlashCards!CD495","v":"to one (dative, masculine) (is also an adjective)"}]
[{"$f":"FlashCards!BY496","v":"μιᾷ"}," ",{"$f":"FlashCards!CD496","v":"to one (dative, feminine) (is also an adjective)"}]
[{"$f":"FlashCards!BY497","v":"ἕνα"}," ",{"$f":"FlashCards!CD497","v":"one (accusative, masculine) (is also an adjective)"}]
[{"$f":"FlashCards!BY498","v":"μίαν"}," ",{"$f":"FlashCards!CD498","v":"one (accusative, feminine) (is also an adjective)"}]
[{"$f":"FlashCards!BY499","v":"εἰσάγω"}," ",{"$f":"FlashCards!CD499","v":"I lead in, I bring in"}]
[{"$f":"FlashCards!BY500","v":"εἰσέρχομαι"}," ",{"$f":"FlashCards!CD500","v":"I enter, I come in (to), I go in (to) "}]
[{"$f":"FlashCards!BY501","v":"εἰσίν"}," ",{"$f":"FlashCards!CD501","v":"they are (3ʳᵈ person plural; non-lexical)"}]
[{"$f":"FlashCards!BY502","v":"εἰσπορεύομαι"}," ",{"$f":"FlashCards!CD502","v":"I enter, I go into"}]
[{"$f":"FlashCards!BY503","v":"εἶτα"}," ",{"$f":"FlashCards!CD503","v":"then, next"}]
[{"$f":"FlashCards!BY504","v":"εἴτε"}," ",{"$f":"FlashCards!CD504","v":"if, whether"}]
[{"$f":"FlashCards!BY505","v":"ἐκ (ἐξ) [genitive]"}," ",{"$f":"FlashCards!CD505","v":"from, out of [genitive]"}]
[{"$f":"FlashCards!BY506","v":"ἔκαστος"}," ",{"$f":"FlashCards!CD506","v":"each, every"}]
[{"$f":"FlashCards!BY507","v":"ἑκατόν"}," ",{"$f":"FlashCards!CD507","v":"one hundred"}]
[{"$f":"FlashCards!BY508","v":"ὁ ἑκατοντάρχης"}," ",{"$f":"FlashCards!CD508","v":"centurion"}]
[{"$f":"FlashCards!BY509","v":"ἐκβάλλω"}," ",{"$f":"FlashCards!CD509","v":"I cast out, I send out, I throw out"}]
[{"$f":"FlashCards!BY510","v":"ἐκεῖ"}," ",{"$f":"FlashCards!CD510","v":"there, in that place"}]
[{"$f":"FlashCards!BY511","v":"ἐκεῖθεν"}," ",{"$f":"FlashCards!CD511","v":"from there"}]
[{"$f":"FlashCards!BY512","v":"ἐκεῖνος"}," ",{"$f":"FlashCards!CD512","v":"that one/that man/that thing (lexical: nominative, singular, masculine)"}]
[{"$f":"FlashCards!BY513","v":"ἐκεῖνος"}," ",{"$f":"FlashCards!CD513","v":"that (nominative, singular, masculine)"}]
[{"$f":"FlashCards!BY514","v":"ἐκείνη"}," ",{"$f":"FlashCards!CD514","v":"that (nominative, singular, feminine)"}]
[{"$f":"FlashCards!BY515","v":"ἐκεῖνο"}," ",{"$f":"FlashCards!CD515","v":"that (nominative or accusative, singular, neuter)"}]
[{"$f":"FlashCards!BY516","v":"ἐκείνου"}," ",{"$f":"FlashCards!CD516","v":"of that (genitive, singular, masculine or neuter)"}]
[{"$f":"FlashCards!BY517","v":"ἐκείνης"}," ",{"$f":"FlashCards!CD517","v":"of that (genitive, singular, feminine)"}]
[{"$f":"FlashCards!BY518","v":"ἐκείνηῳ"}," ",{"$f":"FlashCards!CD518","v":"to that (dative, singular, masculine or neuter)"}]
[{"$f":"FlashCards!BY519","v":"ἐκείνῃ"}," ",{"$f":"FlashCards!CD519","v":"to that (dative, singular, feminine)"}]
[{"$f":"FlashCards!BY520","v":"ἐκεῖνον"}," ",{"$f":"FlashCards!CD520","v":"that (accusative, singular, masculine)"}]
[{"$f":"FlashCards!BY521","v":"ἐκείνην"}," ",{"$f":"FlashCards!CD521","v":"that (accusative, singular, feminine)"}]
[{"$f":"FlashCards!BY522","v":"ἐκεῖνοι"}," ",{"$f":"FlashCards!CD522","v":"those (nominative, plural, masculine)"}]
[{"$f":"FlashCards!BY523","v":"ἐκεῖναι"}," ",{"$f":"FlashCards!CD523","v":"those (nominative, plural, feminine)"}]
[{"$f":"FlashCards!BY524","v":"ἐκεῖνα"}," ",{"$f":"FlashCards!CD524","v":"those (nominative or accusative, plural, neuter)"}]
[{"$f":"FlashCards!BY525","v":"ἐκείνων"}," ",{"$f":"FlashCards!CD525","v":"of those (genitive, plural, masculine, feminine, neuter)"}]
[{"$f":"FlashCards!BY526","v":"ἐκείνοις"}," ",{"$f":"FlashCards!CD526","v":"to those (dative, plural, masculine or neuter)"}]
[{"$f":"FlashCards!BY527","v":"ἐκείναις"}," ",{"$f":"FlashCards!CD527","v":"to those (dative, plural, feminine)"}]
[{"$f":"FlashCards!BY528","v":"ἐκείνους"}," ",{"$f":"FlashCards!CD528","v":"those (accusative, plural, masculine)"}]
[{"$f":"FlashCards!BY529","v":"ἐκείνας"}," ",{"$f":"FlashCards!CD529","v":"those (accusative, plural, feminine)"}]
[{"$f":"FlashCards!BY530","v":"ἡ ἐκκλησία"}," ",{"$f":"FlashCards!CD530","v":"assembly, congregation, church"}]
[{"$f":"FlashCards!BY531","v":"ἐκκόπτω"}," ",{"$f":"FlashCards!CD531","v":"I cut off, I cut down"}]
[{"$f":"FlashCards!BY532","v":"ἐκλέγομαι"}," ",{"$f":"FlashCards!CD532","v":"I choose, I select"}]
[{"$f":"FlashCards!BY533","v":"ἐκλεκτός"}," ",{"$f":"FlashCards!CD533","v":"chosen, elected"}]
[{"$f":"FlashCards!BY534","v":"ἐκπίπτω"}," ",{"$f":"FlashCards!CD534","v":"I fall, I run aground"}]
[{"$f":"FlashCards!BY535","v":"ἐκπλήσσω"}," ",{"$f":"FlashCards!CD535","v":"I am amazed"}]
[{"$f":"FlashCards!BY536","v":"ἐκπορεύομαι"}," ",{"$f":"FlashCards!CD536","v":"I go out, I come out"}]
[{"$f":"FlashCards!BY537","v":"ἐκτείνω"}," ",{"$f":"FlashCards!CD537","v":"I stretch forth, I reach out"}]
[{"$f":"FlashCards!BY538","v":"ἕκτος"}," ",{"$f":"FlashCards!CD538","v":"sixth"}]
[{"$f":"FlashCards!BY539","v":"ἐκχύννω"}," ",{"$f":"FlashCards!CD539","v":"I pour out"}]
[{"$f":"FlashCards!BY540","v":"ἐκχέω"}," ",{"$f":"FlashCards!CD540","v":"I pour out"}]
[{"$f":"FlashCards!BY541","v":"ἡ ἐλαία"}," ",{"$f":"FlashCards!CD541","v":"olive tree"}]
[{"$f":"FlashCards!BY542","v":"τό ἔλαιον"}," ",{"$f":"FlashCards!CD542","v":"olive oil"}]
[{"$f":"FlashCards!BY543","v":"ἐλαύνω"}," ",{"$f":"FlashCards!CD543","v":"I push, I row, I drive hard"}]
[{"$f":"FlashCards!BY544","v":"ἐλάχιστος"}," ",{"$f":"FlashCards!CD544","v":"least, smallest"}]
[{"$f":"FlashCards!BY545","v":"ἐλέγχω"}," ",{"$f":"FlashCards!CD545","v":"I convict, I reprove, I expose"}]
[{"$f":"FlashCards!BY546","v":"ἐλεέω"}," ",{"$f":"FlashCards!CD546","v":"I have mercy"}]
[{"$f":"FlashCards!BY547","v":"ἡ ἐλεημοσύνη"}," ",{"$f":"FlashCards!CD547","v":"pity, mercy, charity, alms"}]
[{"$f":"FlashCards!BY548","v":"τό ἔλεος"}," ",{"$f":"FlashCards!CD548","v":"mercy, compassion"}]
[{"$f":"FlashCards!BY549","v":"ἡ ἐλευθερία"}," ",{"$f":"FlashCards!CD549","v":"freedom, liberty"}]
[{"$f":"FlashCards!BY550","v":"ἐλεύθερος"}," ",{"$f":"FlashCards!CD550","v":"free"}]
[{"$f":"FlashCards!BY551","v":"ὁ Ἕλλην"}," ",{"$f":"FlashCards!CD551","v":"Greek"}]
[{"$f":"FlashCards!BY552","v":"ἐλπίζω"}," ",{"$f":"FlashCards!CD552","v":"I hope"}]
[{"$f":"FlashCards!BY553","v":"ἡ ἐλπίς"}," ",{"$f":"FlashCards!CD553","v":"hope, expectation"}]
[{"$f":"FlashCards!BY554","v":"ἐμαυτοῦ"}," ",{"$f":"FlashCards!CD554","v":"of myself"}]
[{"$f":"FlashCards!BY555","v":"ἐμβαίνω"}," ",{"$f":"FlashCards!CD555","v":"I embark, I board"}]
[{"$f":"FlashCards!BY556","v":"ἐμβλέπω"}," ",{"$f":"FlashCards!CD556","v":"I look at, I gaze upon"}]
[{"$f":"FlashCards!BY557","v":"ἐμοί"}," ",{"$f":"FlashCards!CD557","v":"to me (emphatic dative singular)"}]
[{"$f":"FlashCards!BY558","v":"ἐμός"}," ",{"$f":"FlashCards!CD558","v":"my, mine (masculine)"}]
[{"$f":"FlashCards!BY559","v":"ἐμή"}," ",{"$f":"FlashCards!CD559","v":"my, mine (feminine)"}]
[{"$f":"FlashCards!BY560","v":"ἐμόν"}," ",{"$f":"FlashCards!CD560","v":"my, mine (neuter)"}]
[{"$f":"FlashCards!BY561","v":"ἐμοῦ"}," ",{"$f":"FlashCards!CD561","v":"my/of me (emphatic genitive singular)"}]
[{"$f":"FlashCards!BY562","v":"ἐμοῦ"}," ",{"$f":"FlashCards!CD562","v":"my/of me (emphatic genitive singular)"}]
[{"$f":"FlashCards!BY563","v":"ἐμπαίζω"}," ",{"$f":"FlashCards!CD563","v":"I mock, I ridicule"}]
[{"$f":"FlashCards!BY564","v":"ἐμπίπλημι"}," ",{"$f":"FlashCards!CD564","v":"I satisfy, I fill (up)"}]
[{"$f":"FlashCards!BY565","v":"ἔμπροσθεν"}," ",{"$f":"FlashCards!CD565","v":"in front of, before [genitive]"}]
[{"$f":"FlashCards!BY566","v":"ἐμφανίζω"}," ",{"$f":"FlashCards!CD566","v":"I make known, I make visible, I bring charges"}]
[{"$f":"FlashCards!BY567","v":"ἐν [dative]"}," ",{"$f":"FlashCards!CD567","v":"in, inside, on, among [dative]"}]
[{"$f":"FlashCards!BY568","v":"ἐναντίον"}," ",{"$f":"FlashCards!CD568","v":"before, in the sight of"}]
[{"$f":"FlashCards!BY569","v":"ἐναντίος"}," ",{"$f":"FlashCards!CD569","v":"opposite, contrary, against"}]
[{"$f":"FlashCards!BY570","v":"ἐνδείκνυμι"}," ",{"$f":"FlashCards!CD570","v":"I show, I demonstrate"}]
[{"$f":"FlashCards!BY571","v":"ἕνδεκα"}," ",{"$f":"FlashCards!CD571","v":"eleven"}]
[{"$f":"FlashCards!BY572","v":"ἐνδύω"}," ",{"$f":"FlashCards!CD572","v":"I put on, I wear, I clothe"}]
[{"$f":"FlashCards!BY573","v":"ἕνεκεν [genitive]"}," ",{"$f":"FlashCards!CD573","v":"on account of [genitive]"}]
[{"$f":"FlashCards!BY574","v":"ἕνεκα/ἕνεκεν"}," ",{"$f":"FlashCards!CD574","v":"because of, on account of [genitive]"}]
[{"$f":"FlashCards!BY575","v":"ἐνεργέω"}," ",{"$f":"FlashCards!CD575","v":"I work, I effect"}]
[{"$f":"FlashCards!BY576","v":"τό ἐνέργημα"}," ",{"$f":"FlashCards!CD576","v":"activity, working"}]
[{"$f":"FlashCards!BY577","v":"ἑνί"}," ",{"$f":"FlashCards!CD577","v":"to one (dative, masculine or neuter)"}]
[{"$f":"FlashCards!BY578","v":"ὁ ἐνιαυτός"}," ",{"$f":"FlashCards!CD578","v":"year"}]
[{"$f":"FlashCards!BY579","v":"ἔνατος"}," ",{"$f":"FlashCards!CD579","v":"ninth"}]
[{"$f":"FlashCards!BY580","v":"ἔνοχος"}," ",{"$f":"FlashCards!CD580","v":"liable, guilty"}]
[{"$f":"FlashCards!BY581","v":"ἐντέλλω"}," ",{"$f":"FlashCards!CD581","v":"I command"}]
[{"$f":"FlashCards!BY582","v":"ἐντεῦθεν"}," ",{"$f":"FlashCards!CD582","v":"from here"}]
[{"$f":"FlashCards!BY583","v":"ἡ ἐντολή"}," ",{"$f":"FlashCards!CD583","v":"commandment"}]
[{"$f":"FlashCards!BY584","v":"ἐνώπιον [genitive]"}," ",{"$f":"FlashCards!CD584","v":"before, in the presence of [genitive]"}]
[{"$f":"FlashCards!BY585","v":"ἕξ"}," ",{"$f":"FlashCards!CD585","v":"six"}]
[{"$f":"FlashCards!BY586","v":"ἐξάγω"}," ",{"$f":"FlashCards!CD586","v":"I lead out"}]
[{"$f":"FlashCards!BY587","v":"ἐξαποςτέλλω"}," ",{"$f":"FlashCards!CD587","v":"I send out"}]
[{"$f":"FlashCards!BY588","v":"ἐξέρχομαι"}," ",{"$f":"FlashCards!CD588","v":"I go out"}]
[{"$f":"FlashCards!BY589","v":"ἔξεστιν"}," ",{"$f":"FlashCards!CD589","v":"it is lawful, it is right (3ʳᵈ person singular, but still lexical)"}]
[{"$f":"FlashCards!BY590","v":"ἑξήκοντα"}," ",{"$f":"FlashCards!CD590","v":"sixty"}]
[{"$f":"FlashCards!BY591","v":"ἐξίστημι"}," ",{"$f":"FlashCards!CD591","v":"I am amazed, or I am amazing"}]
[{"$f":"FlashCards!BY592","v":"ἐξομολογέω"}," ",{"$f":"FlashCards!CD592","v":"I confess, I profess, I praise"}]
[{"$f":"FlashCards!BY593","v":"ἐξουθενέω"}," ",{"$f":"FlashCards!CD593","v":"I despise, I disdain"}]
[{"$f":"FlashCards!BY594","v":"ἡ ἐξουσία"}," ",{"$f":"FlashCards!CD594","v":"authority, power"}]
[{"$f":"FlashCards!BY595","v":"ἔξω [genitive preposition]"}," ",{"$f":"FlashCards!CD595","v":"outside [genitive]"}]
[{"$f":"FlashCards!BY596","v":"ἔξω (adverb)"}," ",{"$f":"FlashCards!CD596","v":"without, outside"}]
[{"$f":"FlashCards!BY597","v":"ἔξωθεν"}," ",{"$f":"FlashCards!CD597","v":"outside, from outside"}]
[{"$f":"FlashCards!BY598","v":"ἡ ἐορτή"}," ",{"$f":"FlashCards!CD598","v":"festival"}]
[{"$f":"FlashCards!BY599","v":"ἡ ἐπαγγελία"}," ",{"$f":"FlashCards!CD599","v":"promise"}]
[{"$f":"FlashCards!BY600","v":"ἐπαγγέλλομαι"}," ",{"$f":"FlashCards!CD600","v":"I promise"}]
[{"$f":"FlashCards!BY601","v":"ὁ ἔπαινος"}," ",{"$f":"FlashCards!CD601","v":"praise"}]
[{"$f":"FlashCards!BY602","v":"ἐπαίρω"}," ",{"$f":"FlashCards!CD602","v":"I lift up"}]
[{"$f":"FlashCards!BY603","v":"ἐπαισχύνομαι"}," ",{"$f":"FlashCards!CD603","v":"I am ashamed"}]
[{"$f":"FlashCards!BY604","v":"ἐπάνω"}," ",{"$f":"FlashCards!CD604","v":"over, on, upon [genitive]"}]
[{"$f":"FlashCards!BY605","v":"ἐπάνω"}," ",{"$f":"FlashCards!CD605","v":"above"}]
[{"$f":"FlashCards!BY606","v":"ἐπαύριον"}," ",{"$f":"FlashCards!CD606","v":"on the next day"}]
[{"$f":"FlashCards!BY607","v":"ἐπεί"}," ",{"$f":"FlashCards!CD607","v":"because, since"}]
[{"$f":"FlashCards!BY608","v":"ἐπειδή"}," ",{"$f":"FlashCards!CD608","v":"because, since"}]
[{"$f":"FlashCards!BY609","v":"ἔπειτα"}," ",{"$f":"FlashCards!CD609","v":"then"}]
[{"$f":"FlashCards!BY610","v":"ἐπέρχομαι"}," ",{"$f":"FlashCards!CD610","v":"I arrive, I come upon"}]
[{"$f":"FlashCards!BY611","v":"ἐπερωτάω"}," ",{"$f":"FlashCards!CD611","v":"I ask for, I ask about"}]
[{"$f":"FlashCards!BY612","v":"ἐπί [genitive]"}," ",{"$f":"FlashCards!CD612","v":"on, over, when [genitive]"}]
[{"$f":"FlashCards!BY613","v":"ἐπί [dative]"}," ",{"$f":"FlashCards!CD613","v":"on the basis of, at [dative]"}]
[{"$f":"FlashCards!BY614","v":"ἐπί [accusative]"}," ",{"$f":"FlashCards!CD614","v":"on, to against [accusative]"}]
[{"$f":"FlashCards!BY615","v":"ἐπιβάλλω"}," ",{"$f":"FlashCards!CD615","v":"I lay (hands) upon, I put on, I place on, I fall on"}]
[{"$f":"FlashCards!BY616","v":"τό ἐπίβλημα"}," ",{"$f":"FlashCards!CD616","v":"patch, piece"}]
[{"$f":"FlashCards!BY617","v":"ἐπιγινώσκω"}," ",{"$f":"FlashCards!CD617","v":"I know, I recognize, I come to know"}]
[{"$f":"FlashCards!BY618","v":"ἡ ἐπίγνωσις"}," ",{"$f":"FlashCards!CD618","v":"knowledge"}]
[{"$f":"FlashCards!BY619","v":"ἐπιζητέω"}," ",{"$f":"FlashCards!CD619","v":"I want, I seek, I wish for"}]
[{"$f":"FlashCards!BY620","v":"ἐπιθυμέω"}," ",{"$f":"FlashCards!CD620","v":"I desire, I long for"}]
[{"$f":"FlashCards!BY621","v":"ἡ ἐπιθυμία"}," ",{"$f":"FlashCards!CD621","v":"lust, desire"}]
[{"$f":"FlashCards!BY622","v":"ἐπικαλέω"}," ",{"$f":"FlashCards!CD622","v":"I name; [middle]: I call upon, I appeal to"}]
[{"$f":"FlashCards!BY623","v":"ἐπιλαμβάνομαι"}," ",{"$f":"FlashCards!CD623","v":"I take hold of"}]
[{"$f":"FlashCards!BY624","v":"ἐπιμένω"}," ",{"$f":"FlashCards!CD624","v":"I persist, I remain"}]
[{"$f":"FlashCards!BY625","v":"ἐπιπίπτω"}," ",{"$f":"FlashCards!CD625","v":"I fall upon"}]
[{"$f":"FlashCards!BY626","v":"ἐπισκέπτομαι"}," ",{"$f":"FlashCards!CD626","v":"I visit, I look after"}]
[{"$f":"FlashCards!BY627","v":"ἐπίσταμαι"}," ",{"$f":"FlashCards!CD627","v":"I understand"}]
[{"$f":"FlashCards!BY628","v":"ἡ ἐπιστολή"}," ",{"$f":"FlashCards!CD628","v":"letter, epistle"}]
[{"$f":"FlashCards!BY629","v":"ἐπιστρέφω"}," ",{"$f":"FlashCards!CD629","v":"I turn, I return"}]
[{"$f":"FlashCards!BY630","v":"ἐπιτάσσω"}," ",{"$f":"FlashCards!CD630","v":"I command, I order"}]
[{"$f":"FlashCards!BY631","v":"ἐπιτελέω"}," ",{"$f":"FlashCards!CD631","v":"I finish, I complete, I accomplish"}]
[{"$f":"FlashCards!BY632","v":"ἐπιτίθημι"}," ",{"$f":"FlashCards!CD632","v":"I lay upon; I impose"}]
[{"$f":"FlashCards!BY633","v":"ἐπιτιμάω"}," ",{"$f":"FlashCards!CD633","v":"I rebuke, I warn"}]
[{"$f":"FlashCards!BY634","v":"ἐπιτρέπω"}," ",{"$f":"FlashCards!CD634","v":"I permit, I allow"}]
[{"$f":"FlashCards!BY635","v":"ὁ ἐπίτροπος"}," ",{"$f":"FlashCards!CD635","v":"steward, tutor, guardian"}]
[{"$f":"FlashCards!BY636","v":"ἐπουράνιος"}," ",{"$f":"FlashCards!CD636","v":"heavenly"}]
[{"$f":"FlashCards!BY637","v":"ἑπτά"}," ",{"$f":"FlashCards!CD637","v":"seven"}]
[{"$f":"FlashCards!BY638","v":"ἐργάζομαι"}," ",{"$f":"FlashCards!CD638","v":"I work, I do"}]
[{"$f":"FlashCards!BY639","v":"ὁ ἐργάτης"}," ",{"$f":"FlashCards!CD639","v":"worker"}]
[{"$f":"FlashCards!BY640","v":"τό ἔργον"}," ",{"$f":"FlashCards!CD640","v":"work, deed, action"}]
[{"$f":"FlashCards!BY641","v":"ὁ ἔρημος"}," ",{"$f":"FlashCards!CD641","v":"desert, wilderness"}]
[{"$f":"FlashCards!BY642","v":"ἔρημος"}," ",{"$f":"FlashCards!CD642","v":"deserted, desolate"}]
[{"$f":"FlashCards!BY643","v":"ἔρχομαι"}," ",{"$f":"FlashCards!CD643","v":"I come, (I go)"}]
[{"$f":"FlashCards!BY644","v":"ἐρωτάω"}," ",{"$f":"FlashCards!CD644","v":"I ask, I request"}]
[{"$f":"FlashCards!BY645","v":"ἡ ἐσθής"}," ",{"$f":"FlashCards!CD645","v":"clothing"}]
[{"$f":"FlashCards!BY646","v":"ἐσθίω"}," ",{"$f":"FlashCards!CD646","v":"I eat"}]
[{"$f":"FlashCards!BY647","v":"ἐσμέν"}," ",{"$f":"FlashCards!CD647","v":"we are(1ˢᵗ person plural; non-lexical)"}]
[{"$f":"FlashCards!BY648","v":"ἔσομαι"}," ",{"$f":"FlashCards!CD648","v":"I will be"}]
[{"$f":"FlashCards!BY649","v":"ἔσῃ"}," ",{"$f":"FlashCards!CD649","v":"you will be "}]
[{"$f":"FlashCards!BY650","v":"ἔσται"}," ",{"$f":"FlashCards!CD650","v":"he/she/it will be"}]
[{"$f":"FlashCards!BY651","v":"ἐσόμεθα"}," ",{"$f":"FlashCards!CD651","v":"we will be"}]
[{"$f":"FlashCards!BY652","v":"ἔσεσθε"}," ",{"$f":"FlashCards!CD652","v":"ya’ll will be"}]
[{"$f":"FlashCards!BY653","v":"ἔσονται"}," ",{"$f":"FlashCards!CD653","v":"they will be"}]
[{"$f":"FlashCards!BY654","v":"ἐστέ"}," ",{"$f":"FlashCards!CD654","v":"ya'll are (2ⁿᵈ person plural; non-lexical)"}]
[{"$f":"FlashCards!BY655","v":"ἐστίν"}," ",{"$f":"FlashCards!CD655","v":"he/she/it is  (3ʳᵈ person singular; non-lexical)"}]
[{"$f":"FlashCards!BY656","v":"ἔσχατος"}," ",{"$f":"FlashCards!CD656","v":"last, final"}]
[{"$f":"FlashCards!BY657","v":"ἔσωθεν"}," ",{"$f":"FlashCards!CD657","v":"from within, within"}]
[{"$f":"FlashCards!BY658","v":"ἕτερος"}," ",{"$f":"FlashCards!CD658","v":"different, other, another"}]
[{"$f":"FlashCards!BY659","v":"ἔτι"}," ",{"$f":"FlashCards!CD659","v":"still, yet, even"}]
[{"$f":"FlashCards!BY660","v":"ἑτοιμάζω"}," ",{"$f":"FlashCards!CD660","v":"I prepare"}]
[{"$f":"FlashCards!BY661","v":"ἕτοιμος"}," ",{"$f":"FlashCards!CD661","v":"ready"}]
[{"$f":"FlashCards!BY662","v":"τό ἔτος"}," ",{"$f":"FlashCards!CD662","v":"year"}]
[{"$f":"FlashCards!BY663","v":"εὐαγγελίζω"}," ",{"$f":"FlashCards!CD663","v":"I preach, I bring good news"}]
[{"$f":"FlashCards!BY664","v":"τό εὐαγγέλιον"}," ",{"$f":"FlashCards!CD664","v":"good news, gospel"}]
[{"$f":"FlashCards!BY665","v":"εὐδοκέω"}," ",{"$f":"FlashCards!CD665","v":"I am very pleased"}]
[{"$f":"FlashCards!BY666","v":"εὐθέως"}," ",{"$f":"FlashCards!CD666","v":"immediately"}]
[{"$f":"FlashCards!BY667","v":"εὐθύς"}," ",{"$f":"FlashCards!CD667","v":"straight"}]
[{"$f":"FlashCards!BY668","v":"εὐθύς"}," ",{"$f":"FlashCards!CD668","v":"immediately"}]
[{"$f":"FlashCards!BY669","v":"εὐλογέω"}," ",{"$f":"FlashCards!CD669","v":"I bless, I speak well of"}]
[{"$f":"FlashCards!BY670","v":"εὐλογητός"}," ",{"$f":"FlashCards!CD670","v":"blessed, praised"}]
[{"$f":"FlashCards!BY671","v":"ἡ εὐλογία"}," ",{"$f":"FlashCards!CD671","v":"blessing"}]
[{"$f":"FlashCards!BY672","v":"εὑρίσκω"}," ",{"$f":"FlashCards!CD672","v":"I find, I discover"}]
[{"$f":"FlashCards!BY673","v":"ἡ εὐσέβεια"}," ",{"$f":"FlashCards!CD673","v":"piety, godliness, reverence, respect"}]
[{"$f":"FlashCards!BY674","v":"εὐφραίνω"}," ",{"$f":"FlashCards!CD674","v":"I rejoice"}]
[{"$f":"FlashCards!BY675","v":"εὐχαριστέω"}," ",{"$f":"FlashCards!CD675","v":"I give thanks"}]
[{"$f":"FlashCards!BY676","v":"ἡ εὐχαριστία"}," ",{"$f":"FlashCards!CD676","v":"thanksgiving"}]
[{"$f":"FlashCards!BY677","v":"ἡ Ἔφεσος"}," ",{"$f":"FlashCards!CD677","v":"Ephesus"}]
[{"$f":"FlashCards!BY678","v":"ἐφίστημι"}," ",{"$f":"FlashCards!CD678","v":"I stand at, I stand near"}]
[{"$f":"FlashCards!BY679","v":"ὁ ἐχθρός"}," ",{"$f":"FlashCards!CD679","v":"enemy"}]
[{"$f":"FlashCards!BY680","v":"ἐχθρός"}," ",{"$f":"FlashCards!CD680","v":"hostile"}]
[{"$f":"FlashCards!BY681","v":"ἔχω"}," ",{"$f":"FlashCards!CD681","v":"I have, I hold, I possess"}]
[{"$f":"FlashCards!BY682","v":"ὁ ἔχων"}," ",{"$f":"FlashCards!CD682","v":"one who has"}]
[{"$f":"FlashCards!BY683","v":"ἕως (preposition)"}," ",{"$f":"FlashCards!CD683","v":"as far as"}]
[{"$f":"FlashCards!BY684","v":"ἕως (conjunction)"}," ",{"$f":"FlashCards!CD684","v":"until"}]
[{"$f":"FlashCards!BY685","v":"ὁ Ζαχαρίας"}," ",{"$f":"FlashCards!CD685","v":"Zecharaiah"}]
[{"$f":"FlashCards!BY686","v":"ζάω"}," ",{"$f":"FlashCards!CD686","v":"I live"}]
[{"$f":"FlashCards!BY687","v":"τῶν ζώντων"}," ",{"$f":"FlashCards!CD687","v":"those who are living"}]
[{"$f":"FlashCards!BY688","v":"ὁ Ζεβεδαῖος"}," ",{"$f":"FlashCards!CD688","v":"Zebedee"}]
[{"$f":"FlashCards!BY689","v":"ὁ ζῆλος"}," ",{"$f":"FlashCards!CD689","v":"zeal, jealousy"}]
[{"$f":"FlashCards!BY690","v":"ζηλόω"}," ",{"$f":"FlashCards!CD690","v":"I strive, I desire, I envy"}]
[{"$f":"FlashCards!BY691","v":"ζητέω"}," ",{"$f":"FlashCards!CD691","v":"I seek, I desire"}]
[{"$f":"FlashCards!BY692","v":"ἡ ζύμη"}," ",{"$f":"FlashCards!CD692","v":"leaven"}]
[{"$f":"FlashCards!BY693","v":"ἡ ζωή"}," ",{"$f":"FlashCards!CD693","v":"life"}]
[{"$f":"FlashCards!BY694","v":"τό ζῷον"}," ",{"$f":"FlashCards!CD694","v":"living thing"}]
[{"$f":"FlashCards!BY695","v":"ζῳοποιέω"}," ",{"$f":"FlashCards!CD695","v":"I make alive"}]
[{"$f":"FlashCards!BY696","v":"ἤ"}," ",{"$f":"FlashCards!CD696","v":"or, than"}]
[{"$f":"FlashCards!BY697","v":"ὁ ἡγεμών"}," ",{"$f":"FlashCards!CD697","v":"governor"}]
[{"$f":"FlashCards!BY698","v":"ἡγέομαι"}," ",{"$f":"FlashCards!CD698","v":"I consider, I think, I lead"}]
[{"$f":"FlashCards!BY699","v":"ἤδη"}," ",{"$f":"FlashCards!CD699","v":"now, already (particle)"}]
[{"$f":"FlashCards!BY700","v":"ἥκω"}," ",{"$f":"FlashCards!CD700","v":"I have come"}]
[{"$f":"FlashCards!BY701","v":"ὁ Ἠλίας"}," ",{"$f":"FlashCards!CD701","v":"Elijah"}]
[{"$f":"FlashCards!BY702","v":"ἡ ἡλικία"}," ",{"$f":"FlashCards!CD702","v":"stature"}]
[{"$f":"FlashCards!BY703","v":"ὁ ἥλιος"}," ",{"$f":"FlashCards!CD703","v":"sun"}]
[{"$f":"FlashCards!BY704","v":"ἡμᾶς"}," ",{"$f":"FlashCards!CD704","v":"us (accusative, plural)"}]
[{"$f":"FlashCards!BY705","v":"ἡ ἡμέρα"}," ",{"$f":"FlashCards!CD705","v":"day"}]
[{"$f":"FlashCards!BY706","v":"ἡμέτερος"}," ",{"$f":"FlashCards!CD706","v":"our"}]
[{"$f":"FlashCards!BY707","v":"ἡμῖν"}," ",{"$f":"FlashCards!CD707","v":"to us (dative, plural)"}]
[{"$f":"FlashCards!BY708","v":"ἡμῶν"}," ",{"$f":"FlashCards!CD708","v":"our/of us (genitive, plural)"}]
[{"$f":"FlashCards!BY709","v":"ἦν"}," ",{"$f":"FlashCards!CD709","v":"he/she/it was (3ʳᵈ person singular imperfect; non lexical)"}]
[{"$f":"FlashCards!BY710","v":"ὁ Ἡρῴδης"}," ",{"$f":"FlashCards!CD710","v":"Herod"}]
[{"$f":"FlashCards!BY711","v":"ὁ Ἠσαΐας"}," ",{"$f":"FlashCards!CD711","v":"Isaiah"}]
[{"$f":"FlashCards!BY712","v":"ἤτοι"}," ",{"$f":"FlashCards!CD712","v":"either,or, namely (particle)"}]
[{"$f":"FlashCards!BY713","v":"ἡ θάλασσα"}," ",{"$f":"FlashCards!CD713","v":"sea, lake"}]
[{"$f":"FlashCards!BY714","v":"ὁ θάνατος"}," ",{"$f":"FlashCards!CD714","v":"death"}]
[{"$f":"FlashCards!BY715","v":"θανατόω"}," ",{"$f":"FlashCards!CD715","v":"I put to death"}]
[{"$f":"FlashCards!BY716","v":"θάπτω"}," ",{"$f":"FlashCards!CD716","v":"I bury"}]
[{"$f":"FlashCards!BY717","v":"θαυμάζω"}," ",{"$f":"FlashCards!CD717","v":"I marvel, I wonder at"}]
[{"$f":"FlashCards!BY718","v":"θεάομαι"}," ",{"$f":"FlashCards!CD718","v":"I behold, I view"}]
[{"$f":"FlashCards!BY719","v":"τό θέλημα"}," ",{"$f":"FlashCards!CD719","v":"will, desire"}]
[{"$f":"FlashCards!BY720","v":"θέλω"}," ",{"$f":"FlashCards!CD720","v":"I wish, I desire, I enjoy"}]
[{"$f":"FlashCards!BY721","v":"ὁ θεμέλιος"}," ",{"$f":"FlashCards!CD721","v":"foundation"}]
[{"$f":"FlashCards!BY722","v":"ὁ θεός"}," ",{"$f":"FlashCards!CD722","v":"God, god"}]
[{"$f":"FlashCards!BY723","v":"θεραπεύω"}," ",{"$f":"FlashCards!CD723","v":"I heal"}]
[{"$f":"FlashCards!BY724","v":"θερίζω"}," ",{"$f":"FlashCards!CD724","v":"I reap"}]
[{"$f":"FlashCards!BY725","v":"ὁ θερισμός"}," ",{"$f":"FlashCards!CD725","v":"harvest"}]
[{"$f":"FlashCards!BY726","v":"θεωρέω"}," ",{"$f":"FlashCards!CD726","v":"I look at, I perceive"}]
[{"$f":"FlashCards!BY727","v":"τό θηρίον"}," ",{"$f":"FlashCards!CD727","v":"animal, beast"}]
[{"$f":"FlashCards!BY728","v":"ὁ θησαυρός"}," ",{"$f":"FlashCards!CD728","v":"treasure, repository"}]
[{"$f":"FlashCards!BY729","v":"θλίβω"}," ",{"$f":"FlashCards!CD729","v":"I oppress, I afflict"}]
[{"$f":"FlashCards!BY730","v":"ἡ θλῖψις"}," ",{"$f":"FlashCards!CD730","v":"affliction, tribulation"}]
[{"$f":"FlashCards!BY731","v":"ἡ θρίξ"}," ",{"$f":"FlashCards!CD731","v":"a strand of hair"}]
[{"$f":"FlashCards!BY732","v":"ἡ τριχός"}," ",{"$f":"FlashCards!CD732","v":"hair"}]
[{"$f":"FlashCards!BY733","v":"ὁ θρόνος"}," ",{"$f":"FlashCards!CD733","v":"throne"}]
[{"$f":"FlashCards!BY734","v":"ἡ θυγάτηρ"}," ",{"$f":"FlashCards!CD734","v":"daughter"}]
[{"$f":"FlashCards!BY735","v":"ὁ θυμός"}," ",{"$f":"FlashCards!CD735","v":"wrath, anger"}]
[{"$f":"FlashCards!BY736","v":"ἡ θύρα"}," ",{"$f":"FlashCards!CD736","v":"door"}]
[{"$f":"FlashCards!BY737","v":"ἡ θυσία"}," ",{"$f":"FlashCards!CD737","v":"sacrifice, offering"}]
[{"$f":"FlashCards!BY738","v":"τό θυσιαστήριον"}," ",{"$f":"FlashCards!CD738","v":"altar"}]
[{"$f":"FlashCards!BY739","v":"θύω"}," ",{"$f":"FlashCards!CD739","v":"I sacrifice, I kill"}]
[{"$f":"FlashCards!BY740","v":"ἡ Θωμᾶς"}," ",{"$f":"FlashCards!CD740","v":"Thomas"}]
[{"$f":"FlashCards!BY741","v":"ὁ Ἰακώβ"}," ",{"$f":"FlashCards!CD741","v":"Jacob"}]
[{"$f":"FlashCards!BY742","v":"ὁ Ἰάκωβος"}," ",{"$f":"FlashCards!CD742","v":"James"}]
[{"$f":"FlashCards!BY743","v":"ἰάομαι"}," ",{"$f":"FlashCards!CD743","v":"I heal"}]
[{"$f":"FlashCards!BY744","v":"ἴδε"}," ",{"$f":"FlashCards!CD744","v":"See! Behold!"}]
[{"$f":"FlashCards!BY745","v":"ἴδιος"}," ",{"$f":"FlashCards!CD745","v":"one's own (masculine)"}]
[{"$f":"FlashCards!BY746","v":"ἴδια"}," ",{"$f":"FlashCards!CD746","v":"one's own (feminine)"}]
[{"$f":"FlashCards!BY747","v":"ἴδιον"}," ",{"$f":"FlashCards!CD747","v":"one's own (neuter)"}]
[{"$f":"FlashCards!BY748","v":"ἰδού"}," ",{"$f":"FlashCards!CD748","v":"See! Behold!"}]
[{"$f":"FlashCards!BY749","v":"ὁ ἱερεύς"}," ",{"$f":"FlashCards!CD749","v":"priest"}]
[{"$f":"FlashCards!BY750","v":"τό ἱερόν"}," ",{"$f":"FlashCards!CD750","v":"temple"}]
[{"$f":"FlashCards!BY751","v":"τά Ἱεροσόλυμα"}," ",{"$f":"FlashCards!CD751","v":"Jerusalem"}]
[{"$f":"FlashCards!BY752","v":"ἡ Ἰερουσαλήμ"}," ",{"$f":"FlashCards!CD752","v":"Jerusalem"}]
[{"$f":"FlashCards!BY753","v":"ὁ Ἰησοῦς"}," ",{"$f":"FlashCards!CD753","v":"Jesus, Joshua"}]
[{"$f":"FlashCards!BY754","v":"ἱκανός"}," ",{"$f":"FlashCards!CD754","v":"considerable, many, able"}]
[{"$f":"FlashCards!BY755","v":"ἡ ἰκμάς"}," ",{"$f":"FlashCards!CD755","v":"moisture, dampness"}]
[{"$f":"FlashCards!BY756","v":"ὁ ἱλασμός"}," ",{"$f":"FlashCards!CD756","v":"atoning sacrifice"}]
[{"$f":"FlashCards!BY757","v":"τό ἱλαστήριον"}," ",{"$f":"FlashCards!CD757","v":"propitiation, expiation, place of atonement"}]
[{"$f":"FlashCards!BY758","v":"τό ἱμάτιον"}," ",{"$f":"FlashCards!CD758","v":"garment, cloak"}]
[{"$f":"FlashCards!BY759","v":"ἵνα"}," ",{"$f":"FlashCards!CD759","v":"that, in order that, so that"}]
[{"$f":"FlashCards!BY760","v":"ἡ Ἰόππη"}," ",{"$f":"FlashCards!CD760","v":"Joppa"}]
[{"$f":"FlashCards!BY761","v":"ὁ Ἰορδάνης"}," ",{"$f":"FlashCards!CD761","v":"Jordan"}]
[{"$f":"FlashCards!BY762","v":"ἡ Ἰουδαία"}," ",{"$f":"FlashCards!CD762","v":"Judea"}]
[{"$f":"FlashCards!BY763","v":"ὁ Ἰουδαίος"}," ",{"$f":"FlashCards!CD763","v":"Jew"}]
[{"$f":"FlashCards!BY764","v":"Ἰουδαίος"}," ",{"$f":"FlashCards!CD764","v":"Jewish"}]
[{"$f":"FlashCards!BY765","v":"ὁ Ἰούδας"}," ",{"$f":"FlashCards!CD765","v":"Judas, Judah"}]
[{"$f":"FlashCards!BY766","v":"ὁ ἵππος"}," ",{"$f":"FlashCards!CD766","v":"horse"}]
[{"$f":"FlashCards!BY767","v":"ὁ Ἰσαάκ"}," ",{"$f":"FlashCards!CD767","v":"Isaac"}]
[{"$f":"FlashCards!BY768","v":"ἴσος"}," ",{"$f":"FlashCards!CD768","v":"equal, same, alike, similar"}]
[{"$f":"FlashCards!BY769","v":"ὁ Ἰσραήλ"}," ",{"$f":"FlashCards!CD769","v":"Israel"}]
[{"$f":"FlashCards!BY770","v":"ἴστημι"}," ",{"$f":"FlashCards!CD770","v":"I stand, I cause to stand"}]
[{"$f":"FlashCards!BY771","v":"ἰσχυρός"}," ",{"$f":"FlashCards!CD771","v":"strong"}]
[{"$f":"FlashCards!BY772","v":"ἡ ἰσχύς"}," ",{"$f":"FlashCards!CD772","v":"strength, power"}]
[{"$f":"FlashCards!BY773","v":"ἰσχύω"}," ",{"$f":"FlashCards!CD773","v":"I have power, I am able"}]
[{"$f":"FlashCards!BY774","v":"ὁ ἰχθύς"}," ",{"$f":"FlashCards!CD774","v":"fish"}]
[{"$f":"FlashCards!BY775","v":"ὁ Ἰωάννης"}," ",{"$f":"FlashCards!CD775","v":"John"}]
[{"$f":"FlashCards!BY776","v":"ὁ Ἰωσήφ"}," ",{"$f":"FlashCards!CD776","v":"Joseph"}]
[{"$f":"FlashCards!BY777","v":"κἀγώ"}," ",{"$f":"FlashCards!CD777","v":"and I, but I"}]
[{"$f":"FlashCards!BY778","v":"καθάπερ"}," ",{"$f":"FlashCards!CD778","v":"just as"}]
[{"$f":"FlashCards!BY779","v":"καθαρίζω"}," ",{"$f":"FlashCards!CD779","v":"I cleanse, I purify"}]
[{"$f":"FlashCards!BY780","v":"καθαρός"}," ",{"$f":"FlashCards!CD780","v":"pure, clean"}]
[{"$f":"FlashCards!BY781","v":"καθεύδω"}," ",{"$f":"FlashCards!CD781","v":"I sleep"}]
[{"$f":"FlashCards!BY782","v":"κάθημαι"}," ",{"$f":"FlashCards!CD782","v":"I sit, I sit down, I live"}]
[{"$f":"FlashCards!BY783","v":"καθίζω"}," ",{"$f":"FlashCards!CD783","v":"I sit, I sit down, I seat"}]
[{"$f":"FlashCards!BY784","v":"καθίστημι"}," ",{"$f":"FlashCards!CD784","v":"I appoint, I authorize"}]
[{"$f":"FlashCards!BY785","v":"καθώς"}," ",{"$f":"FlashCards!CD785","v":"as, even as"}]
[{"$f":"FlashCards!BY786","v":"καί"}," ",{"$f":"FlashCards!CD786","v":"and, even, also, namely, and yet (particle)"}]
[{"$f":"FlashCards!BY787","v":"καὶ μήν"}," ",{"$f":"FlashCards!CD787","v":"moreover, and indeed, truly (particle)"}]
[{"$f":"FlashCards!BY788","v":"καινός"}," ",{"$f":"FlashCards!CD788","v":"new"}]
[{"$f":"FlashCards!BY789","v":"καίπερ"}," ",{"$f":"FlashCards!CD789","v":"although, even though (particle)"}]
[{"$f":"FlashCards!BY790","v":"ὁ καιρός"}," ",{"$f":"FlashCards!CD790","v":"(appointed) time, season"}]
[{"$f":"FlashCards!BY791","v":"ὁ Καῖσαρ"}," ",{"$f":"FlashCards!CD791","v":"Caesar"}]
[{"$f":"FlashCards!BY792","v":"ἡ Καισάρεια"}," ",{"$f":"FlashCards!CD792","v":"Caesaria"}]
[{"$f":"FlashCards!BY793","v":"καίω"}," ",{"$f":"FlashCards!CD793","v":"I burn, I light"}]
[{"$f":"FlashCards!BY794","v":"κἀκεῖ"}," ",{"$f":"FlashCards!CD794","v":"and there"}]
[{"$f":"FlashCards!BY795","v":"κἀκεῖθεν"}," ",{"$f":"FlashCards!CD795","v":"and then"}]
[{"$f":"FlashCards!BY796","v":"κἀκεῖνος"}," ",{"$f":"FlashCards!CD796","v":"and that one, that one also"}]
[{"$f":"FlashCards!BY797","v":"ἡ κακία"}," ",{"$f":"FlashCards!CD797","v":"malice, wickedness"}]
[{"$f":"FlashCards!BY798","v":"κακός"}," ",{"$f":"FlashCards!CD798","v":"bad, evil"}]
[{"$f":"FlashCards!BY799","v":"κακῶς"}," ",{"$f":"FlashCards!CD799","v":"badly"}]
[{"$f":"FlashCards!BY800","v":"ὁ κἀλαμος"}," ",{"$f":"FlashCards!CD800","v":"reed"}]
[{"$f":"FlashCards!BY801","v":"καλέω"}," ",{"$f":"FlashCards!CD801","v":"I call, I name, I invite"}]
[{"$f":"FlashCards!BY802","v":"καλός"}," ",{"$f":"FlashCards!CD802","v":"good, beautiful"}]
[{"$f":"FlashCards!BY803","v":"καλῶς"}," ",{"$f":"FlashCards!CD803","v":"well, commendably"}]
[{"$f":"FlashCards!BY804","v":"κἄν"}," ",{"$f":"FlashCards!CD804","v":"and if, even if (particle)"}]
[{"$f":"FlashCards!BY805","v":"ἡ Καφαρναούμ"}," ",{"$f":"FlashCards!CD805","v":"Capernaum"}]
[{"$f":"FlashCards!BY806","v":"ὁ καπνός"}," ",{"$f":"FlashCards!CD806","v":"smoke"}]
[{"$f":"FlashCards!BY807","v":"ἡ καρδία"}," ",{"$f":"FlashCards!CD807","v":"heart, inner self"}]
[{"$f":"FlashCards!BY808","v":"ὁ καρπός"}," ",{"$f":"FlashCards!CD808","v":"fruit, crop, result"}]
[{"$f":"FlashCards!BY809","v":"καρποφορέω"}," ",{"$f":"FlashCards!CD809","v":"I produce, I bear fruit, I am fertile"}]
[{"$f":"FlashCards!BY810","v":"κατά [genitive]"}," ",{"$f":"FlashCards!CD810","v":"down from, against [genitive]"}]
[{"$f":"FlashCards!BY811","v":"κατά [accusative]"}," ",{"$f":"FlashCards!CD811","v":"according to, throughout, during [accusative]"}]
[{"$f":"FlashCards!BY812","v":"καταβαίνω"}," ",{"$f":"FlashCards!CD812","v":"I go down, I come down"}]
[{"$f":"FlashCards!BY813","v":"ἡ καταβολή"}," ",{"$f":"FlashCards!CD813","v":"foundation"}]
[{"$f":"FlashCards!BY814","v":"καταγγέλλω"}," ",{"$f":"FlashCards!CD814","v":"I proclaim"}]
[{"$f":"FlashCards!BY815","v":"καταισχύνω"}," ",{"$f":"FlashCards!CD815","v":"I put to shame, I dishonor"}]
[{"$f":"FlashCards!BY816","v":"κατακαίω"}," ",{"$f":"FlashCards!CD816","v":"I burn up, I consume"}]
[{"$f":"FlashCards!BY817","v":"κατάκειμαι"}," ",{"$f":"FlashCards!CD817","v":"I recline, I lie down"}]
[{"$f":"FlashCards!BY818","v":"κατακρίνω"}," ",{"$f":"FlashCards!CD818","v":"I condemn"}]
[{"$f":"FlashCards!BY819","v":"καταλαμβάνω"}," ",{"$f":"FlashCards!CD819","v":"I attain, I seize, I grasp"}]
[{"$f":"FlashCards!BY820","v":"καταλείπω"}," ",{"$f":"FlashCards!CD820","v":"I leave behind"}]
[{"$f":"FlashCards!BY821","v":"καταλύω"}," ",{"$f":"FlashCards!CD821","v":"I destroy, I put an end to"}]
[{"$f":"FlashCards!BY822","v":"κατανοέω"}," ",{"$f":"FlashCards!CD822","v":"I consider, I notice"}]
[{"$f":"FlashCards!BY823","v":"καταντάω"}," ",{"$f":"FlashCards!CD823","v":"I arrive at, I attain, I reach"}]
[{"$f":"FlashCards!BY824","v":"καταπατέω"}," ",{"$f":"FlashCards!CD824","v":"I trample"}]
[{"$f":"FlashCards!BY825","v":"καταργέω"}," ",{"$f":"FlashCards!CD825","v":"I abolish, I nullify"}]
[{"$f":"FlashCards!BY826","v":"καταρτίζω"}," ",{"$f":"FlashCards!CD826","v":"I restore, I prepare"}]
[{"$f":"FlashCards!BY827","v":"κατασκευάζω"}," ",{"$f":"FlashCards!CD827","v":"I prepare"}]
[{"$f":"FlashCards!BY828","v":"κατεργάζομαι"}," ",{"$f":"FlashCards!CD828","v":"I accomplish, I produce"}]
[{"$f":"FlashCards!BY829","v":"κατέρχομαι"}," ",{"$f":"FlashCards!CD829","v":"I come down"}]
[{"$f":"FlashCards!BY830","v":"κατεσθίω"}," ",{"$f":"FlashCards!CD830","v":"I consume, I devour"}]
[{"$f":"FlashCards!BY831","v":"κατέχω"}," ",{"$f":"FlashCards!CD831","v":"I restrain, I hold fast"}]
[{"$f":"FlashCards!BY832","v":"κατηγορέω"}," ",{"$f":"FlashCards!CD832","v":"I accuse"}]
[{"$f":"FlashCards!BY833","v":"κατοικέω"}," ",{"$f":"FlashCards!CD833","v":"I inhabit, I dwell"}]
[{"$f":"FlashCards!BY834","v":"κάτω"}," ",{"$f":"FlashCards!CD834","v":"below"}]
[{"$f":"FlashCards!BY835","v":"καυχάομαι"}," ",{"$f":"FlashCards!CD835","v":"I boast"}]
[{"$f":"FlashCards!BY836","v":"τό καύχημα"}," ",{"$f":"FlashCards!CD836","v":"boast"}]
[{"$f":"FlashCards!BY837","v":"ἡ καύχησις"}," ",{"$f":"FlashCards!CD837","v":"boasting"}]
[{"$f":"FlashCards!BY838","v":"κεῖμαι"}," ",{"$f":"FlashCards!CD838","v":"I lie (down), I am laid"}]
[{"$f":"FlashCards!BY839","v":"κελεύω"}," ",{"$f":"FlashCards!CD839","v":"I command, I order"}]
[{"$f":"FlashCards!BY840","v":"κενός"}," ",{"$f":"FlashCards!CD840","v":"empty, vain"}]
[{"$f":"FlashCards!BY841","v":"τό κέρας"}," ",{"$f":"FlashCards!CD841","v":"horn"}]
[{"$f":"FlashCards!BY842","v":"κερδαίνω"}," ",{"$f":"FlashCards!CD842","v":"I gain"}]
[{"$f":"FlashCards!BY843","v":"ἡ κεφαλή"}," ",{"$f":"FlashCards!CD843","v":"head"}]
[{"$f":"FlashCards!BY844","v":"κηρύσσω"}," ",{"$f":"FlashCards!CD844","v":"I proclaim, I preach"}]
[{"$f":"FlashCards!BY845","v":"ὁ κλάδος"}," ",{"$f":"FlashCards!CD845","v":"branch"}]
[{"$f":"FlashCards!BY846","v":"κλαίω"}," ",{"$f":"FlashCards!CD846","v":"I weep"}]
[{"$f":"FlashCards!BY847","v":"κλάω"}," ",{"$f":"FlashCards!CD847","v":"I break"}]
[{"$f":"FlashCards!BY848","v":"κλείω"}," ",{"$f":"FlashCards!CD848","v":"I shut"}]
[{"$f":"FlashCards!BY849","v":"ὁ κλέπτης"}," ",{"$f":"FlashCards!CD849","v":"thief"}]
[{"$f":"FlashCards!BY850","v":"κλέπτω"}," ",{"$f":"FlashCards!CD850","v":"I steal"}]
[{"$f":"FlashCards!BY851","v":"κληρονομέω"}," ",{"$f":"FlashCards!CD851","v":"I acquire, I inherit"}]
[{"$f":"FlashCards!BY852","v":"ἡ κληρονομία"}," ",{"$f":"FlashCards!CD852","v":"inheritance"}]
[{"$f":"FlashCards!BY853","v":"ὁ κληρονόμος"}," ",{"$f":"FlashCards!CD853","v":"heir"}]
[{"$f":"FlashCards!BY854","v":"ὁ κλῆρος"}," ",{"$f":"FlashCards!CD854","v":"share, portion, lot, inheritance"}]
[{"$f":"FlashCards!BY855","v":"ἡ κλῆσις"}," ",{"$f":"FlashCards!CD855","v":"calling, call"}]
[{"$f":"FlashCards!BY856","v":"κλητός"}," ",{"$f":"FlashCards!CD856","v":"called"}]
[{"$f":"FlashCards!BY857","v":"ἡ κλίνη"}," ",{"$f":"FlashCards!CD857","v":"couch, bed, mat, table"}]
[{"$f":"FlashCards!BY858","v":"κλίνω"}," ",{"$f":"FlashCards!CD858","v":"I bow"}]
[{"$f":"FlashCards!BY859","v":"ἡ κοιλία"}," ",{"$f":"FlashCards!CD859","v":"belly, womb"}]
[{"$f":"FlashCards!BY860","v":"κοιμάω"}," ",{"$f":"FlashCards!CD860","v":"I sleep, I fall asleep"}]
[{"$f":"FlashCards!BY861","v":"   κοινός"}," ",{"$f":"FlashCards!CD861","v":"common, (ceremonially) unclean"}]
[{"$f":"FlashCards!BY862","v":"κοινόω"}," ",{"$f":"FlashCards!CD862","v":"I defile, I make impure"}]
[{"$f":"FlashCards!BY863","v":"ἡ κοινωνία"}," ",{"$f":"FlashCards!CD863","v":"fellowship, participation"}]
[{"$f":"FlashCards!BY864","v":"ὁ κοινωνός"}," ",{"$f":"FlashCards!CD864","v":"partner, sharer"}]
[{"$f":"FlashCards!BY865","v":"κολλάω"}," ",{"$f":"FlashCards!CD865","v":"I join, I cling to"}]
[{"$f":"FlashCards!BY866","v":"κομίζω"}," ",{"$f":"FlashCards!CD866","v":"I bring; [middle: I receive]"}]
[{"$f":"FlashCards!BY867","v":"κοπιάω"}," ",{"$f":"FlashCards!CD867","v":"I toil, I labor"}]
[{"$f":"FlashCards!BY868","v":"ὁ κόπος"}," ",{"$f":"FlashCards!CD868","v":"labor, trouble"}]
[{"$f":"FlashCards!BY869","v":"κοσμέω"}," ",{"$f":"FlashCards!CD869","v":"I adorn, I arrange, I put in order"}]
[{"$f":"FlashCards!BY870","v":"ὁ κόσμος"}," ",{"$f":"FlashCards!CD870","v":"world, universe, humanity"}]
[{"$f":"FlashCards!BY871","v":"ὁ κοφίνος"}," ",{"$f":"FlashCards!CD871","v":"basket, handbasket"}]
[{"$f":"FlashCards!BY872","v":"ὁ κράβαττος or κράββατος"}," ",{"$f":"FlashCards!CD872","v":"mattress, pallet, (poor) bed"}]
[{"$f":"FlashCards!BY873","v":"κράζω"}," ",{"$f":"FlashCards!CD873","v":"I cry out, I call out"}]
[{"$f":"FlashCards!BY874","v":"κρατέω"}," ",{"$f":"FlashCards!CD874","v":"I seize, I hold"}]
[{"$f":"FlashCards!BY875","v":"τό κράτος"}," ",{"$f":"FlashCards!CD875","v":"power, might"}]
[{"$f":"FlashCards!BY876","v":"κρείσσων"}," ",{"$f":"FlashCards!CD876","v":"better"}]
[{"$f":"FlashCards!BY877","v":"κρείττων"}," ",{"$f":"FlashCards!CD877","v":"better"}]
[{"$f":"FlashCards!BY878","v":"τό κρίμα"}," ",{"$f":"FlashCards!CD878","v":"judgment"}]
[{"$f":"FlashCards!BY879","v":"κρίνω"}," ",{"$f":"FlashCards!CD879","v":"I judge, I decide, I prefer"}]
[{"$f":"FlashCards!BY880","v":"ἡ κρίσις"}," ",{"$f":"FlashCards!CD880","v":"judgement, justice"}]
[{"$f":"FlashCards!BY881","v":"ὁ κριτής"}," ",{"$f":"FlashCards!CD881","v":"judge"}]
[{"$f":"FlashCards!BY882","v":"κρυπτός"}," ",{"$f":"FlashCards!CD882","v":"hidden"}]
[{"$f":"FlashCards!BY883","v":"κρύπτω"}," ",{"$f":"FlashCards!CD883","v":"I hide"}]
[{"$f":"FlashCards!BY884","v":" κρυφαίος"}," ",{"$f":"FlashCards!CD884","v":"secret"}]
[{"$f":"FlashCards!BY885","v":"κρυφαίως"}," ",{"$f":"FlashCards!CD885","v":"secretly"}]
[{"$f":"FlashCards!BY886","v":"κτίζω"}," ",{"$f":"FlashCards!CD886","v":"I create"}]
[{"$f":"FlashCards!BY887","v":"ἡ κτίσις"}," ",{"$f":"FlashCards!CD887","v":"creation, creature"}]
[{"$f":"FlashCards!BY888","v":"ὁ κύκλῳ"}," ",{"$f":"FlashCards!CD888","v":"surroundings, surrounding, around"}]
[{"$f":"FlashCards!BY889","v":"ὁ κύριος"}," ",{"$f":"FlashCards!CD889","v":"lord, master, sir"}]
[{"$f":"FlashCards!BY890","v":"κωλύω"}," ",{"$f":"FlashCards!CD890","v":"I forbid, I hinder"}]
[{"$f":"FlashCards!BY891","v":"ἡ κώμη"}," ",{"$f":"FlashCards!CD891","v":"village"}]
[{"$f":"FlashCards!BY892","v":"κωφός"}," ",{"$f":"FlashCards!CD892","v":"mute, deaf"}]
[{"$f":"FlashCards!BY893","v":"ὁ Λάζαρος"}," ",{"$f":"FlashCards!CD893","v":"Lazarus"}]
[{"$f":"FlashCards!BY894","v":"λαλέω"}," ",{"$f":"FlashCards!CD894","v":"I speak, I say"}]
[{"$f":"FlashCards!BY895","v":"λαμβάνω"}," ",{"$f":"FlashCards!CD895","v":"I take, I receive"}]
[{"$f":"FlashCards!BY896","v":"ὁ λαός"}," ",{"$f":"FlashCards!CD896","v":"people, crowd"}]
[{"$f":"FlashCards!BY897","v":"λατρεύω"}," ",{"$f":"FlashCards!CD897","v":"I serve, I worship"}]
[{"$f":"FlashCards!BY898","v":"λέγω"}," ",{"$f":"FlashCards!CD898","v":"I say, I speak"}]
[{"$f":"FlashCards!BY899","v":"εἶπεν"}," ",{"$f":"FlashCards!CD899","v":"(he, she, it) said (3ʳᵈ person singular; non-lexical)"}]
[{"$f":"FlashCards!BY900","v":"λευκός"}," ",{"$f":"FlashCards!CD900","v":"white"}]
[{"$f":"FlashCards!BY901","v":"ὁ λῃστής"}," ",{"$f":"FlashCards!CD901","v":"robber, revolutionary"}]
[{"$f":"FlashCards!BY902","v":"λίαν"}," ",{"$f":"FlashCards!CD902","v":"exceedingly, very much"}]
[{"$f":"FlashCards!BY903","v":"ὁ λίθος"}," ",{"$f":"FlashCards!CD903","v":"stone"}]
[{"$f":"FlashCards!BY904","v":"ἡ λίμνη"}," ",{"$f":"FlashCards!CD904","v":"lake, pond"}]
[{"$f":"FlashCards!BY905","v":"ὁ λιμός"}," ",{"$f":"FlashCards!CD905","v":"hunger, famine"}]
[{"$f":"FlashCards!BY906","v":"λογίζομαι"}," ",{"$f":"FlashCards!CD906","v":"I reckon, I think"}]
[{"$f":"FlashCards!BY907","v":"ὁ λόγος"}," ",{"$f":"FlashCards!CD907","v":"word, statement, message"}]
[{"$f":"FlashCards!BY908","v":"ὁ λοιπός [noun]"}," ",{"$f":"FlashCards!CD908","v":"(the) rest, (the) remainder"}]
[{"$f":"FlashCards!BY909","v":"λοιπός [adjective]"}," ",{"$f":"FlashCards!CD909","v":"remaining"}]
[{"$f":"FlashCards!BY910","v":"λοιπός [adverb]"}," ",{"$f":"FlashCards!CD910","v":"for the rest, henceforth"}]
[{"$f":"FlashCards!BY911","v":"λυπέω"}," ",{"$f":"FlashCards!CD911","v":"I grieve"}]
[{"$f":"FlashCards!BY912","v":"ἡ λύπη"}," ",{"$f":"FlashCards!CD912","v":"grief, sorrow"}]
[{"$f":"FlashCards!BY913","v":"λυτρόω"}," ",{"$f":"FlashCards!CD913","v":"I ransom, I liberate"}]
[{"$f":"FlashCards!BY914","v":"ἡ λυχνία"}," ",{"$f":"FlashCards!CD914","v":"lampstand"}]
[{"$f":"FlashCards!BY915","v":"ὁ λύχνος"}," ",{"$f":"FlashCards!CD915","v":"lamp"}]
[{"$f":"FlashCards!BY916","v":"λύω"}," ",{"$f":"FlashCards!CD916","v":"I loose, I untie, I destroy, I release"}]
[{"$f":"FlashCards!BY917","v":"ἡ Μαγδαληνή"}," ",{"$f":"FlashCards!CD917","v":"Magdalene"}]
[{"$f":"FlashCards!BY918","v":"ὁ μαθητής"}," ",{"$f":"FlashCards!CD918","v":"disciple"}]
[{"$f":"FlashCards!BY919","v":"μακάριος"}," ",{"$f":"FlashCards!CD919","v":"blessed, happy"}]
[{"$f":"FlashCards!BY920","v":"ἡ Μακεδονία"}," ",{"$f":"FlashCards!CD920","v":"Macedonia"}]
[{"$f":"FlashCards!BY921","v":"μακράν"}," ",{"$f":"FlashCards!CD921","v":"far, far away"}]
[{"$f":"FlashCards!BY922","v":"μακρόθεν"}," ",{"$f":"FlashCards!CD922","v":"from a distance, from afar"}]
[{"$f":"FlashCards!BY923","v":"μακροθυμέω"}," ",{"$f":"FlashCards!CD923","v":"I am patient"}]
[{"$f":"FlashCards!BY924","v":"ἡ μακροθυμία"}," ",{"$f":"FlashCards!CD924","v":"Patience, forbearance, steadfastness"}]
[{"$f":"FlashCards!BY925","v":"μαλακός"}," ",{"$f":"FlashCards!CD925","v":"soft, effeminate"}]
[{"$f":"FlashCards!BY926","v":"μάλιστα"}," ",{"$f":"FlashCards!CD926","v":"most of all, especially"}]
[{"$f":"FlashCards!BY927","v":"μᾶλλον"}," ",{"$f":"FlashCards!CD927","v":"more, rather"}]
[{"$f":"FlashCards!BY928","v":"μανθάνω"}," ",{"$f":"FlashCards!CD928","v":"I learn"}]
[{"$f":"FlashCards!BY929","v":"ἡ Μάρθα"}," ",{"$f":"FlashCards!CD929","v":"Martha"}]
[{"$f":"FlashCards!BY930","v":"ἡ Μαρία"}," ",{"$f":"FlashCards!CD930","v":"Mary"}]
[{"$f":"FlashCards!BY931","v":"ἡ Μαριάμ"}," ",{"$f":"FlashCards!CD931","v":"Mary"}]
[{"$f":"FlashCards!BY932","v":"μαρτυρέω"}," ",{"$f":"FlashCards!CD932","v":"I bear witness, I testify"}]
[{"$f":"FlashCards!BY933","v":"ἡ μαρτυρία"}," ",{"$f":"FlashCards!CD933","v":"testimony"}]
[{"$f":"FlashCards!BY934","v":"τό μαρτύριον"}," ",{"$f":"FlashCards!CD934","v":"testimony, proof"}]
[{"$f":"FlashCards!BY935","v":"ὁ μάρτυς"}," ",{"$f":"FlashCards!CD935","v":"witness"}]
[{"$f":"FlashCards!BY936","v":"ἡ μάστιξ"}," ",{"$f":"FlashCards!CD936","v":"whip, affliction, plague"}]
[{"$f":"FlashCards!BY937","v":"ἡ μάχαιρα"}," ",{"$f":"FlashCards!CD937","v":"sword"}]
[{"$f":"FlashCards!BY938","v":"μέγας"}," ",{"$f":"FlashCards!CD938","v":"large, great (masculine)"}]
[{"$f":"FlashCards!BY939","v":"μεγάλη"}," ",{"$f":"FlashCards!CD939","v":"large, great (feminine)"}]
[{"$f":"FlashCards!BY940","v":"μέγα"}," ",{"$f":"FlashCards!CD940","v":"large, great (neuter)"}]
[{"$f":"FlashCards!BY941","v":"μείζων"}," ",{"$f":"FlashCards!CD941","v":"greater"}]
[{"$f":"FlashCards!BY942","v":"μελετάω"}," ",{"$f":"FlashCards!CD942","v":"I practice, I cultivate"}]
[{"$f":"FlashCards!BY943","v":"μέλλω"}," ",{"$f":"FlashCards!CD943","v":"I am about to"}]
[{"$f":"FlashCards!BY944","v":"τό μέλος"}," ",{"$f":"FlashCards!CD944","v":"member, part"}]
[{"$f":"FlashCards!BY945","v":"μέλει"}," ",{"$f":"FlashCards!CD945","v":"It is a concern; a form of μέλω, ‘I care for’"}]
[{"$f":"FlashCards!BY946","v":"μέν"}," ",{"$f":"FlashCards!CD946","v":"on the one hand, indeed (particle)"}]
[{"$f":"FlashCards!BY947","v":"μέν ... δέ"}," ",{"$f":"FlashCards!CD947","v":"on the one hand... but on the other (particles)"}]
[{"$f":"FlashCards!BY948","v":"μέντοι"}," ",{"$f":"FlashCards!CD948","v":"however, nevertheless, but, really (particle)"}]
[{"$f":"FlashCards!BY949","v":"μένω"}," ",{"$f":"FlashCards!CD949","v":"I remain, I live, I abide"}]
[{"$f":"FlashCards!BY950","v":"μερίζω"}," ",{"$f":"FlashCards!CD950","v":"I divide, I share"}]
[{"$f":"FlashCards!BY951","v":"μεριμνάω"}," ",{"$f":"FlashCards!CD951","v":"I am anxious, I care for"}]
[{"$f":"FlashCards!BY952","v":"τό μέρος"}," ",{"$f":"FlashCards!CD952","v":"part"}]
[{"$f":"FlashCards!BY953","v":"μέσος"}," ",{"$f":"FlashCards!CD953","v":"middle, in the midst"}]
[{"$f":"FlashCards!BY954","v":"μετά (μετʼ, μεθʼ) [genitive]"}," ",{"$f":"FlashCards!CD954","v":"with [genitive]"}]
[{"$f":"FlashCards!BY955","v":"μετά (μετʼ, μεθʼ) [accusative]"}," ",{"$f":"FlashCards!CD955","v":"after [accusative]"}]
[{"$f":"FlashCards!BY956","v":"μεταβαίνω"}," ",{"$f":"FlashCards!CD956","v":"I go over, I pass over"}]
[{"$f":"FlashCards!BY957","v":"μετανοέω"}," ",{"$f":"FlashCards!CD957","v":"I repent"}]
[{"$f":"FlashCards!BY958","v":"ἡ μετάνοια"}," ",{"$f":"FlashCards!CD958","v":"repentance"}]
[{"$f":"FlashCards!BY959","v":"μετρέω"}," ",{"$f":"FlashCards!CD959","v":"I measure, I apportion"}]
[{"$f":"FlashCards!BY960","v":"τό μέτρον"}," ",{"$f":"FlashCards!CD960","v":"measure"}]
[{"$f":"FlashCards!BY961","v":"μέχρι"}," ",{"$f":"FlashCards!CD961","v":"until, as far as [genitive]"}]
[{"$f":"FlashCards!BY962","v":"μέχρις"}," ",{"$f":"FlashCards!CD962","v":"until, as far as [genitive]"}]
[{"$f":"FlashCards!BY963","v":"μή"}," ",{"$f":"FlashCards!CD963","v":"not, lest (particle; used in non-indicative moods like subjunctive or imperative)"}]
[{"$f":"FlashCards!BY964","v":"μηδέ"}," ",{"$f":"FlashCards!CD964","v":"nor, but not, not even"}]
[{"$f":"FlashCards!BY965","v":"μηδείς"}," ",{"$f":"FlashCards!CD965","v":"no one, nothing (masculine)"}]
[{"$f":"FlashCards!BY966","v":"μηδεμία"}," ",{"$f":"FlashCards!CD966","v":"no one, nothing (feminine)"}]
[{"$f":"FlashCards!BY967","v":"μηδέν"}," ",{"$f":"FlashCards!CD967","v":"no one, nothing (neuter)"}]
[{"$f":"FlashCards!BY968","v":"μηκέτι"}," ",{"$f":"FlashCards!CD968","v":"no longer"}]
[{"$f":"FlashCards!BY969","v":"μήν, μέν"}," ",{"$f":"FlashCards!CD969","v":"truly, certainly, indeed (particle)"}]
[{"$f":"FlashCards!BY970","v":"ὁ μήν (μηνός)"}," ",{"$f":"FlashCards!CD970","v":"month"}]
[{"$f":"FlashCards!BY971","v":"μήποτε"}," ",{"$f":"FlashCards!CD971","v":"lest, so that not (particle)"}]
[{"$f":"FlashCards!BY972","v":"μήτε"}," ",{"$f":"FlashCards!CD972","v":"neither, nor, and not"}]
[{"$f":"FlashCards!BY973","v":"ἡ μήτηρ"}," ",{"$f":"FlashCards!CD973","v":"mother"}]
[{"$f":"FlashCards!BY974","v":"μήτι"}," ",{"$f":"FlashCards!CD974","v":"is it not?, surely not? (interrogative particle expecting a negative response)"}]
[{"$f":"FlashCards!BY975","v":"ὁ μικρόν"}," ",{"$f":"FlashCards!CD975","v":"(a) little (time, etc.)"}]
[{"$f":"FlashCards!BY976","v":"μικρός"}," ",{"$f":"FlashCards!CD976","v":"small, little, less"}]
[{"$f":"FlashCards!BY977","v":"μιμνῄσκομαι"}," ",{"$f":"FlashCards!CD977","v":"I remember"}]
[{"$f":"FlashCards!BY978","v":"μισέω"}," ",{"$f":"FlashCards!CD978","v":"I hate"}]
[{"$f":"FlashCards!BY979","v":"ὁ μισθός"}," ",{"$f":"FlashCards!CD979","v":"wage, reward"}]
[{"$f":"FlashCards!BY980","v":"τό μνημεῖον"}," ",{"$f":"FlashCards!CD980","v":"grave, tomb, memorial, monument"}]
[{"$f":"FlashCards!BY981","v":"μνημονεύω"}," ",{"$f":"FlashCards!CD981","v":"I remember"}]
[{"$f":"FlashCards!BY982","v":"μοιχεύω"}," ",{"$f":"FlashCards!CD982","v":"I commit adultery"}]
[{"$f":"FlashCards!BY983","v":"μόνος"}," ",{"$f":"FlashCards!CD983","v":"alone, only"}]
[{"$f":"FlashCards!BY984","v":"μου"}," ",{"$f":"FlashCards!CD984","v":"my/of me (genitive singular)"}]
[{"$f":"FlashCards!BY985","v":"μου"}," ",{"$f":"FlashCards!CD985","v":"my"}]
[{"$f":"FlashCards!BY986","v":"τό μύρον"}," ",{"$f":"FlashCards!CD986","v":"ointment, perfume"}]
[{"$f":"FlashCards!BY987","v":"ἡ μυστήριον"}," ",{"$f":"FlashCards!CD987","v":"mystery, secret"}]
[{"$f":"FlashCards!BY988","v":"μωρός"}," ",{"$f":"FlashCards!CD988","v":"foolish"}]
[{"$f":"FlashCards!BY989","v":"ὁ Μωϋσῆς"}," ",{"$f":"FlashCards!CD989","v":"Moses"}]
[{"$f":"FlashCards!BY990","v":"ὁ Ναζωραῖος"}," ",{"$f":"FlashCards!CD990","v":"Nazareth"}]
[{"$f":"FlashCards!BY991","v":"ναί"}," ",{"$f":"FlashCards!CD991","v":"yes, certainly"}]
[{"$f":"FlashCards!BY992","v":"ὁ ναός"}," ",{"$f":"FlashCards!CD992","v":"temple"}]
[{"$f":"FlashCards!BY993","v":"ὁ νεανίσκος"}," ",{"$f":"FlashCards!CD993","v":"youth, young man"}]
[{"$f":"FlashCards!BY994","v":"ὁ νεκρός (noun)"}," ",{"$f":"FlashCards!CD994","v":"corpse"}]
[{"$f":"FlashCards!BY995","v":"νεκρός (adjective)"}," ",{"$f":"FlashCards!CD995","v":"dead"}]
[{"$f":"FlashCards!BY996","v":"νέος"}," ",{"$f":"FlashCards!CD996","v":"new, young"}]
[{"$f":"FlashCards!BY997","v":"ἡ νεφέλη"}," ",{"$f":"FlashCards!CD997","v":"cloud"}]
[{"$f":"FlashCards!BY998","v":"ὁ νεφρός"}," ",{"$f":"FlashCards!CD998","v":"mind"}]
[{"$f":"FlashCards!BY999","v":"ὁ νήπιος"}," ",{"$f":"FlashCards!CD999","v":"infant, child"}]
[{"$f":"FlashCards!BY1000","v":"νηστεύω"}," ",{"$f":"FlashCards!CD1000","v":"I fast"}]
[{"$f":"FlashCards!BY1001","v":"νικάω"}," ",{"$f":"FlashCards!CD1001","v":"I conquer, I overcome"}]
[{"$f":"FlashCards!BY1002","v":"νίπτω"}," ",{"$f":"FlashCards!CD1002","v":"I wash"}]
[{"$f":"FlashCards!BY1003","v":"νοέω"}," ",{"$f":"FlashCards!CD1003","v":"I understand"}]
[{"$f":"FlashCards!BY1004","v":"νομίζω"}," ",{"$f":"FlashCards!CD1004","v":"I suppose, I consider"}]
[{"$f":"FlashCards!BY1005","v":"νομικός"}," ",{"$f":"FlashCards!CD1005","v":"lawyer"}]
[{"$f":"FlashCards!BY1006","v":"ὁ νόμος"}," ",{"$f":"FlashCards!CD1006","v":"law, principle"}]
[{"$f":"FlashCards!BY1007","v":"ἡ νόσος"}," ",{"$f":"FlashCards!CD1007","v":"disease, illness"}]
[{"$f":"FlashCards!BY1008","v":"ὁ νοῦς, νοός"}," ",{"$f":"FlashCards!CD1008","v":"mind, understanding"}]
[{"$f":"FlashCards!BY1009","v":"ὁ νυμφίος"}," ",{"$f":"FlashCards!CD1009","v":"bridegroom"}]
[{"$f":"FlashCards!BY1010","v":"νῦν"}," ",{"$f":"FlashCards!CD1010","v":"now (particle)"}]
[{"$f":"FlashCards!BY1011","v":"νυνί"}," ",{"$f":"FlashCards!CD1011","v":"now"}]
[{"$f":"FlashCards!BY1012","v":"ἡ νύξ"}," ",{"$f":"FlashCards!CD1012","v":"night"}]
[{"$f":"FlashCards!BY1013","v":"ξενίζω"}," ",{"$f":"FlashCards!CD1013","v":"I entertain, I astonish"}]
[{"$f":"FlashCards!BY1014","v":"ξένος"}," ",{"$f":"FlashCards!CD1014","v":"strange, foreign"}]
[{"$f":"FlashCards!BY1015","v":"ξηραίνω"}," ",{"$f":"FlashCards!CD1015","v":"I dry up"}]
[{"$f":"FlashCards!BY1016","v":"ξηρός"}," ",{"$f":"FlashCards!CD1016","v":"arid, dry, withered"}]
[{"$f":"FlashCards!BY1017","v":"τό ξύλον"}," ",{"$f":"FlashCards!CD1017","v":"tree, wood"}]
[{"$f":"FlashCards!BY1018","v":"ὁ"}," ",{"$f":"FlashCards!CD1018","v":"the (nominative, singular, masculine)"}]
[{"$f":"FlashCards!BY1019","v":"ἡ"}," ",{"$f":"FlashCards!CD1019","v":"the (nominative, singular, feminine)"}]
[{"$f":"FlashCards!BY1020","v":"τό"}," ",{"$f":"FlashCards!CD1020","v":"the (nominative or accusative, singular, neuter)"}]
[{"$f":"FlashCards!BY1021","v":"τοῦ"}," ",{"$f":"FlashCards!CD1021","v":"the/of the (genitive, singular, masculine or neuter)"}]
[{"$f":"FlashCards!BY1022","v":"τῆς"}," ",{"$f":"FlashCards!CD1022","v":"the/of the (genitive, singular, feminine)"}]
[{"$f":"FlashCards!BY1023","v":"τῷ"}," ",{"$f":"FlashCards!CD1023","v":"the/to the (dative, singular, masculine or neuter)"}]
[{"$f":"FlashCards!BY1024","v":"τῇ"}," ",{"$f":"FlashCards!CD1024","v":"the/ to the (dative, singular, feminine)"}]
[{"$f":"FlashCards!BY1025","v":"τόν"}," ",{"$f":"FlashCards!CD1025","v":"the (accusative, singular, masculine)"}]
[{"$f":"FlashCards!BY1026","v":"τήν"}," ",{"$f":"FlashCards!CD1026","v":"the (accusative, singular, feminine)"}]
[{"$f":"FlashCards!BY1027","v":"οἱ"}," ",{"$f":"FlashCards!CD1027","v":"the (nominative, plural, masculine)"}]
[{"$f":"FlashCards!BY1028","v":"αἱ"}," ",{"$f":"FlashCards!CD1028","v":"the (nominative, plural, feminine)"}]
[{"$f":"FlashCards!BY1029","v":"τά"}," ",{"$f":"FlashCards!CD1029","v":"the (nominative or accusative, plural, neuter)"}]
[{"$f":"FlashCards!BY1030","v":"τῶν"}," ",{"$f":"FlashCards!CD1030","v":"the/of the (genitive, plural, masculine, feminine, neuter)"}]
[{"$f":"FlashCards!BY1031","v":"τοῖς"}," ",{"$f":"FlashCards!CD1031","v":"the/ to the (dative, plural, masculine or neuter)"}]
[{"$f":"FlashCards!BY1032","v":"ταῖς"}," ",{"$f":"FlashCards!CD1032","v":"the/to the (dative, plural, feminine)"}]
[{"$f":"FlashCards!BY1033","v":"τούς"}," ",{"$f":"FlashCards!CD1033","v":"the (accusative, plural, masculine)"}]
[{"$f":"FlashCards!BY1034","v":"τάς"}," ",{"$f":"FlashCards!CD1034","v":"the (accusative, plural, feminine)"}]
[{"$f":"FlashCards!BY1035","v":"ὅδε, ἥδε, τόδε"}," ",{"$f":"FlashCards!CD1035","v":"this (one) [masc., fem., neut.]"}]
[{"$f":"FlashCards!BY1036","v":"ἡ ὁδός"}," ",{"$f":"FlashCards!CD1036","v":"way, road, journey, conduct"}]
[{"$f":"FlashCards!BY1037","v":"ὁ ὀδούς"}," ",{"$f":"FlashCards!CD1037","v":"tooth"}]
[{"$f":"FlashCards!BY1038","v":"ὅθεν"}," ",{"$f":"FlashCards!CD1038","v":"from where, for which reason"}]
[{"$f":"FlashCards!BY1039","v":"τό ὀθόνιον"}," ",{"$f":"FlashCards!CD1039","v":"linen, linen cloth"}]
[{"$f":"FlashCards!BY1040","v":"ἡ οἰκία"}," ",{"$f":"FlashCards!CD1040","v":"house, home, household"}]
[{"$f":"FlashCards!BY1041","v":"ὁ οἰκοδεσπότης"}," ",{"$f":"FlashCards!CD1041","v":"master of the house"}]
[{"$f":"FlashCards!BY1042","v":"οἰκοδομέω"}," ",{"$f":"FlashCards!CD1042","v":"I build, I construct"}]
[{"$f":"FlashCards!BY1043","v":"ἡ οἰκοδομή"}," ",{"$f":"FlashCards!CD1043","v":"building, edification"}]
[{"$f":"FlashCards!BY1044","v":"ὁ οἰκονόμος"}," ",{"$f":"FlashCards!CD1044","v":"steward, administrator"}]
[{"$f":"FlashCards!BY1045","v":"ὁ οἶκος"}," ",{"$f":"FlashCards!CD1045","v":"house, estate, clan"}]
[{"$f":"FlashCards!BY1046","v":"ἡ οἰκουμένη"}," ",{"$f":"FlashCards!CD1046","v":"(the) inhabited world"}]
[{"$f":"FlashCards!BY1047","v":"ὁ οἶνος"}," ",{"$f":"FlashCards!CD1047","v":"wine"}]
[{"$f":"FlashCards!BY1048","v":"οἶος"}," ",{"$f":"FlashCards!CD1048","v":"of what sort, such as"}]
[{"$f":"FlashCards!BY1049","v":"ὀλίγος"}," ",{"$f":"FlashCards!CD1049","v":"little, few"}]
[{"$f":"FlashCards!BY1050","v":"ὅλος"}," ",{"$f":"FlashCards!CD1050","v":"whole, complete"}]
[{"$f":"FlashCards!BY1051","v":"ὅλος"}," ",{"$f":"FlashCards!CD1051","v":"entirely, wholly"}]
[{"$f":"FlashCards!BY1052","v":"ὁμιλέω"}," ",{"$f":"FlashCards!CD1052","v":"I converse with, I keep company with"}]
[{"$f":"FlashCards!BY1053","v":"ὀμνύω or ὄμνυμι"}," ",{"$f":"FlashCards!CD1053","v":"I swear, I take an oath"}]
[{"$f":"FlashCards!BY1054","v":"ὁμοθυμαδόν"}," ",{"$f":"FlashCards!CD1054","v":"with one mind"}]
[{"$f":"FlashCards!BY1055","v":"ὅμοιος"}," ",{"$f":"FlashCards!CD1055","v":"like, similar"}]
[{"$f":"FlashCards!BY1056","v":"ὁμοιόω"}," ",{"$f":"FlashCards!CD1056","v":"I compare, I make like"}]
[{"$f":"FlashCards!BY1057","v":"ὁμοίως"}," ",{"$f":"FlashCards!CD1057","v":"likewise, in the same way"}]
[{"$f":"FlashCards!BY1058","v":"ὁμολογέω"}," ",{"$f":"FlashCards!CD1058","v":"I profess, I confess"}]
[{"$f":"FlashCards!BY1059","v":"τό ὄνομα"}," ",{"$f":"FlashCards!CD1059","v":"name, reputation"}]
[{"$f":"FlashCards!BY1060","v":"τί ὄνομά σοι"}," ",{"$f":"FlashCards!CD1060","v":"what is your name?"}]
[{"$f":"FlashCards!BY1061","v":"ὀνομάζω"}," ",{"$f":"FlashCards!CD1061","v":"I name"}]
[{"$f":"FlashCards!BY1062","v":"ὄντωσ"}," ",{"$f":"FlashCards!CD1062","v":"real"}]
[{"$f":"FlashCards!BY1063","v":"ὄντωσ"}," ",{"$f":"FlashCards!CD1063","v":"really"}]
[{"$f":"FlashCards!BY1064","v":"ὀπίζω"}," ",{"$f":"FlashCards!CD1064","v":"behind, after [genitive]"}]
[{"$f":"FlashCards!BY1065","v":"ὅπου"}," ",{"$f":"FlashCards!CD1065","v":"where"}]
[{"$f":"FlashCards!BY1066","v":"ὀπτάνομαι"}," ",{"$f":"FlashCards!CD1066","v":"I am seen"}]
[{"$f":"FlashCards!BY1067","v":"ἡ ὀπτασία"}," ",{"$f":"FlashCards!CD1067","v":"(a) vision"}]
[{"$f":"FlashCards!BY1068","v":"ὅπως"}," ",{"$f":"FlashCards!CD1068","v":"how, that, in order that"}]
[{"$f":"FlashCards!BY1069","v":"τό ὅραμα"}," ",{"$f":"FlashCards!CD1069","v":"vision"}]
[{"$f":"FlashCards!BY1070","v":"ὁράω"}," ",{"$f":"FlashCards!CD1070","v":"I see, I notice, I experience"}]
[{"$f":"FlashCards!BY1071","v":"ἡ ὀργή"}," ",{"$f":"FlashCards!CD1071","v":"wrath, anger"}]
[{"$f":"FlashCards!BY1072","v":"ὁ ὄρθρος"}," ",{"$f":"FlashCards!CD1072","v":"early dawn"}]
[{"$f":"FlashCards!BY1073","v":"τό ὅριον"}," ",{"$f":"FlashCards!CD1073","v":"region, boundary"}]
[{"$f":"FlashCards!BY1074","v":"ὁ ὅρκος"}," ",{"$f":"FlashCards!CD1074","v":"oath"}]
[{"$f":"FlashCards!BY1075","v":"τό ὄρος"}," ",{"$f":"FlashCards!CD1075","v":"mountain, hill"}]
[{"$f":"FlashCards!BY1076","v":"ὅς"}," ",{"$f":"FlashCards!CD1076","v":"who/which/that (nominative, singular, masculine)"}]
[{"$f":"FlashCards!BY1077","v":"ἥ"}," ",{"$f":"FlashCards!CD1077","v":"who/which/that (nominative, singular, feminine)"}]
[{"$f":"FlashCards!BY1078","v":"ὅ"}," ",{"$f":"FlashCards!CD1078","v":"who/whom/which/that (nominative or accusative, singular, neuter)"}]
[{"$f":"FlashCards!BY1079","v":"οὗ"}," ",{"$f":"FlashCards!CD1079","v":"of whom/of which/of whose (genitive, singular, masculine or neuter)"}]
[{"$f":"FlashCards!BY1080","v":"ἧς"}," ",{"$f":"FlashCards!CD1080","v":"of whom/of which/of whose (genitive, singular, feminine)"}]
[{"$f":"FlashCards!BY1081","v":"ᾧ"}," ",{"$f":"FlashCards!CD1081","v":"to whom/to which (dative, singular, masculine or neuter)"}]
[{"$f":"FlashCards!BY1082","v":"ᾗ"}," ",{"$f":"FlashCards!CD1082","v":"to whom/to which (dative, singular, feminine)"}]
[{"$f":"FlashCards!BY1083","v":"ὅν"}," ",{"$f":"FlashCards!CD1083","v":"whom/which/that (accusative, singular, masculine)"}]
[{"$f":"FlashCards!BY1084","v":"ἥν"}," ",{"$f":"FlashCards!CD1084","v":"whom/which/that (accusative, singular, feminine)"}]
[{"$f":"FlashCards!BY1085","v":"οἵ"}," ",{"$f":"FlashCards!CD1085","v":"who/which/that (nominative, plural, masculine)"}]
[{"$f":"FlashCards!BY1086","v":"αἵ"}," ",{"$f":"FlashCards!CD1086","v":"who/which/that (nominative, plural, feminine)"}]
[{"$f":"FlashCards!BY1087","v":"ἅ"}," ",{"$f":"FlashCards!CD1087","v":"who/which/that/whom (nominative or accusative, plural, neuter)"}]
[{"$f":"FlashCards!BY1088","v":"ὧν"}," ",{"$f":"FlashCards!CD1088","v":"of whom/of which/of whose (genitive, plural, masculine, feminine, neuter)"}]
[{"$f":"FlashCards!BY1089","v":"οἷς"}," ",{"$f":"FlashCards!CD1089","v":"to whom/to which (dative, plural, masculine or neuter)"}]
[{"$f":"FlashCards!BY1090","v":"αἷς"}," ",{"$f":"FlashCards!CD1090","v":"to whom/to which (dative, plural, feminine)"}]
[{"$f":"FlashCards!BY1091","v":"οὕς"}," ",{"$f":"FlashCards!CD1091","v":"whom/which (accusative, plural, masculine)"}]
[{"$f":"FlashCards!BY1092","v":"ἅς"}," ",{"$f":"FlashCards!CD1092","v":"whom/which (accusative, plural, feminine)"}]
[{"$f":"FlashCards!BY1093","v":"ὅ τι"}," ",{"$f":"FlashCards!CD1093","v":"whoever, whichever, whatever (neuter; 2 words)"}]
[{"$f":"FlashCards!BY1094","v":"ὅς ἐὰν"}," ",{"$f":"FlashCards!CD1094","v":"whoever"}]
[{"$f":"FlashCards!BY1095","v":"ὅσος"}," ",{"$f":"FlashCards!CD1095","v":"as great as, as many as"}]
[{"$f":"FlashCards!BY1096","v":"τό ὀστέον, ὀστοῦν"}," ",{"$f":"FlashCards!CD1096","v":"bone"}]
[{"$f":"FlashCards!BY1097","v":"ὅστις"}," ",{"$f":"FlashCards!CD1097","v":"whoever, whichever, whatever (masculine)"}]
[{"$f":"FlashCards!BY1098","v":"ἥτις"}," ",{"$f":"FlashCards!CD1098","v":"whoever, whichever, whatever (feminine)"}]
[{"$f":"FlashCards!BY1099","v":"ὅτι"}," ",{"$f":"FlashCards!CD1099","v":"whoever, whichever, whatever (neuter) (usually appears as ὅ τι)"}]
[{"$f":"FlashCards!BY1100","v":"ὅταν"}," ",{"$f":"FlashCards!CD1100","v":"whenever"}]
[{"$f":"FlashCards!BY1101","v":"ὄτε"}," ",{"$f":"FlashCards!CD1101","v":"when"}]
[{"$f":"FlashCards!BY1102","v":"ὅτι"}," ",{"$f":"FlashCards!CD1102","v":"that, since, because, or begin a quotation"}]
[{"$f":"FlashCards!BY1103","v":"οὐ, οὐκ, οὐχ "}," ",{"$f":"FlashCards!CD1103","v":"not (particle; used in indicative moods)"}]
[{"$f":"FlashCards!BY1104","v":"οὐ μή"}," ",{"$f":"FlashCards!CD1104","v":"no! (emphatic)"}]
[{"$f":"FlashCards!BY1105","v":"οὗ"}," ",{"$f":"FlashCards!CD1105","v":"where"}]
[{"$f":"FlashCards!BY1106","v":"οὐαί"}," ",{"$f":"FlashCards!CD1106","v":"woe!, alas!"}]
[{"$f":"FlashCards!BY1107","v":"οὐδέ"}," ",{"$f":"FlashCards!CD1107","v":"and not, not even, neither, nor"}]
[{"$f":"FlashCards!BY1108","v":"οὐδείς"}," ",{"$f":"FlashCards!CD1108","v":"no one, none, nothing (masculine)"}]
[{"$f":"FlashCards!BY1109","v":"οὐδεμία"}," ",{"$f":"FlashCards!CD1109","v":"no one, none, nothing (feminine)"}]
[{"$f":"FlashCards!BY1110","v":"οὐδέν"}," ",{"$f":"FlashCards!CD1110","v":"no one, none, nothing (neuter)"}]
[{"$f":"FlashCards!BY1111","v":"οὐδέποτε"}," ",{"$f":"FlashCards!CD1111","v":"never"}]
[{"$f":"FlashCards!BY1112","v":"οὐκέτι"}," ",{"$f":"FlashCards!CD1112","v":"no longer"}]
[{"$f":"FlashCards!BY1113","v":"οὐκοῦν"}," ",{"$f":"FlashCards!CD1113","v":"so, then (particle introducing a question)"}]
[{"$f":"FlashCards!BY1114","v":"οὖν"}," ",{"$f":"FlashCards!CD1114","v":"so, therefore, accordingly, then (particle)"}]
[{"$f":"FlashCards!BY1115","v":"οὔπω"}," ",{"$f":"FlashCards!CD1115","v":"not yet"}]
[{"$f":"FlashCards!BY1116","v":"οὐράνιος"}," ",{"$f":"FlashCards!CD1116","v":"heavenly"}]
[{"$f":"FlashCards!BY1117","v":"ὁ οὐρανός"}," ",{"$f":"FlashCards!CD1117","v":"sky, heaven"}]
[{"$f":"FlashCards!BY1118","v":"τό οὖς, [ὠτός]"}," ",{"$f":"FlashCards!CD1118","v":"ear"}]
[{"$f":"FlashCards!BY1119","v":"οὔτε"}," ",{"$f":"FlashCards!CD1119","v":"and not, neither, nor"}]
[{"$f":"FlashCards!BY1120","v":"οὗτος"}," ",{"$f":"FlashCards!CD1120","v":"this one (nominative, singular, masculine)"}]
[{"$f":"FlashCards!BY1121","v":"οὗτος"}," ",{"$f":"FlashCards!CD1121","v":"this (nominative, singular, masculine)"}]
[{"$f":"FlashCards!BY1122","v":"αὗτη"}," ",{"$f":"FlashCards!CD1122","v":"this one (nominative, singular, feminine)"}]
[{"$f":"FlashCards!BY1123","v":"αὗτη"}," ",{"$f":"FlashCards!CD1123","v":"this (nominative, singular, feminine)"}]
[{"$f":"FlashCards!BY1124","v":"ταύτης"}," ",{"$f":"FlashCards!CD1124","v":"of this (genitive, singular, feminine)"}]
[{"$f":"FlashCards!BY1125","v":"ταύτην"}," ",{"$f":"FlashCards!CD1125","v":"this (accusative, singular, feminine)"}]
[{"$f":"FlashCards!BY1126","v":"οὗτοι"}," ",{"$f":"FlashCards!CD1126","v":"these (nominative, plural, masculine)"}]
[{"$f":"FlashCards!BY1127","v":"αὗται"}," ",{"$f":"FlashCards!CD1127","v":"these (nominative, plural, feminine)"}]
[{"$f":"FlashCards!BY1128","v":"ταύτας"}," ",{"$f":"FlashCards!CD1128","v":"these (accusative, plural, feminine)"}]
[{"$f":"FlashCards!BY1129","v":"οὕτως"}," ",{"$f":"FlashCards!CD1129","v":"thus, so, in this manner"}]
[{"$f":"FlashCards!BY1130","v":"οὐχί"}," ",{"$f":"FlashCards!CD1130","v":"not"}]
[{"$f":"FlashCards!BY1131","v":"ὀφείλω"}," ",{"$f":"FlashCards!CD1131","v":"I owe, I ought"}]
[{"$f":"FlashCards!BY1132","v":"ὁ ὀφθαλμός"}," ",{"$f":"FlashCards!CD1132","v":"eye, sight, vision"}]
[{"$f":"FlashCards!BY1133","v":"ὁ ὄφις"}," ",{"$f":"FlashCards!CD1133","v":"serpent"}]
[{"$f":"FlashCards!BY1134","v":"ὁ ὄχλος"}," ",{"$f":"FlashCards!CD1134","v":"crowd, multitude"}]
[{"$f":"FlashCards!BY1135","v":"ὄψιος"}," ",{"$f":"FlashCards!CD1135","v":"evening"}]
[{"$f":"FlashCards!BY1136","v":"τό πάθημα"}," ",{"$f":"FlashCards!CD1136","v":"suffering"}]
[{"$f":"FlashCards!BY1137","v":"παιδεύω"}," ",{"$f":"FlashCards!CD1137","v":"I train, I discipline"}]
[{"$f":"FlashCards!BY1138","v":"τό παιδίον"}," ",{"$f":"FlashCards!CD1138","v":"child, infant"}]
[{"$f":"FlashCards!BY1139","v":"ἡ παιδίσκη"}," ",{"$f":"FlashCards!CD1139","v":"maid, servant"}]
[{"$f":"FlashCards!BY1140","v":"ἡ παῖς"}," ",{"$f":"FlashCards!CD1140","v":"girl"}]
[{"$f":"FlashCards!BY1141","v":"ὁ παιδός, παῖς"}," ",{"$f":"FlashCards!CD1141","v":"boy, son, servant, girl (when feminine)"}]
[{"$f":"FlashCards!BY1142","v":"παλαιός"}," ",{"$f":"FlashCards!CD1142","v":"old"}]
[{"$f":"FlashCards!BY1143","v":"πάλιν"}," ",{"$f":"FlashCards!CD1143","v":"again"}]
[{"$f":"FlashCards!BY1144","v":"ὁ παντοκράτωρ"}," ",{"$f":"FlashCards!CD1144","v":"almighty (one)"}]
[{"$f":"FlashCards!BY1145","v":"πάντοτε"}," ",{"$f":"FlashCards!CD1145","v":"always"}]
[{"$f":"FlashCards!BY1146","v":"πάντως"}," ",{"$f":"FlashCards!CD1146","v":"surely, certainly, by all possible means, quite (particle)"}]
[{"$f":"FlashCards!BY1147","v":"παρά (παρʼ) [accusative]"}," ",{"$f":"FlashCards!CD1147","v":"alongside of [accusative]"}]
[{"$f":"FlashCards!BY1148","v":"παρά (παρʼ) [genitive]"}," ",{"$f":"FlashCards!CD1148","v":"from [genitive]"}]
[{"$f":"FlashCards!BY1149","v":"παρά (παρʼ) [dative]"}," ",{"$f":"FlashCards!CD1149","v":"beside, in the presence of [dative]"}]
[{"$f":"FlashCards!BY1150","v":"ἡ παραβολή"}," ",{"$f":"FlashCards!CD1150","v":"parable"}]
[{"$f":"FlashCards!BY1151","v":"παραγγέλλω"}," ",{"$f":"FlashCards!CD1151","v":"I command"}]
[{"$f":"FlashCards!BY1152","v":"παραγίνομαι"}," ",{"$f":"FlashCards!CD1152","v":"I arrive, I come"}]
[{"$f":"FlashCards!BY1153","v":"παράγω"}," ",{"$f":"FlashCards!CD1153","v":"I pass by"}]
[{"$f":"FlashCards!BY1154","v":"ὁ παράδεισος"}," ",{"$f":"FlashCards!CD1154","v":"paradise"}]
[{"$f":"FlashCards!BY1155","v":"παραδίδωμι"}," ",{"$f":"FlashCards!CD1155","v":"I deliver, I entrust, I hand over, I betray"}]
[{"$f":"FlashCards!BY1156","v":"ἡ παράδοσις"}," ",{"$f":"FlashCards!CD1156","v":"tradition"}]
[{"$f":"FlashCards!BY1157","v":"παραιτέομαι"}," ",{"$f":"FlashCards!CD1157","v":"I reject, I refuse, I decline"}]
[{"$f":"FlashCards!BY1158","v":"παρακαλέω"}," ",{"$f":"FlashCards!CD1158","v":"I urge, I call (to myself), I implore, I comfort"}]
[{"$f":"FlashCards!BY1159","v":"ἡ παράκλησις"}," ",{"$f":"FlashCards!CD1159","v":"comfort, encouragement"}]
[{"$f":"FlashCards!BY1160","v":"ὁ παράκλητος"}," ",{"$f":"FlashCards!CD1160","v":"advocate"}]
[{"$f":"FlashCards!BY1161","v":"παρακύπτω"}," ",{"$f":"FlashCards!CD1161","v":"I examine, I stoop to examine"}]
[{"$f":"FlashCards!BY1162","v":"παραλαμβάνω"}," ",{"$f":"FlashCards!CD1162","v":"I take over, I take"}]
[{"$f":"FlashCards!BY1163","v":"ὁ παραλυτικός"}," ",{"$f":"FlashCards!CD1163","v":"paralytic (one)"}]
[{"$f":"FlashCards!BY1164","v":"παραλυτικός"}," ",{"$f":"FlashCards!CD1164","v":"lame"}]
[{"$f":"FlashCards!BY1165","v":"τό παράπτωμα"}," ",{"$f":"FlashCards!CD1165","v":"wrongdoing, sin"}]
[{"$f":"FlashCards!BY1166","v":"παρατηρέω"}," ",{"$f":"FlashCards!CD1166","v":"I inspect, I watch carefully"}]
[{"$f":"FlashCards!BY1167","v":"παρατίθημι"}," ",{"$f":"FlashCards!CD1167","v":"I set before, I entrust"}]
[{"$f":"FlashCards!BY1168","v":"παραχρῆμα"}," ",{"$f":"FlashCards!CD1168","v":"immediately"}]
[{"$f":"FlashCards!BY1169","v":"πάρειμι"}," ",{"$f":"FlashCards!CD1169","v":"I am present, I have arrived"}]
[{"$f":"FlashCards!BY1170","v":"ἡ παρεμβολή"}," ",{"$f":"FlashCards!CD1170","v":"barracks, camp"}]
[{"$f":"FlashCards!BY1171","v":"παρέρχομαι"}," ",{"$f":"FlashCards!CD1171","v":"I pass away, I pass by"}]
[{"$f":"FlashCards!BY1172","v":"παρέχω"}," ",{"$f":"FlashCards!CD1172","v":"I offer"}]
[{"$f":"FlashCards!BY1173","v":"ἡ παρθένος"}," ",{"$f":"FlashCards!CD1173","v":"virgin"}]
[{"$f":"FlashCards!BY1174","v":"παρίστημι"}," ",{"$f":"FlashCards!CD1174","v":"I present, I am present, I stand with"}]
[{"$f":"FlashCards!BY1175","v":"παροικέω"}," ",{"$f":"FlashCards!CD1175","v":"I visit or I dwell (as an outsider)"}]
[{"$f":"FlashCards!BY1176","v":"ἡ παρουσία"}," ",{"$f":"FlashCards!CD1176","v":"presence, coming"}]
[{"$f":"FlashCards!BY1177","v":"ἡ παρρησία"}," ",{"$f":"FlashCards!CD1177","v":"boldness, openness, confidence"}]
[{"$f":"FlashCards!BY1178","v":"πᾶς"}," ",{"$f":"FlashCards!CD1178","v":"each, every, all (masculine)"}]
[{"$f":"FlashCards!BY1179","v":"πᾶσα"}," ",{"$f":"FlashCards!CD1179","v":"each, every, all (feminine)"}]
[{"$f":"FlashCards!BY1180","v":"πᾶν"}," ",{"$f":"FlashCards!CD1180","v":"each, every, all (neuter)"}]
[{"$f":"FlashCards!BY1181","v":"τό πάσχα"}," ",{"$f":"FlashCards!CD1181","v":"Passover"}]
[{"$f":"FlashCards!BY1182","v":"πάσχω"}," ",{"$f":"FlashCards!CD1182","v":"I suffer"}]
[{"$f":"FlashCards!BY1183","v":"πατάσσω"}," ",{"$f":"FlashCards!CD1183","v":"I strike"}]
[{"$f":"FlashCards!BY1184","v":"ὁ πατήρ"}," ",{"$f":"FlashCards!CD1184","v":"father"}]
[{"$f":"FlashCards!BY1185","v":"ὁ Παῦλος"}," ",{"$f":"FlashCards!CD1185","v":"Paul"}]
[{"$f":"FlashCards!BY1186","v":"παύω"}," ",{"$f":"FlashCards!CD1186","v":"I pause, I stop, I cease; I cause to stop or cease"}]
[{"$f":"FlashCards!BY1187","v":"πείθω"}," ",{"$f":"FlashCards!CD1187","v":"I persuade"}]
[{"$f":"FlashCards!BY1188","v":"πεινάω"}," ",{"$f":"FlashCards!CD1188","v":"I hunger, I am hungry, I need"}]
[{"$f":"FlashCards!BY1189","v":"πειράζω"}," ",{"$f":"FlashCards!CD1189","v":"I test, I tempt"}]
[{"$f":"FlashCards!BY1190","v":"ὁ πειρασμός"}," ",{"$f":"FlashCards!CD1190","v":"temptation, test"}]
[{"$f":"FlashCards!BY1191","v":"πέμπω"}," ",{"$f":"FlashCards!CD1191","v":"I send"}]
[{"$f":"FlashCards!BY1192","v":"πενθέω"}," ",{"$f":"FlashCards!CD1192","v":"I mourn"}]
[{"$f":"FlashCards!BY1193","v":"πέντε"}," ",{"$f":"FlashCards!CD1193","v":"five"}]
[{"$f":"FlashCards!BY1194","v":"πέραν"}," ",{"$f":"FlashCards!CD1194","v":"on the other side"}]
[{"$f":"FlashCards!BY1195","v":"περί [genitive]"}," ",{"$f":"FlashCards!CD1195","v":"concerning, about [genitive]"}]
[{"$f":"FlashCards!BY1196","v":"περί [accusative]"}," ",{"$f":"FlashCards!CD1196","v":"around [accusative]"}]
[{"$f":"FlashCards!BY1197","v":"περιβάλλω"}," ",{"$f":"FlashCards!CD1197","v":"I put on, I clothe"}]
[{"$f":"FlashCards!BY1198","v":"περιμένω"}," ",{"$f":"FlashCards!CD1198","v":"I wait, I remain"}]
[{"$f":"FlashCards!BY1199","v":"περιπατέω"}," ",{"$f":"FlashCards!CD1199","v":"I walk, I walk around, I live"}]
[{"$f":"FlashCards!BY1200","v":"περισσεύω"}," ",{"$f":"FlashCards!CD1200","v":"I abound, I exceed"}]
[{"$f":"FlashCards!BY1201","v":"περισσότερος"}," ",{"$f":"FlashCards!CD1201","v":"greater, more"}]
[{"$f":"FlashCards!BY1202","v":"περισσοτέρως"}," ",{"$f":"FlashCards!CD1202","v":"greatly, greater, more"}]
[{"$f":"FlashCards!BY1203","v":"ἡ περιστερά"}," ",{"$f":"FlashCards!CD1203","v":"dove"}]
[{"$f":"FlashCards!BY1204","v":"περιτέμνω"}," ",{"$f":"FlashCards!CD1204","v":"I circumcise, I cut around"}]
[{"$f":"FlashCards!BY1205","v":"ἡ περιτομή"}," ",{"$f":"FlashCards!CD1205","v":"circumcision"}]
[{"$f":"FlashCards!BY1206","v":"τό πετεινόν"}," ",{"$f":"FlashCards!CD1206","v":"bird"}]
[{"$f":"FlashCards!BY1207","v":"ἡ πέτρα"}," ",{"$f":"FlashCards!CD1207","v":"rock, solid rock"}]
[{"$f":"FlashCards!BY1208","v":"ὁ Πέτρος"}," ",{"$f":"FlashCards!CD1208","v":"Peter"}]
[{"$f":"FlashCards!BY1209","v":"ἡ πηγή"}," ",{"$f":"FlashCards!CD1209","v":"spring, fountain"}]
[{"$f":"FlashCards!BY1210","v":"πιάζω"}," ",{"$f":"FlashCards!CD1210","v":"I seize, I take hold of"}]
[{"$f":"FlashCards!BY1211","v":"ὁ Πιλᾶτος"}," ",{"$f":"FlashCards!CD1211","v":"Pilate"}]
[{"$f":"FlashCards!BY1212","v":"πίνω"}," ",{"$f":"FlashCards!CD1212","v":"I drink"}]
[{"$f":"FlashCards!BY1213","v":"πίπτω"}," ",{"$f":"FlashCards!CD1213","v":"I fall"}]
[{"$f":"FlashCards!BY1214","v":"πιστεύω"}," ",{"$f":"FlashCards!CD1214","v":"I believe, I trust, I have faith (in)"}]
[{"$f":"FlashCards!BY1215","v":"ἡ πίστις"}," ",{"$f":"FlashCards!CD1215","v":"trust, faith, belief, teaching"}]
[{"$f":"FlashCards!BY1216","v":"πιστός"}," ",{"$f":"FlashCards!CD1216","v":"faithful, believing"}]
[{"$f":"FlashCards!BY1217","v":"πλανάω"}," ",{"$f":"FlashCards!CD1217","v":"I go astray, I mislead"}]
[{"$f":"FlashCards!BY1218","v":"ἡ πλάνη"}," ",{"$f":"FlashCards!CD1218","v":"error, mistake"}]
[{"$f":"FlashCards!BY1219","v":"πολύς"}," ",{"$f":"FlashCards!CD1219","v":"much, many, often (masculine)"}]
[{"$f":"FlashCards!BY1220","v":"πολλή"}," ",{"$f":"FlashCards!CD1220","v":"much, many, often (feminine)"}]
[{"$f":"FlashCards!BY1221","v":"πολύ"}," ",{"$f":"FlashCards!CD1221","v":"much, many, often (neuter)"}]
[{"$f":"FlashCards!BY1222","v":"πλείων"}," ",{"$f":"FlashCards!CD1222","v":"larger, more (masculine or feminine)"}]
[{"$f":"FlashCards!BY1223","v":"πλεῖον"}," ",{"$f":"FlashCards!CD1223","v":"larger, more (neuter)"}]
[{"$f":"FlashCards!BY1224","v":"ἡ πλεονεξία"}," ",{"$f":"FlashCards!CD1224","v":"greed, greediness"}]
[{"$f":"FlashCards!BY1225","v":"ἡ πληγή"}," ",{"$f":"FlashCards!CD1225","v":"plague, blow, wound, affliction"}]
[{"$f":"FlashCards!BY1226","v":"τό πλῆθος"}," ",{"$f":"FlashCards!CD1226","v":"multitude"}]
[{"$f":"FlashCards!BY1227","v":"πληθύνω"}," ",{"$f":"FlashCards!CD1227","v":"I multiply, I increase"}]
[{"$f":"FlashCards!BY1228","v":"πίμπλημι"}," ",{"$f":"FlashCards!CD1228","v":"I fulfill, I fill"}]
[{"$f":"FlashCards!BY1229","v":"πλήν"}," ",{"$f":"FlashCards!CD1229","v":"nevertheless, but, except (particle)"}]
[{"$f":"FlashCards!BY1230","v":"   πλήρης"}," ",{"$f":"FlashCards!CD1230","v":"full"}]
[{"$f":"FlashCards!BY1231","v":"πληρόω"}," ",{"$f":"FlashCards!CD1231","v":"I fill, I fulfill, I complete"}]
[{"$f":"FlashCards!BY1232","v":"τό πλήρωμα"}," ",{"$f":"FlashCards!CD1232","v":"fullness"}]
[{"$f":"FlashCards!BY1233","v":"ὁ πλησίον"}," ",{"$f":"FlashCards!CD1233","v":"neighbor"}]
[{"$f":"FlashCards!BY1234","v":"πλησίον"}," ",{"$f":"FlashCards!CD1234","v":"near"}]
[{"$f":"FlashCards!BY1235","v":"τό πλοῖον"}," ",{"$f":"FlashCards!CD1235","v":"ship, boat"}]
[{"$f":"FlashCards!BY1236","v":"πλούσιος"}," ",{"$f":"FlashCards!CD1236","v":"rich"}]
[{"$f":"FlashCards!BY1237","v":"πλουτέω"}," ",{"$f":"FlashCards!CD1237","v":"I am rich"}]
[{"$f":"FlashCards!BY1238","v":"ὁ πλοῦτος"}," ",{"$f":"FlashCards!CD1238","v":"wealth"}]
[{"$f":"FlashCards!BY1239","v":"τό πνεῦμα"}," ",{"$f":"FlashCards!CD1239","v":"breath, wind, spirit, air, inner life"}]
[{"$f":"FlashCards!BY1240","v":"πνευματικός"}," ",{"$f":"FlashCards!CD1240","v":"spiritual"}]
[{"$f":"FlashCards!BY1241","v":"πόθεν"}," ",{"$f":"FlashCards!CD1241","v":"from where? from whom?"}]
[{"$f":"FlashCards!BY1242","v":"ποιέω"}," ",{"$f":"FlashCards!CD1242","v":"I do, I make"}]
[{"$f":"FlashCards!BY1243","v":"ποικίλος"}," ",{"$f":"FlashCards!CD1243","v":"diverse, manifold, varied, various"}]
[{"$f":"FlashCards!BY1244","v":"ποιμαίνω"}," ",{"$f":"FlashCards!CD1244","v":"I shepherd"}]
[{"$f":"FlashCards!BY1245","v":"ὁ ποιμήν"}," ",{"$f":"FlashCards!CD1245","v":"shepherd"}]
[{"$f":"FlashCards!BY1246","v":"ποῖος"}," ",{"$f":"FlashCards!CD1246","v":"which? of what kind? what?"}]
[{"$f":"FlashCards!BY1247","v":"ἐν ποία"}," ",{"$f":"FlashCards!CD1247","v":"by what?"}]
[{"$f":"FlashCards!BY1248","v":"ὁ πόλεμος"}," ",{"$f":"FlashCards!CD1248","v":"war, battle"}]
[{"$f":"FlashCards!BY1249","v":"ἡ πόλις"}," ",{"$f":"FlashCards!CD1249","v":"city, town"}]
[{"$f":"FlashCards!BY1250","v":"πολλάκις"}," ",{"$f":"FlashCards!CD1250","v":"often, frequently"}]
[{"$f":"FlashCards!BY1251","v":"πονηρός"}," ",{"$f":"FlashCards!CD1251","v":"evil, bad"}]
[{"$f":"FlashCards!BY1252","v":"πορεύομαι"}," ",{"$f":"FlashCards!CD1252","v":"I go, I proceed, I live"}]
[{"$f":"FlashCards!BY1253","v":"ἡ πορνεία"}," ",{"$f":"FlashCards!CD1253","v":"fornication"}]
[{"$f":"FlashCards!BY1254","v":"ἡ πόρνη"}," ",{"$f":"FlashCards!CD1254","v":"prostitute"}]
[{"$f":"FlashCards!BY1255","v":"ὁ πόρνος "}," ",{"$f":"FlashCards!CD1255","v":"fornicator"}]
[{"$f":"FlashCards!BY1256","v":"πόσος"}," ",{"$f":"FlashCards!CD1256","v":"how great? how much? how many"}]
[{"$f":"FlashCards!BY1257","v":"ὁ ποταμός"}," ",{"$f":"FlashCards!CD1257","v":"river"}]
[{"$f":"FlashCards!BY1258","v":"ποτέ"}," ",{"$f":"FlashCards!CD1258","v":"at some time, once, at one time"}]
[{"$f":"FlashCards!BY1259","v":"πότε"}," ",{"$f":"FlashCards!CD1259","v":"when?"}]
[{"$f":"FlashCards!BY1260","v":"τό ποτήριον"}," ",{"$f":"FlashCards!CD1260","v":"cup"}]
[{"$f":"FlashCards!BY1261","v":"ποτίζω"}," ",{"$f":"FlashCards!CD1261","v":"I give to drink"}]
[{"$f":"FlashCards!BY1262","v":"ποῦ"}," ",{"$f":"FlashCards!CD1262","v":"where? (particle)"}]
[{"$f":"FlashCards!BY1263","v":"ὁ πούς (ποδός)"}," ",{"$f":"FlashCards!CD1263","v":"foot"}]
[{"$f":"FlashCards!BY1264","v":"τό πρᾶγμα"}," ",{"$f":"FlashCards!CD1264","v":"deed, thing, matter"}]
[{"$f":"FlashCards!BY1265","v":"πράσσω"}," ",{"$f":"FlashCards!CD1265","v":"I do"}]
[{"$f":"FlashCards!BY1266","v":"ἡ πραΰτης"}," ",{"$f":"FlashCards!CD1266","v":"gentleness, humility"}]
[{"$f":"FlashCards!BY1267","v":"ὁ πρεσβύτερος [noun]"}," ",{"$f":"FlashCards!CD1267","v":"elder"}]
[{"$f":"FlashCards!BY1268","v":"πρεσβύτερος [adjective]"}," ",{"$f":"FlashCards!CD1268","v":"older"}]
[{"$f":"FlashCards!BY1269","v":"πρίν"}," ",{"$f":"FlashCards!CD1269","v":"before"}]
[{"$f":"FlashCards!BY1270","v":"πρό"}," ",{"$f":"FlashCards!CD1270","v":"before [genitive]"}]
[{"$f":"FlashCards!BY1271","v":"προάγω"}," ",{"$f":"FlashCards!CD1271","v":"I go before"}]
[{"$f":"FlashCards!BY1272","v":"τό πρόβατον"}," ",{"$f":"FlashCards!CD1272","v":"sheep, grazing animal"}]
[{"$f":"FlashCards!BY1273","v":"ὁ προδότης"}," ",{"$f":"FlashCards!CD1273","v":"traitor, betrayer"}]
[{"$f":"FlashCards!BY1274","v":"ἡ πρόθεσις"}," ",{"$f":"FlashCards!CD1274","v":"plan, purpose"}]
[{"$f":"FlashCards!BY1275","v":"προλέγω"}," ",{"$f":"FlashCards!CD1275","v":"I tell beforehand"}]
[{"$f":"FlashCards!BY1276","v":"πρός [accusative]"}," ",{"$f":"FlashCards!CD1276","v":"to, towards, with [accusative]"}]
[{"$f":"FlashCards!BY1277","v":"προσδέχομαι"}," ",{"$f":"FlashCards!CD1277","v":"I receive, I wait for"}]
[{"$f":"FlashCards!BY1278","v":"προσδοκάω"}," ",{"$f":"FlashCards!CD1278","v":"I expect, I wait for"}]
[{"$f":"FlashCards!BY1279","v":"προσέρχομαι"}," ",{"$f":"FlashCards!CD1279","v":"I come, I go to"}]
[{"$f":"FlashCards!BY1280","v":"ἡ προσευχή"}," ",{"$f":"FlashCards!CD1280","v":"prayer"}]
[{"$f":"FlashCards!BY1281","v":"προσεύχομαι"}," ",{"$f":"FlashCards!CD1281","v":"I pray"}]
[{"$f":"FlashCards!BY1282","v":"προσέχω"}," ",{"$f":"FlashCards!CD1282","v":"I am concerned about, I give heed to"}]
[{"$f":"FlashCards!BY1283","v":"προσκαλέω"}," ",{"$f":"FlashCards!CD1283","v":"I summon"}]
[{"$f":"FlashCards!BY1284","v":"προσκαρτερέω"}," ",{"$f":"FlashCards!CD1284","v":"I am devoted to, I am faithful"}]
[{"$f":"FlashCards!BY1285","v":"προσκυνέω"}," ",{"$f":"FlashCards!CD1285","v":"I worship"}]
[{"$f":"FlashCards!BY1286","v":"προσλαμβάνω"}," ",{"$f":"FlashCards!CD1286","v":"I receive"}]
[{"$f":"FlashCards!BY1287","v":"προστίθημι"}," ",{"$f":"FlashCards!CD1287","v":"I add to, I increase"}]
[{"$f":"FlashCards!BY1288","v":"προσφέρω"}," ",{"$f":"FlashCards!CD1288","v":"I bring to, I offer, I present"}]
[{"$f":"FlashCards!BY1289","v":"τό πρόσωπον"}," ",{"$f":"FlashCards!CD1289","v":"face, appearance"}]
[{"$f":"FlashCards!BY1290","v":"πρότερος"}," ",{"$f":"FlashCards!CD1290","v":"former, earlier"}]
[{"$f":"FlashCards!BY1291","v":"ἡ προφητεία"}," ",{"$f":"FlashCards!CD1291","v":"prophecy"}]
[{"$f":"FlashCards!BY1292","v":"προφητεύω"}," ",{"$f":"FlashCards!CD1292","v":"I prophesy"}]
[{"$f":"FlashCards!BY1293","v":"ὁ προφήτης"}," ",{"$f":"FlashCards!CD1293","v":"prophet"}]
[{"$f":"FlashCards!BY1294","v":"πρωΐ"}," ",{"$f":"FlashCards!CD1294","v":"early (in the morning)"}]
[{"$f":"FlashCards!BY1295","v":"πρῶτος"}," ",{"$f":"FlashCards!CD1295","v":"first, earlier"}]
[{"$f":"FlashCards!BY1296","v":"ὁ πρωτότοκος"}," ",{"$f":"FlashCards!CD1296","v":"firstborn"}]
[{"$f":"FlashCards!BY1297","v":"ὁ πτωχός"}," ",{"$f":"FlashCards!CD1297","v":"poor (person)"}]
[{"$f":"FlashCards!BY1298","v":"πτωχός"}," ",{"$f":"FlashCards!CD1298","v":"poor"}]
[{"$f":"FlashCards!BY1299","v":"ἡ πύλη"}," ",{"$f":"FlashCards!CD1299","v":"gate, (large) door"}]
[{"$f":"FlashCards!BY1300","v":"ὁ πυλών"}," ",{"$f":"FlashCards!CD1300","v":"gateway, gate"}]
[{"$f":"FlashCards!BY1301","v":"πυνθάνομαι"}," ",{"$f":"FlashCards!CD1301","v":"I inquire"}]
[{"$f":"FlashCards!BY1302","v":"τό πῦρ"}," ",{"$f":"FlashCards!CD1302","v":"fire"}]
[{"$f":"FlashCards!BY1303","v":"πωλέω"}," ",{"$f":"FlashCards!CD1303","v":"I sell"}]
[{"$f":"FlashCards!BY1304","v":"ὁ πῶλος"}," ",{"$f":"FlashCards!CD1304","v":"colt"}]
[{"$f":"FlashCards!BY1305","v":"πώς"}," ",{"$f":"FlashCards!CD1305","v":"somehow, perhaps (note the acute mark)"}]
[{"$f":"FlashCards!BY1306","v":"πῶς"}," ",{"$f":"FlashCards!CD1306","v":"how? (note the circumflex)"}]
[{"$f":"FlashCards!BY1307","v":"ὁ ῥαββί"}," ",{"$f":"FlashCards!CD1307","v":"rabbi, teacher, master"}]
[{"$f":"FlashCards!BY1308","v":"ἡ ῥάβδος"}," ",{"$f":"FlashCards!CD1308","v":"staff, rod"}]
[{"$f":"FlashCards!BY1309","v":"ῥήγνυμι"}," ",{"$f":"FlashCards!CD1309","v":"I break, I sunder, I tear, I break forth"}]
[{"$f":"FlashCards!BY1310","v":"τό ῥῆμα"}," ",{"$f":"FlashCards!CD1310","v":"saying, word"}]
[{"$f":"FlashCards!BY1311","v":"ἡ ῥίζα"}," ",{"$f":"FlashCards!CD1311","v":"root"}]
[{"$f":"FlashCards!BY1312","v":"ῥύομαι"}," ",{"$f":"FlashCards!CD1312","v":"I rescue"}]
[{"$f":"FlashCards!BY1313","v":"Ῥωμαῖος"}," ",{"$f":"FlashCards!CD1313","v":"Roman"}]
[{"$f":"FlashCards!BY1314","v":"τό σάββατον"}," ",{"$f":"FlashCards!CD1314","v":"sabbath, week"}]
[{"$f":"FlashCards!BY1315","v":"ὁ Σαδδουκαῖος"}," ",{"$f":"FlashCards!CD1315","v":"Sadducee"}]
[{"$f":"FlashCards!BY1316","v":"σαλεύω"}," ",{"$f":"FlashCards!CD1316","v":"I shake"}]
[{"$f":"FlashCards!BY1317","v":"ἡ σάλπιγξ"}," ",{"$f":"FlashCards!CD1317","v":"trumpet"}]
[{"$f":"FlashCards!BY1318","v":"σαλπίζω"}," ",{"$f":"FlashCards!CD1318","v":"I blow (a) trumpet"}]
[{"$f":"FlashCards!BY1319","v":"ἡ Σαμάρεια"}," ",{"$f":"FlashCards!CD1319","v":"Samaria"}]
[{"$f":"FlashCards!BY1320","v":"ἡ σάρξ"}," ",{"$f":"FlashCards!CD1320","v":"flesh, body"}]
[{"$f":"FlashCards!BY1321","v":"ὁ σατανάς"}," ",{"$f":"FlashCards!CD1321","v":"satan, adversary"}]
[{"$f":"FlashCards!BY1322","v":"ὁ Σαῦλος"}," ",{"$f":"FlashCards!CD1322","v":"Saul"}]
[{"$f":"FlashCards!BY1323","v":"σύ"}," ",{"$f":"FlashCards!CD1323","v":"you (singular)"}]
[{"$f":"FlashCards!BY1324","v":"σύ"}," ",{"$f":"FlashCards!CD1324","v":"you (nominative singular)"}]
[{"$f":"FlashCards!BY1325","v":"σοῦ"}," ",{"$f":"FlashCards!CD1325","v":"your/of you (emphatic genitive singular)"}]
[{"$f":"FlashCards!BY1326","v":"σε"}," ",{"$f":"FlashCards!CD1326","v":"you (accusative singular)"}]
[{"$f":"FlashCards!BY1327","v":"σέ"}," ",{"$f":"FlashCards!CD1327","v":"you (emphatic accusative singular)"}]
[{"$f":"FlashCards!BY1328","v":"σεαυτοῦ"}," ",{"$f":"FlashCards!CD1328","v":"of yourself"}]
[{"$f":"FlashCards!BY1329","v":"σέβω"}," ",{"$f":"FlashCards!CD1329","v":"I worship, I show devotion"}]
[{"$f":"FlashCards!BY1330","v":"ὁ σεισμός"}," ",{"$f":"FlashCards!CD1330","v":"earthquake"}]
[{"$f":"FlashCards!BY1331","v":"τό σημεῖον"}," ",{"$f":"FlashCards!CD1331","v":"sign, miracle"}]
[{"$f":"FlashCards!BY1332","v":"τό σήμερον"}," ",{"$f":"FlashCards!CD1332","v":"today"}]
[{"$f":"FlashCards!BY1333","v":"σιγάω"}," ",{"$f":"FlashCards!CD1333","v":"I keep silent, I become silent"}]
[{"$f":"FlashCards!BY1334","v":"ὁ Σίλας"}," ",{"$f":"FlashCards!CD1334","v":"Silas"}]
[{"$f":"FlashCards!BY1335","v":"ὁ Σίμων"}," ",{"$f":"FlashCards!CD1335","v":"Simon"}]
[{"$f":"FlashCards!BY1336","v":"ὁ σῖτος"}," ",{"$f":"FlashCards!CD1336","v":"wheat, grain"}]
[{"$f":"FlashCards!BY1337","v":"σιωπάω"}," ",{"$f":"FlashCards!CD1337","v":"I keep silent, I am calm, I become silent"}]
[{"$f":"FlashCards!BY1338","v":"σκανδαλίζω"}," ",{"$f":"FlashCards!CD1338","v":"I take offense, I cause to stumble, I cause to sin"}]
[{"$f":"FlashCards!BY1339","v":"τό σκάνδαλον"}," ",{"$f":"FlashCards!CD1339","v":"temptation, temptation to sin, offense"}]
[{"$f":"FlashCards!BY1340","v":"τό σκεῦος"}," ",{"$f":"FlashCards!CD1340","v":"instrument, vessel, good(s), thing"}]
[{"$f":"FlashCards!BY1341","v":"ἡ σκηνή"}," ",{"$f":"FlashCards!CD1341","v":"tent, tabernacle"}]
[{"$f":"FlashCards!BY1342","v":"σκιρτάω"}," ",{"$f":"FlashCards!CD1342","v":"I leap, I jump, I skip"}]
[{"$f":"FlashCards!BY1343","v":"ἡ σκοτία"}," ",{"$f":"FlashCards!CD1343","v":"darkness"}]
[{"$f":"FlashCards!BY1344","v":"τό σκότος"}," ",{"$f":"FlashCards!CD1344","v":"darkness"}]
[{"$f":"FlashCards!BY1345","v":"σοί"}," ",{"$f":"FlashCards!CD1345","v":"to you (emphatic dative singular)"}]
[{"$f":"FlashCards!BY1346","v":"ὁ Σολομῶν"}," ",{"$f":"FlashCards!CD1346","v":"Solomon"}]
[{"$f":"FlashCards!BY1347","v":"σός, σή, σόν"}," ",{"$f":"FlashCards!CD1347","v":"your, yours, of you (singular) [masc., fem., neut.]"}]
[{"$f":"FlashCards!BY1348","v":"σός"}," ",{"$f":"FlashCards!CD1348","v":"your, of you (masculine)"}]
[{"$f":"FlashCards!BY1349","v":"σή"}," ",{"$f":"FlashCards!CD1349","v":"your, of you (feminine)"}]
[{"$f":"FlashCards!BY1350","v":"σόν"}," ",{"$f":"FlashCards!CD1350","v":"your, of you (neuter)"}]
[{"$f":"FlashCards!BY1351","v":"ἡ σοφία"}," ",{"$f":"FlashCards!CD1351","v":"wisdom"}]
[{"$f":"FlashCards!BY1352","v":"σοφός"}," ",{"$f":"FlashCards!CD1352","v":"wise ('wise one' when used as a noun)"}]
[{"$f":"FlashCards!BY1353","v":"σπείρω"}," ",{"$f":"FlashCards!CD1353","v":"I sow"}]
[{"$f":"FlashCards!BY1354","v":"τό σπέρμα"}," ",{"$f":"FlashCards!CD1354","v":"seed, offspring"}]
[{"$f":"FlashCards!BY1355","v":"σπλαγχνίζομαι"}," ",{"$f":"FlashCards!CD1355","v":"I have pity, I feel sympathy"}]
[{"$f":"FlashCards!BY1356","v":"τό σπλάγχνον"}," ",{"$f":"FlashCards!CD1356","v":"affection, heart, compassion"}]
[{"$f":"FlashCards!BY1357","v":"σπουδάζω"}," ",{"$f":"FlashCards!CD1357","v":"I am eager, I am zealous, I am diligent"}]
[{"$f":"FlashCards!BY1358","v":"ἡ σπουδή"}," ",{"$f":"FlashCards!CD1358","v":"diligence, earnestness"}]
[{"$f":"FlashCards!BY1359","v":"ὁ σταυρός"}," ",{"$f":"FlashCards!CD1359","v":"cross"}]
[{"$f":"FlashCards!BY1360","v":"σταυρόω"}," ",{"$f":"FlashCards!CD1360","v":"I crucify"}]
[{"$f":"FlashCards!BY1361","v":"ὁ στάχυς"}," ",{"$f":"FlashCards!CD1361","v":"head of grain, ear (of corn)"}]
[{"$f":"FlashCards!BY1362","v":"ὁ στέφανος"}," ",{"$f":"FlashCards!CD1362","v":"crown, wreath"}]
[{"$f":"FlashCards!BY1363","v":"στήκω"}," ",{"$f":"FlashCards!CD1363","v":"I stand firm, I stand"}]
[{"$f":"FlashCards!BY1364","v":"στηρίζω"}," ",{"$f":"FlashCards!CD1364","v":"I establish, I strengthen"}]
[{"$f":"FlashCards!BY1365","v":"τό στόμα"}," ",{"$f":"FlashCards!CD1365","v":"mouth"}]
[{"$f":"FlashCards!BY1366","v":"ὁ στρατηγός"}," ",{"$f":"FlashCards!CD1366","v":"commander, magistrate"}]
[{"$f":"FlashCards!BY1367","v":"ὁ στρατιώτης"}," ",{"$f":"FlashCards!CD1367","v":"soldier"}]
[{"$f":"FlashCards!BY1368","v":"στρέφω"}," ",{"$f":"FlashCards!CD1368","v":"I turn"}]
[{"$f":"FlashCards!BY1369","v":"σου"}," ",{"$f":"FlashCards!CD1369","v":"your/of you (genitive singular)"}]
[{"$f":"FlashCards!BY1370","v":"σοι"}," ",{"$f":"FlashCards!CD1370","v":"to you (dative singular)"}]
[{"$f":"FlashCards!BY1371","v":"ὁ συγγενής"}," ",{"$f":"FlashCards!CD1371","v":"(a) relative"}]
[{"$f":"FlashCards!BY1372","v":"ἡ συγγενής"}," ",{"$f":"FlashCards!CD1372","v":"relative, family"}]
[{"$f":"FlashCards!BY1373","v":"συγγενής"}," ",{"$f":"FlashCards!CD1373","v":"related"}]
[{"$f":"FlashCards!BY1374","v":"συζητέω"}," ",{"$f":"FlashCards!CD1374","v":"I dispute, I discuss"}]
[{"$f":"FlashCards!BY1375","v":"ἡ συκῆ"}," ",{"$f":"FlashCards!CD1375","v":"fig tree"}]
[{"$f":"FlashCards!BY1376","v":"συλλαμβάνω"}," ",{"$f":"FlashCards!CD1376","v":"I seize, I conceive, I arrest"}]
[{"$f":"FlashCards!BY1377","v":"συμβαίνω"}," ",{"$f":"FlashCards!CD1377","v":"I come together (with), it happens"}]
[{"$f":"FlashCards!BY1378","v":"0 συμπνίγω"}," ",{"$f":"FlashCards!CD1378","v":"I choke (another), I drown (another), I strangle "}]
[{"$f":"FlashCards!BY1379","v":"συμφέρω"}," ",{"$f":"FlashCards!CD1379","v":"I am useful/profitable"}]
[{"$f":"FlashCards!BY1380","v":"συμφωνέω"}," ",{"$f":"FlashCards!CD1380","v":"I agree, I concur, I agree with"}]
[{"$f":"FlashCards!BY1381","v":"σύν [dative]"}," ",{"$f":"FlashCards!CD1381","v":"with [dative]"}]
[{"$f":"FlashCards!BY1382","v":"συνάγω"}," ",{"$f":"FlashCards!CD1382","v":"I gather together, I bring together, I lead"}]
[{"$f":"FlashCards!BY1383","v":"ἡ συναγωγή"}," ",{"$f":"FlashCards!CD1383","v":"synagogue, meeting"}]
[{"$f":"FlashCards!BY1384","v":"συναλίζω"}," ",{"$f":"FlashCards!CD1384","v":"I gather with, I congregate with"}]
[{"$f":"FlashCards!BY1385","v":"ὁ σύνδουλος"}," ",{"$f":"FlashCards!CD1385","v":"fellow slave, fellow servant"}]
[{"$f":"FlashCards!BY1386","v":"τό συνέδριον"}," ",{"$f":"FlashCards!CD1386","v":"sanhedrin, council"}]
[{"$f":"FlashCards!BY1387","v":"ἡ συνείδησις"}," ",{"$f":"FlashCards!CD1387","v":"conscience"}]
[{"$f":"FlashCards!BY1388","v":"σύνειμι"}," ",{"$f":"FlashCards!CD1388","v":"I gather together"}]
[{"$f":"FlashCards!BY1389","v":"ὁ συνεργός"}," ",{"$f":"FlashCards!CD1389","v":"helping, helper, fellow worker"}]
[{"$f":"FlashCards!BY1390","v":"συνέρχομαι"}," ",{"$f":"FlashCards!CD1390","v":"I assemble, I travel with"}]
[{"$f":"FlashCards!BY1391","v":"συνέχω"}," ",{"$f":"FlashCards!CD1391","v":"I compel, I confine, I oppress, I distress"}]
[{"$f":"FlashCards!BY1392","v":"συνίημι"}," ",{"$f":"FlashCards!CD1392","v":"I understand"}]
[{"$f":"FlashCards!BY1393","v":"συνίστημι (συνιστάνω)"}," ",{"$f":"FlashCards!CD1393","v":"I commend, I demonstrate"}]
[{"$f":"FlashCards!BY1394","v":"συντυγχάνω"}," ",{"$f":"FlashCards!CD1394","v":"I meet (with), I come together (with)"}]
[{"$f":"FlashCards!BY1395","v":"σφάζω"}," ",{"$f":"FlashCards!CD1395","v":"I slaughter"}]
[{"$f":"FlashCards!BY1396","v":"σφόδρα"}," ",{"$f":"FlashCards!CD1396","v":"extremely, greatly"}]
[{"$f":"FlashCards!BY1397","v":"σφραγίζω"}," ",{"$f":"FlashCards!CD1397","v":"I seal, I mark"}]
[{"$f":"FlashCards!BY1398","v":"ἡ σφραγίς"}," ",{"$f":"FlashCards!CD1398","v":"seal, signet"}]
[{"$f":"FlashCards!BY1399","v":"σχίζω"}," ",{"$f":"FlashCards!CD1399","v":"I split, I divide"}]
[{"$f":"FlashCards!BY1400","v":"σῴζω"}," ",{"$f":"FlashCards!CD1400","v":"I save, I deliver, I rescue"}]
[{"$f":"FlashCards!BY1401","v":"σῴζεσθε"}," ",{"$f":"FlashCards!CD1401","v":"be saved ( used as 'farewell' or 'goodbye')"}]
[{"$f":"FlashCards!BY1402","v":"τό σῶμα"}," ",{"$f":"FlashCards!CD1402","v":"body"}]
[{"$f":"FlashCards!BY1403","v":"ὁ σωτήρ"}," ",{"$f":"FlashCards!CD1403","v":"savior, deliverer"}]
[{"$f":"FlashCards!BY1404","v":"ἡ σωτηρία"}," ",{"$f":"FlashCards!CD1404","v":"salvation, deliverance"}]
[{"$f":"FlashCards!BY1405","v":"τό τάλαντον"}," ",{"$f":"FlashCards!CD1405","v":"talent (i.e., the coin, or money)"}]
[{"$f":"FlashCards!BY1406","v":"ταπεινόω"}," ",{"$f":"FlashCards!CD1406","v":"I humble"}]
[{"$f":"FlashCards!BY1407","v":"ταράσσω"}," ",{"$f":"FlashCards!CD1407","v":"I disturb, I trouble"}]
[{"$f":"FlashCards!BY1408","v":"ταῦτα"}," ",{"$f":"FlashCards!CD1408","v":"these (nominative or accusative, plural, neuter)"}]
[{"$f":"FlashCards!BY1409","v":"ταύταις"}," ",{"$f":"FlashCards!CD1409","v":"to these (dative, plural, feminine)"}]
[{"$f":"FlashCards!BY1410","v":"ταύτῃ"}," ",{"$f":"FlashCards!CD1410","v":"this (dative, singular, feminine)"}]
[{"$f":"FlashCards!BY1411","v":"ταχέως"}," ",{"$f":"FlashCards!CD1411","v":"quickly, in a short time"}]
[{"$f":"FlashCards!BY1412","v":"ταχύς"}," ",{"$f":"FlashCards!CD1412","v":"quick, swift"}]
[{"$f":"FlashCards!BY1413","v":"τέ"}," ",{"$f":"FlashCards!CD1413","v":"so, and so"}]
[{"$f":"FlashCards!BY1414","v":"τε ... και"}," ",{"$f":"FlashCards!CD1414","v":"both ... and"}]
[{"$f":"FlashCards!BY1415","v":"τό τεκμήριον"}," ",{"$f":"FlashCards!CD1415","v":"proof, evidence"}]
[{"$f":"FlashCards!BY1416","v":"τό τεκνίον"}," ",{"$f":"FlashCards!CD1416","v":"little child"}]
[{"$f":"FlashCards!BY1417","v":"τό τέκνον"}," ",{"$f":"FlashCards!CD1417","v":"child, descendant"}]
[{"$f":"FlashCards!BY1418","v":"τέλειος"}," ",{"$f":"FlashCards!CD1418","v":"complete, finished, perfect"}]
[{"$f":"FlashCards!BY1419","v":"τελειόω"}," ",{"$f":"FlashCards!CD1419","v":"I accomplish, I complete, I perfect"}]
[{"$f":"FlashCards!BY1420","v":"τελεσφορέω"}," ",{"$f":"FlashCards!CD1420","v":"I ripen, I bring to maturity"}]
[{"$f":"FlashCards!BY1421","v":"τελευτάω"}," ",{"$f":"FlashCards!CD1421","v":"I die"}]
[{"$f":"FlashCards!BY1422","v":"τελέω"}," ",{"$f":"FlashCards!CD1422","v":"I finish, I fulfill"}]
[{"$f":"FlashCards!BY1423","v":"τό τέλος"}," ",{"$f":"FlashCards!CD1423","v":"end, goal"}]
[{"$f":"FlashCards!BY1424","v":"ὁ τελώνης"}," ",{"$f":"FlashCards!CD1424","v":"tax collector"}]
[{"$f":"FlashCards!BY1425","v":"τό τέρας"}," ",{"$f":"FlashCards!CD1425","v":"omen, wonder"}]
[{"$f":"FlashCards!BY1426","v":"τεσσεράκοντα"}," ",{"$f":"FlashCards!CD1426","v":"forty"}]
[{"$f":"FlashCards!BY1427","v":"τέσσαρες"}," ",{"$f":"FlashCards!CD1427","v":"four"}]
[{"$f":"FlashCards!BY1428","v":"τέταρτος"}," ",{"$f":"FlashCards!CD1428","v":"fourth"}]
[{"$f":"FlashCards!BY1429","v":"τηρέω"}," ",{"$f":"FlashCards!CD1429","v":"I keep, I guard, I observe"}]
[{"$f":"FlashCards!BY1430","v":"τίθημι"}," ",{"$f":"FlashCards!CD1430","v":"I put, I place"}]
[{"$f":"FlashCards!BY1431","v":"τίκτω"}," ",{"$f":"FlashCards!CD1431","v":"I give birth to"}]
[{"$f":"FlashCards!BY1432","v":"τιμάω"}," ",{"$f":"FlashCards!CD1432","v":"I honor"}]
[{"$f":"FlashCards!BY1433","v":"ἡ τιμή"}," ",{"$f":"FlashCards!CD1433","v":"honor, price"}]
[{"$f":"FlashCards!BY1434","v":"τίμιος"}," ",{"$f":"FlashCards!CD1434","v":"costly, precious"}]
[{"$f":"FlashCards!BY1435","v":"ὁ Τιμόθεος"}," ",{"$f":"FlashCards!CD1435","v":"Timothy"}]
[{"$f":"FlashCards!BY1436","v":"τις"}," ",{"$f":"FlashCards!CD1436","v":"someone, something, anyone, anything (nominative, singular, masculine or feminine)"}]
[{"$f":"FlashCards!BY1437","v":"τι"}," ",{"$f":"FlashCards!CD1437","v":"someone, something, anyone, anything (nominative or accusative, singular, neuter)"}]
[{"$f":"FlashCards!BY1438","v":"τινός"}," ",{"$f":"FlashCards!CD1438","v":"of someone/something (genitive, singular, masculine, feminine, neuter)"}]
[{"$f":"FlashCards!BY1439","v":"τινί"}," ",{"$f":"FlashCards!CD1439","v":"to someone/something (dative, singular, masculine, feminine, neuter)"}]
[{"$f":"FlashCards!BY1440","v":"τινά"}," ",{"$f":"FlashCards!CD1440","v":"someone/something [accusative, singular, masculine or feminine] or [ accusative, singular, neuter], or [accusative, plural, neuter] "}]
[{"$f":"FlashCards!BY1441","v":"τινές"}," ",{"$f":"FlashCards!CD1441","v":"someone/something (nominative, plural, masculine or feminine)"}]
[{"$f":"FlashCards!BY1442","v":"τινῶν"}," ",{"$f":"FlashCards!CD1442","v":"of someone/something (genitive, plural, masculine, feminine, neuter)"}]
[{"$f":"FlashCards!BY1443","v":"τισί or τισίν"}," ",{"$f":"FlashCards!CD1443","v":"to someone/something (dative, plural, masculine, feminine, neuter)"}]
[{"$f":"FlashCards!BY1444","v":"τινάς"}," ",{"$f":"FlashCards!CD1444","v":"someone/something (accusative, plural, masculine or feminine)"}]
[{"$f":"FlashCards!BY1445","v":"τίς"}," ",{"$f":"FlashCards!CD1445","v":"who? what? which? (nominative, singular, masculine or feminine)"}]
[{"$f":"FlashCards!BY1446","v":"τί"}," ",{"$f":"FlashCards!CD1446","v":"why? who? what? which? (nominative or accusative, singular, neuter)"}]
[{"$f":"FlashCards!BY1447","v":"τίνος"}," ",{"$f":"FlashCards!CD1447","v":"of whom? of what? of which? (genitive, singular, masculine, feminine, neuter)"}]
[{"$f":"FlashCards!BY1448","v":"τίνι"}," ",{"$f":"FlashCards!CD1448","v":"to whom? to what? to which? (dative, singular, masculine, feminine, neuter)"}]
[{"$f":"FlashCards!BY1449","v":"τίνα"}," ",{"$f":"FlashCards!CD1449","v":"whom? what? which? (accusative, singular, masculine or feminine; nominative or accusative, plural, neuter)"}]
[{"$f":"FlashCards!BY1450","v":"τίνες"}," ",{"$f":"FlashCards!CD1450","v":"who? what? which? (nominative, plural, masculine or feminine)"}]
[{"$f":"FlashCards!BY1451","v":"τίνων"}," ",{"$f":"FlashCards!CD1451","v":"of whom? of what? of which? (genitive, plural, masculine, feminine, or neuter)"}]
[{"$f":"FlashCards!BY1452","v":"τίσι or τίσιν"}," ",{"$f":"FlashCards!CD1452","v":"to whom? to what? to which? (dative, plural, masculine, feminine, or neuter)"}]
[{"$f":"FlashCards!BY1453","v":"τίνας"}," ",{"$f":"FlashCards!CD1453","v":"whom? what? which? (accusative, plural, masculine or feminine)"}]
[{"$f":"FlashCards!BY1454","v":"ὁ Τίτος"}," ",{"$f":"FlashCards!CD1454","v":"Titus"}]
[{"$f":"FlashCards!BY1455","v":"τοι"}," ",{"$f":"FlashCards!CD1455","v":"assuredly, certainly (particle)"}]
[{"$f":"FlashCards!BY1456","v":"τοίνυν"}," ",{"$f":"FlashCards!CD1456","v":"therefore, then, so (particle)"}]
[{"$f":"FlashCards!BY1457","v":"τοιοῦτος"}," ",{"$f":"FlashCards!CD1457","v":"such, of such a kind"}]
[{"$f":"FlashCards!BY1458","v":"τολμάω"}," ",{"$f":"FlashCards!CD1458","v":"I dare to, I bring myself to"}]
[{"$f":"FlashCards!BY1459","v":"ὁ τόπος"}," ",{"$f":"FlashCards!CD1459","v":"place, location"}]
[{"$f":"FlashCards!BY1460","v":"τοσοῦτος"}," ",{"$f":"FlashCards!CD1460","v":"so great, so much, so many"}]
[{"$f":"FlashCards!BY1461","v":"τότε"}," ",{"$f":"FlashCards!CD1461","v":"then, thereafter"}]
[{"$f":"FlashCards!BY1462","v":"τοῦτο"}," ",{"$f":"FlashCards!CD1462","v":"this one (nominative, singular, neuter)"}]
[{"$f":"FlashCards!BY1463","v":"τοῦτο"}," ",{"$f":"FlashCards!CD1463","v":"this (nominative or accusative, singular, neuter)"}]
[{"$f":"FlashCards!BY1464","v":"τούτοις"}," ",{"$f":"FlashCards!CD1464","v":"to these (dative, plural, masculine or neuter)"}]
[{"$f":"FlashCards!BY1465","v":"τοῦτον"}," ",{"$f":"FlashCards!CD1465","v":"this (accusative, singular, masculine)"}]
[{"$f":"FlashCards!BY1466","v":"τούτου"}," ",{"$f":"FlashCards!CD1466","v":"of this (genitive, singular, masculine or neuter)"}]
[{"$f":"FlashCards!BY1467","v":"ἐκ τοῦτου"}," ",{"$f":"FlashCards!CD1467","v":"by this"}]
[{"$f":"FlashCards!BY1468","v":"τούτους"}," ",{"$f":"FlashCards!CD1468","v":"these (accusative, plural, masculine)"}]
[{"$f":"FlashCards!BY1469","v":"τούτῳ"}," ",{"$f":"FlashCards!CD1469","v":"to this (dative, singular, masculine or neuter)"}]
[{"$f":"FlashCards!BY1470","v":"τούτων"}," ",{"$f":"FlashCards!CD1470","v":"of these (genitive, plural, masculine, feminine, neuter)"}]
[{"$f":"FlashCards!BY1471","v":"ἡ τράπεζα"}," ",{"$f":"FlashCards!CD1471","v":"table"}]
[{"$f":"FlashCards!BY1472","v":"τρεῖς"}," ",{"$f":"FlashCards!CD1472","v":"three"}]
[{"$f":"FlashCards!BY1473","v":"τρία"}," ",{"$f":"FlashCards!CD1473","v":"three"}]
[{"$f":"FlashCards!BY1474","v":"τρέχω"}," ",{"$f":"FlashCards!CD1474","v":"I run"}]
[{"$f":"FlashCards!BY1475","v":"τριάκοντα"}," ",{"$f":"FlashCards!CD1475","v":"thirty"}]
[{"$f":"FlashCards!BY1476","v":"τρίς"}," ",{"$f":"FlashCards!CD1476","v":"three times"}]
[{"$f":"FlashCards!BY1477","v":"τρίτος"}," ",{"$f":"FlashCards!CD1477","v":"third"}]
[{"$f":"FlashCards!BY1478","v":"ὁ τρόπος"}," ",{"$f":"FlashCards!CD1478","v":"manner, way"}]
[{"$f":"FlashCards!BY1479","v":"ἡ τροφή"}," ",{"$f":"FlashCards!CD1479","v":"food"}]
[{"$f":"FlashCards!BY1480","v":"τυγχάνω"}," ",{"$f":"FlashCards!CD1480","v":"I attain, it happens, it turns out"}]
[{"$f":"FlashCards!BY1481","v":"ὁ τύπος"}," ",{"$f":"FlashCards!CD1481","v":"pattern, type"}]
[{"$f":"FlashCards!BY1482","v":"τύπτω"}," ",{"$f":"FlashCards!CD1482","v":"I strike"}]
[{"$f":"FlashCards!BY1483","v":"ὁ Τύρος"}," ",{"$f":"FlashCards!CD1483","v":"Tyre"}]
[{"$f":"FlashCards!BY1484","v":"τυφλός"}," ",{"$f":"FlashCards!CD1484","v":"blind"}]
[{"$f":"FlashCards!BY1485","v":"ὑγιαίνω"}," ",{"$f":"FlashCards!CD1485","v":"I am healthy, I am sound"}]
[{"$f":"FlashCards!BY1486","v":"ὑγιής"}," ",{"$f":"FlashCards!CD1486","v":"whole, healthy"}]
[{"$f":"FlashCards!BY1487","v":"τό ὕδωρ"}," ",{"$f":"FlashCards!CD1487","v":"water"}]
[{"$f":"FlashCards!BY1488","v":"ὁ υἱός"}," ",{"$f":"FlashCards!CD1488","v":"son, descendant"}]
[{"$f":"FlashCards!BY1489","v":"ὑμᾶς"}," ",{"$f":"FlashCards!CD1489","v":"you (accusative plural)"}]
[{"$f":"FlashCards!BY1490","v":"ὑμεῖς"}," ",{"$f":"FlashCards!CD1490","v":"you (nominative plural)"}]
[{"$f":"FlashCards!BY1491","v":"ὑμέτερος, -α, -ον"}," ",{"$f":"FlashCards!CD1491","v":"your (plural)"}]
[{"$f":"FlashCards!BY1492","v":"ὑμῖν"}," ",{"$f":"FlashCards!CD1492","v":"to you (dative plural)"}]
[{"$f":"FlashCards!BY1493","v":"ὑμῶν"}," ",{"$f":"FlashCards!CD1493","v":"your/of ya'll (genitive plural)"}]
[{"$f":"FlashCards!BY1494","v":"ὑπάγω"}," ",{"$f":"FlashCards!CD1494","v":"I depart"}]
[{"$f":"FlashCards!BY1495","v":"ἡ ὑπακοή"}," ",{"$f":"FlashCards!CD1495","v":"obedience"}]
[{"$f":"FlashCards!BY1496","v":"ὑπακούω"}," ",{"$f":"FlashCards!CD1496","v":"I obey"}]
[{"$f":"FlashCards!BY1497","v":"ὑπαντάω"}," ",{"$f":"FlashCards!CD1497","v":"I meet, I go to meet"}]
[{"$f":"FlashCards!BY1498","v":"ὑπάρχω"}," ",{"$f":"FlashCards!CD1498","v":"I am, I exist"}]
[{"$f":"FlashCards!BY1499","v":"ὑπέρ [genitive]"}," ",{"$f":"FlashCards!CD1499","v":"in behalf of [genitive]"}]
[{"$f":"FlashCards!BY1500","v":"ὑπέρ [accusative]"}," ",{"$f":"FlashCards!CD1500","v":"above [accusative]"}]
[{"$f":"FlashCards!BY1501","v":"ὁ ὑπηρέτης"}," ",{"$f":"FlashCards!CD1501","v":"servant, assistant"}]
[{"$f":"FlashCards!BY1502","v":"ὑπό [genitive]"}," ",{"$f":"FlashCards!CD1502","v":"by [genitive]"}]
[{"$f":"FlashCards!BY1503","v":"ὑπό [accusative]"}," ",{"$f":"FlashCards!CD1503","v":"under [accusative]"}]
[{"$f":"FlashCards!BY1504","v":"τό ὑπόδημα"}," ",{"$f":"FlashCards!CD1504","v":"sandal, shoe"}]
[{"$f":"FlashCards!BY1505","v":"ὑποκάτω"}," ",{"$f":"FlashCards!CD1505","v":"under, below [genitive]"}]
[{"$f":"FlashCards!BY1506","v":"ὁ ὑποκριτής"}," ",{"$f":"FlashCards!CD1506","v":"hypocrite"}]
[{"$f":"FlashCards!BY1507","v":"ὑπολαμβάνω"}," ",{"$f":"FlashCards!CD1507","v":"I take up, I respond"}]
[{"$f":"FlashCards!BY1508","v":"ὑπομένω"}," ",{"$f":"FlashCards!CD1508","v":"I endure"}]
[{"$f":"FlashCards!BY1509","v":"ἡ ὑπομονή"}," ",{"$f":"FlashCards!CD1509","v":"endurance"}]
[{"$f":"FlashCards!BY1510","v":"ὑποστρέφω"}," ",{"$f":"FlashCards!CD1510","v":"I return, I turn back"}]
[{"$f":"FlashCards!BY1511","v":"ὑποτάσσω"}," ",{"$f":"FlashCards!CD1511","v":"I subject, I subordinate"}]
[{"$f":"FlashCards!BY1512","v":"ὑστερέω"}," ",{"$f":"FlashCards!CD1512","v":"I lack"}]
[{"$f":"FlashCards!BY1513","v":"ὕστερος"}," ",{"$f":"FlashCards!CD1513","v":"later, then, finally"}]
[{"$f":"FlashCards!BY1514","v":"ὑψηλός"}," ",{"$f":"FlashCards!CD1514","v":"high, exalted"}]
[{"$f":"FlashCards!BY1515","v":"ὕψιστος"}," ",{"$f":"FlashCards!CD1515","v":"highest"}]
[{"$f":"FlashCards!BY1516","v":"ὑψόω"}," ",{"$f":"FlashCards!CD1516","v":"I exalt, I lift up"}]
[{"$f":"FlashCards!BY1517","v":"φαίνω"}," ",{"$f":"FlashCards!CD1517","v":"I shine, I appear"}]
[{"$f":"FlashCards!BY1518","v":"φανερός"}," ",{"$f":"FlashCards!CD1518","v":"visible, evident"}]
[{"$f":"FlashCards!BY1519","v":"φανερόω"}," ",{"$f":"FlashCards!CD1519","v":"I reveal, I make known"}]
[{"$f":"FlashCards!BY1520","v":"τό φάντασμα"}," ",{"$f":"FlashCards!CD1520","v":"ghost, phantom, spectre, apparition"}]
[{"$f":"FlashCards!BY1521","v":"ὁ Φαρισαῖος"}," ",{"$f":"FlashCards!CD1521","v":"Pharisee"}]
[{"$f":"FlashCards!BY1522","v":"φείδομαι"}," ",{"$f":"FlashCards!CD1522","v":"I spare"}]
[{"$f":"FlashCards!BY1523","v":"φέρω"}," ",{"$f":"FlashCards!CD1523","v":"I carry,  I bear, I produce"}]
[{"$f":"FlashCards!BY1524","v":"φεύγω"}," ",{"$f":"FlashCards!CD1524","v":"I flee"}]
[{"$f":"FlashCards!BY1525","v":"φημί"}," ",{"$f":"FlashCards!CD1525","v":"I say, I affirm"}]
[{"$f":"FlashCards!BY1526","v":"ἔφη"}," ",{"$f":"FlashCards!CD1526","v":"he/she/it said/was saying/was affirming (3rd person singular)"}]
[{"$f":"FlashCards!BY1527","v":"ὁ Φῆστος"}," ",{"$f":"FlashCards!CD1527","v":"Festus"}]
[{"$f":"FlashCards!BY1528","v":"ἡ φιάλη"}," ",{"$f":"FlashCards!CD1528","v":"bowl"}]
[{"$f":"FlashCards!BY1529","v":"φιλέω"}," ",{"$f":"FlashCards!CD1529","v":"I like, I love"}]
[{"$f":"FlashCards!BY1530","v":"τό φίλημα"}," ",{"$f":"FlashCards!CD1530","v":"kiss"}]
[{"$f":"FlashCards!BY1531","v":"ὁ Φίλιππος"}," ",{"$f":"FlashCards!CD1531","v":"Philip"}]
[{"$f":"FlashCards!BY1532","v":"ὁ φίλος [noun]"}," ",{"$f":"FlashCards!CD1532","v":"friend"}]
[{"$f":"FlashCards!BY1533","v":"φίλος [adjective]"}," ",{"$f":"FlashCards!CD1533","v":"beloved"}]
[{"$f":"FlashCards!BY1534","v":"φοβέομαι"}," ",{"$f":"FlashCards!CD1534","v":"I fear"}]
[{"$f":"FlashCards!BY1535","v":"ὁ φόβος"}," ",{"$f":"FlashCards!CD1535","v":"fear, reverence"}]
[{"$f":"FlashCards!BY1536","v":"φονεύω"}," ",{"$f":"FlashCards!CD1536","v":"I kill, I murder"}]
[{"$f":"FlashCards!BY1537","v":"φρίσσω"}," ",{"$f":"FlashCards!CD1537","v":"I tremble"}]
[{"$f":"FlashCards!BY1538","v":"φρονέω"}," ",{"$f":"FlashCards!CD1538","v":"I think, I regard"}]
[{"$f":"FlashCards!BY1539","v":"φρόνιμος"}," ",{"$f":"FlashCards!CD1539","v":"prudent, sensible"}]
[{"$f":"FlashCards!BY1540","v":"ἡ φυλακή"}," ",{"$f":"FlashCards!CD1540","v":"prison"}]
[{"$f":"FlashCards!BY1541","v":"φυλάσσω"}," ",{"$f":"FlashCards!CD1541","v":"I guard, I watch, I observe"}]
[{"$f":"FlashCards!BY1542","v":"ἡ φυλή"}," ",{"$f":"FlashCards!CD1542","v":"tribe, nation"}]
[{"$f":"FlashCards!BY1543","v":"ἡ φύσις"}," ",{"$f":"FlashCards!CD1543","v":"nature, essence"}]
[{"$f":"FlashCards!BY1544","v":"φυτεύω"}," ",{"$f":"FlashCards!CD1544","v":"I plant"}]
[{"$f":"FlashCards!BY1545","v":"φύω"}," ",{"$f":"FlashCards!CD1545","v":"I sprout, I spring up"}]
[{"$f":"FlashCards!BY1546","v":"φωνέω"}," ",{"$f":"FlashCards!CD1546","v":"I summon, I call out"}]
[{"$f":"FlashCards!BY1547","v":"ἡ φωνή"}," ",{"$f":"FlashCards!CD1547","v":"sound, noise, voice"}]
[{"$f":"FlashCards!BY1548","v":"τό φῶς"}," ",{"$f":"FlashCards!CD1548","v":"light"}]
[{"$f":"FlashCards!BY1549","v":"φωτίζω"}," ",{"$f":"FlashCards!CD1549","v":"I illuminate, I enlighten"}]
[{"$f":"FlashCards!BY1550","v":"χαίρω"}," ",{"$f":"FlashCards!CD1550","v":"I rejoice"}]
[{"$f":"FlashCards!BY1551","v":"χαμαί"}," ",{"$f":"FlashCards!CD1551","v":"prostrate, earthward"}]
[{"$f":"FlashCards!BY1552","v":"ἡ χαρά"}," ",{"$f":"FlashCards!CD1552","v":"joy, delight"}]
[{"$f":"FlashCards!BY1553","v":"χαρίζομαι"}," ",{"$f":"FlashCards!CD1553","v":"I give freely, I forgive"}]
[{"$f":"FlashCards!BY1554","v":"ἡ χάρις"}," ",{"$f":"FlashCards!CD1554","v":"grace, favor, kindness "}]
[{"$f":"FlashCards!BY1555","v":"τό χάρισμα"}," ",{"$f":"FlashCards!CD1555","v":"gift, favor, free gift"}]
[{"$f":"FlashCards!BY1556","v":"ἡ χείρ"}," ",{"$f":"FlashCards!CD1556","v":"hand, arm, finger"}]
[{"$f":"FlashCards!BY1557","v":"χείρων"}," ",{"$f":"FlashCards!CD1557","v":"worse"}]
[{"$f":"FlashCards!BY1558","v":"ἡ χήρα"}," ",{"$f":"FlashCards!CD1558","v":"widow"}]
[{"$f":"FlashCards!BY1559","v":"ἐχθὲς"}," ",{"$f":"FlashCards!CD1559","v":"yesterday"}]
[{"$f":"FlashCards!BY1560","v":"ἡ χιλίας"}," ",{"$f":"FlashCards!CD1560","v":"thousand (ones)"}]
[{"$f":"FlashCards!BY1561","v":"ὁ χιλίαρχος"}," ",{"$f":"FlashCards!CD1561","v":"military tribune, commander"}]
[{"$f":"FlashCards!BY1562","v":"χίλιοι"}," ",{"$f":"FlashCards!CD1562","v":"thousand"}]
[{"$f":"FlashCards!BY1563","v":"ὁ χιτών"}," ",{"$f":"FlashCards!CD1563","v":"tunic"}]
[{"$f":"FlashCards!BY1564","v":"ὁ χοῖρος"}," ",{"$f":"FlashCards!CD1564","v":"pig"}]
[{"$f":"FlashCards!BY1565","v":"χορτάζω"}," ",{"$f":"FlashCards!CD1565","v":"I feed, I fill, I satisfy"}]
[{"$f":"FlashCards!BY1566","v":"ὁ χόρτος"}," ",{"$f":"FlashCards!CD1566","v":"grass, hay"}]
[{"$f":"FlashCards!BY1567","v":"χράομαι"}," ",{"$f":"FlashCards!CD1567","v":"I use, I make use of"}]
[{"$f":"FlashCards!BY1568","v":"ἡ χρεία"}," ",{"$f":"FlashCards!CD1568","v":"need"}]
[{"$f":"FlashCards!BY1569","v":"ἡ χρηστότης"}," ",{"$f":"FlashCards!CD1569","v":"goodness, kindness, excellence"}]
[{"$f":"FlashCards!BY1570","v":"ὁ Χριστός"}," ",{"$f":"FlashCards!CD1570","v":"Christ, messiah, anointed one"}]
[{"$f":"FlashCards!BY1571","v":"ὁ χρόνος"}," ",{"$f":"FlashCards!CD1571","v":"time"}]
[{"$f":"FlashCards!BY1572","v":"χρυσοῦς, χρύσεος"}," ",{"$f":"FlashCards!CD1572","v":"golden"}]
[{"$f":"FlashCards!BY1573","v":"τό χρυσίον"}," ",{"$f":"FlashCards!CD1573","v":"gold"}]
[{"$f":"FlashCards!BY1574","v":"ὁ χρυσός"}," ",{"$f":"FlashCards!CD1574","v":"gold"}]
[{"$f":"FlashCards!BY1575","v":"   χωλός"}," ",{"$f":"FlashCards!CD1575","v":"lame"}]
[{"$f":"FlashCards!BY1576","v":"ἡ χώρα"}," ",{"$f":"FlashCards!CD1576","v":"land, region"}]
[{"$f":"FlashCards!BY1577","v":"   χωρέω"}," ",{"$f":"FlashCards!CD1577","v":"I accept, I make room"}]
[{"$f":"FlashCards!BY1578","v":"χωρίζω"}," ",{"$f":"FlashCards!CD1578","v":"I separate"}]
[{"$f":"FlashCards!BY1579","v":"τό χωρίον"}," ",{"$f":"FlashCards!CD1579","v":"place, land, field"}]
[{"$f":"FlashCards!BY1580","v":"χωρίς"}," ",{"$f":"FlashCards!CD1580","v":"without, apart from [genitive]"}]
[{"$f":"FlashCards!BY1581","v":"ψευδής"}," ",{"$f":"FlashCards!CD1581","v":"lying, false, untrue"}]
[{"$f":"FlashCards!BY1582","v":"ψεύδομαι"}," ",{"$f":"FlashCards!CD1582","v":"I lie"}]
[{"$f":"FlashCards!BY1583","v":"ὁ ψευδοπροφήτης"}," ",{"$f":"FlashCards!CD1583","v":"false prophet"}]
[{"$f":"FlashCards!BY1584","v":"τό ψεῦδος"}," ",{"$f":"FlashCards!CD1584","v":"lie"}]
[{"$f":"FlashCards!BY1585","v":"ὁ ψεύστης"}," ",{"$f":"FlashCards!CD1585","v":"liar"}]
[{"$f":"FlashCards!BY1586","v":"ἡ ψυχή"}," ",{"$f":"FlashCards!CD1586","v":"soul, life, self"}]
[{"$f":"FlashCards!BY1587","v":"ὦ"}," ",{"$f":"FlashCards!CD1587","v":"oh!"}]
[{"$f":"FlashCards!BY1588","v":"ὧδε"}," ",{"$f":"FlashCards!CD1588","v":"here"}]
[{"$f":"FlashCards!BY1589","v":"ἡ ὥρα"}," ",{"$f":"FlashCards!CD1589","v":"hour, occasion, moment"}]
[{"$f":"FlashCards!BY1590","v":"ὡς"}," ",{"$f":"FlashCards!CD1590","v":"as, like, that, when, after, approximately"}]
[{"$f":"FlashCards!BY1591","v":"ὡσαύτως"}," ",{"$f":"FlashCards!CD1591","v":"similarly, likewise"}]
[{"$f":"FlashCards!BY1592","v":"ὡσεί"}," ",{"$f":"FlashCards!CD1592","v":"as, like, about"}]
[{"$f":"FlashCards!BY1593","v":"ὥσπερ"}," ",{"$f":"FlashCards!CD1593","v":"just as (particle)"}]
[{"$f":"FlashCards!BY1594","v":"ὥστε"}," ",{"$f":"FlashCards!CD1594","v":"therefore, so that"}]
[{"$f":"FlashCards!BY1595","v":"ὠφελέω"}," ",{"$f":"FlashCards!CD1595","v":"I help, I benefit"}]
[{"$f":"FlashCards!BY1596","v":" "}," ",{"$f":"FlashCards!CD1596","v":" "}]
[{"$f":"FlashCards!BY1597","v":" "}," ",{"$f":"FlashCards!CD1597","v":" "}]
[{"$f":"FlashCards!BY1598","v":" "}," ",{"$f":"FlashCards!CD1598","v":" "}]
[{"$f":"FlashCards!BY1599","v":" "}," ",{"$f":"FlashCards!CD1599","v":" "}]
[{"$f":"FlashCards!BY1600","v":" "}," ",{"$f":"FlashCards!CD1600","v":" "}]
[{"$f":"FlashCards!BY1601","v":" "}," ",{"$f":"FlashCards!CD1601","v":" "}]
[{"$f":"FlashCards!BY1602","v":" "}," ",{"$f":"FlashCards!CD1602","v":" "}]
[{"$f":"FlashCards!BY1603","v":" "}," ",{"$f":"FlashCards!CD1603","v":" "}]
[{"$f":"FlashCards!BY1604","v":" "}," ",{"$f":"FlashCards!CD1604","v":" "}]
[{"$f":"FlashCards!BY1605","v":" "}," ",{"$f":"FlashCards!CD1605","v":" "}]
[{"$f":"FlashCards!BY1606","v":" "}," ",{"$f":"FlashCards!CD1606","v":" "}]
[{"$f":"FlashCards!BY1607","v":" "}," ",{"$f":"FlashCards!CD1607","v":" "}]
[{"$f":"FlashCards!BY1608","v":" "}," ",{"$f":"FlashCards!CD1608","v":" "}]
[{"$f":"FlashCards!BY1609","v":" "}," ",{"$f":"FlashCards!CD1609","v":" "}]
[{"$f":"FlashCards!BY1610","v":" "}," ",{"$f":"FlashCards!CD1610","v":" "}]
[{"$f":"FlashCards!BY1611","v":" "}," ",{"$f":"FlashCards!CD1611","v":" "}]
[{"$f":"FlashCards!BY1612","v":" "}," ",{"$f":"FlashCards!CD1612","v":" "}]
[{"$f":"FlashCards!BY1613","v":" "}," ",{"$f":"FlashCards!CD1613","v":" "}]
[{"$f":"FlashCards!BY1614","v":" "}," ",{"$f":"FlashCards!CD1614","v":" "}]
[{"$f":"FlashCards!BY1615","v":" "}," ",{"$f":"FlashCards!CD1615","v":" "}]
[{"$f":"FlashCards!BY1616","v":" "}," ",{"$f":"FlashCards!CD1616","v":" "}]
[{"$f":"FlashCards!BY1617","v":" "}," ",{"$f":"FlashCards!CD1617","v":" "}]
[{"$f":"FlashCards!BY1618","v":" "}," ",{"$f":"FlashCards!CD1618","v":" "}]
[{"$f":"FlashCards!BY1619","v":" "}," ",{"$f":"FlashCards!CD1619","v":" "}]
[{"$f":"FlashCards!BY1620","v":" "}," ",{"$f":"FlashCards!CD1620","v":" "}]
[{"$f":"FlashCards!BY1621","v":" "}," ",{"$f":"FlashCards!CD1621","v":" "}]
[{"$f":"FlashCards!BY1622","v":" "}," ",{"$f":"FlashCards!CD1622","v":" "}]
[{"$f":"FlashCards!BY1623","v":" "}," ",{"$f":"FlashCards!CD1623","v":" "}]
[{"$f":"FlashCards!BY1624","v":" "}," ",{"$f":"FlashCards!CD1624","v":" "}]
[{"$f":"FlashCards!BY1625","v":" "}," ",{"$f":"FlashCards!CD1625","v":" "}]
[{"$f":"FlashCards!BY1626","v":" "}," ",{"$f":"FlashCards!CD1626","v":" "}]
[{"$f":"FlashCards!BY1627","v":" "}," ",{"$f":"FlashCards!CD1627","v":" "}]
[{"$f":"FlashCards!BY1628","v":" "}," ",{"$f":"FlashCards!CD1628","v":" "}]
[{"$f":"FlashCards!BY1629","v":" "}," ",{"$f":"FlashCards!CD1629","v":" "}]
[{"$f":"FlashCards!BY1630","v":" "}," ",{"$f":"FlashCards!CD1630","v":" "}]
[{"$f":"FlashCards!BY1631","v":" "}," ",{"$f":"FlashCards!CD1631","v":" "}]
[{"$f":"FlashCards!BY1632","v":" "}," ",{"$f":"FlashCards!CD1632","v":" "}]
[{"$f":"FlashCards!BY1633","v":" "}," ",{"$f":"FlashCards!CD1633","v":" "}]
[{"$f":"FlashCards!BY1634","v":" "}," ",{"$f":"FlashCards!CD1634","v":" "}]
[{"$f":"FlashCards!BY1635","v":" "}," ",{"$f":"FlashCards!CD1635","v":" "}]
[{"$f":"FlashCards!BY1636","v":" "}," ",{"$f":"FlashCards!CD1636","v":" "}]
[{"$f":"FlashCards!BY1637","v":" "}," ",{"$f":"FlashCards!CD1637","v":" "}]
[{"$f":"FlashCards!BY1638","v":" "}," ",{"$f":"FlashCards!CD1638","v":" "}]
[{"$f":"FlashCards!BY1639","v":" "}," ",{"$f":"FlashCards!CD1639","v":" "}]
[{"$f":"FlashCards!BY1640","v":" "}," ",{"$f":"FlashCards!CD1640","v":" "}]
[{"$f":"FlashCards!BY1641","v":" "}," ",{"$f":"FlashCards!CD1641","v":" "}]
[{"$f":"FlashCards!BY1642","v":" "}," ",{"$f":"FlashCards!CD1642","v":" "}]
[{"$f":"FlashCards!BY1643","v":" "}," ",{"$f":"FlashCards!CD1643","v":" "}]
[{"$f":"FlashCards!BY1644","v":" "}," ",{"$f":"FlashCards!CD1644","v":" "}]
[{"$f":"FlashCards!BY1645","v":" "}," ",{"$f":"FlashCards!CD1645","v":" "}]
[{"$f":"FlashCards!BY1646","v":" "}," ",{"$f":"FlashCards!CD1646","v":" "}]
[{"$f":"FlashCards!BY1647","v":" "}," ",{"$f":"FlashCards!CD1647","v":" "}]
[{"$f":"FlashCards!BY1648","v":" "}," ",{"$f":"FlashCards!CD1648","v":" "}]
[{"$f":"FlashCards!BY1649","v":" "}," ",{"$f":"FlashCards!CD1649","v":" "}]
[{"$f":"FlashCards!BY1650","v":" "}," ",{"$f":"FlashCards!CD1650","v":" "}]
[{"$f":"FlashCards!BY1651","v":" "}," ",{"$f":"FlashCards!CD1651","v":" "}]
[{"$f":"FlashCards!BY1652","v":" "}," ",{"$f":"FlashCards!CD1652","v":" "}]
[{"$f":"FlashCards!BY1653","v":" "}," ",{"$f":"FlashCards!CD1653","v":" "}]
[{"$f":"FlashCards!BY1654","v":" "}," ",{"$f":"FlashCards!CD1654","v":" "}]
[{"$f":"FlashCards!BY1655","v":" "}," ",{"$f":"FlashCards!CD1655","v":" "}]
[{"$f":"FlashCards!BY1656","v":" "}," ",{"$f":"FlashCards!CD1656","v":" "}]
[{"$f":"FlashCards!BY1657","v":" "}," ",{"$f":"FlashCards!CD1657","v":" "}]
[{"$f":"FlashCards!BY1658","v":" "}," ",{"$f":"FlashCards!CD1658","v":" "}]
[{"$f":"FlashCards!BY1659","v":" "}," ",{"$f":"FlashCards!CD1659","v":" "}]
[{"$f":"FlashCards!BY1660","v":" "}," ",{"$f":"FlashCards!CD1660","v":" "}]
[{"$f":"FlashCards!BY1661","v":" "}," ",{"$f":"FlashCards!CD1661","v":" "}]
[{"$f":"FlashCards!BY1662","v":" "}," ",{"$f":"FlashCards!CD1662","v":" "}]
[{"$f":"FlashCards!BY1663","v":" "}," ",{"$f":"FlashCards!CD1663","v":" "}]
[{"$f":"FlashCards!BY1664","v":" "}," ",{"$f":"FlashCards!CD1664","v":" "}]
[{"$f":"FlashCards!BY1665","v":" "}," ",{"$f":"FlashCards!CD1665","v":" "}]
[{"$f":"FlashCards!BY1666","v":" "}," ",{"$f":"FlashCards!CD1666","v":" "}]
[{"$f":"FlashCards!BY1667","v":" "}," ",{"$f":"FlashCards!CD1667","v":" "}]
[{"$f":"FlashCards!BY1668","v":" "}," ",{"$f":"FlashCards!CD1668","v":" "}]
[{"$f":"FlashCards!BY1669","v":" "}," ",{"$f":"FlashCards!CD1669","v":" "}]
[{"$f":"FlashCards!BY1670","v":" "}," ",{"$f":"FlashCards!CD1670","v":" "}]
[{"$f":"FlashCards!BY1671","v":" "}," ",{"$f":"FlashCards!CD1671","v":" "}]
[{"$f":"FlashCards!BY1672","v":" "}," ",{"$f":"FlashCards!CD1672","v":" "}]
[{"$f":"FlashCards!BY1673","v":" "}," ",{"$f":"FlashCards!CD1673","v":" "}]
[{"$f":"FlashCards!BY1674","v":" "}," ",{"$f":"FlashCards!CD1674","v":" "}]
[{"$f":"FlashCards!BY1675","v":" "}," ",{"$f":"FlashCards!CD1675","v":" "}]
[{"$f":"FlashCards!BY1676","v":" "}," ",{"$f":"FlashCards!CD1676","v":" "}]
[{"$f":"FlashCards!BY1677","v":" "}," ",{"$f":"FlashCards!CD1677","v":" "}]
[{"$f":"FlashCards!BY1678","v":" "}," ",{"$f":"FlashCards!CD1678","v":" "}]
[{"$f":"FlashCards!BY1679","v":" "}," ",{"$f":"FlashCards!CD1679","v":" "}]
[{"$f":"FlashCards!BY1680","v":" "}," ",{"$f":"FlashCards!CD1680","v":" "}]
[{"$f":"FlashCards!BY1681","v":" "}," ",{"$f":"FlashCards!CD1681","v":" "}]
[{"$f":"FlashCards!BY1682","v":" "}," ",{"$f":"FlashCards!CD1682","v":" "}]
[{"$f":"FlashCards!BY1683","v":" "}," ",{"$f":"FlashCards!CD1683","v":" "}]
[{"$f":"FlashCards!BY1684","v":" "}," ",{"$f":"FlashCards!CD1684","v":" "}]
[{"$f":"FlashCards!BY1685","v":" "}," ",{"$f":"FlashCards!CD1685","v":" "}]
[{"$f":"FlashCards!BY1686","v":" "}," ",{"$f":"FlashCards!CD1686","v":" "}]
[{"$f":"FlashCards!BY1687","v":" "}," ",{"$f":"FlashCards!CD1687","v":" "}]
[{"$f":"FlashCards!BY1688","v":" "}," ",{"$f":"FlashCards!CD1688","v":" "}]
[{"$f":"FlashCards!BY1689","v":" "}," ",{"$f":"FlashCards!CD1689","v":" "}]
[{"$f":"FlashCards!BY1690","v":" "}," ",{"$f":"FlashCards!CD1690","v":" "}]
[{"$f":"FlashCards!BY1691","v":" "}," ",{"$f":"FlashCards!CD1691","v":" "}]
[{"$f":"FlashCards!BY1692","v":" "}," ",{"$f":"FlashCards!CD1692","v":" "}]
[{"$f":"FlashCards!BY1693","v":" "}," ",{"$f":"FlashCards!CD1693","v":" "}]
[{"$f":"FlashCards!BY1694","v":" "}," ",{"$f":"FlashCards!CD1694","v":" "}]
[{"$f":"FlashCards!BY1695","v":" "}," ",{"$f":"FlashCards!CD1695","v":" "}]
[{"$f":"FlashCards!BY1696","v":" "}," ",{"$f":"FlashCards!CD1696","v":" "}]
[{"$f":"FlashCards!BY1697","v":" "}," ",{"$f":"FlashCards!CD1697","v":" "}]
[{"$f":"FlashCards!BY1698","v":" "}," ",{"$f":"FlashCards!CD1698","v":" "}]
[{"$f":"FlashCards!BY1699","v":" "}," ",{"$f":"FlashCards!CD1699","v":" "}]
[{"$f":"FlashCards!BY1700","v":" "}," ",{"$f":"FlashCards!CD1700","v":" "}]
[{"$f":"FlashCards!BY1701","v":" "}," ",{"$f":"FlashCards!CD1701","v":" "}]
[{"$f":"FlashCards!BY1702","v":" "}," ",{"$f":"FlashCards!CD1702","v":" "}]
[{"$f":"FlashCards!BY1703","v":" "}," ",{"$f":"FlashCards!CD1703","v":" "}]
[{"$f":"FlashCards!BY1704","v":" "}," ",{"$f":"FlashCards!CD1704","v":" "}]
[{"$f":"FlashCards!BY1705","v":" "}," ",{"$f":"FlashCards!CD1705","v":" "}]
[{"$f":"FlashCards!BY1706","v":" "}," ",{"$f":"FlashCards!CD1706","v":" "}]
[{"$f":"FlashCards!BY1707","v":" "}," ",{"$f":"FlashCards!CD1707","v":" "}]
[{"$f":"FlashCards!BY1708","v":" "}," ",{"$f":"FlashCards!CD1708","v":" "}]
[{"$f":"FlashCards!BY1709","v":" "}," ",{"$f":"FlashCards!CD1709","v":" "}]
[{"$f":"FlashCards!BY1710","v":" "}," ",{"$f":"FlashCards!CD1710","v":" "}]
[{"$f":"FlashCards!BY1711","v":" "}," ",{"$f":"FlashCards!CD1711","v":" "}]
[{"$f":"FlashCards!BY1712","v":" "}," ",{"$f":"FlashCards!CD1712","v":" "}]
[{"$f":"FlashCards!BY1713","v":" "}," ",{"$f":"FlashCards!CD1713","v":" "}]
[{"$f":"FlashCards!BY1714","v":" "}," ",{"$f":"FlashCards!CD1714","v":" "}]
[{"$f":"FlashCards!BY1715","v":" "}," ",{"$f":"FlashCards!CD1715","v":" "}]
[{"$f":"FlashCards!BY1716","v":" "}," ",{"$f":"FlashCards!CD1716","v":" "}]
[{"$f":"FlashCards!BY1717","v":" "}," ",{"$f":"FlashCards!CD1717","v":" "}]
[{"$f":"FlashCards!BY1718","v":" "}," ",{"$f":"FlashCards!CD1718","v":" "}]
[{"$f":"FlashCards!BY1719","v":" "}," ",{"$f":"FlashCards!CD1719","v":" "}]
[{"$f":"FlashCards!BY1720","v":" "}," ",{"$f":"FlashCards!CD1720","v":" "}]
[{"$f":"FlashCards!BY1721","v":" "}," ",{"$f":"FlashCards!CD1721","v":" "}]
[{"$f":"FlashCards!BY1722","v":" "}," ",{"$f":"FlashCards!CD1722","v":" "}]
[{"$f":"FlashCards!BY1723","v":" "}," ",{"$f":"FlashCards!CD1723","v":" "}]
[{"$f":"FlashCards!BY1724","v":" "}," ",{"$f":"FlashCards!CD1724","v":" "}]
[{"$f":"FlashCards!BY1725","v":" "}," ",{"$f":"FlashCards!CD1725","v":" "}]
[{"$f":"FlashCards!BY1726","v":" "}," ",{"$f":"FlashCards!CD1726","v":" "}]
[{"$f":"FlashCards!BY1727","v":" "}," ",{"$f":"FlashCards!CD1727","v":" "}]
[{"$f":"FlashCards!BY1728","v":" "}," ",{"$f":"FlashCards!CD1728","v":" "}]
[{"$f":"FlashCards!BY1729","v":" "}," ",{"$f":"FlashCards!CD1729","v":" "}]
[{"$f":"FlashCards!BY1730","v":" "}," ",{"$f":"FlashCards!CD1730","v":" "}]
[{"$f":"FlashCards!BY1731","v":" "}," ",{"$f":"FlashCards!CD1731","v":" "}]
[{"$f":"FlashCards!BY1732","v":" "}," ",{"$f":"FlashCards!CD1732","v":" "}]
[{"$f":"FlashCards!BY1733","v":" "}," ",{"$f":"FlashCards!CD1733","v":" "}]
[{"$f":"FlashCards!BY1734","v":" "}," ",{"$f":"FlashCards!CD1734","v":" "}]
[{"$f":"FlashCards!BY1735","v":" "}," ",{"$f":"FlashCards!CD1735","v":" "}]
[{"$f":"FlashCards!BY1736","v":" "}," ",{"$f":"FlashCards!CD1736","v":" "}]
[{"$f":"FlashCards!BY1737","v":" "}," ",{"$f":"FlashCards!CD1737","v":" "}]
[{"$f":"FlashCards!BY1738","v":" "}," ",{"$f":"FlashCards!CD1738","v":" "}]
[{"$f":"FlashCards!BY1739","v":" "}," ",{"$f":"FlashCards!CD1739","v":" "}]
[{"$f":"FlashCards!BY1740","v":" "}," ",{"$f":"FlashCards!CD1740","v":" "}]
[{"$f":"FlashCards!BY1741","v":" "}," ",{"$f":"FlashCards!CD1741","v":" "}]
[{"$f":"FlashCards!BY1742","v":" "}," ",{"$f":"FlashCards!CD1742","v":" "}]
[{"$f":"FlashCards!BY1743","v":" "}," ",{"$f":"FlashCards!CD1743","v":" "}]
[{"$f":"FlashCards!BY1744","v":" "}," ",{"$f":"FlashCards!CD1744","v":" "}]
[{"$f":"FlashCards!BY1745","v":" "}," ",{"$f":"FlashCards!CD1745","v":" "}]
[{"$f":"FlashCards!BY1746","v":" "}," ",{"$f":"FlashCards!CD1746","v":" "}]
[{"$f":"FlashCards!BY1747","v":" "}," ",{"$f":"FlashCards!CD1747","v":" "}]
[{"$f":"FlashCards!BY1748","v":" "}," ",{"$f":"FlashCards!CD1748","v":" "}]
[{"$f":"FlashCards!BY1749","v":" "}," ",{"$f":"FlashCards!CD1749","v":" "}]
[{"$f":"FlashCards!BY1750","v":" "}," ",{"$f":"FlashCards!CD1750","v":" "}]
[{"$f":"FlashCards!BY1751","v":" "}," ",{"$f":"FlashCards!CD1751","v":" "}]
[{"$f":"FlashCards!BY1752","v":" "}," ",{"$f":"FlashCards!CD1752","v":" "}]
[{"$f":"FlashCards!BY1753","v":" "}," ",{"$f":"FlashCards!CD1753","v":" "}]
[{"$f":"FlashCards!BY1754","v":" "}," ",{"$f":"FlashCards!CD1754","v":" "}]
[{"$f":"FlashCards!BY1755","v":" "}," ",{"$f":"FlashCards!CD1755","v":" "}]
[{"$f":"FlashCards!BY1756","v":" "}," ",{"$f":"FlashCards!CD1756","v":" "}]
[{"$f":"FlashCards!BY1757","v":" "}," ",{"$f":"FlashCards!CD1757","v":" "}]
[{"$f":"FlashCards!BY1758","v":" "}," ",{"$f":"FlashCards!CD1758","v":" "}]
[{"$f":"FlashCards!BY1759","v":" "}," ",{"$f":"FlashCards!CD1759","v":" "}]
[{"$f":"FlashCards!BY1760","v":" "}," ",{"$f":"FlashCards!CD1760","v":" "}]
[{"$f":"FlashCards!BY1761","v":" "}," ",{"$f":"FlashCards!CD1761","v":" "}]
[{"$f":"FlashCards!BY1762","v":" "}," ",{"$f":"FlashCards!CD1762","v":" "}]
[{"$f":"FlashCards!BY1763","v":" "}," ",{"$f":"FlashCards!CD1763","v":" "}]
[{"$f":"FlashCards!BY1764","v":" "}," ",{"$f":"FlashCards!CD1764","v":" "}]
[{"$f":"FlashCards!BY1765","v":" "}," ",{"$f":"FlashCards!CD1765","v":" "}]
[{"$f":"FlashCards!BY1766","v":" "}," ",{"$f":"FlashCards!CD1766","v":" "}]
[{"$f":"FlashCards!BY1767","v":" "}," ",{"$f":"FlashCards!CD1767","v":" "}]
[{"$f":"FlashCards!BY1768","v":" "}," ",{"$f":"FlashCards!CD1768","v":" "}]
[{"$f":"FlashCards!BY1769","v":" "}," ",{"$f":"FlashCards!CD1769","v":" "}]
[{"$f":"FlashCards!BY1770","v":" "}," ",{"$f":"FlashCards!CD1770","v":" "}]
[{"$f":"FlashCards!BY1771","v":" "}," ",{"$f":"FlashCards!CD1771","v":" "}]
[{"$f":"FlashCards!BY1772","v":" "}," ",{"$f":"FlashCards!CD1772","v":" "}]
[{"$f":"FlashCards!BY1773","v":" "}," ",{"$f":"FlashCards!CD1773","v":" "}]
[{"$f":"FlashCards!BY1774","v":" "}," ",{"$f":"FlashCards!CD1774","v":" "}]
[{"$f":"FlashCards!BY1775","v":" "}," ",{"$f":"FlashCards!CD1775","v":" "}]
[{"$f":"FlashCards!BY1776","v":" "}," ",{"$f":"FlashCards!CD1776","v":" "}]
[{"$f":"FlashCards!BY1777","v":" "}," ",{"$f":"FlashCards!CD1777","v":" "}]
[{"$f":"FlashCards!BY1778","v":" "}," ",{"$f":"FlashCards!CD1778","v":" "}]
[{"$f":"FlashCards!BY1779","v":" "}," ",{"$f":"FlashCards!CD1779","v":" "}]
[{"$f":"FlashCards!BY1780","v":" "}," ",{"$f":"FlashCards!CD1780","v":" "}]
[{"$f":"FlashCards!BY1781","v":" "}," ",{"$f":"FlashCards!CD1781","v":" "}]
[{"$f":"FlashCards!BY1782","v":" "}," ",{"$f":"FlashCards!CD1782","v":" "}]
[{"$f":"FlashCards!BY1783","v":" "}," ",{"$f":"FlashCards!CD1783","v":" "}]
[{"$f":"FlashCards!BY1784","v":" "}," ",{"$f":"FlashCards!CD1784","v":" "}]
[{"$f":"FlashCards!BY1785","v":" "}," ",{"$f":"FlashCards!CD1785","v":" "}]
[{"$f":"FlashCards!BY1786","v":" "}," ",{"$f":"FlashCards!CD1786","v":" "}]
[{"$f":"FlashCards!BY1787","v":" "}," ",{"$f":"FlashCards!CD1787","v":" "}]
[{"$f":"FlashCards!BY1788","v":" "}," ",{"$f":"FlashCards!CD1788","v":" "}]
[{"$f":"FlashCards!BY1789","v":" "}," ",{"$f":"FlashCards!CD1789","v":" "}]
[{"$f":"FlashCards!BY1790","v":" "}," ",{"$f":"FlashCards!CD1790","v":" "}]
[{"$f":"FlashCards!BY1791","v":" "}," ",{"$f":"FlashCards!CD1791","v":" "}]
[{"$f":"FlashCards!BY1792","v":" "}," ",{"$f":"FlashCards!CD1792","v":" "}]
[{"$f":"FlashCards!BY1793","v":" "}," ",{"$f":"FlashCards!CD1793","v":" "}]
[{"$f":"FlashCards!BY1794","v":" "}," ",{"$f":"FlashCards!CD1794","v":" "}]
[{"$f":"FlashCards!BY1795","v":" "}," ",{"$f":"FlashCards!CD1795","v":" "}]
[{"$f":"FlashCards!BY1796","v":" "}," ",{"$f":"FlashCards!CD1796","v":" "}]
[{"$f":"FlashCards!BY1797","v":" "}," ",{"$f":"FlashCards!CD1797","v":" "}]
[{"$f":"FlashCards!BY1798","v":" "}," ",{"$f":"FlashCards!CD1798","v":" "}]
[{"$f":"FlashCards!BY1799","v":" "}," ",{"$f":"FlashCards!CD1799","v":" "}]
[{"$f":"FlashCards!BY1800","v":" "}," ",{"$f":"FlashCards!CD1800","v":" "}]
[{"$f":"FlashCards!BY1801","v":" "}," ",{"$f":"FlashCards!CD1801","v":" "}]
[{"$f":"FlashCards!BY1802","v":" "}," ",{"$f":"FlashCards!CD1802","v":" "}]
[{"$f":"FlashCards!BY1803","v":" "}," ",{"$f":"FlashCards!CD1803","v":" "}]
[{"$f":"FlashCards!BY1804","v":" "}," ",{"$f":"FlashCards!CD1804","v":" "}]
[{"$f":"FlashCards!BY1805","v":" "}," ",{"$f":"FlashCards!CD1805","v":" "}]
[{"$f":"FlashCards!BY1806","v":" "}," ",{"$f":"FlashCards!CD1806","v":" "}]
[{"$f":"FlashCards!BY1807","v":" "}," ",{"$f":"FlashCards!CD1807","v":" "}]
[{"$f":"FlashCards!BY1808","v":" "}," ",{"$f":"FlashCards!CD1808","v":" "}]
[{"$f":"FlashCards!BY1809","v":" "}," ",{"$f":"FlashCards!CD1809","v":" "}]
[{"$f":"FlashCards!BY1810","v":" "}," ",{"$f":"FlashCards!CD1810","v":" "}]
[{"$f":"FlashCards!BY1811","v":" "}," ",{"$f":"FlashCards!CD1811","v":" "}]
[{"$f":"FlashCards!BY1812","v":" "}," ",{"$f":"FlashCards!CD1812","v":" "}]
[{"$f":"FlashCards!BY1813","v":" "}," ",{"$f":"FlashCards!CD1813","v":" "}]
[{"$f":"FlashCards!BY1814","v":" "}," ",{"$f":"FlashCards!CD1814","v":" "}]
[{"$f":"FlashCards!BY1815","v":" "}," ",{"$f":"FlashCards!CD1815","v":" "}]
[{"$f":"FlashCards!BY1816","v":" "}," ",{"$f":"FlashCards!CD1816","v":" "}]
[{"$f":"FlashCards!BY1817","v":" "}," ",{"$f":"FlashCards!CD1817","v":" "}]
[{"$f":"FlashCards!BY1818","v":" "}," ",{"$f":"FlashCards!CD1818","v":" "}]
[{"$f":"FlashCards!BY1819","v":" "}," ",{"$f":"FlashCards!CD1819","v":" "}]
[{"$f":"FlashCards!BY1820","v":" "}," ",{"$f":"FlashCards!CD1820","v":" "}]
[{"$f":"FlashCards!BY1821","v":" "}," ",{"$f":"FlashCards!CD1821","v":" "}]
[{"$f":"FlashCards!BY1822","v":" "}," ",{"$f":"FlashCards!CD1822","v":" "}]
[{"$f":"FlashCards!BY1823","v":" "}," ",{"$f":"FlashCards!CD1823","v":" "}]
[{"$f":"FlashCards!BY1824","v":" "}," ",{"$f":"FlashCards!CD1824","v":" "}]
[{"$f":"FlashCards!BY1825","v":" "}," ",{"$f":"FlashCards!CD1825","v":" "}]
[{"$f":"FlashCards!BY1826","v":" "}," ",{"$f":"FlashCards!CD1826","v":" "}]
[{"$f":"FlashCards!BY1827","v":" "}," ",{"$f":"FlashCards!CD1827","v":" "}]
[{"$f":"FlashCards!BY1828","v":" "}," ",{"$f":"FlashCards!CD1828","v":" "}]
[{"$f":"FlashCards!BY1829","v":" "}," ",{"$f":"FlashCards!CD1829","v":" "}]
[{"$f":"FlashCards!BY1830","v":" "}," ",{"$f":"FlashCards!CD1830","v":" "}]
[{"$f":"FlashCards!BY1831","v":" "}," ",{"$f":"FlashCards!CD1831","v":" "}]
[{"$f":"FlashCards!BY1832","v":" "}," ",{"$f":"FlashCards!CD1832","v":" "}]
[{"$f":"FlashCards!BY1833","v":" "}," ",{"$f":"FlashCards!CD1833","v":" "}]
[{"$f":"FlashCards!BY1834","v":" "}," ",{"$f":"FlashCards!CD1834","v":" "}]
[{"$f":"FlashCards!BY1835","v":" "}," ",{"$f":"FlashCards!CD1835","v":" "}]
[{"$f":"FlashCards!BY1836","v":" "}," ",{"$f":"FlashCards!CD1836","v":" "}]
[{"$f":"FlashCards!BY1837","v":" "}," ",{"$f":"FlashCards!CD1837","v":" "}]
[{"$f":"FlashCards!BY1838","v":" "}," ",{"$f":"FlashCards!CD1838","v":" "}]
[{"$f":"FlashCards!BY1839","v":" "}," ",{"$f":"FlashCards!CD1839","v":" "}]
[{"$f":"FlashCards!BY1840","v":" "}," ",{"$f":"FlashCards!CD1840","v":" "}]
[{"$f":"FlashCards!BY1841","v":" "}," ",{"$f":"FlashCards!CD1841","v":" "}]
[{"$f":"FlashCards!BY1842","v":" "}," ",{"$f":"FlashCards!CD1842","v":" "}]
[{"$f":"FlashCards!BY1843","v":" "}," ",{"$f":"FlashCards!CD1843","v":" "}]
[{"$f":"FlashCards!BY1844","v":" "}," ",{"$f":"FlashCards!CD1844","v":" "}]
[{"$f":"FlashCards!BY1845","v":" "}," ",{"$f":"FlashCards!CD1845","v":" "}]
[{"$f":"FlashCards!BY1846","v":" "}," ",{"$f":"FlashCards!CD1846","v":" "}]
[{"$f":"FlashCards!BY1847","v":" "}," ",{"$f":"FlashCards!CD1847","v":" "}]
[{"$f":"FlashCards!BY1848","v":" "}," ",{"$f":"FlashCards!CD1848","v":" "}]
[{"$f":"FlashCards!BY1849","v":" "}," ",{"$f":"FlashCards!CD1849","v":" "}]
[{"$f":"FlashCards!BY1850","v":" "}," ",{"$f":"FlashCards!CD1850","v":" "}]
[{"$f":"FlashCards!BY1851","v":" "}," ",{"$f":"FlashCards!CD1851","v":" "}]
[{"$f":"FlashCards!BY1852","v":" "}," ",{"$f":"FlashCards!CD1852","v":" "}]
[{"$f":"FlashCards!BY1853","v":" "}," ",{"$f":"FlashCards!CD1853","v":" "}]
[{"$f":"FlashCards!BY1854","v":" "}," ",{"$f":"FlashCards!CD1854","v":" "}]
[{"$f":"FlashCards!BY1855","v":" "}," ",{"$f":"FlashCards!CD1855","v":" "}]
[{"$f":"FlashCards!BY1856","v":" "}," ",{"$f":"FlashCards!CD1856","v":" "}]
[{"$f":"FlashCards!BY1857","v":" "}," ",{"$f":"FlashCards!CD1857","v":" "}]
[{"$f":"FlashCards!BY1858","v":" "}," ",{"$f":"FlashCards!CD1858","v":" "}]
[{"$f":"FlashCards!BY1859","v":" "}," ",{"$f":"FlashCards!CD1859","v":" "}]
[{"$f":"FlashCards!BY1860","v":" "}," ",{"$f":"FlashCards!CD1860","v":" "}]
[{"$f":"FlashCards!BY1861","v":" "}," ",{"$f":"FlashCards!CD1861","v":" "}]
[{"$f":"FlashCards!BY1862","v":" "}," ",{"$f":"FlashCards!CD1862","v":" "}]
[{"$f":"FlashCards!BY1863","v":" "}," ",{"$f":"FlashCards!CD1863","v":" "}]
[{"$f":"FlashCards!BY1864","v":" "}," ",{"$f":"FlashCards!CD1864","v":" "}]
[{"$f":"FlashCards!BY1865","v":" "}," ",{"$f":"FlashCards!CD1865","v":" "}]
[{"$f":"FlashCards!BY1866","v":" "}," ",{"$f":"FlashCards!CD1866","v":" "}]
[{"$f":"FlashCards!BY1867","v":" "}," ",{"$f":"FlashCards!CD1867","v":" "}]
[{"$f":"FlashCards!BY1868","v":" "}," ",{"$f":"FlashCards!CD1868","v":" "}]
[{"$f":"FlashCards!BY1869","v":" "}," ",{"$f":"FlashCards!CD1869","v":" "}]
[{"$f":"FlashCards!BY1870","v":" "}," ",{"$f":"FlashCards!CD1870","v":" "}]
[{"$f":"FlashCards!BY1871","v":" "}," ",{"$f":"FlashCards!CD1871","v":" "}]
[{"$f":"FlashCards!BY1872","v":" "}," ",{"$f":"FlashCards!CD1872","v":" "}]
[{"$f":"FlashCards!BY1873","v":" "}," ",{"$f":"FlashCards!CD1873","v":" "}]
[{"$f":"FlashCards!BY1874","v":" "}," ",{"$f":"FlashCards!CD1874","v":" "}]
[{"$f":"FlashCards!BY1875","v":" "}," ",{"$f":"FlashCards!CD1875","v":" "}]
[{"$f":"FlashCards!BY1876","v":" "}," ",{"$f":"FlashCards!CD1876","v":" "}]
[{"$f":"FlashCards!BY1877","v":" "}," ",{"$f":"FlashCards!CD1877","v":" "}]
[{"$f":"FlashCards!BY1878","v":" "}," ",{"$f":"FlashCards!CD1878","v":" "}]
[{"$f":"FlashCards!BY1879","v":" "}," ",{"$f":"FlashCards!CD1879","v":" "}]
[{"$f":"FlashCards!BY1880","v":" "}," ",{"$f":"FlashCards!CD1880","v":" "}]
[{"$f":"FlashCards!BY1881","v":" "}," ",{"$f":"FlashCards!CD1881","v":" "}]
[{"$f":"FlashCards!BY1882","v":" "}," ",{"$f":"FlashCards!CD1882","v":" "}]
[{"$f":"FlashCards!BY1883","v":" "}," ",{"$f":"FlashCards!CD1883","v":" "}]
[{"$f":"FlashCards!BY1884","v":" "}," ",{"$f":"FlashCards!CD1884","v":" "}]
[{"$f":"FlashCards!BY1885","v":" "}," ",{"$f":"FlashCards!CD1885","v":" "}]
[{"$f":"FlashCards!BY1886","v":" "}," ",{"$f":"FlashCards!CD1886","v":" "}]
[{"$f":"FlashCards!BY1887","v":" "}," ",{"$f":"FlashCards!CD1887","v":" "}]
[{"$f":"FlashCards!BY1888","v":" "}," ",{"$f":"FlashCards!CD1888","v":" "}]
[{"$f":"FlashCards!BY1889","v":" "}," ",{"$f":"FlashCards!CD1889","v":" "}]
[{"$f":"FlashCards!BY1890","v":" "}," ",{"$f":"FlashCards!CD1890","v":" "}]
[{"$f":"FlashCards!BY1891","v":" "}," ",{"$f":"FlashCards!CD1891","v":" "}]
[{"$f":"FlashCards!BY1892","v":" "}," ",{"$f":"FlashCards!CD1892","v":" "}]
[{"$f":"FlashCards!BY1893","v":" "}," ",{"$f":"FlashCards!CD1893","v":" "}]
[{"$f":"FlashCards!BY1894","v":" "}," ",{"$f":"FlashCards!CD1894","v":" "}]
[{"$f":"FlashCards!BY1895","v":" "}," ",{"$f":"FlashCards!CD1895","v":" "}]
[{"$f":"FlashCards!BY1896","v":" "}," ",{"$f":"FlashCards!CD1896","v":" "}]
[{"$f":"FlashCards!BY1897","v":" "}," ",{"$f":"FlashCards!CD1897","v":" "}]
[{"$f":"FlashCards!BY1898","v":" "}," ",{"$f":"FlashCards!CD1898","v":" "}]
[{"$f":"FlashCards!BY1899","v":" "}," ",{"$f":"FlashCards!CD1899","v":" "}]
[{"$f":"FlashCards!BY1900","v":" "}," ",{"$f":"FlashCards!CD1900","v":" "}]
[{"$f":"FlashCards!BY1901","v":" "}," ",{"$f":"FlashCards!CD1901","v":" "}]
[{"$f":"FlashCards!BY1902","v":" "}," ",{"$f":"FlashCards!CD1902","v":" "}]
[{"$f":"FlashCards!BY1903","v":" "}," ",{"$f":"FlashCards!CD1903","v":" "}]
[{"$f":"FlashCards!BY1904","v":" "}," ",{"$f":"FlashCards!CD1904","v":" "}]
[{"$f":"FlashCards!BY1905","v":" "}," ",{"$f":"FlashCards!CD1905","v":" "}]
[{"$f":"FlashCards!BY1906","v":" "}," ",{"$f":"FlashCards!CD1906","v":" "}]
[{"$f":"FlashCards!BY1907","v":" "}," ",{"$f":"FlashCards!CD1907","v":" "}]
[{"$f":"FlashCards!BY1908","v":" "}," ",{"$f":"FlashCards!CD1908","v":" "}]
[{"$f":"FlashCards!BY1909","v":" "}," ",{"$f":"FlashCards!CD1909","v":" "}]
[{"$f":"FlashCards!BY1910","v":" "}," ",{"$f":"FlashCards!CD1910","v":" "}]
[{"$f":"FlashCards!BY1911","v":" "}," ",{"$f":"FlashCards!CD1911","v":" "}]
[{"$f":"FlashCards!BY1912","v":" "}," ",{"$f":"FlashCards!CD1912","v":" "}]
[{"$f":"FlashCards!BY1913","v":" "}," ",{"$f":"FlashCards!CD1913","v":" "}]
[{"$f":"FlashCards!BY1914","v":" "}," ",{"$f":"FlashCards!CD1914","v":" "}]
[{"$f":"FlashCards!BY1915","v":" "}," ",{"$f":"FlashCards!CD1915","v":" "}]
[{"$f":"FlashCards!BY1916","v":" "}," ",{"$f":"FlashCards!CD1916","v":" "}]
[{"$f":"FlashCards!BY1917","v":" "}," ",{"$f":"FlashCards!CD1917","v":" "}]
[{"$f":"FlashCards!BY1918","v":" "}," ",{"$f":"FlashCards!CD1918","v":" "}]
[{"$f":"FlashCards!BY1919","v":" "}," ",{"$f":"FlashCards!CD1919","v":" "}]
[{"$f":"FlashCards!BY1920","v":" "}," ",{"$f":"FlashCards!CD1920","v":" "}]
[{"$f":"FlashCards!BY1921","v":" "}," ",{"$f":"FlashCards!CD1921","v":" "}]
[{"$f":"FlashCards!BY1922","v":" "}," ",{"$f":"FlashCards!CD1922","v":" "}]
[{"$f":"FlashCards!BY1923","v":" "}," ",{"$f":"FlashCards!CD1923","v":" "}]
[{"$f":"FlashCards!BY1924","v":" "}," ",{"$f":"FlashCards!CD1924","v":" "}]
[{"$f":"FlashCards!BY1925","v":" "}," ",{"$f":"FlashCards!CD1925","v":" "}]
[{"$f":"FlashCards!BY1926","v":" "}," ",{"$f":"FlashCards!CD1926","v":" "}]
[{"$f":"FlashCards!BY1927","v":" "}," ",{"$f":"FlashCards!CD1927","v":" "}]
[{"$f":"FlashCards!BY1928","v":" "}," ",{"$f":"FlashCards!CD1928","v":" "}]
[{"$f":"FlashCards!BY1929","v":" "}," ",{"$f":"FlashCards!CD1929","v":" "}]
[{"$f":"FlashCards!BY1930","v":" "}," ",{"$f":"FlashCards!CD1930","v":" "}]
[{"$f":"FlashCards!BY1931","v":" "}," ",{"$f":"FlashCards!CD1931","v":" "}]
[{"$f":"FlashCards!BY1932","v":" "}," ",{"$f":"FlashCards!CD1932","v":" "}]
[{"$f":"FlashCards!BY1933","v":" "}," ",{"$f":"FlashCards!CD1933","v":" "}]
[{"$f":"FlashCards!BY1934","v":" "}," ",{"$f":"FlashCards!CD1934","v":" "}]
[{"$f":"FlashCards!BY1935","v":" "}," ",{"$f":"FlashCards!CD1935","v":" "}]
[{"$f":"FlashCards!BY1936","v":" "}," ",{"$f":"FlashCards!CD1936","v":" "}]
[{"$f":"FlashCards!BY1937","v":" "}," ",{"$f":"FlashCards!CD1937","v":" "}]
[{"$f":"FlashCards!BY1938","v":" "}," ",{"$f":"FlashCards!CD1938","v":" "}]
[{"$f":"FlashCards!BY1939","v":" "}," ",{"$f":"FlashCards!CD1939","v":" "}]
[{"$f":"FlashCards!BY1940","v":" "}," ",{"$f":"FlashCards!CD1940","v":" "}]
[{"$f":"FlashCards!BY1941","v":" "}," ",{"$f":"FlashCards!CD1941","v":" "}]
[{"$f":"FlashCards!BY1942","v":" "}," ",{"$f":"FlashCards!CD1942","v":" "}]
[{"$f":"FlashCards!BY1943","v":" "}," ",{"$f":"FlashCards!CD1943","v":" "}]
[{"$f":"FlashCards!BY1944","v":" "}," ",{"$f":"FlashCards!CD1944","v":" "}]
[{"$f":"FlashCards!BY1945","v":" "}," ",{"$f":"FlashCards!CD1945","v":" "}]
[{"$f":"FlashCards!BY1946","v":" "}," ",{"$f":"FlashCards!CD1946","v":" "}]
[{"$f":"FlashCards!BY1947","v":" "}," ",{"$f":"FlashCards!CD1947","v":" "}]
[{"$f":"FlashCards!BY1948","v":" "}," ",{"$f":"FlashCards!CD1948","v":" "}]
[{"$f":"FlashCards!BY1949","v":" "}," ",{"$f":"FlashCards!CD1949","v":" "}]
[{"$f":"FlashCards!BY1950","v":" "}," ",{"$f":"FlashCards!CD1950","v":" "}]
[{"$f":"FlashCards!BY1951","v":" "}," ",{"$f":"FlashCards!CD1951","v":" "}]
[{"$f":"FlashCards!BY1952","v":" "}," ",{"$f":"FlashCards!CD1952","v":" "}]
[{"$f":"FlashCards!BY1953","v":" "}," ",{"$f":"FlashCards!CD1953","v":" "}]
[{"$f":"FlashCards!BY1954","v":" "}," ",{"$f":"FlashCards!CD1954","v":" "}]
[{"$f":"FlashCards!BY1955","v":" "}," ",{"$f":"FlashCards!CD1955","v":" "}]
[{"$f":"FlashCards!BY1956","v":" "}," ",{"$f":"FlashCards!CD1956","v":" "}]
[{"$f":"FlashCards!BY1957","v":" "}," ",{"$f":"FlashCards!CD1957","v":" "}]
[{"$f":"FlashCards!BY1958","v":" "}," ",{"$f":"FlashCards!CD1958","v":" "}]
[{"$f":"FlashCards!BY1959","v":" "}," ",{"$f":"FlashCards!CD1959","v":" "}]
[{"$f":"FlashCards!BY1960","v":" "}," ",{"$f":"FlashCards!CD1960","v":" "}]
[{"$f":"FlashCards!BY1961","v":" "}," ",{"$f":"FlashCards!CD1961","v":" "}]
[{"$f":"FlashCards!BY1962","v":" "}," ",{"$f":"FlashCards!CD1962","v":" "}]
[{"$f":"FlashCards!BY1963","v":" "}," ",{"$f":"FlashCards!CD1963","v":" "}]
[{"$f":"FlashCards!BY1964","v":" "}," ",{"$f":"FlashCards!CD1964","v":" "}]
[{"$f":"FlashCards!BY1965","v":" "}," ",{"$f":"FlashCards!CD1965","v":" "}]
[{"$f":"FlashCards!BY1966","v":" "}," ",{"$f":"FlashCards!CD1966","v":" "}]
[{"$f":"FlashCards!BY1967","v":" "}," ",{"$f":"FlashCards!CD1967","v":" "}]
[{"$f":"FlashCards!BY1968","v":" "}," ",{"$f":"FlashCards!CD1968","v":" "}]
[{"$f":"FlashCards!BY1969","v":" "}," ",{"$f":"FlashCards!CD1969","v":" "}]
[{"$f":"FlashCards!BY1970","v":" "}," ",{"$f":"FlashCards!CD1970","v":" "}]
[{"$f":"FlashCards!BY1971","v":" "}," ",{"$f":"FlashCards!CD1971","v":" "}]
[{"$f":"FlashCards!BY1972","v":" "}," ",{"$f":"FlashCards!CD1972","v":" "}]
[{"$f":"FlashCards!BY1973","v":" "}," ",{"$f":"FlashCards!CD1973","v":" "}]
[{"$f":"FlashCards!BY1974","v":" "}," ",{"$f":"FlashCards!CD1974","v":" "}]
[{"$f":"FlashCards!BY1975","v":" "}," ",{"$f":"FlashCards!CD1975","v":" "}]
[{"$f":"FlashCards!BY1976","v":" "}," ",{"$f":"FlashCards!CD1976","v":" "}]
[{"$f":"FlashCards!BY1977","v":" "}," ",{"$f":"FlashCards!CD1977","v":" "}]
[{"$f":"FlashCards!BY1978","v":" "}," ",{"$f":"FlashCards!CD1978","v":" "}]
[{"$f":"FlashCards!BY1979","v":" "}," ",{"$f":"FlashCards!CD1979","v":" "}]
[{"$f":"FlashCards!BY1980","v":" "}," ",{"$f":"FlashCards!CD1980","v":" "}]
[{"$f":"FlashCards!BY1981","v":" "}," ",{"$f":"FlashCards!CD1981","v":" "}]
[{"$f":"FlashCards!BY1982","v":" "}," ",{"$f":"FlashCards!CD1982","v":" "}]
[{"$f":"FlashCards!BY1983","v":" "}," ",{"$f":"FlashCards!CD1983","v":" "}]
[{"$f":"FlashCards!BY1984","v":" "}," ",{"$f":"FlashCards!CD1984","v":" "}]
[{"$f":"FlashCards!BY1985","v":" "}," ",{"$f":"FlashCards!CD1985","v":" "}]
[{"$f":"FlashCards!BY1986","v":" "}," ",{"$f":"FlashCards!CD1986","v":" "}]
[{"$f":"FlashCards!BY1987","v":" "}," ",{"$f":"FlashCards!CD1987","v":" "}]
[{"$f":"FlashCards!BY1988","v":" "}," ",{"$f":"FlashCards!CD1988","v":" "}]
[{"$f":"FlashCards!BY1989","v":" "}," ",{"$f":"FlashCards!CD1989","v":" "}]
[{"$f":"FlashCards!BY1990","v":" "}," ",{"$f":"FlashCards!CD1990","v":" "}]
[{"$f":"FlashCards!BY1991","v":" "}," ",{"$f":"FlashCards!CD1991","v":" "}]
[{"$f":"FlashCards!BY1992","v":" "}," ",{"$f":"FlashCards!CD1992","v":" "}]
[{"$f":"FlashCards!BY1993","v":" "}," ",{"$f":"FlashCards!CD1993","v":" "}]
[{"$f":"FlashCards!BY1994","v":" "}," ",{"$f":"FlashCards!CD1994","v":" "}]
[{"$f":"FlashCards!BY1995","v":" "}," ",{"$f":"FlashCards!CD1995","v":" "}]
[{"$f":"FlashCards!BY1996","v":" "}," ",{"$f":"FlashCards!CD1996","v":" "}]
[{"$f":"FlashCards!BY1997","v":" "}," ",{"$f":"FlashCards!CD1997","v":" "}]
[{"$f":"FlashCards!BY1998","v":" "}," ",{"$f":"FlashCards!CD1998","v":" "}]
[{"$f":"FlashCards!BY1999","v":" "}," ",{"$f":"FlashCards!CD1999","v":" "}]
[{"$f":"FlashCards!BY2000","v":" "}," ",{"$f":"FlashCards!CD2000","v":" "}]
[{"$f":"FlashCards!BY2001","v":" "}," ",{"$f":"FlashCards!CD2001","v":" "}]
[{"$f":"FlashCards!BY2002","v":" "}," ",{"$f":"FlashCards!CD2002","v":" "}]
[{"$f":"FlashCards!BY2003","v":" "}," ",{"$f":"FlashCards!CD2003","v":" "}]

{"sheet":"Printables","index":2,"n_rows":996,"n_cols":5,"rows_kept":996,"cut":false,"hidden":false,"merged":[]}
[]
[]
[null,{"$f":"INDIRECT( \"FlashCards!\"&IF(MOD(INT((ROW(B4)-4)/50),2)=0,\"CF\"&TEXT((ROW(B4)/6)+10/3-INT((ROW(B4)-4)/50)/3,\"#\"),\"CF\"&TEXT((ROW(B4)/6)+10/3-INT((ROW(B4)-4)/50)/3,\"#\")))","v":"Chapter 07: Noun Ending"},null,null,{"$f":"INDIRECT( \"FlashCards!\"&IF(MOD(INT((ROW(B4)-4)/50),2)=0,\"CF\"&TEXT((ROW(B4)/6)+10/3-INT((ROW(B4)-4)/50)/3+8,\"#\"),\"CF\"&TEXT((ROW(B4)/6)+10/3-INT((ROW(B4)-4)/50)/3+8,\"#\")))","v":"Chapter 07: Noun Ending"}]
[null,{"$f":"INDIRECT( \"FlashCards!\"&IF(MOD(INT((ROW(B4)-4)/50),2)=0,\"CE\"&TEXT((ROW(B4)/6)+10/3-INT((ROW(B4)-4)/50)/3,\"#\"),\"CD\"&TEXT((ROW(B4)/6)+10/3-INT((ROW(B4)-4)/50)/3,\"#\")))","v":"-ς, -ος  "},null,null,{"$f":"INDIRECT( \"FlashCards!\"&IF(MOD(INT((ROW(B4)-4)/50),2)=0,\"CE\"&TEXT((ROW(B4)/6)+10/3-INT((ROW(B4)-4)/50)/3+8,\"#\"),\"CD\"&TEXT((ROW(B4)/6)+10/3-INT((ROW(B4)-4)/50)/3+8,\"#\")))","v":"-ι, -οι"}]
[]
[null,{"$f":"INDIRECT( \"FlashCards!\"&IF(MOD(INT((ROW(B4)-4)/50),2)=0,\"CC\"&TEXT((ROW(B4)/6)+10/3-INT((ROW(B4)-4)/50)/3,\"#\"),\"\"))","v":" "},null,null,{"$f":"INDIRECT( \"FlashCards!\"&IF(MOD(INT((ROW(B4)-4)/50),2)=0,\"CC\"&TEXT((ROW(B4)/6)+10/3-INT((ROW(B4)-4)/50)/3+8,\"#\"),\"CC\"&TEXT((ROW(B4)/6)+10/3-INT((ROW(B4)-4)/50)/3+8,\"#\")))","v":" "}]
[]
[]
[null,{"$f":"INDIRECT( \"FlashCards!\"&IF(MOD(INT((ROW(B10)-4)/50),2)=0,\"CF\"&TEXT((ROW(B10)/6)+10/3-INT((ROW(B10)-4)/50)/3,\"#\"),\"CF\"&TEXT((ROW(B10)/6)+10/3-INT((ROW(B10)-4)/50)/3,\"#\")))","v":"Chapter 07: Noun Ending"},null,null,{"$f":"INDIRECT( \"FlashCards!\"&IF(MOD(INT((ROW(B10)-4)/50),2)=0,\"CF\"&TEXT((ROW(B10)/6)+10/3-INT((ROW(B10)-4)/50)/3+8,\"#\"),\"CF\"&TEXT((ROW(B10)/6)+10/3-INT((ROW(B10)-4)/50)/3+8,\"#\")))","v":"Chapter 10: Noun Ending"}]
[null,{"$f":"INDIRECT( \"FlashCards!\"&IF(MOD(INT((ROW(B10)-4)/50),2)=0,\"CE\"&TEXT((ROW(B10)/6)+10/3-INT((ROW(B10)-4)/50)/3,\"#\"),\"CD\"&TEXT((ROW(B10)/6)+10/3-INT((ROW(B10)-4)/50)/3,\"#\")))","v":"-, -η, -α"},null,null,{"$f":"INDIRECT( \"FlashCards!\"&IF(MOD(INT((ROW(B10)-4)/50),2)=0,\"CE\"&TEXT((ROW(B10)/6)+10/3-INT((ROW(B10)-4)/50)/3+8,\"#\"),\"CD\"&TEXT((ROW(B10)/6)+10/3-INT((ROW(B10)-4)/50)/3+8,\"#\")))","v":"-ες"}]
[]
[null,{"$f":"INDIRECT( \"FlashCards!\"&IF(MOD(INT((ROW(B10)-4)/50),2)=0,\"CC\"&TEXT((ROW(B10)/6)+10/3-INT((ROW(B10)-4)/50)/3,\"#\"),\"\"))","v":" "},null,null,{"$f":"INDIRECT( \"FlashCards!\"&IF(MOD(INT((ROW(B10)-4)/50),2)=0,\"CC\"&TEXT((ROW(B10)/6)+10/3-INT((ROW(B10)-4)/50)/3+8,\"#\"),\"CC\"&TEXT((ROW(B10)/6)+10/3-INT((ROW(B10)-4)/50)/3+8,\"#\")))","v":" "}]
[]
[]
[null,{"$f":"INDIRECT( \"FlashCards!\"&IF(MOD(INT((ROW(B16)-4)/50),2)=0,\"CF\"&TEXT((ROW(B16)/6)+10/3-INT((ROW(B16)-4)/50)/3,\"#\"),\"CF\"&TEXT((ROW(B16)/6)+10/3-INT((ROW(B16)-4)/50)/3,\"#\")))","v":"Chapter 07: Noun Ending"},null,null,{"$f":"INDIRECT( \"FlashCards!\"&IF(MOD(INT((ROW(B16)-4)/50),2)=0,\"CF\"&TEXT((ROW(B16)/6)+10/3-INT((ROW(B16)-4)/50)/3+8,\"#\"),\"CF\"&TEXT((ROW(B16)/6)+10/3-INT((ROW(B16)-4)/50)/3+8,\"#\")))","v":"Chapter 07: Noun Ending"}]
[null,{"$f":"INDIRECT( \"FlashCards!\"&IF(MOD(INT((ROW(B16)-4)/50),2)=0,\"CE\"&TEXT((ROW(B16)/6)+10/3-INT((ROW(B16)-4)/50)/3,\"#\"),\"CD\"&TEXT((ROW(B16)/6)+10/3-INT((ROW(B16)-4)/50)/3,\"#\")))","v":"-ν, -ον"},null,null,{"$f":"INDIRECT( \"FlashCards!\"&IF(MOD(INT((ROW(B16)-4)/50),2)=0,\"CE\"&TEXT((ROW(B16)/6)+10/3-INT((ROW(B16)-4)/50)/3+8,\"#\"),\"CD\"&TEXT((ROW(B16)/6)+10/3-INT((ROW(B16)-4)/50)/3+8,\"#\")))","v":"-ι, -αι"}]
[]
[null,{"$f":"INDIRECT( \"FlashCards!\"&IF(MOD(INT((ROW(B16)-4)/50),2)=0,\"CC\"&TEXT((ROW(B16)/6)+10/3-INT((ROW(B16)-4)/50)/3,\"#\"),\"\"))","v":" "},null,null,{"$f":"INDIRECT( \"FlashCards!\"&IF(MOD(INT((ROW(B16)-4)/50),2)=0,\"CC\"&TEXT((ROW(B16)/6)+10/3-INT((ROW(B16)-4)/50)/3+8,\"#\"),\"CC\"&TEXT((ROW(B16)/6)+10/3-INT((ROW(B16)-4)/50)/3+8,\"#\")))","v":" "}]
[]
[]
[null,{"$f":"INDIRECT( \"FlashCards!\"&IF(MOD(INT((ROW(B22)-4)/50),2)=0,\"CF\"&TEXT((ROW(B22)/6)+10/3-INT((ROW(B22)-4)/50)/3,\"#\"),\"CF\"&TEXT((ROW(B22)/6)+10/3-INT((ROW(B22)-4)/50)/3,\"#\")))","v":"Chapter 07: Noun Ending"},null,null,{"$f":"INDIRECT( \"FlashCards!\"&IF(MOD(INT((ROW(B22)-4)/50),2)=0,\"CF\"&TEXT((ROW(B22)/6)+10/3-INT((ROW(B22)-4)/50)/3+8,\"#\"),\"CF\"&TEXT((ROW(B22)/6)+10/3-INT((ROW(B22)-4)/50)/3+8,\"#\")))","v":"Chapter 07: Noun Ending"}]
[null,{"$f":"INDIRECT( \"FlashCards!\"&IF(MOD(INT((ROW(B22)-4)/50),2)=0,\"CE\"&TEXT((ROW(B22)/6)+10/3-INT((ROW(B22)-4)/50)/3,\"#\"),\"CD\"&TEXT((ROW(B22)/6)+10/3-INT((ROW(B22)-4)/50)/3,\"#\")))","v":"-υ, -ου"},null,null,{"$f":"INDIRECT( \"FlashCards!\"&IF(MOD(INT((ROW(B22)-4)/50),2)=0,\"CE\"&TEXT((ROW(B22)/6)+10/3-INT((ROW(B22)-4)/50)/3+8,\"#\"),\"CD\"&TEXT((ROW(B22)/6)+10/3-INT((ROW(B22)-4)/50)/3+8,\"#\")))","v":"-α     "}]
[]
[null,{"$f":"INDIRECT( \"FlashCards!\"&IF(MOD(INT((ROW(B22)-4)/50),2)=0,\"CC\"&TEXT((ROW(B22)/6)+10/3-INT((ROW(B22)-4)/50)/3,\"#\"),\"\"))","v":" "},null,null,{"$f":"INDIRECT( \"FlashCards!\"&IF(MOD(INT((ROW(B22)-4)/50),2)=0,\"CC\"&TEXT((ROW(B22)/6)+10/3-INT((ROW(B22)-4)/50)/3+8,\"#\"),\"CC\"&TEXT((ROW(B22)/6)+10/3-INT((ROW(B22)-4)/50)/3+8,\"#\")))","v":" "}]
[]
[]
[null,{"$f":"INDIRECT( \"FlashCards!\"&IF(MOD(INT((ROW(B28)-4)/50),2)=0,\"CF\"&TEXT((ROW(B28)/6)+10/3-INT((ROW(B28)-4)/50)/3,\"#\"),\"CF\"&TEXT((ROW(B28)/6)+10/3-INT((ROW(B28)-4)/50)/3,\"#\")))","v":"Chapter 07: Noun Ending"},null,null,{"$f":"INDIRECT( \"FlashCards!\"&IF(MOD(INT((ROW(B28)-4)/50),2)=0,\"CF\"&TEXT((ROW(B28)/6)+10/3-INT((ROW(B28)-4)/50)/3+8,\"#\"),\"CF\"&TEXT((ROW(B28)/6)+10/3-INT((ROW(B28)-4)/50)/3+8,\"#\")))","v":"Chapter 07: Noun Ending"}]
[null,{"$f":"INDIRECT( \"FlashCards!\"&IF(MOD(INT((ROW(B28)-4)/50),2)=0,\"CE\"&TEXT((ROW(B28)/6)+10/3-INT((ROW(B28)-4)/50)/3,\"#\"),\"CD\"&TEXT((ROW(B28)/6)+10/3-INT((ROW(B28)-4)/50)/3,\"#\")))","v":"-ς, -ης, -ας"},null,null,{"$f":"INDIRECT( \"FlashCards!\"&IF(MOD(INT((ROW(B28)-4)/50),2)=0,\"CE\"&TEXT((ROW(B28)/6)+10/3-INT((ROW(B28)-4)/50)/3+8,\"#\"),\"CD\"&TEXT((ROW(B28)/6)+10/3-INT((ROW(B28)-4)/50)/3+8,\"#\")))","v":"-ων     "}]
[]
[null,{"$f":"INDIRECT( \"FlashCards!\"&IF(MOD(INT((ROW(B28)-4)/50),2)=0,\"CC\"&TEXT((ROW(B28)/6)+10/3-INT((ROW(B28)-4)/50)/3,\"#\"),\"\"))","v":" "},null,null,{"$f":"INDIRECT( \"FlashCards!\"&IF(MOD(INT((ROW(B28)-4)/50),2)=0,\"CC\"&TEXT((ROW(B28)/6)+10/3-INT((ROW(B28)-4)/50)/3+8,\"#\"),\"CC\"&TEXT((ROW(B28)/6)+10/3-INT((ROW(B28)-4)/50)/3+8,\"#\")))","v":" "}]
[]
[]
[null,{"$f":"INDIRECT( \"FlashCards!\"&IF(MOD(INT((ROW(B34)-4)/50),2)=0,\"CF\"&TEXT((ROW(B34)/6)+10/3-INT((ROW(B34)-4)/50)/3,\"#\"),\"CF\"&TEXT((ROW(B34)/6)+10/3-INT((ROW(B34)-4)/50)/3,\"#\")))","v":"Chapter 07: Noun Ending"},null,null,{"$f":"INDIRECT( \"FlashCards!\"&IF(MOD(INT((ROW(B34)-4)/50),2)=0,\"CF\"&TEXT((ROW(B34)/6)+10/3-INT((ROW(B34)-4)/50)/3+8,\"#\"),\"CF\"&TEXT((ROW(B34)/6)+10/3-INT((ROW(B34)-4)/50)/3+8,\"#\")))","v":"Chapter 07: Noun Ending"}]
[null,{"$f":"INDIRECT( \"FlashCards!\"&IF(MOD(INT((ROW(B34)-4)/50),2)=0,\"CE\"&TEXT((ROW(B34)/6)+10/3-INT((ROW(B34)-4)/50)/3,\"#\"),\"CD\"&TEXT((ROW(B34)/6)+10/3-INT((ROW(B34)-4)/50)/3,\"#\")))","v":"-ι, -ῳ"},null,null,{"$f":"INDIRECT( \"FlashCards!\"&IF(MOD(INT((ROW(B34)-4)/50),2)=0,\"CE\"&TEXT((ROW(B34)/6)+10/3-INT((ROW(B34)-4)/50)/3+8,\"#\"),\"CD\"&TEXT((ROW(B34)/6)+10/3-INT((ROW(B34)-4)/50)/3+8,\"#\")))","v":"-ις, -οις"}]
[]
[null,{"$f":"INDIRECT( \"FlashCards!\"&IF(MOD(INT((ROW(B34)-4)/50),2)=0,\"CC\"&TEXT((ROW(B34)/6)+10/3-INT((ROW(B34)-4)/50)/3,\"#\"),\"\"))","v":" "},null,null,{"$f":"INDIRECT( \"FlashCards!\"&IF(MOD(INT((ROW(B34)-4)/50),2)=0,\"CC\"&TEXT((ROW(B34)/6)+10/3-INT((ROW(B34)-4)/50)/3+8,\"#\"),\"CC\"&TEXT((ROW(B34)/6)+10/3-INT((ROW(B34)-4)/50)/3+8,\"#\")))","v":" "}]
[]
[]
[null,{"$f":"INDIRECT( \"FlashCards!\"&IF(MOD(INT((ROW(B40)-4)/50),2)=0,\"CF\"&TEXT((ROW(B40)/6)+10/3-INT((ROW(B40)-4)/50)/3,\"#\"),\"CF\"&TEXT((ROW(B40)/6)+10/3-INT((ROW(B40)-4)/50)/3,\"#\")))","v":"Chapter 07: Noun Ending"},null,null,{"$f":"INDIRECT( \"FlashCards!\"&IF(MOD(INT((ROW(B40)-4)/50),2)=0,\"CF\"&TEXT((ROW(B40)/6)+10/3-INT((ROW(B40)-4)/50)/3+8,\"#\"),\"CF\"&TEXT((ROW(B40)/6)+10/3-INT((ROW(B40)-4)/50)/3+8,\"#\")))","v":"Chapter 07: Noun Ending"}]
[null,{"$f":"INDIRECT( \"FlashCards!\"&IF(MOD(INT((ROW(B40)-4)/50),2)=0,\"CE\"&TEXT((ROW(B40)/6)+10/3-INT((ROW(B40)-4)/50)/3,\"#\"),\"CD\"&TEXT((ROW(B40)/6)+10/3-INT((ROW(B40)-4)/50)/3,\"#\")))","v":"-ι, -ῃ, -ᾳ"},null,null,{"$f":"INDIRECT( \"FlashCards!\"&IF(MOD(INT((ROW(B40)-4)/50),2)=0,\"CE\"&TEXT((ROW(B40)/6)+10/3-INT((ROW(B40)-4)/50)/3+8,\"#\"),\"CD\"&TEXT((ROW(B40)/6)+10/3-INT((ROW(B40)-4)/50)/3+8,\"#\")))","v":"-ις, -αις"}]
[]
[null,{"$f":"INDIRECT( \"FlashCards!\"&IF(MOD(INT((ROW(B40)-4)/50),2)=0,\"CC\"&TEXT((ROW(B40)/6)+10/3-INT((ROW(B40)-4)/50)/3,\"#\"),\"\"))","v":" "},null,null,{"$f":"INDIRECT( \"FlashCards!\"&IF(MOD(INT((ROW(B40)-4)/50),2)=0,\"CC\"&TEXT((ROW(B40)/6)+10/3-INT((ROW(B40)-4)/50)/3+8,\"#\"),\"CC\"&TEXT((ROW(B40)/6)+10/3-INT((ROW(B40)-4)/50)/3+8,\"#\")))","v":" "}]
[]
[]
[null,{"$f":"INDIRECT( \"FlashCards!\"&IF(MOD(INT((ROW(B46)-4)/50),2)=0,\"CF\"&TEXT((ROW(B46)/6)+10/3-INT((ROW(B46)-4)/50)/3,\"#\"),\"CF\"&TEXT((ROW(B46)/6)+10/3-INT((ROW(B46)-4)/50)/3,\"#\")))","v":"Chapter 07: Noun Ending"},null,null,{"$f":"INDIRECT( \"FlashCards!\"&IF(MOD(INT((ROW(B46)-4)/50),2)=0,\"CF\"&TEXT((ROW(B46)/6)+10/3-INT((ROW(B46)-4)/50)/3+8,\"#\"),\"CF\"&TEXT((ROW(B46)/6)+10/3-INT((ROW(B46)-4)/50)/3+8,\"#\")))","v":"Chapter 10: Noun Ending"}]
[null,{"$f":"INDIRECT( \"FlashCards!\"&IF(MOD(INT((ROW(B46)-4)/50),2)=0,\"CE\"&TEXT((ROW(B46)/6)+10/3-INT((ROW(B46)-4)/50)/3,\"#\"),\"CD\"&TEXT((ROW(B46)/6)+10/3-INT((ROW(B46)-4)/50)/3,\"#\")))","v":"-ν, -ην, -αν"},null,null,{"$f":"INDIRECT( \"FlashCards!\"&IF(MOD(INT((ROW(B46)-4)/50),2)=0,\"CE\"&TEXT((ROW(B46)/6)+10/3-INT((ROW(B46)-4)/50)/3+8,\"#\"),\"CD\"&TEXT((ROW(B46)/6)+10/3-INT((ROW(B46)-4)/50)/3+8,\"#\")))","v":"-σι(ν)"}]
[]
[null,{"$f":"INDIRECT( \"FlashCards!\"&IF(MOD(INT((ROW(B46)-4)/50),2)=0,\"CC\"&TEXT((ROW(B46)/6)+10/3-INT((ROW(B46)-4)/50)/3,\"#\"),\"\"))","v":" "},null,null,{"$f":"INDIRECT( \"FlashCards!\"&IF(MOD(INT((ROW(B46)-4)/50),2)=0,\"CC\"&TEXT((ROW(B46)/6)+10/3-INT((ROW(B46)-4)/50)/3+8,\"#\"),\"CC\"&TEXT((ROW(B46)/6)+10/3-INT((ROW(B46)-4)/50)/3+8,\"#\")))","v":" "}]
[]
[]
[]
[]
[null,{"$f":"E3","v":"Chapter 07: Noun Ending"},null,null,{"$f":"B3","v":"Chapter 07: Noun Ending"}]
[null,{"$f":"INDIRECT( \"FlashCards!\"&IF(MOD(INT((ROW(B54)-4)/50),2)=0,\"CE\"&TEXT((ROW(B54)/6)+10/3-INT((ROW(B54)-4)/50)/3,\"#\"),\"CD\"&TEXT((ROW(B54)/6)+10/3-INT((ROW(B54)-4)/50)/3,\"#\")))","v":"(nominative, plural, masculine)"},null,null,{"$f":"INDIRECT( \"FlashCards!\"&IF(MOD(INT((ROW(B54)-4)/50),2)=0,\"CE\"&TEXT((ROW(B54)/6)+10/3-INT((ROW(B54)-4)/50)/3-8,\"#\"),\"CD\"&TEXT((ROW(B54)/6)+10/3-INT((ROW(B54)-4)/50)/3-8,\"#\")))","v":"(nominative, singular, masculine)"}]
[]
[]
[]
[]
[null,{"$f":"E9","v":"Chapter 10: Noun Ending"},null,null,{"$f":"B9","v":"Chapter 07: Noun Ending"}]
[null,{"$f":"INDIRECT( \"FlashCards!\"&IF(MOD(INT((ROW(B60)-4)/50),2)=0,\"CE\"&TEXT((ROW(B60)/6)+10/3-INT((ROW(B60)-4)/50)/3,\"#\"),\"CD\"&TEXT((ROW(B60)/6)+10/3-INT((ROW(B60)-4)/50)/3,\"#\")))","v":"(nominative, plural, masculine or feminine, 3ʳᵈ declension)"},null,null,{"$f":"INDIRECT( \"FlashCards!\"&IF(MOD(INT((ROW(B60)-4)/50),2)=0,\"CE\"&TEXT((ROW(B60)/6)+10/3-INT((ROW(B60)-4)/50)/3-8,\"#\"),\"CD\"&TEXT((ROW(B60)/6)+10/3-INT((ROW(B60)-4)/50)/3-8,\"#\")))","v":"(nominative, singular, feminine)"}]
[]
[]
[]
[]
[null,{"$f":"E15","v":"Chapter 07: Noun Ending"},null,null,{"$f":"B15","v":"Chapter 07: Noun Ending"}]
[null,{"$f":"INDIRECT( \"FlashCards!\"&IF(MOD(INT((ROW(B66)-4)/50),2)=0,\"CE\"&TEXT((ROW(B66)/6)+10/3-INT((ROW(B66)-4)/50)/3,\"#\"),\"CD\"&TEXT((ROW(B66)/6)+10/3-INT((ROW(B66)-4)/50)/3,\"#\")))","v":"(nominative, plural, feminine)"},null,null,{"$f":"INDIRECT( \"FlashCards!\"&IF(MOD(INT((ROW(B66)-4)/50),2)=0,\"CE\"&TEXT((ROW(B66)/6)+10/3-INT((ROW(B66)-4)/50)/3-8,\"#\"),\"CD\"&TEXT((ROW(B66)/6)+10/3-INT((ROW(B66)-4)/50)/3-8,\"#\")))","v":"(nominative, singular, neuter; accusative, singular, masculine or neuter)"}]
[]
[]
[]
[]
[null,{"$f":"E21","v":"Chapter 07: Noun Ending"},null,null,{"$f":"B21","v":"Chapter 07: Noun Ending"}]
[null,{"$f":"INDIRECT( \"FlashCards!\"&IF(MOD(INT((ROW(B72)-4)/50),2)=0,\"CE\"&TEXT((ROW(B72)/6)+10/3-INT((ROW(B72)-4)/50)/3,\"#\"),\"CD\"&TEXT((ROW(B72)/6)+10/3-INT((ROW(B72)-4)/50)/3,\"#\")))","v":"(nominative or accusative, plural, neuter)"},null,null,{"$f":"INDIRECT( \"FlashCards!\"&IF(MOD(INT((ROW(B72)-4)/50),2)=0,\"CE\"&TEXT((ROW(B72)/6)+10/3-INT((ROW(B72)-4)/50)/3-8,\"#\"),\"CD\"&TEXT((ROW(B72)/6)+10/3-INT((ROW(B72)-4)/50)/3-8,\"#\")))","v":"(genitive, singular, masculine or neuter)"}]
[]
[]
[]
[]
[null,{"$f":"E27","v":"Chapter 07: Noun Ending"},null,null,{"$f":"B27","v":"Chapter 07: Noun Ending"}]
[null,{"$f":"INDIRECT( \"FlashCards!\"&IF(MOD(INT((ROW(B78)-4)/50),2)=0,\"CE\"&TEXT((ROW(B78)/6)+10/3-INT((ROW(B78)-4)/50)/3,\"#\"),\"CD\"&TEXT((ROW(B78)/6)+10/3-INT((ROW(B78)-4)/50)/3,\"#\")))","v":"(genitive, plural, masculine, feminine, neuter)"},null,null,{"$f":"INDIRECT( \"FlashCards!\"&IF(MOD(INT((ROW(B78)-4)/50),2)=0,\"CE\"&TEXT((ROW(B78)/6)+10/3-INT((ROW(B78)-4)/50)/3-8,\"#\"),\"CD\"&TEXT((ROW(B78)/6)+10/3-INT((ROW(B78)-4)/50)/3-8,\"#\")))","v":"(genitive, singular,  feminine)"}]
[]
[]
[]
[]
[null,{"$f":"E33","v":"Chapter 07: Noun Ending"},null,null,{"$f":"B33","v":"Chapter 07: Noun Ending"}]
[null,{"$f":"INDIRECT( \"FlashCards!\"&IF(MOD(INT((ROW(B84)-4)/50),2)=0,\"CE\"&TEXT((ROW(B84)/6)+10/3-INT((ROW(B84)-4)/50)/3,\"#\"),\"CD\"&TEXT((ROW(B84)/6)+10/3-INT((ROW(B84)-4)/50)/3,\"#\")))","v":"(dative, plural, masculine or neuter)"},null,null,{"$f":"INDIRECT( \"FlashCards!\"&IF(MOD(INT((ROW(B84)-4)/50),2)=0,\"CE\"&TEXT((ROW(B84)/6)+10/3-INT((ROW(B84)-4)/50)/3-8,\"#\"),\"CD\"&TEXT((ROW(B84)/6)+10/3-INT((ROW(B84)-4)/50)/3-8,\"#\")))","v":"(dative, singular, masculine; dative, singular, neuter)"}]
[]
[]
[]
[]
[null,{"$f":"E39","v":"Chapter 07: Noun Ending"},null,null,{"$f":"B39","v":"Chapter 07: Noun Ending"}]
[null,{"$f":"INDIRECT( \"FlashCards!\"&IF(MOD(INT((ROW(B90)-4)/50),2)=0,\"CE\"&TEXT((ROW(B90)/6)+10/3-INT((ROW(B90)-4)/50)/3,\"#\"),\"CD\"&TEXT((ROW(B90)/6)+10/3-INT((ROW(B90)-4)/50)/3,\"#\")))","v":"(dative, plural, feminine)"},null,null,{"$f":"INDIRECT( \"FlashCards!\"&IF(MOD(INT((ROW(B90)-4)/50),2)=0,\"CE\"&TEXT((ROW(B90)/6)+10/3-INT((ROW(B90)-4)/50)/3-8,\"#\"),\"CD\"&TEXT((ROW(B90)/6)+10/3-INT((ROW(B90)-4)/50)/3-8,\"#\")))","v":"(dative, singular, feminine)"}]
[]
[]
[]
[]
[null,{"$f":"E45","v":"Chapter 10: Noun Ending"},null,null,{"$f":"B45","v":"Chapter 07: Noun Ending"}]
[null,{"$f":"INDIRECT( \"FlashCards!\"&IF(MOD(INT((ROW(B96)-4)/50),2)=0,\"CE\"&TEXT((ROW(B96)/6)+10/3-INT((ROW(B96)-4)/50)/3,\"#\"),\"CD\"&TEXT((ROW(B96)/6)+10/3-INT((ROW(B96)-4)/50)/3,\"#\")))","v":"(dative, plural, masculine/ feminine/neuter, 3ʳᵈ declension)"},null,null,{"$f":"INDIRECT( \"FlashCards!\"&IF(MOD(INT((ROW(B96)-4)/50),2)=0,\"CE\"&TEXT((ROW(B96)/6)+10/3-INT((ROW(B96)-4)/50)/3-8,\"#\"),\"CD\"&TEXT((ROW(B96)/6)+10/3-INT((ROW(B96)-4)/50)/3-8,\"#\")))","v":"(accusative, singular, feminine)"}]
[]
[]
[]
[]
[]
[]
[null,{"$f":"INDIRECT( \"FlashCards!\"&IF(MOD(INT((ROW(B104)-4)/50),2)=0,\"CF\"&TEXT((ROW(B104)/6)+10/3-INT((ROW(B104)-4)/50)/3,\"#\"),\"CF\"&TEXT((ROW(B104)/6)+10/3-INT((ROW(B104)-4)/50)/3,\"#\")))","v":"Chapter 07: Noun Ending"},null,null,{"$f":"INDIRECT( \"FlashCards!\"&IF(MOD(INT((ROW(B104)-4)/50),2)=0,\"CF\"&TEXT((ROW(B104)/6)+10/3-INT((ROW(B104)-4)/50)/3+8,\"#\"),\"CF\"&TEXT((ROW(B104)/6)+10/3-INT((ROW(B104)-4)/50)/3+8,\"#\")))","v":"Chapter 16: Verb Ending"}]
[null,{"$f":"INDIRECT( \"FlashCards!\"&IF(MOD(INT((ROW(B104)-4)/50),2)=0,\"CE\"&TEXT((ROW(B104)/6)+10/3-INT((ROW(B104)-4)/50)/3,\"#\"),\"CD\"&TEXT((ROW(B104)/6)+10/3-INT((ROW(B104)-4)/50)/3,\"#\")))","v":"-υς, -ους"},null,null,{"$f":"INDIRECT( \"FlashCards!\"&IF(MOD(INT((ROW(B104)-4)/50),2)=0,\"CE\"&TEXT((ROW(B104)/6)+10/3-INT((ROW(B104)-4)/50)/3+8,\"#\"),\"CD\"&TEXT((ROW(B104)/6)+10/3-INT((ROW(B104)-4)/50)/3+8,\"#\")))","v":"[active stem] +ετε"}]
[]
[null,{"$f":"INDIRECT( \"FlashCards!\"&IF(MOD(INT((ROW(B104)-4)/50),2)=0,\"CC\"&TEXT((ROW(B104)/6)+10/3-INT((ROW(B104)-4)/50)/3,\"#\"),\"\"))","v":" "},null,null,{"$f":"INDIRECT( \"FlashCards!\"&IF(MOD(INT((ROW(B104)-4)/50),2)=0,\"CC\"&TEXT((ROW(B104)/6)+10/3-INT((ROW(B104)-4)/50)/3+8,\"#\"),\"CC\"&TEXT((ROW(B104)/6)+10/3-INT((ROW(B104)-4)/50)/3+8,\"#\")))","v":" "}]
[]
[]
[null,{"$f":"INDIRECT( \"FlashCards!\"&IF(MOD(INT((ROW(B110)-4)/50),2)=0,\"CF\"&TEXT((ROW(B110)/6)+10/3-INT((ROW(B110)-4)/50)/3,\"#\"),\"CF\"&TEXT((ROW(B110)/6)+10/3-INT((ROW(B110)-4)/50)/3,\"#\")))","v":"Chapter 07: Noun Ending"},null,null,{"$f":"INDIRECT( \"FlashCards!\"&IF(MOD(INT((ROW(B110)-4)/50),2)=0,\"CF\"&TEXT((ROW(B110)/6)+10/3-INT((ROW(B110)-4)/50)/3+8,\"#\"),\"CF\"&TEXT((ROW(B110)/6)+10/3-INT((ROW(B110)-4)/50)/3+8,\"#\")))","v":"Chapter 16: Verb Ending"}]
[null,{"$f":"INDIRECT( \"FlashCards!\"&IF(MOD(INT((ROW(B110)-4)/50),2)=0,\"CE\"&TEXT((ROW(B110)/6)+10/3-INT((ROW(B110)-4)/50)/3,\"#\"),\"CD\"&TEXT((ROW(B110)/6)+10/3-INT((ROW(B110)-4)/50)/3,\"#\")))","v":"-ς, -ας"},null,null,{"$f":"INDIRECT( \"FlashCards!\"&IF(MOD(INT((ROW(B110)-4)/50),2)=0,\"CE\"&TEXT((ROW(B110)/6)+10/3-INT((ROW(B110)-4)/50)/3+8,\"#\"),\"CD\"&TEXT((ROW(B110)/6)+10/3-INT((ROW(B110)-4)/50)/3+8,\"#\")))","v":"[active stem] +ονσι, +οσιν"}]
[]
[null,{"$f":"INDIRECT( \"FlashCards!\"&IF(MOD(INT((ROW(B110)-4)/50),2)=0,\"CC\"&TEXT((ROW(B110)/6)+10/3-INT((ROW(B110)-4)/50)/3,\"#\"),\"\"))","v":" "},null,null,{"$f":"INDIRECT( \"FlashCards!\"&IF(MOD(INT((ROW(B110)-4)/50),2)=0,\"CC\"&TEXT((ROW(B110)/6)+10/3-INT((ROW(B110)-4)/50)/3+8,\"#\"),\"CC\"&TEXT((ROW(B110)/6)+10/3-INT((ROW(B110)-4)/50)/3+8,\"#\")))","v":" "}]
[]
[]
[null,{"$f":"INDIRECT( \"FlashCards!\"&IF(MOD(INT((ROW(B116)-4)/50),2)=0,\"CF\"&TEXT((ROW(B116)/6)+10/3-INT((ROW(B116)-4)/50)/3,\"#\"),\"CF\"&TEXT((ROW(B116)/6)+10/3-INT((ROW(B116)-4)/50)/3,\"#\")))","v":"Chapter 19: Noun Ending"},null,null,{"$f":"INDIRECT( \"FlashCards!\"&IF(MOD(INT((ROW(B116)-4)/50),2)=0,\"CF\"&TEXT((ROW(B116)/6)+10/3-INT((ROW(B116)-4)/50)/3+8,\"#\"),\"CF\"&TEXT((ROW(B116)/6)+10/3-INT((ROW(B116)-4)/50)/3+8,\"#\")))","v":"Chapter 18: Verb Ending"}]
[null,{"$f":"INDIRECT( \"FlashCards!\"&IF(MOD(INT((ROW(B116)-4)/50),2)=0,\"CE\"&TEXT((ROW(B116)/6)+10/3-INT((ROW(B116)-4)/50)/3,\"#\"),\"CD\"&TEXT((ROW(B116)/6)+10/3-INT((ROW(B116)-4)/50)/3,\"#\")))","v":"-εύς "},null,null,{"$f":"INDIRECT( \"FlashCards!\"&IF(MOD(INT((ROW(B116)-4)/50),2)=0,\"CE\"&TEXT((ROW(B116)/6)+10/3-INT((ROW(B116)-4)/50)/3+8,\"#\"),\"CD\"&TEXT((ROW(B116)/6)+10/3-INT((ROW(B116)-4)/50)/3+8,\"#\")))","v":"[middle stem] +ομαι, "}]
[]
[null,{"$f":"INDIRECT( \"FlashCards!\"&IF(MOD(INT((ROW(B116)-4)/50),2)=0,\"CC\"&TEXT((ROW(B116)/6)+10/3-INT((ROW(B116)-4)/50)/3,\"#\"),\"\"))","v":"yoose"},null,null,{"$f":"INDIRECT( \"FlashCards!\"&IF(MOD(INT((ROW(B116)-4)/50),2)=0,\"CC\"&TEXT((ROW(B116)/6)+10/3-INT((ROW(B116)-4)/50)/3+8,\"#\"),\"CC\"&TEXT((ROW(B116)/6)+10/3-INT((ROW(B116)-4)/50)/3+8,\"#\")))","v":" "}]
[]
[]
[null,{"$f":"INDIRECT( \"FlashCards!\"&IF(MOD(INT((ROW(B122)-4)/50),2)=0,\"CF\"&TEXT((ROW(B122)/6)+10/3-INT((ROW(B122)-4)/50)/3,\"#\"),\"CF\"&TEXT((ROW(B122)/6)+10/3-INT((ROW(B122)-4)/50)/3,\"#\")))","v":"Extra: Noun Ending"},null,null,{"$f":"INDIRECT( \"FlashCards!\"&IF(MOD(INT((ROW(B122)-4)/50),2)=0,\"CF\"&TEXT((ROW(B122)/6)+10/3-INT((ROW(B122)-4)/50)/3+8,\"#\"),\"CF\"&TEXT((ROW(B122)/6)+10/3-INT((ROW(B122)-4)/50)/3+8,\"#\")))","v":"Chapter 18: Verb Ending"}]
[null,{"$f":"INDIRECT( \"FlashCards!\"&IF(MOD(INT((ROW(B122)-4)/50),2)=0,\"CE\"&TEXT((ROW(B122)/6)+10/3-INT((ROW(B122)-4)/50)/3,\"#\"),\"CD\"&TEXT((ROW(B122)/6)+10/3-INT((ROW(B122)-4)/50)/3,\"#\")))","v":"-ικός"},null,null,{"$f":"INDIRECT( \"FlashCards!\"&IF(MOD(INT((ROW(B122)-4)/50),2)=0,\"CE\"&TEXT((ROW(B122)/6)+10/3-INT((ROW(B122)-4)/50)/3+8,\"#\"),\"CD\"&TEXT((ROW(B122)/6)+10/3-INT((ROW(B122)-4)/50)/3+8,\"#\")))","v":"[middle stem] +εσαι, +ῃ"}]
[]
[null,{"$f":"INDIRECT( \"FlashCards!\"&IF(MOD(INT((ROW(B122)-4)/50),2)=0,\"CC\"&TEXT((ROW(B122)/6)+10/3-INT((ROW(B122)-4)/50)/3,\"#\"),\"\"))","v":"ee-KOSS"},null,null,{"$f":"INDIRECT( \"FlashCards!\"&IF(MOD(INT((ROW(B122)-4)/50),2)=0,\"CC\"&TEXT((ROW(B122)/6)+10/3-INT((ROW(B122)-4)/50)/3+8,\"#\"),\"CC\"&TEXT((ROW(B122)/6)+10/3-INT((ROW(B122)-4)/50)/3+8,\"#\")))","v":" "}]
[]
[]
[null,{"$f":"INDIRECT( \"FlashCards!\"&IF(MOD(INT((ROW(B128)-4)/50),2)=0,\"CF\"&TEXT((ROW(B128)/6)+10/3-INT((ROW(B128)-4)/50)/3,\"#\"),\"CF\"&TEXT((ROW(B128)/6)+10/3-INT((ROW(B128)-4)/50)/3,\"#\")))","v":"Chapter 16: Verb Ending"},null,null,{"$f":"INDIRECT( \"FlashCards!\"&IF(MOD(INT((ROW(B128)-4)/50),2)=0,\"CF\"&TEXT((ROW(B128)/6)+10/3-INT((ROW(B128)-4)/50)/3+8,\"#\"),\"CF\"&TEXT((ROW(B128)/6)+10/3-INT((ROW(B128)-4)/50)/3+8,\"#\")))","v":"Chapter 18: Verb Ending"}]
[null,{"$f":"INDIRECT( \"FlashCards!\"&IF(MOD(INT((ROW(B128)-4)/50),2)=0,\"CE\"&TEXT((ROW(B128)/6)+10/3-INT((ROW(B128)-4)/50)/3,\"#\"),\"CD\"&TEXT((ROW(B128)/6)+10/3-INT((ROW(B128)-4)/50)/3,\"#\")))","v":"[active stem] +ω"},null,null,{"$f":"INDIRECT( \"FlashCards!\"&IF(MOD(INT((ROW(B128)-4)/50),2)=0,\"CE\"&TEXT((ROW(B128)/6)+10/3-INT((ROW(B128)-4)/50)/3+8,\"#\"),\"CD\"&TEXT((ROW(B128)/6)+10/3-INT((ROW(B128)-4)/50)/3+8,\"#\")))","v":"[middle stem] +εται"}]
[]
[null,{"$f":"INDIRECT( \"FlashCards!\"&IF(MOD(INT((ROW(B128)-4)/50),2)=0,\"CC\"&TEXT((ROW(B128)/6)+10/3-INT((ROW(B128)-4)/50)/3,\"#\"),\"\"))","v":" "},null,null,{"$f":"INDIRECT( \"FlashCards!\"&IF(MOD(INT((ROW(B128)-4)/50),2)=0,\"CC\"&TEXT((ROW(B128)/6)+10/3-INT((ROW(B128)-4)/50)/3+8,\"#\"),\"CC\"&TEXT((ROW(B128)/6)+10/3-INT((ROW(B128)-4)/50)/3+8,\"#\")))","v":" "}]
[]
[]
[null,{"$f":"INDIRECT( \"FlashCards!\"&IF(MOD(INT((ROW(B134)-4)/50),2)=0,\"CF\"&TEXT((ROW(B134)/6)+10/3-INT((ROW(B134)-4)/50)/3,\"#\"),\"CF\"&TEXT((ROW(B134)/6)+10/3-INT((ROW(B134)-4)/50)/3,\"#\")))","v":"Chapter 16: Verb Ending"},null,null,{"$f":"INDIRECT( \"FlashCards!\"&IF(MOD(INT((ROW(B134)-4)/50),2)=0,\"CF\"&TEXT((ROW(B134)/6)+10/3-INT((ROW(B134)-4)/50)/3+8,\"#\"),\"CF\"&TEXT((ROW(B134)/6)+10/3-INT((ROW(B134)-4)/50)/3+8,\"#\")))","v":"Chapter 18: Verb Ending"}]
[null,{"$f":"INDIRECT( \"FlashCards!\"&IF(MOD(INT((ROW(B134)-4)/50),2)=0,\"CE\"&TEXT((ROW(B134)/6)+10/3-INT((ROW(B134)-4)/50)/3,\"#\"),\"CD\"&TEXT((ROW(B134)/6)+10/3-INT((ROW(B134)-4)/50)/3,\"#\")))","v":"[active stem] +ες, +εις"},null,null,{"$f":"INDIRECT( \"FlashCards!\"&IF(MOD(INT((ROW(B134)-4)/50),2)=0,\"CE\"&TEXT((ROW(B134)/6)+10/3-INT((ROW(B134)-4)/50)/3+8,\"#\"),\"CD\"&TEXT((ROW(B134)/6)+10/3-INT((ROW(B134)-4)/50)/3+8,\"#\")))","v":"[middle stem] +ομεθα"}]
[]
[null,{"$f":"INDIRECT( \"FlashCards!\"&IF(MOD(INT((ROW(B134)-4)/50),2)=0,\"CC\"&TEXT((ROW(B134)/6)+10/3-INT((ROW(B134)-4)/50)/3,\"#\"),\"\"))","v":" "},null,null,{"$f":"INDIRECT( \"FlashCards!\"&IF(MOD(INT((ROW(B134)-4)/50),2)=0,\"CC\"&TEXT((ROW(B134)/6)+10/3-INT((ROW(B134)-4)/50)/3+8,\"#\"),\"CC\"&TEXT((ROW(B134)/6)+10/3-INT((ROW(B134)-4)/50)/3+8,\"#\")))","v":" "}]
[]
[]
[null,{"$f":"INDIRECT( \"FlashCards!\"&IF(MOD(INT((ROW(B140)-4)/50),2)=0,\"CF\"&TEXT((ROW(B140)/6)+10/3-INT((ROW(B140)-4)/50)/3,\"#\"),\"CF\"&TEXT((ROW(B140)/6)+10/3-INT((ROW(B140)-4)/50)/3,\"#\")))","v":"Chapter 16: Verb Ending"},null,null,{"$f":"INDIRECT( \"FlashCards!\"&IF(MOD(INT((ROW(B140)-4)/50),2)=0,\"CF\"&TEXT((ROW(B140)/6)+10/3-INT((ROW(B140)-4)/50)/3+8,\"#\"),\"CF\"&TEXT((ROW(B140)/6)+10/3-INT((ROW(B140)-4)/50)/3+8,\"#\")))","v":"Chapter 18: Verb Ending"}]
[null,{"$f":"INDIRECT( \"FlashCards!\"&IF(MOD(INT((ROW(B140)-4)/50),2)=0,\"CE\"&TEXT((ROW(B140)/6)+10/3-INT((ROW(B140)-4)/50)/3,\"#\"),\"CD\"&TEXT((ROW(B140)/6)+10/3-INT((ROW(B140)-4)/50)/3,\"#\")))","v":"[active stem] +ει"},null,null,{"$f":"INDIRECT( \"FlashCards!\"&IF(MOD(INT((ROW(B140)-4)/50),2)=0,\"CE\"&TEXT((ROW(B140)/6)+10/3-INT((ROW(B140)-4)/50)/3+8,\"#\"),\"CD\"&TEXT((ROW(B140)/6)+10/3-INT((ROW(B140)-4)/50)/3+8,\"#\")))","v":"[middle stem] +εσθε "}]
[]
[null,{"$f":"INDIRECT( \"FlashCards!\"&IF(MOD(INT((ROW(B140)-4)/50),2)=0,\"CC\"&TEXT((ROW(B140)/6)+10/3-INT((ROW(B140)-4)/50)/3,\"#\"),\"\"))","v":" "},null,null,{"$f":"INDIRECT( \"FlashCards!\"&IF(MOD(INT((ROW(B140)-4)/50),2)=0,\"CC\"&TEXT((ROW(B140)/6)+10/3-INT((ROW(B140)-4)/50)/3+8,\"#\"),\"CC\"&TEXT((ROW(B140)/6)+10/3-INT((ROW(B140)-4)/50)/3+8,\"#\")))","v":" "}]
[]
[]
[null,{"$f":"INDIRECT( \"FlashCards!\"&IF(MOD(INT((ROW(B146)-4)/50),2)=0,\"CF\"&TEXT((ROW(B146)/6)+10/3-INT((ROW(B146)-4)/50)/3,\"#\"),\"CF\"&TEXT((ROW(B146)/6)+10/3-INT((ROW(B146)-4)/50)/3,\"#\")))","v":"Chapter 16: Verb Ending"},null,null,{"$f":"INDIRECT( \"FlashCards!\"&IF(MOD(INT((ROW(B146)-4)/50),2)=0,\"CF\"&TEXT((ROW(B146)/6)+10/3-INT((ROW(B146)-4)/50)/3+8,\"#\"),\"CF\"&TEXT((ROW(B146)/6)+10/3-INT((ROW(B146)-4)/50)/3+8,\"#\")))","v":"Chapter 18: Verb Ending"}]
[null,{"$f":"INDIRECT( \"FlashCards!\"&IF(MOD(INT((ROW(B146)-4)/50),2)=0,\"CE\"&TEXT((ROW(B146)/6)+10/3-INT((ROW(B146)-4)/50)/3,\"#\"),\"CD\"&TEXT((ROW(B146)/6)+10/3-INT((ROW(B146)-4)/50)/3,\"#\")))","v":"[active stem] +ομεν"},null,null,{"$f":"INDIRECT( \"FlashCards!\"&IF(MOD(INT((ROW(B146)-4)/50),2)=0,\"CE\"&TEXT((ROW(B146)/6)+10/3-INT((ROW(B146)-4)/50)/3+8,\"#\"),\"CD\"&TEXT((ROW(B146)/6)+10/3-INT((ROW(B146)-4)/50)/3+8,\"#\")))","v":"[middle stem] +ονται"}]
[]
[null,{"$f":"INDIRECT( \"FlashCards!\"&IF(MOD(INT((ROW(B146)-4)/50),2)=0,\"CC\"&TEXT((ROW(B146)/6)+10/3-INT((ROW(B146)-4)/50)/3,\"#\"),\"\"))","v":" "},null,null,{"$f":"INDIRECT( \"FlashCards!\"&IF(MOD(INT((ROW(B146)-4)/50),2)=0,\"CC\"&TEXT((ROW(B146)/6)+10/3-INT((ROW(B146)-4)/50)/3+8,\"#\"),\"CC\"&TEXT((ROW(B146)/6)+10/3-INT((ROW(B146)-4)/50)/3+8,\"#\")))","v":" "}]
[]
[]
[]
[]
[null,{"$f":"E103","v":"Chapter 16: Verb Ending"},null,null,{"$f":"B103","v":"Chapter 07: Noun Ending"}]
[null,{"$f":"INDIRECT( \"FlashCards!\"&IF(MOD(INT((ROW(B154)-4)/50),2)=0,\"CE\"&TEXT((ROW(B154)/6)+10/3-INT((ROW(B154)-4)/50)/3,\"#\"),\"CD\"&TEXT((ROW(B154)/6)+10/3-INT((ROW(B154)-4)/50)/3,\"#\")))","v":"ya'll are verbing (it) [present active indicative]"},null,null,{"$f":"INDIRECT( \"FlashCards!\"&IF(MOD(INT((ROW(B154)-4)/50),2)=0,\"CE\"&TEXT((ROW(B154)/6)+10/3-INT((ROW(B154)-4)/50)/3-8,\"#\"),\"CD\"&TEXT((ROW(B154)/6)+10/3-INT((ROW(B154)-4)/50)/3-8,\"#\")))","v":"(accusative, plural, masculine)"}]
[]
[]
[]
[]
[null,{"$f":"E109","v":"Chapter 16: Verb Ending"},null,null,{"$f":"B109","v":"Chapter 07: Noun Ending"}]
[null,{"$f":"INDIRECT( \"FlashCards!\"&IF(MOD(INT((ROW(B160)-4)/50),2)=0,\"CE\"&TEXT((ROW(B160)/6)+10/3-INT((ROW(B160)-4)/50)/3,\"#\"),\"CD\"&TEXT((ROW(B160)/6)+10/3-INT((ROW(B160)-4)/50)/3,\"#\")))","v":"they are verbing (it) [present active indicative]"},null,null,{"$f":"INDIRECT( \"FlashCards!\"&IF(MOD(INT((ROW(B160)-4)/50),2)=0,\"CE\"&TEXT((ROW(B160)/6)+10/3-INT((ROW(B160)-4)/50)/3-8,\"#\"),\"CD\"&TEXT((ROW(B160)/6)+10/3-INT((ROW(B160)-4)/50)/3-8,\"#\")))","v":"(accusative, plural, feminine)"}]
[]
[]
[]
[]
[null,{"$f":"E115","v":"Chapter 18: Verb Ending"},null,null,{"$f":"B115","v":"Chapter 19: Noun Ending"}]
[null,{"$f":"INDIRECT( \"FlashCards!\"&IF(MOD(INT((ROW(B166)-4)/50),2)=0,\"CE\"&TEXT((ROW(B166)/6)+10/3-INT((ROW(B166)-4)/50)/3,\"#\"),\"CD\"&TEXT((ROW(B166)/6)+10/3-INT((ROW(B166)-4)/50)/3,\"#\")))","v":"I verb, I am verbing [present middle indicative]"},null,null,{"$f":"INDIRECT( \"FlashCards!\"&IF(MOD(INT((ROW(B166)-4)/50),2)=0,\"CE\"&TEXT((ROW(B166)/6)+10/3-INT((ROW(B166)-4)/50)/3-8,\"#\"),\"CD\"&TEXT((ROW(B166)/6)+10/3-INT((ROW(B166)-4)/50)/3-8,\"#\")))","v":"suffix for a person related to the stem (genitive, singular, masculine)"}]
[]
[]
[]
[]
[null,{"$f":"E121","v":"Chapter 18: Verb Ending"},null,null,{"$f":"B121","v":"Extra: Noun Ending"}]
[null,{"$f":"INDIRECT( \"FlashCards!\"&IF(MOD(INT((ROW(B172)-4)/50),2)=0,\"CE\"&TEXT((ROW(B172)/6)+10/3-INT((ROW(B172)-4)/50)/3,\"#\"),\"CD\"&TEXT((ROW(B172)/6)+10/3-INT((ROW(B172)-4)/50)/3,\"#\")))","v":"you verb, you are verbing [present middle indicative]"},null,null,{"$f":"INDIRECT( \"FlashCards!\"&IF(MOD(INT((ROW(B172)-4)/50),2)=0,\"CE\"&TEXT((ROW(B172)/6)+10/3-INT((ROW(B172)-4)/50)/3-8,\"#\"),\"CD\"&TEXT((ROW(B172)/6)+10/3-INT((ROW(B172)-4)/50)/3-8,\"#\")))","v":"converts a noun into an adjective (\"king\" becomes \"royal\")"}]
[]
[]
[]
[]
[null,{"$f":"E127","v":"Chapter 18: Verb Ending"},null,null,{"$f":"B127","v":"Chapter 16: Verb Ending"}]
[null,{"$f":"INDIRECT( \"FlashCards!\"&IF(MOD(INT((ROW(B178)-4)/50),2)=0,\"CE\"&TEXT((ROW(B178)/6)+10/3-INT((ROW(B178)-4)/50)/3,\"#\"),\"CD\"&TEXT((ROW(B178)/6)+10/3-INT((ROW(B178)-4)/50)/3,\"#\")))","v":"he/she/it verbs, he is verbing [present middle indicative]"},null,null,{"$f":"INDIRECT( \"FlashCards!\"&IF(MOD(INT((ROW(B178)-4)/50),2)=0,\"CE\"&TEXT((ROW(B178)/6)+10/3-INT((ROW(B178)-4)/50)/3-8,\"#\"),\"CD\"&TEXT((ROW(B178)/6)+10/3-INT((ROW(B178)-4)/50)/3-8,\"#\")))","v":"I am verbing (it) [present active indicative]"}]
[]
[]
[]
[]
[null,{"$f":"E133","v":"Chapter 18: Verb Ending"},null,null,{"$f":"B133","v":"Chapter 16: Verb Ending"}]
[null,{"$f":"INDIRECT( \"FlashCards!\"&IF(MOD(INT((ROW(B184)-4)/50),2)=0,\"CE\"&TEXT((ROW(B184)/6)+10/3-INT((ROW(B184)-4)/50)/3,\"#\"),\"CD\"&TEXT((ROW(B184)/6)+10/3-INT((ROW(B184)-4)/50)/3,\"#\")))","v":"we verb, we are verbing [present middle indicative]"},null,null,{"$f":"INDIRECT( \"FlashCards!\"&IF(MOD(INT((ROW(B184)-4)/50),2)=0,\"CE\"&TEXT((ROW(B184)/6)+10/3-INT((ROW(B184)-4)/50)/3-8,\"#\"),\"CD\"&TEXT((ROW(B184)/6)+10/3-INT((ROW(B184)-4)/50)/3-8,\"#\")))","v":"you are verbing (it) [present active indicative]"}]
[]
[]
[]
[]
[null,{"$f":"E139","v":"Chapter 18: Verb Ending"},null,null,{"$f":"B139","v":"Chapter 16: Verb Ending"}]
[null,{"$f":"INDIRECT( \"FlashCards!\"&IF(MOD(INT((ROW(B190)-4)/50),2)=0,\"CE\"&TEXT((ROW(B190)/6)+10/3-INT((ROW(B190)-4)/50)/3,\"#\"),\"CD\"&TEXT((ROW(B190)/6)+10/3-INT((ROW(B190)-4)/50)/3,\"#\")))","v":"ya'll verb, ya'll are verbing [present middle indicative]"},null,null,{"$f":"INDIRECT( \"FlashCards!\"&IF(MOD(INT((ROW(B190)-4)/50),2)=0,\"CE\"&TEXT((ROW(B190)/6)+10/3-INT((ROW(B190)-4)/50)/3-8,\"#\"),\"CD\"&TEXT((ROW(B190)/6)+10/3-INT((ROW(B190)-4)/50)/3-8,\"#\")))","v":"he/she/it is verbing (it) [present active indicative]"}]
[]
[]
[]
[]
[null,{"$f":"E145","v":"Chapter 18: Verb Ending"},null,null,{"$f":"B145","v":"Chapter 16: Verb Ending"}]
[null,{"$f":"INDIRECT( \"FlashCards!\"&IF(MOD(INT((ROW(B196)-4)/50),2)=0,\"CE\"&TEXT((ROW(B196)/6)+10/3-INT((ROW(B196)-4)/50)/3,\"#\"),\"CD\"&TEXT((ROW(B196)/6)+10/3-INT((ROW(B196)-4)/50)/3,\"#\")))","v":"they verb, they are verbing [present middle indicative]"},null,null,{"$f":"INDIRECT( \"FlashCards!\"&IF(MOD(INT((ROW(B196)-4)/50),2)=0,\"CE\"&TEXT((ROW(B196)/6)+10/3-INT((ROW(B196)-4)/50)/3-8,\"#\"),\"CD\"&TEXT((ROW(B196)/6)+10/3-INT((ROW(B196)-4)/50)/3-8,\"#\")))","v":"we are verbing (it) [present active indicative]"}]
[]
[]
[]
[]
[]
[]
[null,{"$f":"INDIRECT( \"FlashCards!\"&IF(MOD(INT((ROW(B204)-4)/50),2)=0,\"CF\"&TEXT((ROW(B204)/6)+10/3-INT((ROW(B204)-4)/50)/3,\"#\"),\"CF\"&TEXT((ROW(B204)/6)+10/3-INT((ROW(B204)-4)/50)/3,\"#\")))","v":"Chapter 18: Verb Ending"},null,null,{"$f":"INDIRECT( \"FlashCards!\"&IF(MOD(INT((ROW(B204)-4)/50),2)=0,\"CF\"&TEXT((ROW(B204)/6)+10/3-INT((ROW(B204)-4)/50)/3+8,\"#\"),\"CF\"&TEXT((ROW(B204)/6)+10/3-INT((ROW(B204)-4)/50)/3+8,\"#\")))","v":"Chapter 19: Verb Ending"}]
[null,{"$f":"INDIRECT( \"FlashCards!\"&IF(MOD(INT((ROW(B204)-4)/50),2)=0,\"CE\"&TEXT((ROW(B204)/6)+10/3-INT((ROW(B204)-4)/50)/3,\"#\"),\"CD\"&TEXT((ROW(B204)/6)+10/3-INT((ROW(B204)-4)/50)/3,\"#\")))","v":"[active stem] +ομαι"},null,null,{"$f":"INDIRECT( \"FlashCards!\"&IF(MOD(INT((ROW(B204)-4)/50),2)=0,\"CE\"&TEXT((ROW(B204)/6)+10/3-INT((ROW(B204)-4)/50)/3+8,\"#\"),\"CD\"&TEXT((ROW(B204)/6)+10/3-INT((ROW(B204)-4)/50)/3+8,\"#\")))","v":"[active stem] +σει"}]
[]
[null,{"$f":"INDIRECT( \"FlashCards!\"&IF(MOD(INT((ROW(B204)-4)/50),2)=0,\"CC\"&TEXT((ROW(B204)/6)+10/3-INT((ROW(B204)-4)/50)/3,\"#\"),\"\"))","v":" "},null,null,{"$f":"INDIRECT( \"FlashCards!\"&IF(MOD(INT((ROW(B204)-4)/50),2)=0,\"CC\"&TEXT((ROW(B204)/6)+10/3-INT((ROW(B204)-4)/50)/3+8,\"#\"),\"CC\"&TEXT((ROW(B204)/6)+10/3-INT((ROW(B204)-4)/50)/3+8,\"#\")))","v":" "}]
[]
[]
[null,{"$f":"INDIRECT( \"FlashCards!\"&IF(MOD(INT((ROW(B210)-4)/50),2)=0,\"CF\"&TEXT((ROW(B210)/6)+10/3-INT((ROW(B210)-4)/50)/3,\"#\"),\"CF\"&TEXT((ROW(B210)/6)+10/3-INT((ROW(B210)-4)/50)/3,\"#\")))","v":"Chapter 18: Verb Ending"},null,null,{"$f":"INDIRECT( \"FlashCards!\"&IF(MOD(INT((ROW(B210)-4)/50),2)=0,\"CF\"&TEXT((ROW(B210)/6)+10/3-INT((ROW(B210)-4)/50)/3+8,\"#\"),\"CF\"&TEXT((ROW(B210)/6)+10/3-INT((ROW(B210)-4)/50)/3+8,\"#\")))","v":"Chapter 19: Verb Ending"}]
[null,{"$f":"INDIRECT( \"FlashCards!\"&IF(MOD(INT((ROW(B210)-4)/50),2)=0,\"CE\"&TEXT((ROW(B210)/6)+10/3-INT((ROW(B210)-4)/50)/3,\"#\"),\"CD\"&TEXT((ROW(B210)/6)+10/3-INT((ROW(B210)-4)/50)/3,\"#\")))","v":"[active stem] +εσαι, +ῃ"},null,null,{"$f":"INDIRECT( \"FlashCards!\"&IF(MOD(INT((ROW(B210)-4)/50),2)=0,\"CE\"&TEXT((ROW(B210)/6)+10/3-INT((ROW(B210)-4)/50)/3+8,\"#\"),\"CD\"&TEXT((ROW(B210)/6)+10/3-INT((ROW(B210)-4)/50)/3+8,\"#\")))","v":"[active stem] +σομεν"}]
[]
[null,{"$f":"INDIRECT( \"FlashCards!\"&IF(MOD(INT((ROW(B210)-4)/50),2)=0,\"CC\"&TEXT((ROW(B210)/6)+10/3-INT((ROW(B210)-4)/50)/3,\"#\"),\"\"))","v":" "},null,null,{"$f":"INDIRECT( \"FlashCards!\"&IF(MOD(INT((ROW(B210)-4)/50),2)=0,\"CC\"&TEXT((ROW(B210)/6)+10/3-INT((ROW(B210)-4)/50)/3+8,\"#\"),\"CC\"&TEXT((ROW(B210)/6)+10/3-INT((ROW(B210)-4)/50)/3+8,\"#\")))","v":" "}]
[]
[]
[null,{"$f":"INDIRECT( \"FlashCards!\"&IF(MOD(INT((ROW(B216)-4)/50),2)=0,\"CF\"&TEXT((ROW(B216)/6)+10/3-INT((ROW(B216)-4)/50)/3,\"#\"),\"CF\"&TEXT((ROW(B216)/6)+10/3-INT((ROW(B216)-4)/50)/3,\"#\")))","v":"Chapter 18: Verb Ending"},null,null,{"$f":"INDIRECT( \"FlashCards!\"&IF(MOD(INT((ROW(B216)-4)/50),2)=0,\"CF\"&TEXT((ROW(B216)/6)+10/3-INT((ROW(B216)-4)/50)/3+8,\"#\"),\"CF\"&TEXT((ROW(B216)/6)+10/3-INT((ROW(B216)-4)/50)/3+8,\"#\")))","v":"Chapter 19: Verb Ending"}]
[null,{"$f":"INDIRECT( \"FlashCards!\"&IF(MOD(INT((ROW(B216)-4)/50),2)=0,\"CE\"&TEXT((ROW(B216)/6)+10/3-INT((ROW(B216)-4)/50)/3,\"#\"),\"CD\"&TEXT((ROW(B216)/6)+10/3-INT((ROW(B216)-4)/50)/3,\"#\")))","v":"[active stem] +εται"},null,null,{"$f":"INDIRECT( \"FlashCards!\"&IF(MOD(INT((ROW(B216)-4)/50),2)=0,\"CE\"&TEXT((ROW(B216)/6)+10/3-INT((ROW(B216)-4)/50)/3+8,\"#\"),\"CD\"&TEXT((ROW(B216)/6)+10/3-INT((ROW(B216)-4)/50)/3+8,\"#\")))","v":"[active stem] +σετε"}]
[]
[null,{"$f":"INDIRECT( \"FlashCards!\"&IF(MOD(INT((ROW(B216)-4)/50),2)=0,\"CC\"&TEXT((ROW(B216)/6)+10/3-INT((ROW(B216)-4)/50)/3,\"#\"),\"\"))","v":" "},null,null,{"$f":"INDIRECT( \"FlashCards!\"&IF(MOD(INT((ROW(B216)-4)/50),2)=0,\"CC\"&TEXT((ROW(B216)/6)+10/3-INT((ROW(B216)-4)/50)/3+8,\"#\"),\"CC\"&TEXT((ROW(B216)/6)+10/3-INT((ROW(B216)-4)/50)/3+8,\"#\")))","v":" "}]
[]
[]
[null,{"$f":"INDIRECT( \"FlashCards!\"&IF(MOD(INT((ROW(B222)-4)/50),2)=0,\"CF\"&TEXT((ROW(B222)/6)+10/3-INT((ROW(B222)-4)/50)/3,\"#\"),\"CF\"&TEXT((ROW(B222)/6)+10/3-INT((ROW(B222)-4)/50)/3,\"#\")))","v":"Chapter 18: Verb Ending"},null,null,{"$f":"INDIRECT( \"FlashCards!\"&IF(MOD(INT((ROW(B222)-4)/50),2)=0,\"CF\"&TEXT((ROW(B222)/6)+10/3-INT((ROW(B222)-4)/50)/3+8,\"#\"),\"CF\"&TEXT((ROW(B222)/6)+10/3-INT((ROW(B222)-4)/50)/3+8,\"#\")))","v":"Chapter 19: Verb Ending"}]
[null,{"$f":"INDIRECT( \"FlashCards!\"&IF(MOD(INT((ROW(B222)-4)/50),2)=0,\"CE\"&TEXT((ROW(B222)/6)+10/3-INT((ROW(B222)-4)/50)/3,\"#\"),\"CD\"&TEXT((ROW(B222)/6)+10/3-INT((ROW(B222)-4)/50)/3,\"#\")))","v":"[active stem] +ομεθα"},null,null,{"$f":"INDIRECT( \"FlashCards!\"&IF(MOD(INT((ROW(B222)-4)/50),2)=0,\"CE\"&TEXT((ROW(B222)/6)+10/3-INT((ROW(B222)-4)/50)/3+8,\"#\"),\"CD\"&TEXT((ROW(B222)/6)+10/3-INT((ROW(B222)-4)/50)/3+8,\"#\")))","v":"[active stem] +σονσι, +σοσιν"}]
[]
[null,{"$f":"INDIRECT( \"FlashCards!\"&IF(MOD(INT((ROW(B222)-4)/50),2)=0,\"CC\"&TEXT((ROW(B222)/6)+10/3-INT((ROW(B222)-4)/50)/3,\"#\"),\"\"))","v":" "},null,null,{"$f":"INDIRECT( \"FlashCards!\"&IF(MOD(INT((ROW(B222)-4)/50),2)=0,\"CC\"&TEXT((ROW(B222)/6)+10/3-INT((ROW(B222)-4)/50)/3+8,\"#\"),\"CC\"&TEXT((ROW(B222)/6)+10/3-INT((ROW(B222)-4)/50)/3+8,\"#\")))","v":" "}]
[]
[]
[null,{"$f":"INDIRECT( \"FlashCards!\"&IF(MOD(INT((ROW(B228)-4)/50),2)=0,\"CF\"&TEXT((ROW(B228)/6)+10/3-INT((ROW(B228)-4)/50)/3,\"#\"),\"CF\"&TEXT((ROW(B228)/6)+10/3-INT((ROW(B228)-4)/50)/3,\"#\")))","v":"Chapter 18: Verb Ending"},null,null,{"$f":"INDIRECT( \"FlashCards!\"&IF(MOD(INT((ROW(B228)-4)/50),2)=0,\"CF\"&TEXT((ROW(B228)/6)+10/3-INT((ROW(B228)-4)/50)/3+8,\"#\"),\"CF\"&TEXT((ROW(B228)/6)+10/3-INT((ROW(B228)-4)/50)/3+8,\"#\")))","v":"Chapter 19: Verb Ending"}]
[null,{"$f":"INDIRECT( \"FlashCards!\"&IF(MOD(INT((ROW(B228)-4)/50),2)=0,\"CE\"&TEXT((ROW(B228)/6)+10/3-INT((ROW(B228)-4)/50)/3,\"#\"),\"CD\"&TEXT((ROW(B228)/6)+10/3-INT((ROW(B228)-4)/50)/3,\"#\")))","v":"[active stem] +εσθε "},null,null,{"$f":"INDIRECT( \"FlashCards!\"&IF(MOD(INT((ROW(B228)-4)/50),2)=0,\"CE\"&TEXT((ROW(B228)/6)+10/3-INT((ROW(B228)-4)/50)/3+8,\"#\"),\"CD\"&TEXT((ROW(B228)/6)+10/3-INT((ROW(B228)-4)/50)/3+8,\"#\")))","v":"[middle stem] +σομαι, "}]
[]
[null,{"$f":"INDIRECT( \"FlashCards!\"&IF(MOD(INT((ROW(B228)-4)/50),2)=0,\"CC\"&TEXT((ROW(B228)/6)+10/3-INT((ROW(B228)-4)/50)/3,\"#\"),\"\"))","v":" "},null,null,{"$f":"INDIRECT( \"FlashCards!\"&IF(MOD(INT((ROW(B228)-4)/50),2)=0,\"CC\"&TEXT((ROW(B228)/6)+10/3-INT((ROW(B228)-4)/50)/3+8,\"#\"),\"CC\"&TEXT((ROW(B228)/6)+10/3-INT((ROW(B228)-4)/50)/3+8,\"#\")))","v":" "}]
[]
[]
[null,{"$f":"INDIRECT( \"FlashCards!\"&IF(MOD(INT((ROW(B234)-4)/50),2)=0,\"CF\"&TEXT((ROW(B234)/6)+10/3-INT((ROW(B234)-4)/50)/3,\"#\"),\"CF\"&TEXT((ROW(B234)/6)+10/3-INT((ROW(B234)-4)/50)/3,\"#\")))","v":"Chapter 18: Verb Ending"},null,null,{"$f":"INDIRECT( \"FlashCards!\"&IF(MOD(INT((ROW(B234)-4)/50),2)=0,\"CF\"&TEXT((ROW(B234)/6)+10/3-INT((ROW(B234)-4)/50)/3+8,\"#\"),\"CF\"&TEXT((ROW(B234)/6)+10/3-INT((ROW(B234)-4)/50)/3+8,\"#\")))","v":"Chapter 19: Verb Ending"}]
[null,{"$f":"INDIRECT( \"FlashCards!\"&IF(MOD(INT((ROW(B234)-4)/50),2)=0,\"CE\"&TEXT((ROW(B234)/6)+10/3-INT((ROW(B234)-4)/50)/3,\"#\"),\"CD\"&TEXT((ROW(B234)/6)+10/3-INT((ROW(B234)-4)/50)/3,\"#\")))","v":"[active stem] +ονται"},null,null,{"$f":"INDIRECT( \"FlashCards!\"&IF(MOD(INT((ROW(B234)-4)/50),2)=0,\"CE\"&TEXT((ROW(B234)/6)+10/3-INT((ROW(B234)-4)/50)/3+8,\"#\"),\"CD\"&TEXT((ROW(B234)/6)+10/3-INT((ROW(B234)-4)/50)/3+8,\"#\")))","v":"[middle stem] +σεσαι, +σῃ"}]
[]
[null,{"$f":"INDIRECT( \"FlashCards!\"&IF(MOD(INT((ROW(B234)-4)/50),2)=0,\"CC\"&TEXT((ROW(B234)/6)+10/3-INT((ROW(B234)-4)/50)/3,\"#\"),\"\"))","v":" "},null,null,{"$f":"INDIRECT( \"FlashCards!\"&IF(MOD(INT((ROW(B234)-4)/50),2)=0,\"CC\"&TEXT((ROW(B234)/6)+10/3-INT((ROW(B234)-4)/50)/3+8,\"#\"),\"CC\"&TEXT((ROW(B234)/6)+10/3-INT((ROW(B234)-4)/50)/3+8,\"#\")))","v":" "}]
[]
[]
[null,{"$f":"INDIRECT( \"FlashCards!\"&IF(MOD(INT((ROW(B240)-4)/50),2)=0,\"CF\"&TEXT((ROW(B240)/6)+10/3-INT((ROW(B240)-4)/50)/3,\"#\"),\"CF\"&TEXT((ROW(B240)/6)+10/3-INT((ROW(B240)-4)/50)/3,\"#\")))","v":"Chapter 19: Verb Ending"},null,null,{"$f":"INDIRECT( \"FlashCards!\"&IF(MOD(INT((ROW(B240)-4)/50),2)=0,\"CF\"&TEXT((ROW(B240)/6)+10/3-INT((ROW(B240)-4)/50)/3+8,\"#\"),\"CF\"&TEXT((ROW(B240)/6)+10/3-INT((ROW(B240)-4)/50)/3+8,\"#\")))","v":"Chapter 19: Verb Ending"}]
[null,{"$f":"INDIRECT( \"FlashCards!\"&IF(MOD(INT((ROW(B240)-4)/50),2)=0,\"CE\"&TEXT((ROW(B240)/6)+10/3-INT((ROW(B240)-4)/50)/3,\"#\"),\"CD\"&TEXT((ROW(B240)/6)+10/3-INT((ROW(B240)-4)/50)/3,\"#\")))","v":"[active stem] +σω"},null,null,{"$f":"INDIRECT( \"FlashCards!\"&IF(MOD(INT((ROW(B240)-4)/50),2)=0,\"CE\"&TEXT((ROW(B240)/6)+10/3-INT((ROW(B240)-4)/50)/3+8,\"#\"),\"CD\"&TEXT((ROW(B240)/6)+10/3-INT((ROW(B240)-4)/50)/3+8,\"#\")))","v":"[middle stem] +σεται"}]
[]
[null,{"$f":"INDIRECT( \"FlashCards!\"&IF(MOD(INT((ROW(B240)-4)/50),2)=0,\"CC\"&TEXT((ROW(B240)/6)+10/3-INT((ROW(B240)-4)/50)/3,\"#\"),\"\"))","v":" "},null,null,{"$f":"INDIRECT( \"FlashCards!\"&IF(MOD(INT((ROW(B240)-4)/50),2)=0,\"CC\"&TEXT((ROW(B240)/6)+10/3-INT((ROW(B240)-4)/50)/3+8,\"#\"),\"CC\"&TEXT((ROW(B240)/6)+10/3-INT((ROW(B240)-4)/50)/3+8,\"#\")))","v":" "}]
[]
[]
[null,{"$f":"INDIRECT( \"FlashCards!\"&IF(MOD(INT((ROW(B246)-4)/50),2)=0,\"CF\"&TEXT((ROW(B246)/6)+10/3-INT((ROW(B246)-4)/50)/3,\"#\"),\"CF\"&TEXT((ROW(B246)/6)+10/3-INT((ROW(B246)-4)/50)/3,\"#\")))","v":"Chapter 19: Verb Ending"},null,null,{"$f":"INDIRECT( \"FlashCards!\"&IF(MOD(INT((ROW(B246)-4)/50),2)=0,\"CF\"&TEXT((ROW(B246)/6)+10/3-INT((ROW(B246)-4)/50)/3+8,\"#\"),\"CF\"&TEXT((ROW(B246)/6)+10/3-INT((ROW(B246)-4)/50)/3+8,\"#\")))","v":"Chapter 19: Verb Ending"}]
[null,{"$f":"INDIRECT( \"FlashCards!\"&IF(MOD(INT((ROW(B246)-4)/50),2)=0,\"CE\"&TEXT((ROW(B246)/6)+10/3-INT((ROW(B246)-4)/50)/3,\"#\"),\"CD\"&TEXT((ROW(B246)/6)+10/3-INT((ROW(B246)-4)/50)/3,\"#\")))","v":"[active stem] +σες, +σεις"},null,null,{"$f":"INDIRECT( \"FlashCards!\"&IF(MOD(INT((ROW(B246)-4)/50),2)=0,\"CE\"&TEXT((ROW(B246)/6)+10/3-INT((ROW(B246)-4)/50)/3+8,\"#\"),\"CD\"&TEXT((ROW(B246)/6)+10/3-INT((ROW(B246)-4)/50)/3+8,\"#\")))","v":"[middle stem] +σομεθα"}]
[]
[null,{"$f":"INDIRECT( \"FlashCards!\"&IF(MOD(INT((ROW(B246)-4)/50),2)=0,\"CC\"&TEXT((ROW(B246)/6)+10/3-INT((ROW(B246)-4)/50)/3,\"#\"),\"\"))","v":" "},null,null,{"$f":"INDIRECT( \"FlashCards!\"&IF(MOD(INT((ROW(B246)-4)/50),2)=0,\"CC\"&TEXT((ROW(B246)/6)+10/3-INT((ROW(B246)-4)/50)/3+8,\"#\"),\"CC\"&TEXT((ROW(B246)/6)+10/3-INT((ROW(B246)-4)/50)/3+8,\"#\")))","v":" "}]
[]
[]
[]
[]
[null,{"$f":"E203","v":"Chapter 19: Verb Ending"},null,null,{"$f":"B203","v":"Chapter 18: Verb Ending"}]
[null,{"$f":"INDIRECT( \"FlashCards!\"&IF(MOD(INT((ROW(B254)-4)/50),2)=0,\"CE\"&TEXT((ROW(B254)/6)+10/3-INT((ROW(B254)-4)/50)/3,\"#\"),\"CD\"&TEXT((ROW(B254)/6)+10/3-INT((ROW(B254)-4)/50)/3,\"#\")))","v":"he/she/it will verb (it) [future active indicative]"},null,null,{"$f":"INDIRECT( \"FlashCards!\"&IF(MOD(INT((ROW(B254)-4)/50),2)=0,\"CE\"&TEXT((ROW(B254)/6)+10/3-INT((ROW(B254)-4)/50)/3-8,\"#\"),\"CD\"&TEXT((ROW(B254)/6)+10/3-INT((ROW(B254)-4)/50)/3-8,\"#\")))","v":"I am being verbed (by it) [present passive indicative]"}]
[]
[]
[]
[]
[null,{"$f":"E209","v":"Chapter 19: Verb Ending"},null,null,{"$f":"B209","v":"Chapter 18: Verb Ending"}]
[null,{"$f":"INDIRECT( \"FlashCards!\"&IF(MOD(INT((ROW(B260)-4)/50),2)=0,\"CE\"&TEXT((ROW(B260)/6)+10/3-INT((ROW(B260)-4)/50)/3,\"#\"),\"CD\"&TEXT((ROW(B260)/6)+10/3-INT((ROW(B260)-4)/50)/3,\"#\")))","v":"we will verb (it) [future active indicative]"},null,null,{"$f":"INDIRECT( \"FlashCards!\"&IF(MOD(INT((ROW(B260)-4)/50),2)=0,\"CE\"&TEXT((ROW(B260)/6)+10/3-INT((ROW(B260)-4)/50)/3-8,\"#\"),\"CD\"&TEXT((ROW(B260)/6)+10/3-INT((ROW(B260)-4)/50)/3-8,\"#\")))","v":"you are being verbed (by it) [present passive indicative]"}]
[]
[]
[]
[]
[null,{"$f":"E215","v":"Chapter 19: Verb Ending"},null,null,{"$f":"B215","v":"Chapter 18: Verb Ending"}]
[null,{"$f":"INDIRECT( \"FlashCards!\"&IF(MOD(INT((ROW(B266)-4)/50),2)=0,\"CE\"&TEXT((ROW(B266)/6)+10/3-INT((ROW(B266)-4)/50)/3,\"#\"),\"CD\"&TEXT((ROW(B266)/6)+10/3-INT((ROW(B266)-4)/50)/3,\"#\")))","v":"ya'll will verb (it) [future active indicative]"},null,null,{"$f":"INDIRECT( \"FlashCards!\"&IF(MOD(INT((ROW(B266)-4)/50),2)=0,\"CE\"&TEXT((ROW(B266)/6)+10/3-INT((ROW(B266)-4)/50)/3-8,\"#\"),\"CD\"&TEXT((ROW(B266)/6)+10/3-INT((ROW(B266)-4)/50)/3-8,\"#\")))","v":"he/she/it is being verbed (by it) [present passive indicative]"}]
[]
[]
[]
[]
[null,{"$f":"E221","v":"Chapter 19: Verb Ending"},null,null,{"$f":"B221","v":"Chapter 18: Verb Ending"}]
[null,{"$f":"INDIRECT( \"FlashCards!\"&IF(MOD(INT((ROW(B272)-4)/50),2)=0,\"CE\"&TEXT((ROW(B272)/6)+10/3-INT((ROW(B272)-4)/50)/3,\"#\"),\"CD\"&TEXT((ROW(B272)/6)+10/3-INT((ROW(B272)-4)/50)/3,\"#\")))","v":"they will verb (it) [future active indicative]"},null,null,{"$f":"INDIRECT( \"FlashCards!\"&IF(MOD(INT((ROW(B272)-4)/50),2)=0,\"CE\"&TEXT((ROW(B272)/6)+10/3-INT((ROW(B272)-4)/50)/3-8,\"#\"),\"CD\"&TEXT((ROW(B272)/6)+10/3-INT((ROW(B272)-4)/50)/3-8,\"#\")))","v":"we are being verbed (by it) [present passive indicative]"}]
[]
[]
[]
[]
[null,{"$f":"E227","v":"Chapter 19: Verb Ending"},null,null,{"$f":"B227","v":"Chapter 18: Verb Ending"}]
[null,{"$f":"INDIRECT( \"FlashCards!\"&IF(MOD(INT((ROW(B278)-4)/50),2)=0,\"CE\"&TEXT((ROW(B278)/6)+10/3-INT((ROW(B278)-4)/50)/3,\"#\"),\"CD\"&TEXT((ROW(B278)/6)+10/3-INT((ROW(B278)-4)/50)/3,\"#\")))","v":"I will verb [future middle indicative]"},null,null,{"$f":"INDIRECT( \"FlashCards!\"&IF(MOD(INT((ROW(B278)-4)/50),2)=0,\"CE\"&TEXT((ROW(B278)/6)+10/3-INT((ROW(B278)-4)/50)/3-8,\"#\"),\"CD\"&TEXT((ROW(B278)/6)+10/3-INT((ROW(B278)-4)/50)/3-8,\"#\")))","v":"ya'll are being verbed (by it) [present passive indicative]"}]
[]
[]
[]
[]
[null,{"$f":"E233","v":"Chapter 19: Verb Ending"},null,null,{"$f":"B233","v":"Chapter 18: Verb Ending"}]
[null,{"$f":"INDIRECT( \"FlashCards!\"&IF(MOD(INT((ROW(B284)-4)/50),2)=0,\"CE\"&TEXT((ROW(B284)/6)+10/3-INT((ROW(B284)-4)/50)/3,\"#\"),\"CD\"&TEXT((ROW(B284)/6)+10/3-INT((ROW(B284)-4)/50)/3,\"#\")))","v":"you will verb [future middle indicative]"},null,null,{"$f":"INDIRECT( \"FlashCards!\"&IF(MOD(INT((ROW(B284)-4)/50),2)=0,\"CE\"&TEXT((ROW(B284)/6)+10/3-INT((ROW(B284)-4)/50)/3-8,\"#\"),\"CD\"&TEXT((ROW(B284)/6)+10/3-INT((ROW(B284)-4)/50)/3-8,\"#\")))","v":"they are being verbed (by it) [present passive indicative]"}]
[]
[]
[]
[]
[null,{"$f":"E239","v":"Chapter 19: Verb Ending"},null,null,{"$f":"B239","v":"Chapter 19: Verb Ending"}]
[null,{"$f":"INDIRECT( \"FlashCards!\"&IF(MOD(INT((ROW(B290)-4)/50),2)=0,\"CE\"&TEXT((ROW(B290)/6)+10/3-INT((ROW(B290)-4)/50)/3,\"#\"),\"CD\"&TEXT((ROW(B290)/6)+10/3-INT((ROW(B290)-4)/50)/3,\"#\")))","v":"he/she/it will verb [future middle indicative]"},null,null,{"$f":"INDIRECT( \"FlashCards!\"&IF(MOD(INT((ROW(B290)-4)/50),2)=0,\"CE\"&TEXT((ROW(B290)/6)+10/3-INT((ROW(B290)-4)/50)/3-8,\"#\"),\"CD\"&TEXT((ROW(B290)/6)+10/3-INT((ROW(B290)-4)/50)/3-8,\"#\")))","v":"I will verb (it) [future active indicative]"}]
[]
[]
[]
[]
[null,{"$f":"E245","v":"Chapter 19: Verb Ending"},null,null,{"$f":"B245","v":"Chapter 19: Verb Ending"}]
[null,{"$f":"INDIRECT( \"FlashCards!\"&IF(MOD(INT((ROW(B296)-4)/50),2)=0,\"CE\"&TEXT((ROW(B296)/6)+10/3-INT((ROW(B296)-4)/50)/3,\"#\"),\"CD\"&TEXT((ROW(B296)/6)+10/3-INT((ROW(B296)-4)/50)/3,\"#\")))","v":"we will verb [future middle indicative]"},null,null,{"$f":"INDIRECT( \"FlashCards!\"&IF(MOD(INT((ROW(B296)-4)/50),2)=0,\"CE\"&TEXT((ROW(B296)/6)+10/3-INT((ROW(B296)-4)/50)/3-8,\"#\"),\"CD\"&TEXT((ROW(B296)/6)+10/3-INT((ROW(B296)-4)/50)/3-8,\"#\")))","v":"you will verb (it) [future active indicative]"}]
[]
[]
[]
[]
[]
[]
[null,{"$f":"INDIRECT( \"FlashCards!\"&IF(MOD(INT((ROW(B304)-4)/50),2)=0,\"CF\"&TEXT((ROW(B304)/6)+10/3-INT((ROW(B304)-4)/50)/3,\"#\"),\"CF\"&TEXT((ROW(B304)/6)+10/3-INT((ROW(B304)-4)/50)/3,\"#\")))","v":"Chapter 19: Verb Ending"},null,null,{"$f":"INDIRECT( \"FlashCards!\"&IF(MOD(INT((ROW(B304)-4)/50),2)=0,\"CF\"&TEXT((ROW(B304)/6)+10/3-INT((ROW(B304)-4)/50)/3+8,\"#\"),\"CF\"&TEXT((ROW(B304)/6)+10/3-INT((ROW(B304)-4)/50)/3+8,\"#\")))","v":"Chapter 21: Verb Ending"}]
[null,{"$f":"INDIRECT( \"FlashCards!\"&IF(MOD(INT((ROW(B304)-4)/50),2)=0,\"CE\"&TEXT((ROW(B304)/6)+10/3-INT((ROW(B304)-4)/50)/3,\"#\"),\"CD\"&TEXT((ROW(B304)/6)+10/3-INT((ROW(B304)-4)/50)/3,\"#\")))","v":"[middle stem] +σεσθε "},null,null,{"$f":"INDIRECT( \"FlashCards!\"&IF(MOD(INT((ROW(B304)-4)/50),2)=0,\"CE\"&TEXT((ROW(B304)/6)+10/3-INT((ROW(B304)-4)/50)/3+8,\"#\"),\"CD\"&TEXT((ROW(B304)/6)+10/3-INT((ROW(B304)-4)/50)/3+8,\"#\")))","v":"ἐ + [active stem] +ομην"}]
[]
[null,{"$f":"INDIRECT( \"FlashCards!\"&IF(MOD(INT((ROW(B304)-4)/50),2)=0,\"CC\"&TEXT((ROW(B304)/6)+10/3-INT((ROW(B304)-4)/50)/3,\"#\"),\"\"))","v":" "},null,null,{"$f":"INDIRECT( \"FlashCards!\"&IF(MOD(INT((ROW(B304)-4)/50),2)=0,\"CC\"&TEXT((ROW(B304)/6)+10/3-INT((ROW(B304)-4)/50)/3+8,\"#\"),\"CC\"&TEXT((ROW(B304)/6)+10/3-INT((ROW(B304)-4)/50)/3+8,\"#\")))","v":" "}]
[]
[]
[null,{"$f":"INDIRECT( \"FlashCards!\"&IF(MOD(INT((ROW(B310)-4)/50),2)=0,\"CF\"&TEXT((ROW(B310)/6)+10/3-INT((ROW(B310)-4)/50)/3,\"#\"),\"CF\"&TEXT((ROW(B310)/6)+10/3-INT((ROW(B310)-4)/50)/3,\"#\")))","v":"Chapter 19: Verb Ending"},null,null,{"$f":"INDIRECT( \"FlashCards!\"&IF(MOD(INT((ROW(B310)-4)/50),2)=0,\"CF\"&TEXT((ROW(B310)/6)+10/3-INT((ROW(B310)-4)/50)/3+8,\"#\"),\"CF\"&TEXT((ROW(B310)/6)+10/3-INT((ROW(B310)-4)/50)/3+8,\"#\")))","v":"Chapter 21: Verb Ending"}]
[null,{"$f":"INDIRECT( \"FlashCards!\"&IF(MOD(INT((ROW(B310)-4)/50),2)=0,\"CE\"&TEXT((ROW(B310)/6)+10/3-INT((ROW(B310)-4)/50)/3,\"#\"),\"CD\"&TEXT((ROW(B310)/6)+10/3-INT((ROW(B310)-4)/50)/3,\"#\")))","v":"[middle stem] +σονται"},null,null,{"$f":"INDIRECT( \"FlashCards!\"&IF(MOD(INT((ROW(B310)-4)/50),2)=0,\"CE\"&TEXT((ROW(B310)/6)+10/3-INT((ROW(B310)-4)/50)/3+8,\"#\"),\"CD\"&TEXT((ROW(B310)/6)+10/3-INT((ROW(B310)-4)/50)/3+8,\"#\")))","v":"ἐ + [active stem] +εσο"}]
[]
[null,{"$f":"INDIRECT( \"FlashCards!\"&IF(MOD(INT((ROW(B310)-4)/50),2)=0,\"CC\"&TEXT((ROW(B310)/6)+10/3-INT((ROW(B310)-4)/50)/3,\"#\"),\"\"))","v":" "},null,null,{"$f":"INDIRECT( \"FlashCards!\"&IF(MOD(INT((ROW(B310)-4)/50),2)=0,\"CC\"&TEXT((ROW(B310)/6)+10/3-INT((ROW(B310)-4)/50)/3+8,\"#\"),\"CC\"&TEXT((ROW(B310)/6)+10/3-INT((ROW(B310)-4)/50)/3+8,\"#\")))","v":" "}]
[]
[]
[null,{"$f":"INDIRECT( \"FlashCards!\"&IF(MOD(INT((ROW(B316)-4)/50),2)=0,\"CF\"&TEXT((ROW(B316)/6)+10/3-INT((ROW(B316)-4)/50)/3,\"#\"),\"CF\"&TEXT((ROW(B316)/6)+10/3-INT((ROW(B316)-4)/50)/3,\"#\")))","v":"Chapter 21: Verb Ending"},null,null,{"$f":"INDIRECT( \"FlashCards!\"&IF(MOD(INT((ROW(B316)-4)/50),2)=0,\"CF\"&TEXT((ROW(B316)/6)+10/3-INT((ROW(B316)-4)/50)/3+8,\"#\"),\"CF\"&TEXT((ROW(B316)/6)+10/3-INT((ROW(B316)-4)/50)/3+8,\"#\")))","v":"Chapter 21: Verb Ending"}]
[null,{"$f":"INDIRECT( \"FlashCards!\"&IF(MOD(INT((ROW(B316)-4)/50),2)=0,\"CE\"&TEXT((ROW(B316)/6)+10/3-INT((ROW(B316)-4)/50)/3,\"#\"),\"CD\"&TEXT((ROW(B316)/6)+10/3-INT((ROW(B316)-4)/50)/3,\"#\")))","v":"ἐ + [active stem] +ον"},null,null,{"$f":"INDIRECT( \"FlashCards!\"&IF(MOD(INT((ROW(B316)-4)/50),2)=0,\"CE\"&TEXT((ROW(B316)/6)+10/3-INT((ROW(B316)-4)/50)/3+8,\"#\"),\"CD\"&TEXT((ROW(B316)/6)+10/3-INT((ROW(B316)-4)/50)/3+8,\"#\")))","v":"ἐ + [active stem] +ετο"}]
[]
[null,{"$f":"INDIRECT( \"FlashCards!\"&IF(MOD(INT((ROW(B316)-4)/50),2)=0,\"CC\"&TEXT((ROW(B316)/6)+10/3-INT((ROW(B316)-4)/50)/3,\"#\"),\"\"))","v":" "},null,null,{"$f":"INDIRECT( \"FlashCards!\"&IF(MOD(INT((ROW(B316)-4)/50),2)=0,\"CC\"&TEXT((ROW(B316)/6)+10/3-INT((ROW(B316)-4)/50)/3+8,\"#\"),\"CC\"&TEXT((ROW(B316)/6)+10/3-INT((ROW(B316)-4)/50)/3+8,\"#\")))","v":" "}]
[]
[]
[null,{"$f":"INDIRECT( \"FlashCards!\"&IF(MOD(INT((ROW(B322)-4)/50),2)=0,\"CF\"&TEXT((ROW(B322)/6)+10/3-INT((ROW(B322)-4)/50)/3,\"#\"),\"CF\"&TEXT((ROW(B322)/6)+10/3-INT((ROW(B322)-4)/50)/3,\"#\")))","v":"Chapter 21: Verb Ending"},null,null,{"$f":"INDIRECT( \"FlashCards!\"&IF(MOD(INT((ROW(B322)-4)/50),2)=0,\"CF\"&TEXT((ROW(B322)/6)+10/3-INT((ROW(B322)-4)/50)/3+8,\"#\"),\"CF\"&TEXT((ROW(B322)/6)+10/3-INT((ROW(B322)-4)/50)/3+8,\"#\")))","v":"Chapter 21: Verb Ending"}]
[null,{"$f":"INDIRECT( \"FlashCards!\"&IF(MOD(INT((ROW(B322)-4)/50),2)=0,\"CE\"&TEXT((ROW(B322)/6)+10/3-INT((ROW(B322)-4)/50)/3,\"#\"),\"CD\"&TEXT((ROW(B322)/6)+10/3-INT((ROW(B322)-4)/50)/3,\"#\")))","v":"ἐ + [active stem] +ες, +εις"},null,null,{"$f":"INDIRECT( \"FlashCards!\"&IF(MOD(INT((ROW(B322)-4)/50),2)=0,\"CE\"&TEXT((ROW(B322)/6)+10/3-INT((ROW(B322)-4)/50)/3+8,\"#\"),\"CD\"&TEXT((ROW(B322)/6)+10/3-INT((ROW(B322)-4)/50)/3+8,\"#\")))","v":"ἐ + [active stem] +ομεθα"}]
[]
[null,{"$f":"INDIRECT( \"FlashCards!\"&IF(MOD(INT((ROW(B322)-4)/50),2)=0,\"CC\"&TEXT((ROW(B322)/6)+10/3-INT((ROW(B322)-4)/50)/3,\"#\"),\"\"))","v":" "},null,null,{"$f":"INDIRECT( \"FlashCards!\"&IF(MOD(INT((ROW(B322)-4)/50),2)=0,\"CC\"&TEXT((ROW(B322)/6)+10/3-INT((ROW(B322)-4)/50)/3+8,\"#\"),\"CC\"&TEXT((ROW(B322)/6)+10/3-INT((ROW(B322)-4)/50)/3+8,\"#\")))","v":" "}]
[]
[]
[null,{"$f":"INDIRECT( \"FlashCards!\"&IF(MOD(INT((ROW(B328)-4)/50),2)=0,\"CF\"&TEXT((ROW(B328)/6)+10/3-INT((ROW(B328)-4)/50)/3,\"#\"),\"CF\"&TEXT((ROW(B328)/6)+10/3-INT((ROW(B328)-4)/50)/3,\"#\")))","v":"Chapter 21: Verb Ending"},null,null,{"$f":"INDIRECT( \"FlashCards!\"&IF(MOD(INT((ROW(B328)-4)/50),2)=0,\"CF\"&TEXT((ROW(B328)/6)+10/3-INT((ROW(B328)-4)/50)/3+8,\"#\"),\"CF\"&TEXT((ROW(B328)/6)+10/3-INT((ROW(B328)-4)/50)/3+8,\"#\")))","v":"Chapter 21: Verb Ending"}]
[null,{"$f":"INDIRECT( \"FlashCards!\"&IF(MOD(INT((ROW(B328)-4)/50),2)=0,\"CE\"&TEXT((ROW(B328)/6)+10/3-INT((ROW(B328)-4)/50)/3,\"#\"),\"CD\"&TEXT((ROW(B328)/6)+10/3-INT((ROW(B328)-4)/50)/3,\"#\")))","v":"ἐ + [active stem] +ει"},null,null,{"$f":"INDIRECT( \"FlashCards!\"&IF(MOD(INT((ROW(B328)-4)/50),2)=0,\"CE\"&TEXT((ROW(B328)/6)+10/3-INT((ROW(B328)-4)/50)/3+8,\"#\"),\"CD\"&TEXT((ROW(B328)/6)+10/3-INT((ROW(B328)-4)/50)/3+8,\"#\")))","v":"ἐ + [active stem] +εσθε"}]
[]
[null,{"$f":"INDIRECT( \"FlashCards!\"&IF(MOD(INT((ROW(B328)-4)/50),2)=0,\"CC\"&TEXT((ROW(B328)/6)+10/3-INT((ROW(B328)-4)/50)/3,\"#\"),\"\"))","v":" "},null,null,{"$f":"INDIRECT( \"FlashCards!\"&IF(MOD(INT((ROW(B328)-4)/50),2)=0,\"CC\"&TEXT((ROW(B328)/6)+10/3-INT((ROW(B328)-4)/50)/3+8,\"#\"),\"CC\"&TEXT((ROW(B328)/6)+10/3-INT((ROW(B328)-4)/50)/3+8,\"#\")))","v":" "}]
[]
[]
[null,{"$f":"INDIRECT( \"FlashCards!\"&IF(MOD(INT((ROW(B334)-4)/50),2)=0,\"CF\"&TEXT((ROW(B334)/6)+10/3-INT((ROW(B334)-4)/50)/3,\"#\"),\"CF\"&TEXT((ROW(B334)/6)+10/3-INT((ROW(B334)-4)/50)/3,\"#\")))","v":"Chapter 21: Verb Ending"},null,null,{"$f":"INDIRECT( \"FlashCards!\"&IF(MOD(INT((ROW(B334)-4)/50),2)=0,\"CF\"&TEXT((ROW(B334)/6)+10/3-INT((ROW(B334)-4)/50)/3+8,\"#\"),\"CF\"&TEXT((ROW(B334)/6)+10/3-INT((ROW(B334)-4)/50)/3+8,\"#\")))","v":"Chapter 21: Verb Ending"}]
[null,{"$f":"INDIRECT( \"FlashCards!\"&IF(MOD(INT((ROW(B334)-4)/50),2)=0,\"CE\"&TEXT((ROW(B334)/6)+10/3-INT((ROW(B334)-4)/50)/3,\"#\"),\"CD\"&TEXT((ROW(B334)/6)+10/3-INT((ROW(B334)-4)/50)/3,\"#\")))","v":"ἐ + [active stem] +ομεν"},null,null,{"$f":"INDIRECT( \"FlashCards!\"&IF(MOD(INT((ROW(B334)-4)/50),2)=0,\"CE\"&TEXT((ROW(B334)/6)+10/3-INT((ROW(B334)-4)/50)/3+8,\"#\"),\"CD\"&TEXT((ROW(B334)/6)+10/3-INT((ROW(B334)-4)/50)/3+8,\"#\")))","v":"ἐ + [active stem] +οντο"}]
[]
[null,{"$f":"INDIRECT( \"FlashCards!\"&IF(MOD(INT((ROW(B334)-4)/50),2)=0,\"CC\"&TEXT((ROW(B334)/6)+10/3-INT((ROW(B334)-4)/50)/3,\"#\"),\"\"))","v":" "},null,null,{"$f":"INDIRECT( \"FlashCards!\"&IF(MOD(INT((ROW(B334)-4)/50),2)=0,\"CC\"&TEXT((ROW(B334)/6)+10/3-INT((ROW(B334)-4)/50)/3+8,\"#\"),\"CC\"&TEXT((ROW(B334)/6)+10/3-INT((ROW(B334)-4)/50)/3+8,\"#\")))","v":" "}]
[]
[]
[null,{"$f":"INDIRECT( \"FlashCards!\"&IF(MOD(INT((ROW(B340)-4)/50),2)=0,\"CF\"&TEXT((ROW(B340)/6)+10/3-INT((ROW(B340)-4)/50)/3,\"#\"),\"CF\"&TEXT((ROW(B340)/6)+10/3-INT((ROW(B340)-4)/50)/3,\"#\")))","v":"Chapter 21: Verb Ending"},null,null,{"$f":"INDIRECT( \"FlashCards!\"&IF(MOD(INT((ROW(B340)-4)/50),2)=0,\"CF\"&TEXT((ROW(B340)/6)+10/3-INT((ROW(B340)-4)/50)/3+8,\"#\"),\"CF\"&TEXT((ROW(B340)/6)+10/3-INT((ROW(B340)-4)/50)/3+8,\"#\")))","v":"Chapter 21: Verb Ending"}]
[null,{"$f":"INDIRECT( \"FlashCards!\"&IF(MOD(INT((ROW(B340)-4)/50),2)=0,\"CE\"&TEXT((ROW(B340)/6)+10/3-INT((ROW(B340)-4)/50)/3,\"#\"),\"CD\"&TEXT((ROW(B340)/6)+10/3-INT((ROW(B340)-4)/50)/3,\"#\")))","v":"ἐ + [active stem] +ετε"},null,null,{"$f":"INDIRECT( \"FlashCards!\"&IF(MOD(INT((ROW(B340)-4)/50),2)=0,\"CE\"&TEXT((ROW(B340)/6)+10/3-INT((ROW(B340)-4)/50)/3+8,\"#\"),\"CD\"&TEXT((ROW(B340)/6)+10/3-INT((ROW(B340)-4)/50)/3+8,\"#\")))","v":"ἐ + [middle stem] +ομην "}]
[]
[null,{"$f":"INDIRECT( \"FlashCards!\"&IF(MOD(INT((ROW(B340)-4)/50),2)=0,\"CC\"&TEXT((ROW(B340)/6)+10/3-INT((ROW(B340)-4)/50)/3,\"#\"),\"\"))","v":" "},null,null,{"$f":"INDIRECT( \"FlashCards!\"&IF(MOD(INT((ROW(B340)-4)/50),2)=0,\"CC\"&TEXT((ROW(B340)/6)+10/3-INT((ROW(B340)-4)/50)/3+8,\"#\"),\"CC\"&TEXT((ROW(B340)/6)+10/3-INT((ROW(B340)-4)/50)/3+8,\"#\")))","v":" "}]
[]
[]
[null,{"$f":"INDIRECT( \"FlashCards!\"&IF(MOD(INT((ROW(B346)-4)/50),2)=0,\"CF\"&TEXT((ROW(B346)/6)+10/3-INT((ROW(B346)-4)/50)/3,\"#\"),\"CF\"&TEXT((ROW(B346)/6)+10/3-INT((ROW(B346)-4)/50)/3,\"#\")))","v":"Chapter 21: Verb Ending"},null,null,{"$f":"INDIRECT( \"FlashCards!\"&IF(MOD(INT((ROW(B346)-4)/50),2)=0,\"CF\"&TEXT((ROW(B346)/6)+10/3-INT((ROW(B346)-4)/50)/3+8,\"#\"),\"CF\"&TEXT((ROW(B346)/6)+10/3-INT((ROW(B346)-4)/50)/3+8,\"#\")))","v":"Chapter 21: Verb Ending"}]
[null,{"$f":"INDIRECT( \"FlashCards!\"&IF(MOD(INT((ROW(B346)-4)/50),2)=0,\"CE\"&TEXT((ROW(B346)/6)+10/3-INT((ROW(B346)-4)/50)/3,\"#\"),\"CD\"&TEXT((ROW(B346)/6)+10/3-INT((ROW(B346)-4)/50)/3,\"#\")))","v":"ἐ + [active stem] +ον"},null,null,{"$f":"INDIRECT( \"FlashCards!\"&IF(MOD(INT((ROW(B346)-4)/50),2)=0,\"CE\"&TEXT((ROW(B346)/6)+10/3-INT((ROW(B346)-4)/50)/3+8,\"#\"),\"CD\"&TEXT((ROW(B346)/6)+10/3-INT((ROW(B346)-4)/50)/3+8,\"#\")))","v":"ἐ + [middle stem] +εσο"}]
[]
[null,{"$f":"INDIRECT( \"FlashCards!\"&IF(MOD(INT((ROW(B346)-4)/50),2)=0,\"CC\"&TEXT((ROW(B346)/6)+10/3-INT((ROW(B346)-4)/50)/3,\"#\"),\"\"))","v":" "},null,null,{"$f":"INDIRECT( \"FlashCards!\"&IF(MOD(INT((ROW(B346)-4)/50),2)=0,\"CC\"&TEXT((ROW(B346)/6)+10/3-INT((ROW(B346)-4)/50)/3+8,\"#\"),\"CC\"&TEXT((ROW(B346)/6)+10/3-INT((ROW(B346)-4)/50)/3+8,\"#\")))","v":" "}]
[]
[]
[]
[]
[null,{"$f":"E303","v":"Chapter 21: Verb Ending"},null,null,{"$f":"B303","v":"Chapter 19: Verb Ending"}]
[null,{"$f":"INDIRECT( \"FlashCards!\"&IF(MOD(INT((ROW(B354)-4)/50),2)=0,\"CE\"&TEXT((ROW(B354)/6)+10/3-INT((ROW(B354)-4)/50)/3,\"#\"),\"CD\"&TEXT((ROW(B354)/6)+10/3-INT((ROW(B354)-4)/50)/3,\"#\")))","v":"I was being verbed (by it) [imperfect passive indicative]"},null,null,{"$f":"INDIRECT( \"FlashCards!\"&IF(MOD(INT((ROW(B354)-4)/50),2)=0,\"CE\"&TEXT((ROW(B354)/6)+10/3-INT((ROW(B354)-4)/50)/3-8,\"#\"),\"CD\"&TEXT((ROW(B354)/6)+10/3-INT((ROW(B354)-4)/50)/3-8,\"#\")))","v":"ya'll will verb [future middle indicative]"}]
[]
[]
[]
[]
[null,{"$f":"E309","v":"Chapter 21: Verb Ending"},null,null,{"$f":"B309","v":"Chapter 19: Verb Ending"}]
[null,{"$f":"INDIRECT( \"FlashCards!\"&IF(MOD(INT((ROW(B360)-4)/50),2)=0,\"CE\"&TEXT((ROW(B360)/6)+10/3-INT((ROW(B360)-4)/50)/3,\"#\"),\"CD\"&TEXT((ROW(B360)/6)+10/3-INT((ROW(B360)-4)/50)/3,\"#\")))","v":"you were being verbed (by it) [imperfect passive indicative]"},null,null,{"$f":"INDIRECT( \"FlashCards!\"&IF(MOD(INT((ROW(B360)-4)/50),2)=0,\"CE\"&TEXT((ROW(B360)/6)+10/3-INT((ROW(B360)-4)/50)/3-8,\"#\"),\"CD\"&TEXT((ROW(B360)/6)+10/3-INT((ROW(B360)-4)/50)/3-8,\"#\")))","v":"they will verb [future middle indicative]"}]
[]
[]
[]
[]
[null,{"$f":"E315","v":"Chapter 21: Verb Ending"},null,null,{"$f":"B315","v":"Chapter 21: Verb Ending"}]
[null,{"$f":"INDIRECT( \"FlashCards!\"&IF(MOD(INT((ROW(B366)-4)/50),2)=0,\"CE\"&TEXT((ROW(B366)/6)+10/3-INT((ROW(B366)-4)/50)/3,\"#\"),\"CD\"&TEXT((ROW(B366)/6)+10/3-INT((ROW(B366)-4)/50)/3,\"#\")))","v":"he/she/it was being verbed (by it) [imperfect passive indicative]"},null,null,{"$f":"INDIRECT( \"FlashCards!\"&IF(MOD(INT((ROW(B366)-4)/50),2)=0,\"CE\"&TEXT((ROW(B366)/6)+10/3-INT((ROW(B366)-4)/50)/3-8,\"#\"),\"CD\"&TEXT((ROW(B366)/6)+10/3-INT((ROW(B366)-4)/50)/3-8,\"#\")))","v":"I was/they were verbing (it) [imperfect active indicative]"}]
[]
[]
[]
[]
[null,{"$f":"E321","v":"Chapter 21: Verb Ending"},null,null,{"$f":"B321","v":"Chapter 21: Verb Ending"}]
[null,{"$f":"INDIRECT( \"FlashCards!\"&IF(MOD(INT((ROW(B372)-4)/50),2)=0,\"CE\"&TEXT((ROW(B372)/6)+10/3-INT((ROW(B372)-4)/50)/3,\"#\"),\"CD\"&TEXT((ROW(B372)/6)+10/3-INT((ROW(B372)-4)/50)/3,\"#\")))","v":"we were being verbed (by it) [imperfect passive indicative]"},null,null,{"$f":"INDIRECT( \"FlashCards!\"&IF(MOD(INT((ROW(B372)-4)/50),2)=0,\"CE\"&TEXT((ROW(B372)/6)+10/3-INT((ROW(B372)-4)/50)/3-8,\"#\"),\"CD\"&TEXT((ROW(B372)/6)+10/3-INT((ROW(B372)-4)/50)/3-8,\"#\")))","v":"you were verbing (it) [imperfect active indicative]"}]
[]
[]
[]
[]
[null,{"$f":"E327","v":"Chapter 21: Verb Ending"},null,null,{"$f":"B327","v":"Chapter 21: Verb Ending"}]
[null,{"$f":"INDIRECT( \"FlashCards!\"&IF(MOD(INT((ROW(B378)-4)/50),2)=0,\"CE\"&TEXT((ROW(B378)/6)+10/3-INT((ROW(B378)-4)/50)/3,\"#\"),\"CD\"&TEXT((ROW(B378)/6)+10/3-INT((ROW(B378)-4)/50)/3,\"#\")))","v":"ya'll were being verbed (by it) [imperfect passive indicative]"},null,null,{"$f":"INDIRECT( \"FlashCards!\"&IF(MOD(INT((ROW(B378)-4)/50),2)=0,\"CE\"&TEXT((ROW(B378)/6)+10/3-INT((ROW(B378)-4)/50)/3-8,\"#\"),\"CD\"&TEXT((ROW(B378)/6)+10/3-INT((ROW(B378)-4)/50)/3-8,\"#\")))","v":"he/she/it was verbing (it) [imperfect active indicative]"}]
[]
[]
[]
[]
[null,{"$f":"E333","v":"Chapter 21: Verb Ending"},null,null,{"$f":"B333","v":"Chapter 21: Verb Ending"}]
[null,{"$f":"INDIRECT( \"FlashCards!\"&IF(MOD(INT((ROW(B384)-4)/50),2)=0,\"CE\"&TEXT((ROW(B384)/6)+10/3-INT((ROW(B384)-4)/50)/3,\"#\"),\"CD\"&TEXT((ROW(B384)/6)+10/3-INT((ROW(B384)-4)/50)/3,\"#\")))","v":"they were being verbed (by it) [imperfect passive indicative]"},null,null,{"$f":"INDIRECT( \"FlashCards!\"&IF(MOD(INT((ROW(B384)-4)/50),2)=0,\"CE\"&TEXT((ROW(B384)/6)+10/3-INT((ROW(B384)-4)/50)/3-8,\"#\"),\"CD\"&TEXT((ROW(B384)/6)+10/3-INT((ROW(B384)-4)/50)/3-8,\"#\")))","v":"we were verbing (it) [imperfect active indicative]"}]
[]
[]
[]
[]
[null,{"$f":"E339","v":"Chapter 21: Verb Ending"},null,null,{"$f":"B339","v":"Chapter 21: Verb Ending"}]
[null,{"$f":"INDIRECT( \"FlashCards!\"&IF(MOD(INT((ROW(B390)-4)/50),2)=0,\"CE\"&TEXT((ROW(B390)/6)+10/3-INT((ROW(B390)-4)/50)/3,\"#\"),\"CD\"&TEXT((ROW(B390)/6)+10/3-INT((ROW(B390)-4)/50)/3,\"#\")))","v":"I was verbing [imperfect middle indicative]"},null,null,{"$f":"INDIRECT( \"FlashCards!\"&IF(MOD(INT((ROW(B390)-4)/50),2)=0,\"CE\"&TEXT((ROW(B390)/6)+10/3-INT((ROW(B390)-4)/50)/3-8,\"#\"),\"CD\"&TEXT((ROW(B390)/6)+10/3-INT((ROW(B390)-4)/50)/3-8,\"#\")))","v":"ya'll were verbing (it) [imperfect active indicative]"}]
[]
[]
[]
[]
[null,{"$f":"E345","v":"Chapter 21: Verb Ending"},null,null,{"$f":"B345","v":"Chapter 21: Verb Ending"}]
[null,{"$f":"INDIRECT( \"FlashCards!\"&IF(MOD(INT((ROW(B396)-4)/50),2)=0,\"CE\"&TEXT((ROW(B396)/6)+10/3-INT((ROW(B396)-4)/50)/3,\"#\"),\"CD\"&TEXT((ROW(B396)/6)+10/3-INT((ROW(B396)-4)/50)/3,\"#\")))","v":"you were verbing [imperfect middle indicative]"},null,null,{"$f":"INDIRECT( \"FlashCards!\"&IF(MOD(INT((ROW(B396)-4)/50),2)=0,\"CE\"&TEXT((ROW(B396)/6)+10/3-INT((ROW(B396)-4)/50)/3-8,\"#\"),\"CD\"&TEXT((ROW(B396)/6)+10/3-INT((ROW(B396)-4)/50)/3-8,\"#\")))","v":"they were verbing (it) [imperfect active indicative]"}]
[]
[]
[]
[]
[]
[]
[null,{"$f":"INDIRECT( \"FlashCards!\"&IF(MOD(INT((ROW(B404)-4)/50),2)=0,\"CF\"&TEXT((ROW(B404)/6)+10/3-INT((ROW(B404)-4)/50)/3,\"#\"),\"CF\"&TEXT((ROW(B404)/6)+10/3-INT((ROW(B404)-4)/50)/3,\"#\")))","v":"Chapter 21: Verb Ending"},null,null,{"$f":"INDIRECT( \"FlashCards!\"&IF(MOD(INT((ROW(B404)-4)/50),2)=0,\"CF\"&TEXT((ROW(B404)/6)+10/3-INT((ROW(B404)-4)/50)/3+8,\"#\"),\"CF\"&TEXT((ROW(B404)/6)+10/3-INT((ROW(B404)-4)/50)/3+8,\"#\")))","v":"Chapter 09: Adjective"}]
[null,{"$f":"INDIRECT( \"FlashCards!\"&IF(MOD(INT((ROW(B404)-4)/50),2)=0,\"CE\"&TEXT((ROW(B404)/6)+10/3-INT((ROW(B404)-4)/50)/3,\"#\"),\"CD\"&TEXT((ROW(B404)/6)+10/3-INT((ROW(B404)-4)/50)/3,\"#\")))","v":"ἐ + [middle stem] +ετο"},null,null,{"$f":"INDIRECT( \"FlashCards!\"&IF(MOD(INT((ROW(B404)-4)/50),2)=0,\"CE\"&TEXT((ROW(B404)/6)+10/3-INT((ROW(B404)-4)/50)/3+8,\"#\"),\"CD\"&TEXT((ROW(B404)/6)+10/3-INT((ROW(B404)-4)/50)/3+8,\"#\")))","v":"ἀγαθός"}]
[]
[null,{"$f":"INDIRECT( \"FlashCards!\"&IF(MOD(INT((ROW(B404)-4)/50),2)=0,\"CC\"&TEXT((ROW(B404)/6)+10/3-INT((ROW(B404)-4)/50)/3,\"#\"),\"\"))","v":" "},null,null,{"$f":"INDIRECT( \"FlashCards!\"&IF(MOD(INT((ROW(B404)-4)/50),2)=0,\"CC\"&TEXT((ROW(B404)/6)+10/3-INT((ROW(B404)-4)/50)/3+8,\"#\"),\"CC\"&TEXT((ROW(B404)/6)+10/3-INT((ROW(B404)-4)/50)/3+8,\"#\")))","v":"ah-gah-THOSS"}]
[]
[]
[null,{"$f":"INDIRECT( \"FlashCards!\"&IF(MOD(INT((ROW(B410)-4)/50),2)=0,\"CF\"&TEXT((ROW(B410)/6)+10/3-INT((ROW(B410)-4)/50)/3,\"#\"),\"CF\"&TEXT((ROW(B410)/6)+10/3-INT((ROW(B410)-4)/50)/3,\"#\")))","v":"Chapter 21: Verb Ending"},null,null,{"$f":"INDIRECT( \"FlashCards!\"&IF(MOD(INT((ROW(B410)-4)/50),2)=0,\"CF\"&TEXT((ROW(B410)/6)+10/3-INT((ROW(B410)-4)/50)/3+8,\"#\"),\"CF\"&TEXT((ROW(B410)/6)+10/3-INT((ROW(B410)-4)/50)/3+8,\"#\")))","v":"Index of Textbook: Verb  "}]
[null,{"$f":"INDIRECT( \"FlashCards!\"&IF(MOD(INT((ROW(B410)-4)/50),2)=0,\"CE\"&TEXT((ROW(B410)/6)+10/3-INT((ROW(B410)-4)/50)/3,\"#\"),\"CD\"&TEXT((ROW(B410)/6)+10/3-INT((ROW(B410)-4)/50)/3,\"#\")))","v":"ἐ + [middle stem] +ομεθα"},null,null,{"$f":"INDIRECT( \"FlashCards!\"&IF(MOD(INT((ROW(B410)-4)/50),2)=0,\"CE\"&TEXT((ROW(B410)/6)+10/3-INT((ROW(B410)-4)/50)/3+8,\"#\"),\"CD\"&TEXT((ROW(B410)/6)+10/3-INT((ROW(B410)-4)/50)/3+8,\"#\")))","v":"ἀγαλλιάω"}]
[]
[null,{"$f":"INDIRECT( \"FlashCards!\"&IF(MOD(INT((ROW(B410)-4)/50),2)=0,\"CC\"&TEXT((ROW(B410)/6)+10/3-INT((ROW(B410)-4)/50)/3,\"#\"),\"\"))","v":" "},null,null,{"$f":"INDIRECT( \"FlashCards!\"&IF(MOD(INT((ROW(B410)-4)/50),2)=0,\"CC\"&TEXT((ROW(B410)/6)+10/3-INT((ROW(B410)-4)/50)/3+8,\"#\"),\"CC\"&TEXT((ROW(B410)/6)+10/3-INT((ROW(B410)-4)/50)/3+8,\"#\")))","v":"ah-gah-lee-AH-owe"}]
[]
[]
[null,{"$f":"INDIRECT( \"FlashCards!\"&IF(MOD(INT((ROW(B416)-4)/50),2)=0,\"CF\"&TEXT((ROW(B416)/6)+10/3-INT((ROW(B416)-4)/50)/3,\"#\"),\"CF\"&TEXT((ROW(B416)/6)+10/3-INT((ROW(B416)-4)/50)/3,\"#\")))","v":"Chapter 21: Verb Ending"},null,null,{"$f":"INDIRECT( \"FlashCards!\"&IF(MOD(INT((ROW(B416)-4)/50),2)=0,\"CF\"&TEXT((ROW(B416)/6)+10/3-INT((ROW(B416)-4)/50)/3+8,\"#\"),\"CF\"&TEXT((ROW(B416)/6)+10/3-INT((ROW(B416)-4)/50)/3+8,\"#\")))","v":"Extra: Noun  "}]
[null,{"$f":"INDIRECT( \"FlashCards!\"&IF(MOD(INT((ROW(B416)-4)/50),2)=0,\"CE\"&TEXT((ROW(B416)/6)+10/3-INT((ROW(B416)-4)/50)/3,\"#\"),\"CD\"&TEXT((ROW(B416)/6)+10/3-INT((ROW(B416)-4)/50)/3,\"#\")))","v":"ἐ + [middle stem] +εσθε "},null,null,{"$f":"INDIRECT( \"FlashCards!\"&IF(MOD(INT((ROW(B416)-4)/50),2)=0,\"CE\"&TEXT((ROW(B416)/6)+10/3-INT((ROW(B416)-4)/50)/3+8,\"#\"),\"CD\"&TEXT((ROW(B416)/6)+10/3-INT((ROW(B416)-4)/50)/3+8,\"#\")))","v":"ἡ ἄγαμος"}]
[]
[null,{"$f":"INDIRECT( \"FlashCards!\"&IF(MOD(INT((ROW(B416)-4)/50),2)=0,\"CC\"&TEXT((ROW(B416)/6)+10/3-INT((ROW(B416)-4)/50)/3,\"#\"),\"\"))","v":" "},null,null,{"$f":"INDIRECT( \"FlashCards!\"&IF(MOD(INT((ROW(B416)-4)/50),2)=0,\"CC\"&TEXT((ROW(B416)/6)+10/3-INT((ROW(B416)-4)/50)/3+8,\"#\"),\"CC\"&TEXT((ROW(B416)/6)+10/3-INT((ROW(B416)-4)/50)/3+8,\"#\")))","v":"AH-gah-moss"}]
[]
[]
[null,{"$f":"INDIRECT( \"FlashCards!\"&IF(MOD(INT((ROW(B422)-4)/50),2)=0,\"CF\"&TEXT((ROW(B422)/6)+10/3-INT((ROW(B422)-4)/50)/3,\"#\"),\"CF\"&TEXT((ROW(B422)/6)+10/3-INT((ROW(B422)-4)/50)/3,\"#\")))","v":"Chapter 21: Verb Ending"},null,null,{"$f":"INDIRECT( \"FlashCards!\"&IF(MOD(INT((ROW(B422)-4)/50),2)=0,\"CF\"&TEXT((ROW(B422)/6)+10/3-INT((ROW(B422)-4)/50)/3+8,\"#\"),\"CF\"&TEXT((ROW(B422)/6)+10/3-INT((ROW(B422)-4)/50)/3+8,\"#\")))","v":"Extra: Verb  "}]
[null,{"$f":"INDIRECT( \"FlashCards!\"&IF(MOD(INT((ROW(B422)-4)/50),2)=0,\"CE\"&TEXT((ROW(B422)/6)+10/3-INT((ROW(B422)-4)/50)/3,\"#\"),\"CD\"&TEXT((ROW(B422)/6)+10/3-INT((ROW(B422)-4)/50)/3,\"#\")))","v":"ἐ + [middle stem] +οντο"},null,null,{"$f":"INDIRECT( \"FlashCards!\"&IF(MOD(INT((ROW(B422)-4)/50),2)=0,\"CE\"&TEXT((ROW(B422)/6)+10/3-INT((ROW(B422)-4)/50)/3+8,\"#\"),\"CD\"&TEXT((ROW(B422)/6)+10/3-INT((ROW(B422)-4)/50)/3+8,\"#\")))","v":"ἀγανακτέω"}]
[]
[null,{"$f":"INDIRECT( \"FlashCards!\"&IF(MOD(INT((ROW(B422)-4)/50),2)=0,\"CC\"&TEXT((ROW(B422)/6)+10/3-INT((ROW(B422)-4)/50)/3,\"#\"),\"\"))","v":" "},null,null,{"$f":"INDIRECT( \"FlashCards!\"&IF(MOD(INT((ROW(B422)-4)/50),2)=0,\"CC\"&TEXT((ROW(B422)/6)+10/3-INT((ROW(B422)-4)/50)/3+8,\"#\"),\"CC\"&TEXT((ROW(B422)/6)+10/3-INT((ROW(B422)-4)/50)/3+8,\"#\")))","v":"ah-gahn-ahk-TEH-noe"}]
[]
[]
[null,{"$f":"INDIRECT( \"FlashCards!\"&IF(MOD(INT((ROW(B428)-4)/50),2)=0,\"CF\"&TEXT((ROW(B428)/6)+10/3-INT((ROW(B428)-4)/50)/3,\"#\"),\"CF\"&TEXT((ROW(B428)/6)+10/3-INT((ROW(B428)-4)/50)/3,\"#\")))","v":"Extra: Verb Ending"},null,null,{"$f":"INDIRECT( \"FlashCards!\"&IF(MOD(INT((ROW(B428)-4)/50),2)=0,\"CF\"&TEXT((ROW(B428)/6)+10/3-INT((ROW(B428)-4)/50)/3+8,\"#\"),\"CF\"&TEXT((ROW(B428)/6)+10/3-INT((ROW(B428)-4)/50)/3+8,\"#\")))","v":"Chapter 17: Verb  "}]
[null,{"$f":"INDIRECT( \"FlashCards!\"&IF(MOD(INT((ROW(B428)-4)/50),2)=0,\"CE\"&TEXT((ROW(B428)/6)+10/3-INT((ROW(B428)-4)/50)/3,\"#\"),\"CD\"&TEXT((ROW(B428)/6)+10/3-INT((ROW(B428)-4)/50)/3,\"#\")))","v":"κατα-, κατε-"},null,null,{"$f":"INDIRECT( \"FlashCards!\"&IF(MOD(INT((ROW(B428)-4)/50),2)=0,\"CE\"&TEXT((ROW(B428)/6)+10/3-INT((ROW(B428)-4)/50)/3+8,\"#\"),\"CD\"&TEXT((ROW(B428)/6)+10/3-INT((ROW(B428)-4)/50)/3+8,\"#\")))","v":"ἀγαπάω"}]
[]
[null,{"$f":"INDIRECT( \"FlashCards!\"&IF(MOD(INT((ROW(B428)-4)/50),2)=0,\"CC\"&TEXT((ROW(B428)/6)+10/3-INT((ROW(B428)-4)/50)/3,\"#\"),\"\"))","v":" "},null,null,{"$f":"INDIRECT( \"FlashCards!\"&IF(MOD(INT((ROW(B428)-4)/50),2)=0,\"CC\"&TEXT((ROW(B428)/6)+10/3-INT((ROW(B428)-4)/50)/3+8,\"#\"),\"CC\"&TEXT((ROW(B428)/6)+10/3-INT((ROW(B428)-4)/50)/3+8,\"#\")))","v":"ah-gah-PAY-owe"}]
[]
[]
[null,{"$f":"INDIRECT( \"FlashCards!\"&IF(MOD(INT((ROW(B434)-4)/50),2)=0,\"CF\"&TEXT((ROW(B434)/6)+10/3-INT((ROW(B434)-4)/50)/3,\"#\"),\"CF\"&TEXT((ROW(B434)/6)+10/3-INT((ROW(B434)-4)/50)/3,\"#\")))","v":"Chapter 04: Proper Noun"},null,null,{"$f":"INDIRECT( \"FlashCards!\"&IF(MOD(INT((ROW(B434)-4)/50),2)=0,\"CF\"&TEXT((ROW(B434)/6)+10/3-INT((ROW(B434)-4)/50)/3+8,\"#\"),\"CF\"&TEXT((ROW(B434)/6)+10/3-INT((ROW(B434)-4)/50)/3+8,\"#\")))","v":"Chapter 06: Noun  "}]
[null,{"$f":"INDIRECT( \"FlashCards!\"&IF(MOD(INT((ROW(B434)-4)/50),2)=0,\"CE\"&TEXT((ROW(B434)/6)+10/3-INT((ROW(B434)-4)/50)/3,\"#\"),\"CD\"&TEXT((ROW(B434)/6)+10/3-INT((ROW(B434)-4)/50)/3,\"#\")))","v":"ὁ Ἀβραάμ"},null,null,{"$f":"INDIRECT( \"FlashCards!\"&IF(MOD(INT((ROW(B434)-4)/50),2)=0,\"CE\"&TEXT((ROW(B434)/6)+10/3-INT((ROW(B434)-4)/50)/3+8,\"#\"),\"CD\"&TEXT((ROW(B434)/6)+10/3-INT((ROW(B434)-4)/50)/3+8,\"#\")))","v":"ἡ ἀγάπη"}]
[]
[null,{"$f":"INDIRECT( \"FlashCards!\"&IF(MOD(INT((ROW(B434)-4)/50),2)=0,\"CC\"&TEXT((ROW(B434)/6)+10/3-INT((ROW(B434)-4)/50)/3,\"#\"),\"\"))","v":"ah-brah-AHM"},null,null,{"$f":"INDIRECT( \"FlashCards!\"&IF(MOD(INT((ROW(B434)-4)/50),2)=0,\"CC\"&TEXT((ROW(B434)/6)+10/3-INT((ROW(B434)-4)/50)/3+8,\"#\"),\"CC\"&TEXT((ROW(B434)/6)+10/3-INT((ROW(B434)-4)/50)/3+8,\"#\")))","v":"ah-GAH-pay"}]
[]
[]
[null,{"$f":"INDIRECT( \"FlashCards!\"&IF(MOD(INT((ROW(B440)-4)/50),2)=0,\"CF\"&TEXT((ROW(B440)/6)+10/3-INT((ROW(B440)-4)/50)/3,\"#\"),\"CF\"&TEXT((ROW(B440)/6)+10/3-INT((ROW(B440)-4)/50)/3,\"#\")))","v":"Extra: Noun  "},null,null,{"$f":"INDIRECT( \"FlashCards!\"&IF(MOD(INT((ROW(B440)-4)/50),2)=0,\"CF\"&TEXT((ROW(B440)/6)+10/3-INT((ROW(B440)-4)/50)/3+8,\"#\"),\"CF\"&TEXT((ROW(B440)/6)+10/3-INT((ROW(B440)-4)/50)/3+8,\"#\")))","v":"Chapter 09: Adjective"}]
[null,{"$f":"INDIRECT( \"FlashCards!\"&IF(MOD(INT((ROW(B440)-4)/50),2)=0,\"CE\"&TEXT((ROW(B440)/6)+10/3-INT((ROW(B440)-4)/50)/3,\"#\"),\"CD\"&TEXT((ROW(B440)/6)+10/3-INT((ROW(B440)-4)/50)/3,\"#\")))","v":"ἡ ἄβυσσος"},null,null,{"$f":"INDIRECT( \"FlashCards!\"&IF(MOD(INT((ROW(B440)-4)/50),2)=0,\"CE\"&TEXT((ROW(B440)/6)+10/3-INT((ROW(B440)-4)/50)/3+8,\"#\"),\"CD\"&TEXT((ROW(B440)/6)+10/3-INT((ROW(B440)-4)/50)/3+8,\"#\")))","v":"ἀγαπητός"}]
[]
[null,{"$f":"INDIRECT( \"FlashCards!\"&IF(MOD(INT((ROW(B440)-4)/50),2)=0,\"CC\"&TEXT((ROW(B440)/6)+10/3-INT((ROW(B440)-4)/50)/3,\"#\"),\"\"))","v":"AHB-oose-oss"},null,null,{"$f":"INDIRECT( \"FlashCards!\"&IF(MOD(INT((ROW(B440)-4)/50),2)=0,\"CC\"&TEXT((ROW(B440)/6)+10/3-INT((ROW(B440)-4)/50)/3+8,\"#\"),\"CC\"&TEXT((ROW(B440)/6)+10/3-INT((ROW(B440)-4)/50)/3+8,\"#\")))","v":"ah-ga-pay-TOSS"}]
[]
[]
[null,{"$f":"INDIRECT( \"FlashCards!\"&IF(MOD(INT((ROW(B446)-4)/50),2)=0,\"CF\"&TEXT((ROW(B446)/6)+10/3-INT((ROW(B446)-4)/50)/3,\"#\"),\"CF\"&TEXT((ROW(B446)/6)+10/3-INT((ROW(B446)-4)/50)/3,\"#\")))","v":"Extra: Verb  "},null,null,{"$f":"INDIRECT( \"FlashCards!\"&IF(MOD(INT((ROW(B446)-4)/50),2)=0,\"CF\"&TEXT((ROW(B446)/6)+10/3-INT((ROW(B446)-4)/50)/3+8,\"#\"),\"CF\"&TEXT((ROW(B446)/6)+10/3-INT((ROW(B446)-4)/50)/3+8,\"#\")))","v":"Extra: Noun  "}]
[null,{"$f":"INDIRECT( \"FlashCards!\"&IF(MOD(INT((ROW(B446)-4)/50),2)=0,\"CE\"&TEXT((ROW(B446)/6)+10/3-INT((ROW(B446)-4)/50)/3,\"#\"),\"CD\"&TEXT((ROW(B446)/6)+10/3-INT((ROW(B446)-4)/50)/3,\"#\")))","v":"ἀγαθοποιέω"},null,null,{"$f":"INDIRECT( \"FlashCards!\"&IF(MOD(INT((ROW(B446)-4)/50),2)=0,\"CE\"&TEXT((ROW(B446)/6)+10/3-INT((ROW(B446)-4)/50)/3+8,\"#\"),\"CD\"&TEXT((ROW(B446)/6)+10/3-INT((ROW(B446)-4)/50)/3+8,\"#\")))","v":"ἡ ἀγγελία"}]
[]
[null,{"$f":"INDIRECT( \"FlashCards!\"&IF(MOD(INT((ROW(B446)-4)/50),2)=0,\"CC\"&TEXT((ROW(B446)/6)+10/3-INT((ROW(B446)-4)/50)/3,\"#\"),\"\"))","v":"ah-gah-thopp-oy-EH-ower"},null,null,{"$f":"INDIRECT( \"FlashCards!\"&IF(MOD(INT((ROW(B446)-4)/50),2)=0,\"CC\"&TEXT((ROW(B446)/6)+10/3-INT((ROW(B446)-4)/50)/3+8,\"#\"),\"CC\"&TEXT((ROW(B446)/6)+10/3-INT((ROW(B446)-4)/50)/3+8,\"#\")))","v":"ahng-ell-EE-ah"}]
[]
[]
[]
[]
[null,{"$f":"E403","v":"Chapter 09: Adjective"},null,null,{"$f":"B403","v":"Chapter 21: Verb Ending"}]
[null,{"$f":"INDIRECT( \"FlashCards!\"&IF(MOD(INT((ROW(B454)-4)/50),2)=0,\"CE\"&TEXT((ROW(B454)/6)+10/3-INT((ROW(B454)-4)/50)/3,\"#\"),\"CD\"&TEXT((ROW(B454)/6)+10/3-INT((ROW(B454)-4)/50)/3,\"#\")))","v":"good, useful"},null,null,{"$f":"INDIRECT( \"FlashCards!\"&IF(MOD(INT((ROW(B454)-4)/50),2)=0,\"CE\"&TEXT((ROW(B454)/6)+10/3-INT((ROW(B454)-4)/50)/3-8,\"#\"),\"CD\"&TEXT((ROW(B454)/6)+10/3-INT((ROW(B454)-4)/50)/3-8,\"#\")))","v":"he/she/it was verbing [imperfect middle indicative]"}]
[]
[]
[]
[]
[null,{"$f":"E409","v":"Index of Textbook: Verb  "},null,null,{"$f":"B409","v":"Chapter 21: Verb Ending"}]
[null,{"$f":"INDIRECT( \"FlashCards!\"&IF(MOD(INT((ROW(B460)-4)/50),2)=0,\"CE\"&TEXT((ROW(B460)/6)+10/3-INT((ROW(B460)-4)/50)/3,\"#\"),\"CD\"&TEXT((ROW(B460)/6)+10/3-INT((ROW(B460)-4)/50)/3,\"#\")))","v":"I exult"},null,null,{"$f":"INDIRECT( \"FlashCards!\"&IF(MOD(INT((ROW(B460)-4)/50),2)=0,\"CE\"&TEXT((ROW(B460)/6)+10/3-INT((ROW(B460)-4)/50)/3-8,\"#\"),\"CD\"&TEXT((ROW(B460)/6)+10/3-INT((ROW(B460)-4)/50)/3-8,\"#\")))","v":"we were verbing [imperfect middle indicative]"}]
[]
[]
[]
[]
[null,{"$f":"E415","v":"Extra: Noun  "},null,null,{"$f":"B415","v":"Chapter 21: Verb Ending"}]
[null,{"$f":"INDIRECT( \"FlashCards!\"&IF(MOD(INT((ROW(B466)-4)/50),2)=0,\"CE\"&TEXT((ROW(B466)/6)+10/3-INT((ROW(B466)-4)/50)/3,\"#\"),\"CD\"&TEXT((ROW(B466)/6)+10/3-INT((ROW(B466)-4)/50)/3,\"#\")))","v":"unmarried (person)"},null,null,{"$f":"INDIRECT( \"FlashCards!\"&IF(MOD(INT((ROW(B466)-4)/50),2)=0,\"CE\"&TEXT((ROW(B466)/6)+10/3-INT((ROW(B466)-4)/50)/3-8,\"#\"),\"CD\"&TEXT((ROW(B466)/6)+10/3-INT((ROW(B466)-4)/50)/3-8,\"#\")))","v":"ya'll were verbing [imperfect middle indicative]"}]
[]
[]
[]
[]
[null,{"$f":"E421","v":"Extra: Verb  "},null,null,{"$f":"B421","v":"Chapter 21: Verb Ending"}]
[null,{"$f":"INDIRECT( \"FlashCards!\"&IF(MOD(INT((ROW(B472)-4)/50),2)=0,\"CE\"&TEXT((ROW(B472)/6)+10/3-INT((ROW(B472)-4)/50)/3,\"#\"),\"CD\"&TEXT((ROW(B472)/6)+10/3-INT((ROW(B472)-4)/50)/3,\"#\")))","v":"I am indignant, I am afflicted"},null,null,{"$f":"INDIRECT( \"FlashCards!\"&IF(MOD(INT((ROW(B472)-4)/50),2)=0,\"CE\"&TEXT((ROW(B472)/6)+10/3-INT((ROW(B472)-4)/50)/3-8,\"#\"),\"CD\"&TEXT((ROW(B472)/6)+10/3-INT((ROW(B472)-4)/50)/3-8,\"#\")))","v":"they were verbing [imperfect middle indicative]"}]
[]
[]
[]
[]
[null,{"$f":"E427","v":"Chapter 17: Verb  "},null,null,{"$f":"B427","v":"Extra: Verb Ending"}]
[null,{"$f":"INDIRECT( \"FlashCards!\"&IF(MOD(INT((ROW(B478)-4)/50),2)=0,\"CE\"&TEXT((ROW(B478)/6)+10/3-INT((ROW(B478)-4)/50)/3,\"#\"),\"CD\"&TEXT((ROW(B478)/6)+10/3-INT((ROW(B478)-4)/50)/3,\"#\")))","v":"I love, I cherish"},null,null,{"$f":"INDIRECT( \"FlashCards!\"&IF(MOD(INT((ROW(B478)-4)/50),2)=0,\"CE\"&TEXT((ROW(B478)/6)+10/3-INT((ROW(B478)-4)/50)/3-8,\"#\"),\"CD\"&TEXT((ROW(B478)/6)+10/3-INT((ROW(B478)-4)/50)/3-8,\"#\")))","v":"verb prefix adding \"thoroughly\" to meaning"}]
[]
[]
[]
[]
[null,{"$f":"E433","v":"Chapter 06: Noun  "},null,null,{"$f":"B433","v":"Chapter 04: Proper Noun"}]
[null,{"$f":"INDIRECT( \"FlashCards!\"&IF(MOD(INT((ROW(B484)-4)/50),2)=0,\"CE\"&TEXT((ROW(B484)/6)+10/3-INT((ROW(B484)-4)/50)/3,\"#\"),\"CD\"&TEXT((ROW(B484)/6)+10/3-INT((ROW(B484)-4)/50)/3,\"#\")))","v":"love"},null,null,{"$f":"INDIRECT( \"FlashCards!\"&IF(MOD(INT((ROW(B484)-4)/50),2)=0,\"CE\"&TEXT((ROW(B484)/6)+10/3-INT((ROW(B484)-4)/50)/3-8,\"#\"),\"CD\"&TEXT((ROW(B484)/6)+10/3-INT((ROW(B484)-4)/50)/3-8,\"#\")))","v":"Abraham"}]
[]
[]
[]
[]
[null,{"$f":"E439","v":"Chapter 09: Adjective"},null,null,{"$f":"B439","v":"Extra: Noun  "}]
[null,{"$f":"INDIRECT( \"FlashCards!\"&IF(MOD(INT((ROW(B490)-4)/50),2)=0,\"CE\"&TEXT((ROW(B490)/6)+10/3-INT((ROW(B490)-4)/50)/3,\"#\"),\"CD\"&TEXT((ROW(B490)/6)+10/3-INT((ROW(B490)-4)/50)/3,\"#\")))","v":"beloved"},null,null,{"$f":"INDIRECT( \"FlashCards!\"&IF(MOD(INT((ROW(B490)-4)/50),2)=0,\"CE\"&TEXT((ROW(B490)/6)+10/3-INT((ROW(B490)-4)/50)/3-8,\"#\"),\"CD\"&TEXT((ROW(B490)/6)+10/3-INT((ROW(B490)-4)/50)/3-8,\"#\")))","v":"(infernal) abyss, bottomless"}]
[]
[]
[]
[]
[null,{"$f":"E445","v":"Extra: Noun  "},null,null,{"$f":"B445","v":"Extra: Verb  "}]
[null,{"$f":"INDIRECT( \"FlashCards!\"&IF(MOD(INT((ROW(B496)-4)/50),2)=0,\"CE\"&TEXT((ROW(B496)/6)+10/3-INT((ROW(B496)-4)/50)/3,\"#\"),\"CD\"&TEXT((ROW(B496)/6)+10/3-INT((ROW(B496)-4)/50)/3,\"#\")))","v":"message"},null,null,{"$f":"INDIRECT( \"FlashCards!\"&IF(MOD(INT((ROW(B496)-4)/50),2)=0,\"CE\"&TEXT((ROW(B496)/6)+10/3-INT((ROW(B496)-4)/50)/3-8,\"#\"),\"CD\"&TEXT((ROW(B496)/6)+10/3-INT((ROW(B496)-4)/50)/3-8,\"#\")))","v":"I do rightly, I do good"}]
[]
[]
[]
[]
[]
[]
[null,{"$f":"INDIRECT( \"FlashCards!\"&IF(MOD(INT((ROW(B504)-4)/50),2)=0,\"CF\"&TEXT((ROW(B504)/6)+10/3-INT((ROW(B504)-4)/50)/3,\"#\"),\"CF\"&TEXT((ROW(B504)/6)+10/3-INT((ROW(B504)-4)/50)/3,\"#\")))","v":"Chapter 04: Noun  "},null,null,{"$f":"INDIRECT( \"FlashCards!\"&IF(MOD(INT((ROW(B504)-4)/50),2)=0,\"CF\"&TEXT((ROW(B504)/6)+10/3-INT((ROW(B504)-4)/50)/3+8,\"#\"),\"CF\"&TEXT((ROW(B504)/6)+10/3-INT((ROW(B504)-4)/50)/3+8,\"#\")))","v":"Index of Textbook: Verb  "}]
[null,{"$f":"INDIRECT( \"FlashCards!\"&IF(MOD(INT((ROW(B504)-4)/50),2)=0,\"CE\"&TEXT((ROW(B504)/6)+10/3-INT((ROW(B504)-4)/50)/3,\"#\"),\"CD\"&TEXT((ROW(B504)/6)+10/3-INT((ROW(B504)-4)/50)/3,\"#\")))","v":"ὁ ἄγγελος"},null,null,{"$f":"INDIRECT( \"FlashCards!\"&IF(MOD(INT((ROW(B504)-4)/50),2)=0,\"CE\"&TEXT((ROW(B504)/6)+10/3-INT((ROW(B504)-4)/50)/3+8,\"#\"),\"CD\"&TEXT((ROW(B504)/6)+10/3-INT((ROW(B504)-4)/50)/3+8,\"#\")))","v":"ἀγνοέω"}]
[]
[null,{"$f":"INDIRECT( \"FlashCards!\"&IF(MOD(INT((ROW(B504)-4)/50),2)=0,\"CC\"&TEXT((ROW(B504)/6)+10/3-INT((ROW(B504)-4)/50)/3,\"#\"),\"\"))","v":"AHN-gell-oss"},null,null,{"$f":"INDIRECT( \"FlashCards!\"&IF(MOD(INT((ROW(B504)-4)/50),2)=0,\"CC\"&TEXT((ROW(B504)/6)+10/3-INT((ROW(B504)-4)/50)/3+8,\"#\"),\"CC\"&TEXT((ROW(B504)/6)+10/3-INT((ROW(B504)-4)/50)/3+8,\"#\")))","v":"ahg-no-eh-owe"}]
[]
[]
[null,{"$f":"INDIRECT( \"FlashCards!\"&IF(MOD(INT((ROW(B510)-4)/50),2)=0,\"CF\"&TEXT((ROW(B510)/6)+10/3-INT((ROW(B510)-4)/50)/3,\"#\"),\"CF\"&TEXT((ROW(B510)/6)+10/3-INT((ROW(B510)-4)/50)/3,\"#\")))","v":"Extra: Noun  "},null,null,{"$f":"INDIRECT( \"FlashCards!\"&IF(MOD(INT((ROW(B510)-4)/50),2)=0,\"CF\"&TEXT((ROW(B510)/6)+10/3-INT((ROW(B510)-4)/50)/3+8,\"#\"),\"CF\"&TEXT((ROW(B510)/6)+10/3-INT((ROW(B510)-4)/50)/3+8,\"#\")))","v":"Extra: Adjective"}]
[null,{"$f":"INDIRECT( \"FlashCards!\"&IF(MOD(INT((ROW(B510)-4)/50),2)=0,\"CE\"&TEXT((ROW(B510)/6)+10/3-INT((ROW(B510)-4)/50)/3,\"#\"),\"CD\"&TEXT((ROW(B510)/6)+10/3-INT((ROW(B510)-4)/50)/3,\"#\")))","v":"ἡ ἀγέλη"},null,null,{"$f":"INDIRECT( \"FlashCards!\"&IF(MOD(INT((ROW(B510)-4)/50),2)=0,\"CE\"&TEXT((ROW(B510)/6)+10/3-INT((ROW(B510)-4)/50)/3+8,\"#\"),\"CD\"&TEXT((ROW(B510)/6)+10/3-INT((ROW(B510)-4)/50)/3+8,\"#\")))","v":"ἁγνός"}]
[]
[null,{"$f":"INDIRECT( \"FlashCards!\"&IF(MOD(INT((ROW(B510)-4)/50),2)=0,\"CC\"&TEXT((ROW(B510)/6)+10/3-INT((ROW(B510)-4)/50)/3,\"#\"),\"\"))","v":"ah-GELL-ay"},null,null,{"$f":"INDIRECT( \"FlashCards!\"&IF(MOD(INT((ROW(B510)-4)/50),2)=0,\"CC\"&TEXT((ROW(B510)/6)+10/3-INT((ROW(B510)-4)/50)/3+8,\"#\"),\"CC\"&TEXT((ROW(B510)/6)+10/3-INT((ROW(B510)-4)/50)/3+8,\"#\")))","v":"hahg-NOSS"}]
[]
[]
[null,{"$f":"INDIRECT( \"FlashCards!\"&IF(MOD(INT((ROW(B516)-4)/50),2)=0,\"CF\"&TEXT((ROW(B516)/6)+10/3-INT((ROW(B516)-4)/50)/3,\"#\"),\"CF\"&TEXT((ROW(B516)/6)+10/3-INT((ROW(B516)-4)/50)/3,\"#\")))","v":"Chapter 35: Verb  "},null,null,{"$f":"INDIRECT( \"FlashCards!\"&IF(MOD(INT((ROW(B516)-4)/50),2)=0,\"CF\"&TEXT((ROW(B516)/6)+10/3-INT((ROW(B516)-4)/50)/3+8,\"#\"),\"CF\"&TEXT((ROW(B516)/6)+10/3-INT((ROW(B516)-4)/50)/3+8,\"#\")))","v":"Chapter 38: Noun  "}]
[null,{"$f":"INDIRECT( \"FlashCards!\"&IF(MOD(INT((ROW(B516)-4)/50),2)=0,\"CE\"&TEXT((ROW(B516)/6)+10/3-INT((ROW(B516)-4)/50)/3,\"#\"),\"CD\"&TEXT((ROW(B516)/6)+10/3-INT((ROW(B516)-4)/50)/3,\"#\")))","v":"ἁγιάζω"},null,null,{"$f":"INDIRECT( \"FlashCards!\"&IF(MOD(INT((ROW(B516)-4)/50),2)=0,\"CE\"&TEXT((ROW(B516)/6)+10/3-INT((ROW(B516)-4)/50)/3+8,\"#\"),\"CD\"&TEXT((ROW(B516)/6)+10/3-INT((ROW(B516)-4)/50)/3+8,\"#\")))","v":"ἡ ἀγορά"}]
[]
[null,{"$f":"INDIRECT( \"FlashCards!\"&IF(MOD(INT((ROW(B516)-4)/50),2)=0,\"CC\"&TEXT((ROW(B516)/6)+10/3-INT((ROW(B516)-4)/50)/3,\"#\"),\"\"))","v":"hah-gi-AH-zoe"},null,null,{"$f":"INDIRECT( \"FlashCards!\"&IF(MOD(INT((ROW(B516)-4)/50),2)=0,\"CC\"&TEXT((ROW(B516)/6)+10/3-INT((ROW(B516)-4)/50)/3+8,\"#\"),\"CC\"&TEXT((ROW(B516)/6)+10/3-INT((ROW(B516)-4)/50)/3+8,\"#\")))","v":"ah-gorr-AH"}]
[]
[]
[null,{"$f":"INDIRECT( \"FlashCards!\"&IF(MOD(INT((ROW(B522)-4)/50),2)=0,\"CF\"&TEXT((ROW(B522)/6)+10/3-INT((ROW(B522)-4)/50)/3,\"#\"),\"CF\"&TEXT((ROW(B522)/6)+10/3-INT((ROW(B522)-4)/50)/3,\"#\")))","v":"Chapter 38: Noun  "},null,null,{"$f":"INDIRECT( \"FlashCards!\"&IF(MOD(INT((ROW(B522)-4)/50),2)=0,\"CF\"&TEXT((ROW(B522)/6)+10/3-INT((ROW(B522)-4)/50)/3+8,\"#\"),\"CF\"&TEXT((ROW(B522)/6)+10/3-INT((ROW(B522)-4)/50)/3+8,\"#\")))","v":"Index of Textbook: Verb  "}]
[null,{"$f":"INDIRECT( \"FlashCards!\"&IF(MOD(INT((ROW(B522)-4)/50),2)=0,\"CE\"&TEXT((ROW(B522)/6)+10/3-INT((ROW(B522)-4)/50)/3,\"#\"),\"CD\"&TEXT((ROW(B522)/6)+10/3-INT((ROW(B522)-4)/50)/3,\"#\")))","v":"ὁ ἁγιασμός"},null,null,{"$f":"INDIRECT( \"FlashCards!\"&IF(MOD(INT((ROW(B522)-4)/50),2)=0,\"CE\"&TEXT((ROW(B522)/6)+10/3-INT((ROW(B522)-4)/50)/3+8,\"#\"),\"CD\"&TEXT((ROW(B522)/6)+10/3-INT((ROW(B522)-4)/50)/3+8,\"#\")))","v":"ἀγοράζω"}]
[]
[null,{"$f":"INDIRECT( \"FlashCards!\"&IF(MOD(INT((ROW(B522)-4)/50),2)=0,\"CC\"&TEXT((ROW(B522)/6)+10/3-INT((ROW(B522)-4)/50)/3,\"#\"),\"\"))","v":"Ha-gee-ahs-MOSS"},null,null,{"$f":"INDIRECT( \"FlashCards!\"&IF(MOD(INT((ROW(B522)-4)/50),2)=0,\"CC\"&TEXT((ROW(B522)/6)+10/3-INT((ROW(B522)-4)/50)/3+8,\"#\"),\"CC\"&TEXT((ROW(B522)/6)+10/3-INT((ROW(B522)-4)/50)/3+8,\"#\")))","v":"ah-gorr-AH-zoe"}]
[]
[]
[null,{"$f":"INDIRECT( \"FlashCards!\"&IF(MOD(INT((ROW(B528)-4)/50),2)=0,\"CF\"&TEXT((ROW(B528)/6)+10/3-INT((ROW(B528)-4)/50)/3,\"#\"),\"CF\"&TEXT((ROW(B528)/6)+10/3-INT((ROW(B528)-4)/50)/3,\"#\")))","v":"Chapter 09: Noun  "},null,null,{"$f":"INDIRECT( \"FlashCards!\"&IF(MOD(INT((ROW(B528)-4)/50),2)=0,\"CF\"&TEXT((ROW(B528)/6)+10/3-INT((ROW(B528)-4)/50)/3+8,\"#\"),\"CF\"&TEXT((ROW(B528)/6)+10/3-INT((ROW(B528)-4)/50)/3+8,\"#\")))","v":"Extra: Noun  "}]
[null,{"$f":"INDIRECT( \"FlashCards!\"&IF(MOD(INT((ROW(B528)-4)/50),2)=0,\"CE\"&TEXT((ROW(B528)/6)+10/3-INT((ROW(B528)-4)/50)/3,\"#\"),\"CD\"&TEXT((ROW(B528)/6)+10/3-INT((ROW(B528)-4)/50)/3,\"#\")))","v":"ὁ ἅγιος (noun)"},null,null,{"$f":"INDIRECT( \"FlashCards!\"&IF(MOD(INT((ROW(B528)-4)/50),2)=0,\"CE\"&TEXT((ROW(B528)/6)+10/3-INT((ROW(B528)-4)/50)/3+8,\"#\"),\"CD\"&TEXT((ROW(B528)/6)+10/3-INT((ROW(B528)-4)/50)/3+8,\"#\")))","v":"ἡ ἀγριέλαιος"}]
[]
[null,{"$f":"INDIRECT( \"FlashCards!\"&IF(MOD(INT((ROW(B528)-4)/50),2)=0,\"CC\"&TEXT((ROW(B528)/6)+10/3-INT((ROW(B528)-4)/50)/3,\"#\"),\"\"))","v":"HA-gi-oss"},null,null,{"$f":"INDIRECT( \"FlashCards!\"&IF(MOD(INT((ROW(B528)-4)/50),2)=0,\"CC\"&TEXT((ROW(B528)/6)+10/3-INT((ROW(B528)-4)/50)/3+8,\"#\"),\"CC\"&TEXT((ROW(B528)/6)+10/3-INT((ROW(B528)-4)/50)/3+8,\"#\")))","v":"ahg-REE-ell-eye-oss"}]
[]
[]
[null,{"$f":"INDIRECT( \"FlashCards!\"&IF(MOD(INT((ROW(B534)-4)/50),2)=0,\"CF\"&TEXT((ROW(B534)/6)+10/3-INT((ROW(B534)-4)/50)/3,\"#\"),\"CF\"&TEXT((ROW(B534)/6)+10/3-INT((ROW(B534)-4)/50)/3,\"#\")))","v":"Chapter 09: Adjective"},null,null,{"$f":"INDIRECT( \"FlashCards!\"&IF(MOD(INT((ROW(B534)-4)/50),2)=0,\"CF\"&TEXT((ROW(B534)/6)+10/3-INT((ROW(B534)-4)/50)/3+8,\"#\"),\"CF\"&TEXT((ROW(B534)/6)+10/3-INT((ROW(B534)-4)/50)/3+8,\"#\")))","v":"Extra: Adjective"}]
[null,{"$f":"INDIRECT( \"FlashCards!\"&IF(MOD(INT((ROW(B534)-4)/50),2)=0,\"CE\"&TEXT((ROW(B534)/6)+10/3-INT((ROW(B534)-4)/50)/3,\"#\"),\"CD\"&TEXT((ROW(B534)/6)+10/3-INT((ROW(B534)-4)/50)/3,\"#\")))","v":"ἅγιος (adj)"},null,null,{"$f":"INDIRECT( \"FlashCards!\"&IF(MOD(INT((ROW(B534)-4)/50),2)=0,\"CE\"&TEXT((ROW(B534)/6)+10/3-INT((ROW(B534)-4)/50)/3+8,\"#\"),\"CD\"&TEXT((ROW(B534)/6)+10/3-INT((ROW(B534)-4)/50)/3+8,\"#\")))","v":"ἄγριος"}]
[]
[null,{"$f":"INDIRECT( \"FlashCards!\"&IF(MOD(INT((ROW(B534)-4)/50),2)=0,\"CC\"&TEXT((ROW(B534)/6)+10/3-INT((ROW(B534)-4)/50)/3,\"#\"),\"\"))","v":"HA-gi-oss"},null,null,{"$f":"INDIRECT( \"FlashCards!\"&IF(MOD(INT((ROW(B534)-4)/50),2)=0,\"CC\"&TEXT((ROW(B534)/6)+10/3-INT((ROW(B534)-4)/50)/3+8,\"#\"),\"CC\"&TEXT((ROW(B534)/6)+10/3-INT((ROW(B534)-4)/50)/3+8,\"#\")))","v":"AH-gree-oss"}]
[]
[]
[null,{"$f":"INDIRECT( \"FlashCards!\"&IF(MOD(INT((ROW(B540)-4)/50),2)=0,\"CF\"&TEXT((ROW(B540)/6)+10/3-INT((ROW(B540)-4)/50)/3,\"#\"),\"CF\"&TEXT((ROW(B540)/6)+10/3-INT((ROW(B540)-4)/50)/3,\"#\")))","v":"Extra: Noun  "},null,null,{"$f":"INDIRECT( \"FlashCards!\"&IF(MOD(INT((ROW(B540)-4)/50),2)=0,\"CF\"&TEXT((ROW(B540)/6)+10/3-INT((ROW(B540)-4)/50)/3+8,\"#\"),\"CF\"&TEXT((ROW(B540)/6)+10/3-INT((ROW(B540)-4)/50)/3+8,\"#\")))","v":"Chapter 38: Proper Noun"}]
[null,{"$f":"INDIRECT( \"FlashCards!\"&IF(MOD(INT((ROW(B540)-4)/50),2)=0,\"CE\"&TEXT((ROW(B540)/6)+10/3-INT((ROW(B540)-4)/50)/3,\"#\"),\"CD\"&TEXT((ROW(B540)/6)+10/3-INT((ROW(B540)-4)/50)/3,\"#\")))","v":"ἡ ἄγκυρα"},null,null,{"$f":"INDIRECT( \"FlashCards!\"&IF(MOD(INT((ROW(B540)-4)/50),2)=0,\"CE\"&TEXT((ROW(B540)/6)+10/3-INT((ROW(B540)-4)/50)/3+8,\"#\"),\"CD\"&TEXT((ROW(B540)/6)+10/3-INT((ROW(B540)-4)/50)/3+8,\"#\")))","v":"ὁ Ἀγρίππας"}]
[]
[null,{"$f":"INDIRECT( \"FlashCards!\"&IF(MOD(INT((ROW(B540)-4)/50),2)=0,\"CC\"&TEXT((ROW(B540)/6)+10/3-INT((ROW(B540)-4)/50)/3,\"#\"),\"\"))","v":"AHNG-koo-rah"},null,null,{"$f":"INDIRECT( \"FlashCards!\"&IF(MOD(INT((ROW(B540)-4)/50),2)=0,\"CC\"&TEXT((ROW(B540)/6)+10/3-INT((ROW(B540)-4)/50)/3+8,\"#\"),\"CC\"&TEXT((ROW(B540)/6)+10/3-INT((ROW(B540)-4)/50)/3+8,\"#\")))","v":"Ah-GRIP-ahs"}]
[]
[]
[null,{"$f":"INDIRECT( \"FlashCards!\"&IF(MOD(INT((ROW(B546)-4)/50),2)=0,\"CF\"&TEXT((ROW(B546)/6)+10/3-INT((ROW(B546)-4)/50)/3,\"#\"),\"CF\"&TEXT((ROW(B546)/6)+10/3-INT((ROW(B546)-4)/50)/3,\"#\")))","v":"Extra: Verb  "},null,null,{"$f":"INDIRECT( \"FlashCards!\"&IF(MOD(INT((ROW(B546)-4)/50),2)=0,\"CF\"&TEXT((ROW(B546)/6)+10/3-INT((ROW(B546)-4)/50)/3+8,\"#\"),\"CF\"&TEXT((ROW(B546)/6)+10/3-INT((ROW(B546)-4)/50)/3+8,\"#\")))","v":"Index of Textbook: Noun  "}]
[null,{"$f":"INDIRECT( \"FlashCards!\"&IF(MOD(INT((ROW(B546)-4)/50),2)=0,\"CE\"&TEXT((ROW(B546)/6)+10/3-INT((ROW(B546)-4)/50)/3,\"#\"),\"CD\"&TEXT((ROW(B546)/6)+10/3-INT((ROW(B546)-4)/50)/3,\"#\")))","v":"ἁγνίζω"},null,null,{"$f":"INDIRECT( \"FlashCards!\"&IF(MOD(INT((ROW(B546)-4)/50),2)=0,\"CE\"&TEXT((ROW(B546)/6)+10/3-INT((ROW(B546)-4)/50)/3+8,\"#\"),\"CD\"&TEXT((ROW(B546)/6)+10/3-INT((ROW(B546)-4)/50)/3+8,\"#\")))","v":"ὁ ἀγρός"}]
[]
[null,{"$f":"INDIRECT( \"FlashCards!\"&IF(MOD(INT((ROW(B546)-4)/50),2)=0,\"CC\"&TEXT((ROW(B546)/6)+10/3-INT((ROW(B546)-4)/50)/3,\"#\"),\"\"))","v":"hahg-NEE-zoe"},null,null,{"$f":"INDIRECT( \"FlashCards!\"&IF(MOD(INT((ROW(B546)-4)/50),2)=0,\"CC\"&TEXT((ROW(B546)/6)+10/3-INT((ROW(B546)-4)/50)/3+8,\"#\"),\"CC\"&TEXT((ROW(B546)/6)+10/3-INT((ROW(B546)-4)/50)/3+8,\"#\")))","v":"ah-grahs"}]
[]
[]
[]
[]
[null,{"$f":"E503","v":"Index of Textbook: Verb  "},null,null,{"$f":"B503","v":"Chapter 04: Noun  "}]
[null,{"$f":"INDIRECT( \"FlashCards!\"&IF(MOD(INT((ROW(B554)-4)/50),2)=0,\"CE\"&TEXT((ROW(B554)/6)+10/3-INT((ROW(B554)-4)/50)/3,\"#\"),\"CD\"&TEXT((ROW(B554)/6)+10/3-INT((ROW(B554)-4)/50)/3,\"#\")))","v":"I do not know"},null,null,{"$f":"INDIRECT( \"FlashCards!\"&IF(MOD(INT((ROW(B554)-4)/50),2)=0,\"CE\"&TEXT((ROW(B554)/6)+10/3-INT((ROW(B554)-4)/50)/3-8,\"#\"),\"CD\"&TEXT((ROW(B554)/6)+10/3-INT((ROW(B554)-4)/50)/3-8,\"#\")))","v":"angel, messenger"}]
[]
[]
[]
[]
[null,{"$f":"E509","v":"Extra: Adjective"},null,null,{"$f":"B509","v":"Extra: Noun  "}]
[null,{"$f":"INDIRECT( \"FlashCards!\"&IF(MOD(INT((ROW(B560)-4)/50),2)=0,\"CE\"&TEXT((ROW(B560)/6)+10/3-INT((ROW(B560)-4)/50)/3,\"#\"),\"CD\"&TEXT((ROW(B560)/6)+10/3-INT((ROW(B560)-4)/50)/3,\"#\")))","v":"innocent, modest, pure, clean"},null,null,{"$f":"INDIRECT( \"FlashCards!\"&IF(MOD(INT((ROW(B560)-4)/50),2)=0,\"CE\"&TEXT((ROW(B560)/6)+10/3-INT((ROW(B560)-4)/50)/3-8,\"#\"),\"CD\"&TEXT((ROW(B560)/6)+10/3-INT((ROW(B560)-4)/50)/3-8,\"#\")))","v":"herd"}]
[]
[]
[]
[]
[null,{"$f":"E515","v":"Chapter 38: Noun  "},null,null,{"$f":"B515","v":"Chapter 35: Verb  "}]
[null,{"$f":"INDIRECT( \"FlashCards!\"&IF(MOD(INT((ROW(B566)-4)/50),2)=0,\"CE\"&TEXT((ROW(B566)/6)+10/3-INT((ROW(B566)-4)/50)/3,\"#\"),\"CD\"&TEXT((ROW(B566)/6)+10/3-INT((ROW(B566)-4)/50)/3,\"#\")))","v":"marketplace"},null,null,{"$f":"INDIRECT( \"FlashCards!\"&IF(MOD(INT((ROW(B566)-4)/50),2)=0,\"CE\"&TEXT((ROW(B566)/6)+10/3-INT((ROW(B566)-4)/50)/3-8,\"#\"),\"CD\"&TEXT((ROW(B566)/6)+10/3-INT((ROW(B566)-4)/50)/3-8,\"#\")))","v":"I consecrate, I sanctify"}]
[]
[]
[]
[]
[null,{"$f":"E521","v":"Index of Textbook: Verb  "},null,null,{"$f":"B521","v":"Chapter 38: Noun  "}]
[null,{"$f":"INDIRECT( \"FlashCards!\"&IF(MOD(INT((ROW(B572)-4)/50),2)=0,\"CE\"&TEXT((ROW(B572)/6)+10/3-INT((ROW(B572)-4)/50)/3,\"#\"),\"CD\"&TEXT((ROW(B572)/6)+10/3-INT((ROW(B572)-4)/50)/3,\"#\")))","v":"I buy"},null,null,{"$f":"INDIRECT( \"FlashCards!\"&IF(MOD(INT((ROW(B572)-4)/50),2)=0,\"CE\"&TEXT((ROW(B572)/6)+10/3-INT((ROW(B572)-4)/50)/3-8,\"#\"),\"CD\"&TEXT((ROW(B572)/6)+10/3-INT((ROW(B572)-4)/50)/3-8,\"#\")))","v":"holiness, consecration"}]
[]
[]
[]
[]
[null,{"$f":"E527","v":"Extra: Noun  "},null,null,{"$f":"B527","v":"Chapter 09: Noun  "}]
[null,{"$f":"INDIRECT( \"FlashCards!\"&IF(MOD(INT((ROW(B578)-4)/50),2)=0,\"CE\"&TEXT((ROW(B578)/6)+10/3-INT((ROW(B578)-4)/50)/3,\"#\"),\"CD\"&TEXT((ROW(B578)/6)+10/3-INT((ROW(B578)-4)/50)/3,\"#\")))","v":"(wild, uncultivated) olive (tree)"},null,null,{"$f":"INDIRECT( \"FlashCards!\"&IF(MOD(INT((ROW(B578)-4)/50),2)=0,\"CE\"&TEXT((ROW(B578)/6)+10/3-INT((ROW(B578)-4)/50)/3-8,\"#\"),\"CD\"&TEXT((ROW(B578)/6)+10/3-INT((ROW(B578)-4)/50)/3-8,\"#\")))","v":"saint, holy one"}]
[]
[]
[]
[]
[null,{"$f":"E533","v":"Extra: Adjective"},null,null,{"$f":"B533","v":"Chapter 09: Adjective"}]
[null,{"$f":"INDIRECT( \"FlashCards!\"&IF(MOD(INT((ROW(B584)-4)/50),2)=0,\"CE\"&TEXT((ROW(B584)/6)+10/3-INT((ROW(B584)-4)/50)/3,\"#\"),\"CD\"&TEXT((ROW(B584)/6)+10/3-INT((ROW(B584)-4)/50)/3,\"#\")))","v":"wild, fierce, natural"},null,null,{"$f":"INDIRECT( \"FlashCards!\"&IF(MOD(INT((ROW(B584)-4)/50),2)=0,\"CE\"&TEXT((ROW(B584)/6)+10/3-INT((ROW(B584)-4)/50)/3-8,\"#\"),\"CD\"&TEXT((ROW(B584)/6)+10/3-INT((ROW(B584)-4)/50)/3-8,\"#\")))","v":"holy"}]
[]
[]
[]
[]
[null,{"$f":"E539","v":"Chapter 38: Proper Noun"},null,null,{"$f":"B539","v":"Extra: Noun  "}]
[null,{"$f":"INDIRECT( \"FlashCards!\"&IF(MOD(INT((ROW(B590)-4)/50),2)=0,\"CE\"&TEXT((ROW(B590)/6)+10/3-INT((ROW(B590)-4)/50)/3,\"#\"),\"CD\"&TEXT((ROW(B590)/6)+10/3-INT((ROW(B590)-4)/50)/3,\"#\")))","v":"Agrippa"},null,null,{"$f":"INDIRECT( \"FlashCards!\"&IF(MOD(INT((ROW(B590)-4)/50),2)=0,\"CE\"&TEXT((ROW(B590)/6)+10/3-INT((ROW(B590)-4)/50)/3-8,\"#\"),\"CD\"&TEXT((ROW(B590)/6)+10/3-INT((ROW(B590)-4)/50)/3-8,\"#\")))","v":"anchor"}]
[]
[]
[]
[]
[null,{"$f":"E545","v":"Index of Textbook: Noun  "},null,null,{"$f":"B545","v":"Extra: Verb  "}]
[null,{"$f":"INDIRECT( \"FlashCards!\"&IF(MOD(INT((ROW(B596)-4)/50),2)=0,\"CE\"&TEXT((ROW(B596)/6)+10/3-INT((ROW(B596)-4)/50)/3,\"#\"),\"CD\"&TEXT((ROW(B596)/6)+10/3-INT((ROW(B596)-4)/50)/3,\"#\")))","v":"field, land"},null,null,{"$f":"INDIRECT( \"FlashCards!\"&IF(MOD(INT((ROW(B596)-4)/50),2)=0,\"CE\"&TEXT((ROW(B596)/6)+10/3-INT((ROW(B596)-4)/50)/3-8,\"#\"),\"CD\"&TEXT((ROW(B596)/6)+10/3-INT((ROW(B596)-4)/50)/3-8,\"#\")))","v":"I make clean, I sanctify"}]
[]
[]
[]
[]
[]
[]
[null,{"$f":"INDIRECT( \"FlashCards!\"&IF(MOD(INT((ROW(B604)-4)/50),2)=0,\"CF\"&TEXT((ROW(B604)/6)+10/3-INT((ROW(B604)-4)/50)/3,\"#\"),\"CF\"&TEXT((ROW(B604)/6)+10/3-INT((ROW(B604)-4)/50)/3,\"#\")))","v":"Chapter 24: Verb  "},null,null,{"$f":"INDIRECT( \"FlashCards!\"&IF(MOD(INT((ROW(B604)-4)/50),2)=0,\"CF\"&TEXT((ROW(B604)/6)+10/3-INT((ROW(B604)-4)/50)/3+8,\"#\"),\"CF\"&TEXT((ROW(B604)/6)+10/3-INT((ROW(B604)-4)/50)/3+8,\"#\")))","v":"Index of Textbook: Noun  "}]
[null,{"$f":"INDIRECT( \"FlashCards!\"&IF(MOD(INT((ROW(B604)-4)/50),2)=0,\"CE\"&TEXT((ROW(B604)/6)+10/3-INT((ROW(B604)-4)/50)/3,\"#\"),\"CD\"&TEXT((ROW(B604)/6)+10/3-INT((ROW(B604)-4)/50)/3,\"#\")))","v":"ἄγω"},null,null,{"$f":"INDIRECT( \"FlashCards!\"&IF(MOD(INT((ROW(B604)-4)/50),2)=0,\"CE\"&TEXT((ROW(B604)/6)+10/3-INT((ROW(B604)-4)/50)/3+8,\"#\"),\"CD\"&TEXT((ROW(B604)/6)+10/3-INT((ROW(B604)-4)/50)/3+8,\"#\")))","v":"ἡ ἀδικία"}]
[]
[null,{"$f":"INDIRECT( \"FlashCards!\"&IF(MOD(INT((ROW(B604)-4)/50),2)=0,\"CC\"&TEXT((ROW(B604)/6)+10/3-INT((ROW(B604)-4)/50)/3,\"#\"),\"\"))","v":"AH-goe"},null,null,{"$f":"INDIRECT( \"FlashCards!\"&IF(MOD(INT((ROW(B604)-4)/50),2)=0,\"CC\"&TEXT((ROW(B604)/6)+10/3-INT((ROW(B604)-4)/50)/3+8,\"#\"),\"CC\"&TEXT((ROW(B604)/6)+10/3-INT((ROW(B604)-4)/50)/3+8,\"#\")))","v":"ah-dik-EE-ah"}]
[]
[]
[null,{"$f":"INDIRECT( \"FlashCards!\"&IF(MOD(INT((ROW(B610)-4)/50),2)=0,\"CF\"&TEXT((ROW(B610)/6)+10/3-INT((ROW(B610)-4)/50)/3,\"#\"),\"CF\"&TEXT((ROW(B610)/6)+10/3-INT((ROW(B610)-4)/50)/3,\"#\")))","v":"Extra: Noun  "},null,null,{"$f":"INDIRECT( \"FlashCards!\"&IF(MOD(INT((ROW(B610)-4)/50),2)=0,\"CF\"&TEXT((ROW(B610)/6)+10/3-INT((ROW(B610)-4)/50)/3+8,\"#\"),\"CF\"&TEXT((ROW(B610)/6)+10/3-INT((ROW(B610)-4)/50)/3+8,\"#\")))","v":"Chapter 38: Adjective"}]
[null,{"$f":"INDIRECT( \"FlashCards!\"&IF(MOD(INT((ROW(B610)-4)/50),2)=0,\"CE\"&TEXT((ROW(B610)/6)+10/3-INT((ROW(B610)-4)/50)/3,\"#\"),\"CD\"&TEXT((ROW(B610)/6)+10/3-INT((ROW(B610)-4)/50)/3,\"#\")))","v":"ὁ ἀγών"},null,null,{"$f":"INDIRECT( \"FlashCards!\"&IF(MOD(INT((ROW(B610)-4)/50),2)=0,\"CE\"&TEXT((ROW(B610)/6)+10/3-INT((ROW(B610)-4)/50)/3+8,\"#\"),\"CD\"&TEXT((ROW(B610)/6)+10/3-INT((ROW(B610)-4)/50)/3+8,\"#\")))","v":"ἂδικος"}]
[]
[null,{"$f":"INDIRECT( \"FlashCards!\"&IF(MOD(INT((ROW(B610)-4)/50),2)=0,\"CC\"&TEXT((ROW(B610)/6)+10/3-INT((ROW(B610)-4)/50)/3,\"#\"),\"\"))","v":"ah-GONE"},null,null,{"$f":"INDIRECT( \"FlashCards!\"&IF(MOD(INT((ROW(B610)-4)/50),2)=0,\"CC\"&TEXT((ROW(B610)/6)+10/3-INT((ROW(B610)-4)/50)/3+8,\"#\"),\"CC\"&TEXT((ROW(B610)/6)+10/3-INT((ROW(B610)-4)/50)/3+8,\"#\")))","v":"AH-dee-koss"}]
[]
[]
[null,{"$f":"INDIRECT( \"FlashCards!\"&IF(MOD(INT((ROW(B616)-4)/50),2)=0,\"CF\"&TEXT((ROW(B616)/6)+10/3-INT((ROW(B616)-4)/50)/3,\"#\"),\"CF\"&TEXT((ROW(B616)/6)+10/3-INT((ROW(B616)-4)/50)/3,\"#\")))","v":"Extra: Verb  "},null,null,{"$f":"INDIRECT( \"FlashCards!\"&IF(MOD(INT((ROW(B616)-4)/50),2)=0,\"CF\"&TEXT((ROW(B616)/6)+10/3-INT((ROW(B616)-4)/50)/3+8,\"#\"),\"CF\"&TEXT((ROW(B616)/6)+10/3-INT((ROW(B616)-4)/50)/3+8,\"#\")))","v":"Extra: Adjective"}]
[null,{"$f":"INDIRECT( \"FlashCards!\"&IF(MOD(INT((ROW(B616)-4)/50),2)=0,\"CE\"&TEXT((ROW(B616)/6)+10/3-INT((ROW(B616)-4)/50)/3,\"#\"),\"CD\"&TEXT((ROW(B616)/6)+10/3-INT((ROW(B616)-4)/50)/3,\"#\")))","v":"ἀγωνίζομαι"},null,null,{"$f":"INDIRECT( \"FlashCards!\"&IF(MOD(INT((ROW(B616)-4)/50),2)=0,\"CE\"&TEXT((ROW(B616)/6)+10/3-INT((ROW(B616)-4)/50)/3+8,\"#\"),\"CD\"&TEXT((ROW(B616)/6)+10/3-INT((ROW(B616)-4)/50)/3+8,\"#\")))","v":"ἀδόκιμος"}]
[]
[null,{"$f":"INDIRECT( \"FlashCards!\"&IF(MOD(INT((ROW(B616)-4)/50),2)=0,\"CC\"&TEXT((ROW(B616)/6)+10/3-INT((ROW(B616)-4)/50)/3,\"#\"),\"\"))","v":"ahg-noe-IZZ-omm-eye"},null,null,{"$f":"INDIRECT( \"FlashCards!\"&IF(MOD(INT((ROW(B616)-4)/50),2)=0,\"CC\"&TEXT((ROW(B616)/6)+10/3-INT((ROW(B616)-4)/50)/3+8,\"#\"),\"CC\"&TEXT((ROW(B616)/6)+10/3-INT((ROW(B616)-4)/50)/3+8,\"#\")))","v":"ah-DOKK-ee-moss"}]
[]
[]
[null,{"$f":"INDIRECT( \"FlashCards!\"&IF(MOD(INT((ROW(B622)-4)/50),2)=0,\"CF\"&TEXT((ROW(B622)/6)+10/3-INT((ROW(B622)-4)/50)/3,\"#\"),\"CF\"&TEXT((ROW(B622)/6)+10/3-INT((ROW(B622)-4)/50)/3,\"#\")))","v":"Extra: Proper Noun"},null,null,{"$f":"INDIRECT( \"FlashCards!\"&IF(MOD(INT((ROW(B622)-4)/50),2)=0,\"CF\"&TEXT((ROW(B622)/6)+10/3-INT((ROW(B622)-4)/50)/3+8,\"#\"),\"CF\"&TEXT((ROW(B622)/6)+10/3-INT((ROW(B622)-4)/50)/3+8,\"#\")))","v":"Chapter 38: Adjective"}]
[null,{"$f":"INDIRECT( \"FlashCards!\"&IF(MOD(INT((ROW(B622)-4)/50),2)=0,\"CE\"&TEXT((ROW(B622)/6)+10/3-INT((ROW(B622)-4)/50)/3,\"#\"),\"CD\"&TEXT((ROW(B622)/6)+10/3-INT((ROW(B622)-4)/50)/3,\"#\")))","v":"ὁ Ἀδάμ"},null,null,{"$f":"INDIRECT( \"FlashCards!\"&IF(MOD(INT((ROW(B622)-4)/50),2)=0,\"CE\"&TEXT((ROW(B622)/6)+10/3-INT((ROW(B622)-4)/50)/3+8,\"#\"),\"CD\"&TEXT((ROW(B622)/6)+10/3-INT((ROW(B622)-4)/50)/3+8,\"#\")))","v":"ἀδύνατος"}]
[]
[null,{"$f":"INDIRECT( \"FlashCards!\"&IF(MOD(INT((ROW(B622)-4)/50),2)=0,\"CC\"&TEXT((ROW(B622)/6)+10/3-INT((ROW(B622)-4)/50)/3,\"#\"),\"\"))","v":"ah-DAHM"},null,null,{"$f":"INDIRECT( \"FlashCards!\"&IF(MOD(INT((ROW(B622)-4)/50),2)=0,\"CC\"&TEXT((ROW(B622)/6)+10/3-INT((ROW(B622)-4)/50)/3+8,\"#\"),\"CC\"&TEXT((ROW(B622)/6)+10/3-INT((ROW(B622)-4)/50)/3+8,\"#\")))","v":"Ah-DOON-ah-toss"}]
[]
[]
[null,{"$f":"INDIRECT( \"FlashCards!\"&IF(MOD(INT((ROW(B628)-4)/50),2)=0,\"CF\"&TEXT((ROW(B628)/6)+10/3-INT((ROW(B628)-4)/50)/3,\"#\"),\"CF\"&TEXT((ROW(B628)/6)+10/3-INT((ROW(B628)-4)/50)/3,\"#\")))","v":"Chapter 38: Noun  "},null,null,{"$f":"INDIRECT( \"FlashCards!\"&IF(MOD(INT((ROW(B628)-4)/50),2)=0,\"CF\"&TEXT((ROW(B628)/6)+10/3-INT((ROW(B628)-4)/50)/3+8,\"#\"),\"CF\"&TEXT((ROW(B628)/6)+10/3-INT((ROW(B628)-4)/50)/3+8,\"#\")))","v":"Extra: Verb  "}]
[null,{"$f":"INDIRECT( \"FlashCards!\"&IF(MOD(INT((ROW(B628)-4)/50),2)=0,\"CE\"&TEXT((ROW(B628)/6)+10/3-INT((ROW(B628)-4)/50)/3,\"#\"),\"CD\"&TEXT((ROW(B628)/6)+10/3-INT((ROW(B628)-4)/50)/3,\"#\")))","v":"ἡ ἀδελφή"},null,null,{"$f":"INDIRECT( \"FlashCards!\"&IF(MOD(INT((ROW(B628)-4)/50),2)=0,\"CE\"&TEXT((ROW(B628)/6)+10/3-INT((ROW(B628)-4)/50)/3+8,\"#\"),\"CD\"&TEXT((ROW(B628)/6)+10/3-INT((ROW(B628)-4)/50)/3+8,\"#\")))","v":"ἄδω"}]
[]
[null,{"$f":"INDIRECT( \"FlashCards!\"&IF(MOD(INT((ROW(B628)-4)/50),2)=0,\"CC\"&TEXT((ROW(B628)/6)+10/3-INT((ROW(B628)-4)/50)/3,\"#\"),\"\"))","v":"ah-dell-FAY"},null,null,{"$f":"INDIRECT( \"FlashCards!\"&IF(MOD(INT((ROW(B628)-4)/50),2)=0,\"CC\"&TEXT((ROW(B628)/6)+10/3-INT((ROW(B628)-4)/50)/3+8,\"#\"),\"CC\"&TEXT((ROW(B628)/6)+10/3-INT((ROW(B628)-4)/50)/3+8,\"#\")))","v":"AH-doe"}]
[]
[]
[null,{"$f":"INDIRECT( \"FlashCards!\"&IF(MOD(INT((ROW(B634)-4)/50),2)=0,\"CF\"&TEXT((ROW(B634)/6)+10/3-INT((ROW(B634)-4)/50)/3,\"#\"),\"CF\"&TEXT((ROW(B634)/6)+10/3-INT((ROW(B634)-4)/50)/3,\"#\")))","v":"Chapter 11: Noun  "},null,null,{"$f":"INDIRECT( \"FlashCards!\"&IF(MOD(INT((ROW(B634)-4)/50),2)=0,\"CF\"&TEXT((ROW(B634)/6)+10/3-INT((ROW(B634)-4)/50)/3+8,\"#\"),\"CF\"&TEXT((ROW(B634)/6)+10/3-INT((ROW(B634)-4)/50)/3+8,\"#\")))","v":"Extra: Adverb"}]
[null,{"$f":"INDIRECT( \"FlashCards!\"&IF(MOD(INT((ROW(B634)-4)/50),2)=0,\"CE\"&TEXT((ROW(B634)/6)+10/3-INT((ROW(B634)-4)/50)/3,\"#\"),\"CD\"&TEXT((ROW(B634)/6)+10/3-INT((ROW(B634)-4)/50)/3,\"#\")))","v":"ὁ ἀδελφός"},null,null,{"$f":"INDIRECT( \"FlashCards!\"&IF(MOD(INT((ROW(B634)-4)/50),2)=0,\"CE\"&TEXT((ROW(B634)/6)+10/3-INT((ROW(B634)-4)/50)/3+8,\"#\"),\"CD\"&TEXT((ROW(B634)/6)+10/3-INT((ROW(B634)-4)/50)/3+8,\"#\")))","v":"ἀεί"}]
[]
[null,{"$f":"INDIRECT( \"FlashCards!\"&IF(MOD(INT((ROW(B634)-4)/50),2)=0,\"CC\"&TEXT((ROW(B634)/6)+10/3-INT((ROW(B634)-4)/50)/3,\"#\"),\"\"))","v":"ah-dell-FOSS"},null,null,{"$f":"INDIRECT( \"FlashCards!\"&IF(MOD(INT((ROW(B634)-4)/50),2)=0,\"CC\"&TEXT((ROW(B634)/6)+10/3-INT((ROW(B634)-4)/50)/3+8,\"#\"),\"CC\"&TEXT((ROW(B634)/6)+10/3-INT((ROW(B634)-4)/50)/3+8,\"#\")))","v":"ah-AY"}]
[]
[]
[null,{"$f":"INDIRECT( \"FlashCards!\"&IF(MOD(INT((ROW(B640)-4)/50),2)=0,\"CF\"&TEXT((ROW(B640)/6)+10/3-INT((ROW(B640)-4)/50)/3,\"#\"),\"CF\"&TEXT((ROW(B640)/6)+10/3-INT((ROW(B640)-4)/50)/3,\"#\")))","v":"Chapter 38: Noun  "},null,null,{"$f":"INDIRECT( \"FlashCards!\"&IF(MOD(INT((ROW(B640)-4)/50),2)=0,\"CF\"&TEXT((ROW(B640)/6)+10/3-INT((ROW(B640)-4)/50)/3+8,\"#\"),\"CF\"&TEXT((ROW(B640)/6)+10/3-INT((ROW(B640)-4)/50)/3+8,\"#\")))","v":"Extra: Noun  "}]
[null,{"$f":"INDIRECT( \"FlashCards!\"&IF(MOD(INT((ROW(B640)-4)/50),2)=0,\"CE\"&TEXT((ROW(B640)/6)+10/3-INT((ROW(B640)-4)/50)/3,\"#\"),\"CD\"&TEXT((ROW(B640)/6)+10/3-INT((ROW(B640)-4)/50)/3,\"#\")))","v":"ὁ ᾁδης"},null,null,{"$f":"INDIRECT( \"FlashCards!\"&IF(MOD(INT((ROW(B640)-4)/50),2)=0,\"CE\"&TEXT((ROW(B640)/6)+10/3-INT((ROW(B640)-4)/50)/3+8,\"#\"),\"CD\"&TEXT((ROW(B640)/6)+10/3-INT((ROW(B640)-4)/50)/3+8,\"#\")))","v":"ὁ ἀετός"}]
[]
[null,{"$f":"INDIRECT( \"FlashCards!\"&IF(MOD(INT((ROW(B640)-4)/50),2)=0,\"CC\"&TEXT((ROW(B640)/6)+10/3-INT((ROW(B640)-4)/50)/3,\"#\"),\"\"))","v":"HAH-dace"},null,null,{"$f":"INDIRECT( \"FlashCards!\"&IF(MOD(INT((ROW(B640)-4)/50),2)=0,\"CC\"&TEXT((ROW(B640)/6)+10/3-INT((ROW(B640)-4)/50)/3+8,\"#\"),\"CC\"&TEXT((ROW(B640)/6)+10/3-INT((ROW(B640)-4)/50)/3+8,\"#\")))","v":"ah-ett-OSS"}]
[]
[]
[null,{"$f":"INDIRECT( \"FlashCards!\"&IF(MOD(INT((ROW(B646)-4)/50),2)=0,\"CF\"&TEXT((ROW(B646)/6)+10/3-INT((ROW(B646)-4)/50)/3,\"#\"),\"CF\"&TEXT((ROW(B646)/6)+10/3-INT((ROW(B646)-4)/50)/3,\"#\")))","v":"Index of Textbook: Verb  "},null,null,{"$f":"INDIRECT( \"FlashCards!\"&IF(MOD(INT((ROW(B646)-4)/50),2)=0,\"CF\"&TEXT((ROW(B646)/6)+10/3-INT((ROW(B646)-4)/50)/3+8,\"#\"),\"CF\"&TEXT((ROW(B646)/6)+10/3-INT((ROW(B646)-4)/50)/3+8,\"#\")))","v":"Extra: Adjective"}]
[null,{"$f":"INDIRECT( \"FlashCards!\"&IF(MOD(INT((ROW(B646)-4)/50),2)=0,\"CE\"&TEXT((ROW(B646)/6)+10/3-INT((ROW(B646)-4)/50)/3,\"#\"),\"CD\"&TEXT((ROW(B646)/6)+10/3-INT((ROW(B646)-4)/50)/3,\"#\")))","v":"ἀδικέω"},null,null,{"$f":"INDIRECT( \"FlashCards!\"&IF(MOD(INT((ROW(B646)-4)/50),2)=0,\"CE\"&TEXT((ROW(B646)/6)+10/3-INT((ROW(B646)-4)/50)/3+8,\"#\"),\"CD\"&TEXT((ROW(B646)/6)+10/3-INT((ROW(B646)-4)/50)/3+8,\"#\")))","v":"ἄζυμος"}]
[]
[null,{"$f":"INDIRECT( \"FlashCards!\"&IF(MOD(INT((ROW(B646)-4)/50),2)=0,\"CC\"&TEXT((ROW(B646)/6)+10/3-INT((ROW(B646)-4)/50)/3,\"#\"),\"\"))","v":"ah-dee-KEH-owe"},null,null,{"$f":"INDIRECT( \"FlashCards!\"&IF(MOD(INT((ROW(B646)-4)/50),2)=0,\"CC\"&TEXT((ROW(B646)/6)+10/3-INT((ROW(B646)-4)/50)/3+8,\"#\"),\"CC\"&TEXT((ROW(B646)/6)+10/3-INT((ROW(B646)-4)/50)/3+8,\"#\")))","v":"AH-zoom-oss"}]
[]
[]
[]
[]
[null,{"$f":"E603","v":"Index of Textbook: Noun  "},null,null,{"$f":"B603","v":"Chapter 24: Verb  "}]
[null,{"$f":"INDIRECT( \"FlashCards!\"&IF(MOD(INT((ROW(B654)-4)/50),2)=0,\"CE\"&TEXT((ROW(B654)/6)+10/3-INT((ROW(B654)-4)/50)/3,\"#\"),\"CD\"&TEXT((ROW(B654)/6)+10/3-INT((ROW(B654)-4)/50)/3,\"#\")))","v":"unrighteousness"},null,null,{"$f":"INDIRECT( \"FlashCards!\"&IF(MOD(INT((ROW(B654)-4)/50),2)=0,\"CE\"&TEXT((ROW(B654)/6)+10/3-INT((ROW(B654)-4)/50)/3-8,\"#\"),\"CD\"&TEXT((ROW(B654)/6)+10/3-INT((ROW(B654)-4)/50)/3-8,\"#\")))","v":"I lead, I bring, I arrest"}]
[]
[]
[]
[]
[null,{"$f":"E609","v":"Chapter 38: Adjective"},null,null,{"$f":"B609","v":"Extra: Noun  "}]
[null,{"$f":"INDIRECT( \"FlashCards!\"&IF(MOD(INT((ROW(B660)-4)/50),2)=0,\"CE\"&TEXT((ROW(B660)/6)+10/3-INT((ROW(B660)-4)/50)/3,\"#\"),\"CD\"&TEXT((ROW(B660)/6)+10/3-INT((ROW(B660)-4)/50)/3,\"#\")))","v":"unjust"},null,null,{"$f":"INDIRECT( \"FlashCards!\"&IF(MOD(INT((ROW(B660)-4)/50),2)=0,\"CE\"&TEXT((ROW(B660)/6)+10/3-INT((ROW(B660)-4)/50)/3-8,\"#\"),\"CD\"&TEXT((ROW(B660)/6)+10/3-INT((ROW(B660)-4)/50)/3-8,\"#\")))","v":"contest, conflict, fight, struggle, effort"}]
[]
[]
[]
[]
[null,{"$f":"E615","v":"Extra: Adjective"},null,null,{"$f":"B615","v":"Extra: Verb  "}]
[null,{"$f":"INDIRECT( \"FlashCards!\"&IF(MOD(INT((ROW(B666)-4)/50),2)=0,\"CE\"&TEXT((ROW(B666)/6)+10/3-INT((ROW(B666)-4)/50)/3,\"#\"),\"CD\"&TEXT((ROW(B666)/6)+10/3-INT((ROW(B666)-4)/50)/3,\"#\")))","v":"rejected, worthless, failing"},null,null,{"$f":"INDIRECT( \"FlashCards!\"&IF(MOD(INT((ROW(B666)-4)/50),2)=0,\"CE\"&TEXT((ROW(B666)/6)+10/3-INT((ROW(B666)-4)/50)/3-8,\"#\"),\"CD\"&TEXT((ROW(B666)/6)+10/3-INT((ROW(B666)-4)/50)/3-8,\"#\")))","v":"I struggle, I compete, I contend, I strive"}]
[]
[]
[]
[]
[null,{"$f":"E621","v":"Chapter 38: Adjective"},null,null,{"$f":"B621","v":"Extra: Proper Noun"}]
[null,{"$f":"INDIRECT( \"FlashCards!\"&IF(MOD(INT((ROW(B672)-4)/50),2)=0,\"CE\"&TEXT((ROW(B672)/6)+10/3-INT((ROW(B672)-4)/50)/3,\"#\"),\"CD\"&TEXT((ROW(B672)/6)+10/3-INT((ROW(B672)-4)/50)/3,\"#\")))","v":"impossible"},null,null,{"$f":"INDIRECT( \"FlashCards!\"&IF(MOD(INT((ROW(B672)-4)/50),2)=0,\"CE\"&TEXT((ROW(B672)/6)+10/3-INT((ROW(B672)-4)/50)/3-8,\"#\"),\"CD\"&TEXT((ROW(B672)/6)+10/3-INT((ROW(B672)-4)/50)/3-8,\"#\")))","v":"Adam"}]
[]
[]
[]
[]
[null,{"$f":"E627","v":"Extra: Verb  "},null,null,{"$f":"B627","v":"Chapter 38: Noun  "}]
[null,{"$f":"INDIRECT( \"FlashCards!\"&IF(MOD(INT((ROW(B678)-4)/50),2)=0,\"CE\"&TEXT((ROW(B678)/6)+10/3-INT((ROW(B678)-4)/50)/3,\"#\"),\"CD\"&TEXT((ROW(B678)/6)+10/3-INT((ROW(B678)-4)/50)/3,\"#\")))","v":"I sing"},null,null,{"$f":"INDIRECT( \"FlashCards!\"&IF(MOD(INT((ROW(B678)-4)/50),2)=0,\"CE\"&TEXT((ROW(B678)/6)+10/3-INT((ROW(B678)-4)/50)/3-8,\"#\"),\"CD\"&TEXT((ROW(B678)/6)+10/3-INT((ROW(B678)-4)/50)/3-8,\"#\")))","v":"sister"}]
[]
[]
[]
[]
[null,{"$f":"E633","v":"Extra: Adverb"},null,null,{"$f":"B633","v":"Chapter 11: Noun  "}]
[null,{"$f":"INDIRECT( \"FlashCards!\"&IF(MOD(INT((ROW(B684)-4)/50),2)=0,\"CE\"&TEXT((ROW(B684)/6)+10/3-INT((ROW(B684)-4)/50)/3,\"#\"),\"CD\"&TEXT((ROW(B684)/6)+10/3-INT((ROW(B684)-4)/50)/3,\"#\")))","v":"always, constantly"},null,null,{"$f":"INDIRECT( \"FlashCards!\"&IF(MOD(INT((ROW(B684)-4)/50),2)=0,\"CE\"&TEXT((ROW(B684)/6)+10/3-INT((ROW(B684)-4)/50)/3-8,\"#\"),\"CD\"&TEXT((ROW(B684)/6)+10/3-INT((ROW(B684)-4)/50)/3-8,\"#\")))","v":"brother"}]
[]
[]
[]
[]
[null,{"$f":"E639","v":"Extra: Noun  "},null,null,{"$f":"B639","v":"Chapter 38: Noun  "}]
[null,{"$f":"INDIRECT( \"FlashCards!\"&IF(MOD(INT((ROW(B690)-4)/50),2)=0,\"CE\"&TEXT((ROW(B690)/6)+10/3-INT((ROW(B690)-4)/50)/3,\"#\"),\"CD\"&TEXT((ROW(B690)/6)+10/3-INT((ROW(B690)-4)/50)/3,\"#\")))","v":"eagle, vulture"},null,null,{"$f":"INDIRECT( \"FlashCards!\"&IF(MOD(INT((ROW(B690)-4)/50),2)=0,\"CE\"&TEXT((ROW(B690)/6)+10/3-INT((ROW(B690)-4)/50)/3-8,\"#\"),\"CD\"&TEXT((ROW(B690)/6)+10/3-INT((ROW(B690)-4)/50)/3-8,\"#\")))","v":"Hades or hades (\"the unseen place\"; not a proper noun as used in the New Testament)"}]
[]
[]
[]
[]
[null,{"$f":"E645","v":"Extra: Adjective"},null,null,{"$f":"B645","v":"Index of Textbook: Verb  "}]
[null,{"$f":"INDIRECT( \"FlashCards!\"&IF(MOD(INT((ROW(B696)-4)/50),2)=0,\"CE\"&TEXT((ROW(B696)/6)+10/3-INT((ROW(B696)-4)/50)/3,\"#\"),\"CD\"&TEXT((ROW(B696)/6)+10/3-INT((ROW(B696)-4)/50)/3,\"#\")))","v":"unleavened, uncorrupted"},null,null,{"$f":"INDIRECT( \"FlashCards!\"&IF(MOD(INT((ROW(B696)-4)/50),2)=0,\"CE\"&TEXT((ROW(B696)/6)+10/3-INT((ROW(B696)-4)/50)/3-8,\"#\"),\"CD\"&TEXT((ROW(B696)/6)+10/3-INT((ROW(B696)-4)/50)/3-8,\"#\")))","v":"I injure, I do wrong"}]
[]
[]
[]
[]
[]
[]
[null,{"$f":"INDIRECT( \"FlashCards!\"&IF(MOD(INT((ROW(B704)-4)/50),2)=0,\"CF\"&TEXT((ROW(B704)/6)+10/3-INT((ROW(B704)-4)/50)/3,\"#\"),\"CF\"&TEXT((ROW(B704)/6)+10/3-INT((ROW(B704)-4)/50)/3,\"#\")))","v":"Extra: Noun  "},null,null,{"$f":"INDIRECT( \"FlashCards!\"&IF(MOD(INT((ROW(B704)-4)/50),2)=0,\"CF\"&TEXT((ROW(B704)/6)+10/3-INT((ROW(B704)-4)/50)/3+8,\"#\"),\"CF\"&TEXT((ROW(B704)/6)+10/3-INT((ROW(B704)-4)/50)/3+8,\"#\")))","v":"Chapter 20: Verb  "}]
[null,{"$f":"INDIRECT( \"FlashCards!\"&IF(MOD(INT((ROW(B704)-4)/50),2)=0,\"CE\"&TEXT((ROW(B704)/6)+10/3-INT((ROW(B704)-4)/50)/3,\"#\"),\"CD\"&TEXT((ROW(B704)/6)+10/3-INT((ROW(B704)-4)/50)/3,\"#\")))","v":"ὁ ἀήρ"},null,null,{"$f":"INDIRECT( \"FlashCards!\"&IF(MOD(INT((ROW(B704)-4)/50),2)=0,\"CE\"&TEXT((ROW(B704)/6)+10/3-INT((ROW(B704)-4)/50)/3+8,\"#\"),\"CD\"&TEXT((ROW(B704)/6)+10/3-INT((ROW(B704)-4)/50)/3+8,\"#\")))","v":"αἴρω"}]
[]
[null,{"$f":"INDIRECT( \"FlashCards!\"&IF(MOD(INT((ROW(B704)-4)/50),2)=0,\"CC\"&TEXT((ROW(B704)/6)+10/3-INT((ROW(B704)-4)/50)/3,\"#\"),\"\"))","v":"ah-AIR"},null,null,{"$f":"INDIRECT( \"FlashCards!\"&IF(MOD(INT((ROW(B704)-4)/50),2)=0,\"CC\"&TEXT((ROW(B704)/6)+10/3-INT((ROW(B704)-4)/50)/3+8,\"#\"),\"CC\"&TEXT((ROW(B704)/6)+10/3-INT((ROW(B704)-4)/50)/3+8,\"#\")))","v":"EYE-roe"}]
[]
[]
[null,{"$f":"INDIRECT( \"FlashCards!\"&IF(MOD(INT((ROW(B710)-4)/50),2)=0,\"CF\"&TEXT((ROW(B710)/6)+10/3-INT((ROW(B710)-4)/50)/3,\"#\"),\"CF\"&TEXT((ROW(B710)/6)+10/3-INT((ROW(B710)-4)/50)/3,\"#\")))","v":"Index of Textbook: Verb  "},null,null,{"$f":"INDIRECT( \"FlashCards!\"&IF(MOD(INT((ROW(B710)-4)/50),2)=0,\"CF\"&TEXT((ROW(B710)/6)+10/3-INT((ROW(B710)-4)/50)/3+8,\"#\"),\"CF\"&TEXT((ROW(B710)/6)+10/3-INT((ROW(B710)-4)/50)/3+8,\"#\")))","v":"Extra: Adjective"}]
[null,{"$f":"INDIRECT( \"FlashCards!\"&IF(MOD(INT((ROW(B710)-4)/50),2)=0,\"CE\"&TEXT((ROW(B710)/6)+10/3-INT((ROW(B710)-4)/50)/3,\"#\"),\"CD\"&TEXT((ROW(B710)/6)+10/3-INT((ROW(B710)-4)/50)/3,\"#\")))","v":"ἀθετέω"},null,null,{"$f":"INDIRECT( \"FlashCards!\"&IF(MOD(INT((ROW(B710)-4)/50),2)=0,\"CE\"&TEXT((ROW(B710)/6)+10/3-INT((ROW(B710)-4)/50)/3+8,\"#\"),\"CD\"&TEXT((ROW(B710)/6)+10/3-INT((ROW(B710)-4)/50)/3+8,\"#\")))","v":"αἰσχρός"}]
[]
[null,{"$f":"INDIRECT( \"FlashCards!\"&IF(MOD(INT((ROW(B710)-4)/50),2)=0,\"CC\"&TEXT((ROW(B710)/6)+10/3-INT((ROW(B710)-4)/50)/3,\"#\"),\"\"))","v":"ah-thet-EH-owe"},null,null,{"$f":"INDIRECT( \"FlashCards!\"&IF(MOD(INT((ROW(B710)-4)/50),2)=0,\"CC\"&TEXT((ROW(B710)/6)+10/3-INT((ROW(B710)-4)/50)/3+8,\"#\"),\"CC\"&TEXT((ROW(B710)/6)+10/3-INT((ROW(B710)-4)/50)/3+8,\"#\")))","v":"eye-SKROSS"}]
[]
[]
[null,{"$f":"INDIRECT( \"FlashCards!\"&IF(MOD(INT((ROW(B716)-4)/50),2)=0,\"CF\"&TEXT((ROW(B716)/6)+10/3-INT((ROW(B716)-4)/50)/3,\"#\"),\"CF\"&TEXT((ROW(B716)/6)+10/3-INT((ROW(B716)-4)/50)/3,\"#\")))","v":"Extra: Proper Noun"},null,null,{"$f":"INDIRECT( \"FlashCards!\"&IF(MOD(INT((ROW(B716)-4)/50),2)=0,\"CF\"&TEXT((ROW(B716)/6)+10/3-INT((ROW(B716)-4)/50)/3+8,\"#\"),\"CF\"&TEXT((ROW(B716)/6)+10/3-INT((ROW(B716)-4)/50)/3+8,\"#\")))","v":"Extra: Noun  "}]
[null,{"$f":"INDIRECT( \"FlashCards!\"&IF(MOD(INT((ROW(B716)-4)/50),2)=0,\"CE\"&TEXT((ROW(B716)/6)+10/3-INT((ROW(B716)-4)/50)/3,\"#\"),\"CD\"&TEXT((ROW(B716)/6)+10/3-INT((ROW(B716)-4)/50)/3,\"#\")))","v":"ἡ Ἀθῆναι"},null,null,{"$f":"INDIRECT( \"FlashCards!\"&IF(MOD(INT((ROW(B716)-4)/50),2)=0,\"CE\"&TEXT((ROW(B716)/6)+10/3-INT((ROW(B716)-4)/50)/3+8,\"#\"),\"CD\"&TEXT((ROW(B716)/6)+10/3-INT((ROW(B716)-4)/50)/3+8,\"#\")))","v":"ἡ αἰσχύνη"}]
[]
[null,{"$f":"INDIRECT( \"FlashCards!\"&IF(MOD(INT((ROW(B716)-4)/50),2)=0,\"CC\"&TEXT((ROW(B716)/6)+10/3-INT((ROW(B716)-4)/50)/3,\"#\"),\"\"))","v":"ah-THAY-nye"},null,null,{"$f":"INDIRECT( \"FlashCards!\"&IF(MOD(INT((ROW(B716)-4)/50),2)=0,\"CC\"&TEXT((ROW(B716)/6)+10/3-INT((ROW(B716)-4)/50)/3+8,\"#\"),\"CC\"&TEXT((ROW(B716)/6)+10/3-INT((ROW(B716)-4)/50)/3+8,\"#\")))","v":"eye-SKROON-ay"}]
[]
[]
[null,{"$f":"INDIRECT( \"FlashCards!\"&IF(MOD(INT((ROW(B722)-4)/50),2)=0,\"CF\"&TEXT((ROW(B722)/6)+10/3-INT((ROW(B722)-4)/50)/3,\"#\"),\"CF\"&TEXT((ROW(B722)/6)+10/3-INT((ROW(B722)-4)/50)/3,\"#\")))","v":"Chapter 38: Proper Noun"},null,null,{"$f":"INDIRECT( \"FlashCards!\"&IF(MOD(INT((ROW(B722)-4)/50),2)=0,\"CF\"&TEXT((ROW(B722)/6)+10/3-INT((ROW(B722)-4)/50)/3+8,\"#\"),\"CF\"&TEXT((ROW(B722)/6)+10/3-INT((ROW(B722)-4)/50)/3+8,\"#\")))","v":"Extra: Verb  "}]
[null,{"$f":"INDIRECT( \"FlashCards!\"&IF(MOD(INT((ROW(B722)-4)/50),2)=0,\"CE\"&TEXT((ROW(B722)/6)+10/3-INT((ROW(B722)-4)/50)/3,\"#\"),\"CD\"&TEXT((ROW(B722)/6)+10/3-INT((ROW(B722)-4)/50)/3,\"#\")))","v":"ἡ Αἴγυπτος"},null,null,{"$f":"INDIRECT( \"FlashCards!\"&IF(MOD(INT((ROW(B722)-4)/50),2)=0,\"CE\"&TEXT((ROW(B722)/6)+10/3-INT((ROW(B722)-4)/50)/3+8,\"#\"),\"CD\"&TEXT((ROW(B722)/6)+10/3-INT((ROW(B722)-4)/50)/3+8,\"#\")))","v":"αἰσχύνω"}]
[]
[null,{"$f":"INDIRECT( \"FlashCards!\"&IF(MOD(INT((ROW(B722)-4)/50),2)=0,\"CC\"&TEXT((ROW(B722)/6)+10/3-INT((ROW(B722)-4)/50)/3,\"#\"),\"\"))","v":"EYE-goop-toss"},null,null,{"$f":"INDIRECT( \"FlashCards!\"&IF(MOD(INT((ROW(B722)-4)/50),2)=0,\"CC\"&TEXT((ROW(B722)/6)+10/3-INT((ROW(B722)-4)/50)/3+8,\"#\"),\"CC\"&TEXT((ROW(B722)/6)+10/3-INT((ROW(B722)-4)/50)/3+8,\"#\")))","v":"eye-SKRRON-owe"}]
[]
[]
[null,{"$f":"INDIRECT( \"FlashCards!\"&IF(MOD(INT((ROW(B728)-4)/50),2)=0,\"CF\"&TEXT((ROW(B728)/6)+10/3-INT((ROW(B728)-4)/50)/3,\"#\"),\"CF\"&TEXT((ROW(B728)/6)+10/3-INT((ROW(B728)-4)/50)/3,\"#\")))","v":"Chapter 24: Noun  "},null,null,{"$f":"INDIRECT( \"FlashCards!\"&IF(MOD(INT((ROW(B728)-4)/50),2)=0,\"CF\"&TEXT((ROW(B728)/6)+10/3-INT((ROW(B728)-4)/50)/3+8,\"#\"),\"CF\"&TEXT((ROW(B728)/6)+10/3-INT((ROW(B728)-4)/50)/3+8,\"#\")))","v":"Extra: Verb  "}]
[null,{"$f":"INDIRECT( \"FlashCards!\"&IF(MOD(INT((ROW(B728)-4)/50),2)=0,\"CE\"&TEXT((ROW(B728)/6)+10/3-INT((ROW(B728)-4)/50)/3,\"#\"),\"CD\"&TEXT((ROW(B728)/6)+10/3-INT((ROW(B728)-4)/50)/3,\"#\")))","v":"τό αἷμα"},null,null,{"$f":"INDIRECT( \"FlashCards!\"&IF(MOD(INT((ROW(B728)-4)/50),2)=0,\"CE\"&TEXT((ROW(B728)/6)+10/3-INT((ROW(B728)-4)/50)/3+8,\"#\"),\"CD\"&TEXT((ROW(B728)/6)+10/3-INT((ROW(B728)-4)/50)/3+8,\"#\")))","v":"αἰσχύνομαι"}]
[]
[null,{"$f":"INDIRECT( \"FlashCards!\"&IF(MOD(INT((ROW(B728)-4)/50),2)=0,\"CC\"&TEXT((ROW(B728)/6)+10/3-INT((ROW(B728)-4)/50)/3,\"#\"),\"\"))","v":"HAY-mah"},null,null,{"$f":"INDIRECT( \"FlashCards!\"&IF(MOD(INT((ROW(B728)-4)/50),2)=0,\"CC\"&TEXT((ROW(B728)/6)+10/3-INT((ROW(B728)-4)/50)/3+8,\"#\"),\"CC\"&TEXT((ROW(B728)/6)+10/3-INT((ROW(B728)-4)/50)/3+8,\"#\")))","v":"eye-SKRRON-om-eye"}]
[]
[]
[null,{"$f":"INDIRECT( \"FlashCards!\"&IF(MOD(INT((ROW(B734)-4)/50),2)=0,\"CF\"&TEXT((ROW(B734)/6)+10/3-INT((ROW(B734)-4)/50)/3,\"#\"),\"CF\"&TEXT((ROW(B734)/6)+10/3-INT((ROW(B734)-4)/50)/3,\"#\")))","v":"Extra: Verb  "},null,null,{"$f":"INDIRECT( \"FlashCards!\"&IF(MOD(INT((ROW(B734)-4)/50),2)=0,\"CF\"&TEXT((ROW(B734)/6)+10/3-INT((ROW(B734)-4)/50)/3+8,\"#\"),\"CF\"&TEXT((ROW(B734)/6)+10/3-INT((ROW(B734)-4)/50)/3+8,\"#\")))","v":"Chapter 25: Verb  "}]
[null,{"$f":"INDIRECT( \"FlashCards!\"&IF(MOD(INT((ROW(B734)-4)/50),2)=0,\"CE\"&TEXT((ROW(B734)/6)+10/3-INT((ROW(B734)-4)/50)/3,\"#\"),\"CD\"&TEXT((ROW(B734)/6)+10/3-INT((ROW(B734)-4)/50)/3,\"#\")))","v":"αἰνέω"},null,null,{"$f":"INDIRECT( \"FlashCards!\"&IF(MOD(INT((ROW(B734)-4)/50),2)=0,\"CE\"&TEXT((ROW(B734)/6)+10/3-INT((ROW(B734)-4)/50)/3+8,\"#\"),\"CD\"&TEXT((ROW(B734)/6)+10/3-INT((ROW(B734)-4)/50)/3+8,\"#\")))","v":"αἰτέω"}]
[]
[null,{"$f":"INDIRECT( \"FlashCards!\"&IF(MOD(INT((ROW(B734)-4)/50),2)=0,\"CC\"&TEXT((ROW(B734)/6)+10/3-INT((ROW(B734)-4)/50)/3,\"#\"),\"\"))","v":"eye-NEH-owe"},null,null,{"$f":"INDIRECT( \"FlashCards!\"&IF(MOD(INT((ROW(B734)-4)/50),2)=0,\"CC\"&TEXT((ROW(B734)/6)+10/3-INT((ROW(B734)-4)/50)/3+8,\"#\"),\"CC\"&TEXT((ROW(B734)/6)+10/3-INT((ROW(B734)-4)/50)/3+8,\"#\")))","v":"eye-TEH-owe"}]
[]
[]
[null,{"$f":"INDIRECT( \"FlashCards!\"&IF(MOD(INT((ROW(B740)-4)/50),2)=0,\"CF\"&TEXT((ROW(B740)/6)+10/3-INT((ROW(B740)-4)/50)/3,\"#\"),\"CF\"&TEXT((ROW(B740)/6)+10/3-INT((ROW(B740)-4)/50)/3,\"#\")))","v":"Extra: Verb  "},null,null,{"$f":"INDIRECT( \"FlashCards!\"&IF(MOD(INT((ROW(B740)-4)/50),2)=0,\"CF\"&TEXT((ROW(B740)/6)+10/3-INT((ROW(B740)-4)/50)/3+8,\"#\"),\"CF\"&TEXT((ROW(B740)/6)+10/3-INT((ROW(B740)-4)/50)/3+8,\"#\")))","v":"Chapter 38: Noun  "}]
[null,{"$f":"INDIRECT( \"FlashCards!\"&IF(MOD(INT((ROW(B740)-4)/50),2)=0,\"CE\"&TEXT((ROW(B740)/6)+10/3-INT((ROW(B740)-4)/50)/3,\"#\"),\"CD\"&TEXT((ROW(B740)/6)+10/3-INT((ROW(B740)-4)/50)/3,\"#\")))","v":"αἱρέω"},null,null,{"$f":"INDIRECT( \"FlashCards!\"&IF(MOD(INT((ROW(B740)-4)/50),2)=0,\"CE\"&TEXT((ROW(B740)/6)+10/3-INT((ROW(B740)-4)/50)/3+8,\"#\"),\"CD\"&TEXT((ROW(B740)/6)+10/3-INT((ROW(B740)-4)/50)/3+8,\"#\")))","v":"ἡ αἰτία"}]
[]
[null,{"$f":"INDIRECT( \"FlashCards!\"&IF(MOD(INT((ROW(B740)-4)/50),2)=0,\"CC\"&TEXT((ROW(B740)/6)+10/3-INT((ROW(B740)-4)/50)/3,\"#\"),\"\"))","v":"hye-REH-owe"},null,null,{"$f":"INDIRECT( \"FlashCards!\"&IF(MOD(INT((ROW(B740)-4)/50),2)=0,\"CC\"&TEXT((ROW(B740)/6)+10/3-INT((ROW(B740)-4)/50)/3+8,\"#\"),\"CC\"&TEXT((ROW(B740)/6)+10/3-INT((ROW(B740)-4)/50)/3+8,\"#\")))","v":"ay-TEE-ah"}]
[]
[]
[null,{"$f":"INDIRECT( \"FlashCards!\"&IF(MOD(INT((ROW(B746)-4)/50),2)=0,\"CF\"&TEXT((ROW(B746)/6)+10/3-INT((ROW(B746)-4)/50)/3,\"#\"),\"CF\"&TEXT((ROW(B746)/6)+10/3-INT((ROW(B746)-4)/50)/3,\"#\")))","v":"Extra: Noun  "},null,null,{"$f":"INDIRECT( \"FlashCards!\"&IF(MOD(INT((ROW(B746)-4)/50),2)=0,\"CF\"&TEXT((ROW(B746)/6)+10/3-INT((ROW(B746)-4)/50)/3+8,\"#\"),\"CF\"&TEXT((ROW(B746)/6)+10/3-INT((ROW(B746)-4)/50)/3+8,\"#\")))","v":"Extra: Noun  "}]
[null,{"$f":"INDIRECT( \"FlashCards!\"&IF(MOD(INT((ROW(B746)-4)/50),2)=0,\"CE\"&TEXT((ROW(B746)/6)+10/3-INT((ROW(B746)-4)/50)/3,\"#\"),\"CD\"&TEXT((ROW(B746)/6)+10/3-INT((ROW(B746)-4)/50)/3,\"#\")))","v":"ἡ αἵρεσις"},null,null,{"$f":"INDIRECT( \"FlashCards!\"&IF(MOD(INT((ROW(B746)-4)/50),2)=0,\"CE\"&TEXT((ROW(B746)/6)+10/3-INT((ROW(B746)-4)/50)/3+8,\"#\"),\"CD\"&TEXT((ROW(B746)/6)+10/3-INT((ROW(B746)-4)/50)/3+8,\"#\")))","v":"ἡ αἰχμαλωσία"}]
[]
[null,{"$f":"INDIRECT( \"FlashCards!\"&IF(MOD(INT((ROW(B746)-4)/50),2)=0,\"CC\"&TEXT((ROW(B746)/6)+10/3-INT((ROW(B746)-4)/50)/3,\"#\"),\"\"))","v":"HYE-ress-iss"},null,null,{"$f":"INDIRECT( \"FlashCards!\"&IF(MOD(INT((ROW(B746)-4)/50),2)=0,\"CC\"&TEXT((ROW(B746)/6)+10/3-INT((ROW(B746)-4)/50)/3+8,\"#\"),\"CC\"&TEXT((ROW(B746)/6)+10/3-INT((ROW(B746)-4)/50)/3+8,\"#\")))","v":"ike-mahl-ose-EE-ah"}]
[]
[]
[]
[]
[null,{"$f":"E703","v":"Chapter 20: Verb  "},null,null,{"$f":"B703","v":"Extra: Noun  "}]
[null,{"$f":"INDIRECT( \"FlashCards!\"&IF(MOD(INT((ROW(B754)-4)/50),2)=0,\"CE\"&TEXT((ROW(B754)/6)+10/3-INT((ROW(B754)-4)/50)/3,\"#\"),\"CD\"&TEXT((ROW(B754)/6)+10/3-INT((ROW(B754)-4)/50)/3,\"#\")))","v":"I raise, I take up, I take away"},null,null,{"$f":"INDIRECT( \"FlashCards!\"&IF(MOD(INT((ROW(B754)-4)/50),2)=0,\"CE\"&TEXT((ROW(B754)/6)+10/3-INT((ROW(B754)-4)/50)/3-8,\"#\"),\"CD\"&TEXT((ROW(B754)/6)+10/3-INT((ROW(B754)-4)/50)/3-8,\"#\")))","v":"air"}]
[]
[]
[]
[]
[null,{"$f":"E709","v":"Extra: Adjective"},null,null,{"$f":"B709","v":"Index of Textbook: Verb  "}]
[null,{"$f":"INDIRECT( \"FlashCards!\"&IF(MOD(INT((ROW(B760)-4)/50),2)=0,\"CE\"&TEXT((ROW(B760)/6)+10/3-INT((ROW(B760)-4)/50)/3,\"#\"),\"CD\"&TEXT((ROW(B760)/6)+10/3-INT((ROW(B760)-4)/50)/3,\"#\")))","v":"filthy, disgraceful, shameful, improper"},null,null,{"$f":"INDIRECT( \"FlashCards!\"&IF(MOD(INT((ROW(B760)-4)/50),2)=0,\"CE\"&TEXT((ROW(B760)/6)+10/3-INT((ROW(B760)-4)/50)/3-8,\"#\"),\"CD\"&TEXT((ROW(B760)/6)+10/3-INT((ROW(B760)-4)/50)/3-8,\"#\")))","v":"I nullify, I reject"}]
[]
[]
[]
[]
[null,{"$f":"E715","v":"Extra: Noun  "},null,null,{"$f":"B715","v":"Extra: Proper Noun"}]
[null,{"$f":"INDIRECT( \"FlashCards!\"&IF(MOD(INT((ROW(B766)-4)/50),2)=0,\"CE\"&TEXT((ROW(B766)/6)+10/3-INT((ROW(B766)-4)/50)/3,\"#\"),\"CD\"&TEXT((ROW(B766)/6)+10/3-INT((ROW(B766)-4)/50)/3,\"#\")))","v":"shame, disgrace"},null,null,{"$f":"INDIRECT( \"FlashCards!\"&IF(MOD(INT((ROW(B766)-4)/50),2)=0,\"CE\"&TEXT((ROW(B766)/6)+10/3-INT((ROW(B766)-4)/50)/3-8,\"#\"),\"CD\"&TEXT((ROW(B766)/6)+10/3-INT((ROW(B766)-4)/50)/3-8,\"#\")))","v":"Athens"}]
[]
[]
[]
[]
[null,{"$f":"E721","v":"Extra: Verb  "},null,null,{"$f":"B721","v":"Chapter 38: Proper Noun"}]
[null,{"$f":"INDIRECT( \"FlashCards!\"&IF(MOD(INT((ROW(B772)-4)/50),2)=0,\"CE\"&TEXT((ROW(B772)/6)+10/3-INT((ROW(B772)-4)/50)/3,\"#\"),\"CD\"&TEXT((ROW(B772)/6)+10/3-INT((ROW(B772)-4)/50)/3,\"#\")))","v":"I shame, I disgrace (active)"},null,null,{"$f":"INDIRECT( \"FlashCards!\"&IF(MOD(INT((ROW(B772)-4)/50),2)=0,\"CE\"&TEXT((ROW(B772)/6)+10/3-INT((ROW(B772)-4)/50)/3-8,\"#\"),\"CD\"&TEXT((ROW(B772)/6)+10/3-INT((ROW(B772)-4)/50)/3-8,\"#\")))","v":"Egypt"}]
[]
[]
[]
[]
[null,{"$f":"E727","v":"Extra: Verb  "},null,null,{"$f":"B727","v":"Chapter 24: Noun  "}]
[null,{"$f":"INDIRECT( \"FlashCards!\"&IF(MOD(INT((ROW(B778)-4)/50),2)=0,\"CE\"&TEXT((ROW(B778)/6)+10/3-INT((ROW(B778)-4)/50)/3,\"#\"),\"CD\"&TEXT((ROW(B778)/6)+10/3-INT((ROW(B778)-4)/50)/3,\"#\")))","v":"I am shamed, I am disgraced (passive)"},null,null,{"$f":"INDIRECT( \"FlashCards!\"&IF(MOD(INT((ROW(B778)-4)/50),2)=0,\"CE\"&TEXT((ROW(B778)/6)+10/3-INT((ROW(B778)-4)/50)/3-8,\"#\"),\"CD\"&TEXT((ROW(B778)/6)+10/3-INT((ROW(B778)-4)/50)/3-8,\"#\")))","v":"blood"}]
[]
[]
[]
[]
[null,{"$f":"E733","v":"Chapter 25: Verb  "},null,null,{"$f":"B733","v":"Extra: Verb  "}]
[null,{"$f":"INDIRECT( \"FlashCards!\"&IF(MOD(INT((ROW(B784)-4)/50),2)=0,\"CE\"&TEXT((ROW(B784)/6)+10/3-INT((ROW(B784)-4)/50)/3,\"#\"),\"CD\"&TEXT((ROW(B784)/6)+10/3-INT((ROW(B784)-4)/50)/3,\"#\")))","v":"I ask, I demand"},null,null,{"$f":"INDIRECT( \"FlashCards!\"&IF(MOD(INT((ROW(B784)-4)/50),2)=0,\"CE\"&TEXT((ROW(B784)/6)+10/3-INT((ROW(B784)-4)/50)/3-8,\"#\"),\"CD\"&TEXT((ROW(B784)/6)+10/3-INT((ROW(B784)-4)/50)/3-8,\"#\")))","v":"I praise"}]
[]
[]
[]
[]
[null,{"$f":"E739","v":"Chapter 38: Noun  "},null,null,{"$f":"B739","v":"Extra: Verb  "}]
[null,{"$f":"INDIRECT( \"FlashCards!\"&IF(MOD(INT((ROW(B790)-4)/50),2)=0,\"CE\"&TEXT((ROW(B790)/6)+10/3-INT((ROW(B790)-4)/50)/3,\"#\"),\"CD\"&TEXT((ROW(B790)/6)+10/3-INT((ROW(B790)-4)/50)/3,\"#\")))","v":"cause, guilt, charge, accusation"},null,null,{"$f":"INDIRECT( \"FlashCards!\"&IF(MOD(INT((ROW(B790)-4)/50),2)=0,\"CE\"&TEXT((ROW(B790)/6)+10/3-INT((ROW(B790)-4)/50)/3-8,\"#\"),\"CD\"&TEXT((ROW(B790)/6)+10/3-INT((ROW(B790)-4)/50)/3-8,\"#\")))","v":"I choose, I prefer"}]
[]
[]
[]
[]
[null,{"$f":"E745","v":"Extra: Noun  "},null,null,{"$f":"B745","v":"Extra: Noun  "}]
[null,{"$f":"INDIRECT( \"FlashCards!\"&IF(MOD(INT((ROW(B796)-4)/50),2)=0,\"CE\"&TEXT((ROW(B796)/6)+10/3-INT((ROW(B796)-4)/50)/3,\"#\"),\"CD\"&TEXT((ROW(B796)/6)+10/3-INT((ROW(B796)-4)/50)/3,\"#\")))","v":"captivity"},null,null,{"$f":"INDIRECT( \"FlashCards!\"&IF(MOD(INT((ROW(B796)-4)/50),2)=0,\"CE\"&TEXT((ROW(B796)/6)+10/3-INT((ROW(B796)-4)/50)/3-8,\"#\"),\"CD\"&TEXT((ROW(B796)/6)+10/3-INT((ROW(B796)-4)/50)/3-8,\"#\")))","v":"preference, sect, choice, faction, (heresy)"}]
[]
[]
[]
[]
[]
[]
[null,{"$f":"INDIRECT( \"FlashCards!\"&IF(MOD(INT((ROW(B804)-4)/50),2)=0,\"CF\"&TEXT((ROW(B804)/6)+10/3-INT((ROW(B804)-4)/50)/3,\"#\"),\"CF\"&TEXT((ROW(B804)/6)+10/3-INT((ROW(B804)-4)/50)/3,\"#\")))","v":"Extra: Verb  "},null,null,{"$f":"INDIRECT( \"FlashCards!\"&IF(MOD(INT((ROW(B804)-4)/50),2)=0,\"CF\"&TEXT((ROW(B804)/6)+10/3-INT((ROW(B804)-4)/50)/3+8,\"#\"),\"CF\"&TEXT((ROW(B804)/6)+10/3-INT((ROW(B804)-4)/50)/3+8,\"#\")))","v":"Extra: Noun  "}]
[null,{"$f":"INDIRECT( \"FlashCards!\"&IF(MOD(INT((ROW(B804)-4)/50),2)=0,\"CE\"&TEXT((ROW(B804)/6)+10/3-INT((ROW(B804)-4)/50)/3,\"#\"),\"CD\"&TEXT((ROW(B804)/6)+10/3-INT((ROW(B804)-4)/50)/3,\"#\")))","v":"αἰχμαλωτίζω"},null,null,{"$f":"INDIRECT( \"FlashCards!\"&IF(MOD(INT((ROW(B804)-4)/50),2)=0,\"CE\"&TEXT((ROW(B804)/6)+10/3-INT((ROW(B804)-4)/50)/3+8,\"#\"),\"CD\"&TEXT((ROW(B804)/6)+10/3-INT((ROW(B804)-4)/50)/3+8,\"#\")))","v":"ἡ ἀκαταστασία"}]
[]
[null,{"$f":"INDIRECT( \"FlashCards!\"&IF(MOD(INT((ROW(B804)-4)/50),2)=0,\"CC\"&TEXT((ROW(B804)/6)+10/3-INT((ROW(B804)-4)/50)/3,\"#\"),\"\"))","v":"ike-mahl-owe-TIZZ-owe"},null,null,{"$f":"INDIRECT( \"FlashCards!\"&IF(MOD(INT((ROW(B804)-4)/50),2)=0,\"CC\"&TEXT((ROW(B804)/6)+10/3-INT((ROW(B804)-4)/50)/3+8,\"#\"),\"CC\"&TEXT((ROW(B804)/6)+10/3-INT((ROW(B804)-4)/50)/3+8,\"#\")))","v":"ah-kaht-ahs-tahs-EE-ah"}]
[]
[]
[null,{"$f":"INDIRECT( \"FlashCards!\"&IF(MOD(INT((ROW(B810)-4)/50),2)=0,\"CF\"&TEXT((ROW(B810)/6)+10/3-INT((ROW(B810)-4)/50)/3,\"#\"),\"CF\"&TEXT((ROW(B810)/6)+10/3-INT((ROW(B810)-4)/50)/3,\"#\")))","v":"Chapter 12: Noun  "},null,null,{"$f":"INDIRECT( \"FlashCards!\"&IF(MOD(INT((ROW(B810)-4)/50),2)=0,\"CF\"&TEXT((ROW(B810)/6)+10/3-INT((ROW(B810)-4)/50)/3+8,\"#\"),\"CF\"&TEXT((ROW(B810)/6)+10/3-INT((ROW(B810)-4)/50)/3+8,\"#\")))","v":"Index of Textbook: Noun  "}]
[null,{"$f":"INDIRECT( \"FlashCards!\"&IF(MOD(INT((ROW(B810)-4)/50),2)=0,\"CE\"&TEXT((ROW(B810)/6)+10/3-INT((ROW(B810)-4)/50)/3,\"#\"),\"CD\"&TEXT((ROW(B810)/6)+10/3-INT((ROW(B810)-4)/50)/3,\"#\")))","v":"ὁ αἰών"},null,null,{"$f":"INDIRECT( \"FlashCards!\"&IF(MOD(INT((ROW(B810)-4)/50),2)=0,\"CE\"&TEXT((ROW(B810)/6)+10/3-INT((ROW(B810)-4)/50)/3+8,\"#\"),\"CD\"&TEXT((ROW(B810)/6)+10/3-INT((ROW(B810)-4)/50)/3+8,\"#\")))","v":"ἡ ἀκοή"}]
[]
[null,{"$f":"INDIRECT( \"FlashCards!\"&IF(MOD(INT((ROW(B810)-4)/50),2)=0,\"CC\"&TEXT((ROW(B810)/6)+10/3-INT((ROW(B810)-4)/50)/3,\"#\"),\"\"))","v":"eye-OWN"},null,null,{"$f":"INDIRECT( \"FlashCards!\"&IF(MOD(INT((ROW(B810)-4)/50),2)=0,\"CC\"&TEXT((ROW(B810)/6)+10/3-INT((ROW(B810)-4)/50)/3+8,\"#\"),\"CC\"&TEXT((ROW(B810)/6)+10/3-INT((ROW(B810)-4)/50)/3+8,\"#\")))","v":"ah-ko-ay"}]
[]
[]
[null,{"$f":"INDIRECT( \"FlashCards!\"&IF(MOD(INT((ROW(B816)-4)/50),2)=0,\"CF\"&TEXT((ROW(B816)/6)+10/3-INT((ROW(B816)-4)/50)/3,\"#\"),\"CF\"&TEXT((ROW(B816)/6)+10/3-INT((ROW(B816)-4)/50)/3,\"#\")))","v":"Chapter 12: Idiom"},null,null,{"$f":"INDIRECT( \"FlashCards!\"&IF(MOD(INT((ROW(B816)-4)/50),2)=0,\"CF\"&TEXT((ROW(B816)/6)+10/3-INT((ROW(B816)-4)/50)/3+8,\"#\"),\"CF\"&TEXT((ROW(B816)/6)+10/3-INT((ROW(B816)-4)/50)/3+8,\"#\")))","v":"Chapter 21: Verb  "}]
[null,{"$f":"INDIRECT( \"FlashCards!\"&IF(MOD(INT((ROW(B816)-4)/50),2)=0,\"CE\"&TEXT((ROW(B816)/6)+10/3-INT((ROW(B816)-4)/50)/3,\"#\"),\"CD\"&TEXT((ROW(B816)/6)+10/3-INT((ROW(B816)-4)/50)/3,\"#\")))","v":"εἰς τὸν αἰῶνα"},null,null,{"$f":"INDIRECT( \"FlashCards!\"&IF(MOD(INT((ROW(B816)-4)/50),2)=0,\"CE\"&TEXT((ROW(B816)/6)+10/3-INT((ROW(B816)-4)/50)/3+8,\"#\"),\"CD\"&TEXT((ROW(B816)/6)+10/3-INT((ROW(B816)-4)/50)/3+8,\"#\")))","v":"ἀκολουθέω"}]
[]
[null,{"$f":"INDIRECT( \"FlashCards!\"&IF(MOD(INT((ROW(B816)-4)/50),2)=0,\"CC\"&TEXT((ROW(B816)/6)+10/3-INT((ROW(B816)-4)/50)/3,\"#\"),\"\"))","v":"ace TAHN eye-OWN-ah"},null,null,{"$f":"INDIRECT( \"FlashCards!\"&IF(MOD(INT((ROW(B816)-4)/50),2)=0,\"CC\"&TEXT((ROW(B816)/6)+10/3-INT((ROW(B816)-4)/50)/3+8,\"#\"),\"CC\"&TEXT((ROW(B816)/6)+10/3-INT((ROW(B816)-4)/50)/3+8,\"#\")))","v":"ah-koll-oo-THEH-owe"}]
[]
[]
[null,{"$f":"INDIRECT( \"FlashCards!\"&IF(MOD(INT((ROW(B822)-4)/50),2)=0,\"CF\"&TEXT((ROW(B822)/6)+10/3-INT((ROW(B822)-4)/50)/3,\"#\"),\"CF\"&TEXT((ROW(B822)/6)+10/3-INT((ROW(B822)-4)/50)/3,\"#\")))","v":"Chapter 12: Idiom"},null,null,{"$f":"INDIRECT( \"FlashCards!\"&IF(MOD(INT((ROW(B822)-4)/50),2)=0,\"CF\"&TEXT((ROW(B822)/6)+10/3-INT((ROW(B822)-4)/50)/3+8,\"#\"),\"CF\"&TEXT((ROW(B822)/6)+10/3-INT((ROW(B822)-4)/50)/3+8,\"#\")))","v":"Chapter 16: Verb  "}]
[null,{"$f":"INDIRECT( \"FlashCards!\"&IF(MOD(INT((ROW(B822)-4)/50),2)=0,\"CE\"&TEXT((ROW(B822)/6)+10/3-INT((ROW(B822)-4)/50)/3,\"#\"),\"CD\"&TEXT((ROW(B822)/6)+10/3-INT((ROW(B822)-4)/50)/3,\"#\")))","v":"εἰς τοὺς αἰώνας"},null,null,{"$f":"INDIRECT( \"FlashCards!\"&IF(MOD(INT((ROW(B822)-4)/50),2)=0,\"CE\"&TEXT((ROW(B822)/6)+10/3-INT((ROW(B822)-4)/50)/3+8,\"#\"),\"CD\"&TEXT((ROW(B822)/6)+10/3-INT((ROW(B822)-4)/50)/3+8,\"#\")))","v":"ἀκούω"}]
[]
[null,{"$f":"INDIRECT( \"FlashCards!\"&IF(MOD(INT((ROW(B822)-4)/50),2)=0,\"CC\"&TEXT((ROW(B822)/6)+10/3-INT((ROW(B822)-4)/50)/3,\"#\"),\"\"))","v":"ace TOOS eye-OWE-nahs"},null,null,{"$f":"INDIRECT( \"FlashCards!\"&IF(MOD(INT((ROW(B822)-4)/50),2)=0,\"CC\"&TEXT((ROW(B822)/6)+10/3-INT((ROW(B822)-4)/50)/3+8,\"#\"),\"CC\"&TEXT((ROW(B822)/6)+10/3-INT((ROW(B822)-4)/50)/3+8,\"#\")))","v":"ah-KOO-owe"}]
[]
[]
[null,{"$f":"INDIRECT( \"FlashCards!\"&IF(MOD(INT((ROW(B828)-4)/50),2)=0,\"CF\"&TEXT((ROW(B828)/6)+10/3-INT((ROW(B828)-4)/50)/3,\"#\"),\"CF\"&TEXT((ROW(B828)/6)+10/3-INT((ROW(B828)-4)/50)/3,\"#\")))","v":"Chapter 09: Adjective"},null,null,{"$f":"INDIRECT( \"FlashCards!\"&IF(MOD(INT((ROW(B828)-4)/50),2)=0,\"CF\"&TEXT((ROW(B828)/6)+10/3-INT((ROW(B828)-4)/50)/3+8,\"#\"),\"CF\"&TEXT((ROW(B828)/6)+10/3-INT((ROW(B828)-4)/50)/3+8,\"#\")))","v":"Extra: Adverb"}]
[null,{"$f":"INDIRECT( \"FlashCards!\"&IF(MOD(INT((ROW(B828)-4)/50),2)=0,\"CE\"&TEXT((ROW(B828)/6)+10/3-INT((ROW(B828)-4)/50)/3,\"#\"),\"CD\"&TEXT((ROW(B828)/6)+10/3-INT((ROW(B828)-4)/50)/3,\"#\")))","v":"αἰώνιος"},null,null,{"$f":"INDIRECT( \"FlashCards!\"&IF(MOD(INT((ROW(B828)-4)/50),2)=0,\"CE\"&TEXT((ROW(B828)/6)+10/3-INT((ROW(B828)-4)/50)/3+8,\"#\"),\"CD\"&TEXT((ROW(B828)/6)+10/3-INT((ROW(B828)-4)/50)/3+8,\"#\")))","v":"ἀκριβῶς"}]
[]
[null,{"$f":"INDIRECT( \"FlashCards!\"&IF(MOD(INT((ROW(B828)-4)/50),2)=0,\"CC\"&TEXT((ROW(B828)/6)+10/3-INT((ROW(B828)-4)/50)/3,\"#\"),\"\"))","v":"eye-OWE-nee-oss"},null,null,{"$f":"INDIRECT( \"FlashCards!\"&IF(MOD(INT((ROW(B828)-4)/50),2)=0,\"CC\"&TEXT((ROW(B828)/6)+10/3-INT((ROW(B828)-4)/50)/3+8,\"#\"),\"CC\"&TEXT((ROW(B828)/6)+10/3-INT((ROW(B828)-4)/50)/3+8,\"#\")))","v":"ah-krib-OSE"}]
[]
[]
[null,{"$f":"INDIRECT( \"FlashCards!\"&IF(MOD(INT((ROW(B834)-4)/50),2)=0,\"CF\"&TEXT((ROW(B834)/6)+10/3-INT((ROW(B834)-4)/50)/3,\"#\"),\"CF\"&TEXT((ROW(B834)/6)+10/3-INT((ROW(B834)-4)/50)/3,\"#\")))","v":"Chapter 38: Noun  "},null,null,{"$f":"INDIRECT( \"FlashCards!\"&IF(MOD(INT((ROW(B834)-4)/50),2)=0,\"CF\"&TEXT((ROW(B834)/6)+10/3-INT((ROW(B834)-4)/50)/3+8,\"#\"),\"CF\"&TEXT((ROW(B834)/6)+10/3-INT((ROW(B834)-4)/50)/3+8,\"#\")))","v":"Index of Textbook: Noun  "}]
[null,{"$f":"INDIRECT( \"FlashCards!\"&IF(MOD(INT((ROW(B834)-4)/50),2)=0,\"CE\"&TEXT((ROW(B834)/6)+10/3-INT((ROW(B834)-4)/50)/3,\"#\"),\"CD\"&TEXT((ROW(B834)/6)+10/3-INT((ROW(B834)-4)/50)/3,\"#\")))","v":"ἡ ἀκαθαρσία"},null,null,{"$f":"INDIRECT( \"FlashCards!\"&IF(MOD(INT((ROW(B834)-4)/50),2)=0,\"CE\"&TEXT((ROW(B834)/6)+10/3-INT((ROW(B834)-4)/50)/3+8,\"#\"),\"CD\"&TEXT((ROW(B834)/6)+10/3-INT((ROW(B834)-4)/50)/3+8,\"#\")))","v":"ἡ ἀκροβυστία"}]
[]
[null,{"$f":"INDIRECT( \"FlashCards!\"&IF(MOD(INT((ROW(B834)-4)/50),2)=0,\"CC\"&TEXT((ROW(B834)/6)+10/3-INT((ROW(B834)-4)/50)/3,\"#\"),\"\"))","v":"Ah-kath-"},null,null,{"$f":"INDIRECT( \"FlashCards!\"&IF(MOD(INT((ROW(B834)-4)/50),2)=0,\"CC\"&TEXT((ROW(B834)/6)+10/3-INT((ROW(B834)-4)/50)/3+8,\"#\"),\"CC\"&TEXT((ROW(B834)/6)+10/3-INT((ROW(B834)-4)/50)/3+8,\"#\")))","v":"ahk-row-boost-EE-ah"}]
[]
[]
[null,{"$f":"INDIRECT( \"FlashCards!\"&IF(MOD(INT((ROW(B840)-4)/50),2)=0,\"CF\"&TEXT((ROW(B840)/6)+10/3-INT((ROW(B840)-4)/50)/3,\"#\"),\"CF\"&TEXT((ROW(B840)/6)+10/3-INT((ROW(B840)-4)/50)/3,\"#\")))","v":"Index of Textbook: Adjective"},null,null,{"$f":"INDIRECT( \"FlashCards!\"&IF(MOD(INT((ROW(B840)-4)/50),2)=0,\"CF\"&TEXT((ROW(B840)/6)+10/3-INT((ROW(B840)-4)/50)/3+8,\"#\"),\"CF\"&TEXT((ROW(B840)/6)+10/3-INT((ROW(B840)-4)/50)/3+8,\"#\")))","v":"Extra: Noun  "}]
[null,{"$f":"INDIRECT( \"FlashCards!\"&IF(MOD(INT((ROW(B840)-4)/50),2)=0,\"CE\"&TEXT((ROW(B840)/6)+10/3-INT((ROW(B840)-4)/50)/3,\"#\"),\"CD\"&TEXT((ROW(B840)/6)+10/3-INT((ROW(B840)-4)/50)/3,\"#\")))","v":"ἀκαθαρτος"},null,null,{"$f":"INDIRECT( \"FlashCards!\"&IF(MOD(INT((ROW(B840)-4)/50),2)=0,\"CE\"&TEXT((ROW(B840)/6)+10/3-INT((ROW(B840)-4)/50)/3+8,\"#\"),\"CD\"&TEXT((ROW(B840)/6)+10/3-INT((ROW(B840)-4)/50)/3+8,\"#\")))","v":"τό ἄκρον"}]
[]
[null,{"$f":"INDIRECT( \"FlashCards!\"&IF(MOD(INT((ROW(B840)-4)/50),2)=0,\"CC\"&TEXT((ROW(B840)/6)+10/3-INT((ROW(B840)-4)/50)/3,\"#\"),\"\"))","v":"ah-kah-thar-toss"},null,null,{"$f":"INDIRECT( \"FlashCards!\"&IF(MOD(INT((ROW(B840)-4)/50),2)=0,\"CC\"&TEXT((ROW(B840)/6)+10/3-INT((ROW(B840)-4)/50)/3+8,\"#\"),\"CC\"&TEXT((ROW(B840)/6)+10/3-INT((ROW(B840)-4)/50)/3+8,\"#\")))","v":"AH-kronn"}]
[]
[]
[null,{"$f":"INDIRECT( \"FlashCards!\"&IF(MOD(INT((ROW(B846)-4)/50),2)=0,\"CF\"&TEXT((ROW(B846)/6)+10/3-INT((ROW(B846)-4)/50)/3,\"#\"),\"CF\"&TEXT((ROW(B846)/6)+10/3-INT((ROW(B846)-4)/50)/3,\"#\")))","v":"Chapter 38: Noun  "},null,null,{"$f":"INDIRECT( \"FlashCards!\"&IF(MOD(INT((ROW(B846)-4)/50),2)=0,\"CF\"&TEXT((ROW(B846)/6)+10/3-INT((ROW(B846)-4)/50)/3+8,\"#\"),\"CF\"&TEXT((ROW(B846)/6)+10/3-INT((ROW(B846)-4)/50)/3+8,\"#\")))","v":"Extra: Verb  "}]
[null,{"$f":"INDIRECT( \"FlashCards!\"&IF(MOD(INT((ROW(B846)-4)/50),2)=0,\"CE\"&TEXT((ROW(B846)/6)+10/3-INT((ROW(B846)-4)/50)/3,\"#\"),\"CD\"&TEXT((ROW(B846)/6)+10/3-INT((ROW(B846)-4)/50)/3,\"#\")))","v":"ἡ ἄκανθα"},null,null,{"$f":"INDIRECT( \"FlashCards!\"&IF(MOD(INT((ROW(B846)-4)/50),2)=0,\"CE\"&TEXT((ROW(B846)/6)+10/3-INT((ROW(B846)-4)/50)/3+8,\"#\"),\"CD\"&TEXT((ROW(B846)/6)+10/3-INT((ROW(B846)-4)/50)/3+8,\"#\")))","v":"ἀλείφω"}]
[]
[null,{"$f":"INDIRECT( \"FlashCards!\"&IF(MOD(INT((ROW(B846)-4)/50),2)=0,\"CC\"&TEXT((ROW(B846)/6)+10/3-INT((ROW(B846)-4)/50)/3,\"#\"),\"\"))","v":"AH-kahn-thah"},null,null,{"$f":"INDIRECT( \"FlashCards!\"&IF(MOD(INT((ROW(B846)-4)/50),2)=0,\"CC\"&TEXT((ROW(B846)/6)+10/3-INT((ROW(B846)-4)/50)/3+8,\"#\"),\"CC\"&TEXT((ROW(B846)/6)+10/3-INT((ROW(B846)-4)/50)/3+8,\"#\")))","v":"ah-LAY-foe"}]
[]
[]
[]
[]
[null,{"$f":"E803","v":"Extra: Noun  "},null,null,{"$f":"B803","v":"Extra: Verb  "}]
[null,{"$f":"INDIRECT( \"FlashCards!\"&IF(MOD(INT((ROW(B854)-4)/50),2)=0,\"CE\"&TEXT((ROW(B854)/6)+10/3-INT((ROW(B854)-4)/50)/3,\"#\"),\"CD\"&TEXT((ROW(B854)/6)+10/3-INT((ROW(B854)-4)/50)/3,\"#\")))","v":"confusion, disorder, tumult"},null,null,{"$f":"INDIRECT( \"FlashCards!\"&IF(MOD(INT((ROW(B854)-4)/50),2)=0,\"CE\"&TEXT((ROW(B854)/6)+10/3-INT((ROW(B854)-4)/50)/3-8,\"#\"),\"CD\"&TEXT((ROW(B854)/6)+10/3-INT((ROW(B854)-4)/50)/3-8,\"#\")))","v":"I capture, I take capture"}]
[]
[]
[]
[]
[null,{"$f":"E809","v":"Index of Textbook: Noun  "},null,null,{"$f":"B809","v":"Chapter 12: Noun  "}]
[null,{"$f":"INDIRECT( \"FlashCards!\"&IF(MOD(INT((ROW(B860)-4)/50),2)=0,\"CE\"&TEXT((ROW(B860)/6)+10/3-INT((ROW(B860)-4)/50)/3,\"#\"),\"CD\"&TEXT((ROW(B860)/6)+10/3-INT((ROW(B860)-4)/50)/3,\"#\")))","v":"hearing, report"},null,null,{"$f":"INDIRECT( \"FlashCards!\"&IF(MOD(INT((ROW(B860)-4)/50),2)=0,\"CE\"&TEXT((ROW(B860)/6)+10/3-INT((ROW(B860)-4)/50)/3-8,\"#\"),\"CD\"&TEXT((ROW(B860)/6)+10/3-INT((ROW(B860)-4)/50)/3-8,\"#\")))","v":"age, eternity"}]
[]
[]
[]
[]
[null,{"$f":"E815","v":"Chapter 21: Verb  "},null,null,{"$f":"B815","v":"Chapter 12: Idiom"}]
[null,{"$f":"INDIRECT( \"FlashCards!\"&IF(MOD(INT((ROW(B866)-4)/50),2)=0,\"CE\"&TEXT((ROW(B866)/6)+10/3-INT((ROW(B866)-4)/50)/3,\"#\"),\"CD\"&TEXT((ROW(B866)/6)+10/3-INT((ROW(B866)-4)/50)/3,\"#\")))","v":"I follow, I accompany"},null,null,{"$f":"INDIRECT( \"FlashCards!\"&IF(MOD(INT((ROW(B866)-4)/50),2)=0,\"CE\"&TEXT((ROW(B866)/6)+10/3-INT((ROW(B866)-4)/50)/3-8,\"#\"),\"CD\"&TEXT((ROW(B866)/6)+10/3-INT((ROW(B866)-4)/50)/3-8,\"#\")))","v":"forever"}]
[]
[]
[]
[]
[null,{"$f":"E821","v":"Chapter 16: Verb  "},null,null,{"$f":"B821","v":"Chapter 12: Idiom"}]
[null,{"$f":"INDIRECT( \"FlashCards!\"&IF(MOD(INT((ROW(B872)-4)/50),2)=0,\"CE\"&TEXT((ROW(B872)/6)+10/3-INT((ROW(B872)-4)/50)/3,\"#\"),\"CD\"&TEXT((ROW(B872)/6)+10/3-INT((ROW(B872)-4)/50)/3,\"#\")))","v":"I hear, I learn, I obey, I understand"},null,null,{"$f":"INDIRECT( \"FlashCards!\"&IF(MOD(INT((ROW(B872)-4)/50),2)=0,\"CE\"&TEXT((ROW(B872)/6)+10/3-INT((ROW(B872)-4)/50)/3-8,\"#\"),\"CD\"&TEXT((ROW(B872)/6)+10/3-INT((ROW(B872)-4)/50)/3-8,\"#\")))","v":"forever"}]
[]
[]
[]
[]
[null,{"$f":"E827","v":"Extra: Adverb"},null,null,{"$f":"B827","v":"Chapter 09: Adjective"}]
[null,{"$f":"INDIRECT( \"FlashCards!\"&IF(MOD(INT((ROW(B878)-4)/50),2)=0,\"CE\"&TEXT((ROW(B878)/6)+10/3-INT((ROW(B878)-4)/50)/3,\"#\"),\"CD\"&TEXT((ROW(B878)/6)+10/3-INT((ROW(B878)-4)/50)/3,\"#\")))","v":"accurately, diligently, carefully, thoroughly"},null,null,{"$f":"INDIRECT( \"FlashCards!\"&IF(MOD(INT((ROW(B878)-4)/50),2)=0,\"CE\"&TEXT((ROW(B878)/6)+10/3-INT((ROW(B878)-4)/50)/3-8,\"#\"),\"CD\"&TEXT((ROW(B878)/6)+10/3-INT((ROW(B878)-4)/50)/3-8,\"#\")))","v":"eternal"}]
[]
[]
[]
[]
[null,{"$f":"E833","v":"Index of Textbook: Noun  "},null,null,{"$f":"B833","v":"Chapter 38: Noun  "}]
[null,{"$f":"INDIRECT( \"FlashCards!\"&IF(MOD(INT((ROW(B884)-4)/50),2)=0,\"CE\"&TEXT((ROW(B884)/6)+10/3-INT((ROW(B884)-4)/50)/3,\"#\"),\"CD\"&TEXT((ROW(B884)/6)+10/3-INT((ROW(B884)-4)/50)/3,\"#\")))","v":"uncircumcision"},null,null,{"$f":"INDIRECT( \"FlashCards!\"&IF(MOD(INT((ROW(B884)-4)/50),2)=0,\"CE\"&TEXT((ROW(B884)/6)+10/3-INT((ROW(B884)-4)/50)/3-8,\"#\"),\"CD\"&TEXT((ROW(B884)/6)+10/3-INT((ROW(B884)-4)/50)/3-8,\"#\")))","v":"immorality, uncleanness"}]
[]
[]
[]
[]
[null,{"$f":"E839","v":"Extra: Noun  "},null,null,{"$f":"B839","v":"Index of Textbook: Adjective"}]
[null,{"$f":"INDIRECT( \"FlashCards!\"&IF(MOD(INT((ROW(B890)-4)/50),2)=0,\"CE\"&TEXT((ROW(B890)/6)+10/3-INT((ROW(B890)-4)/50)/3,\"#\"),\"CD\"&TEXT((ROW(B890)/6)+10/3-INT((ROW(B890)-4)/50)/3,\"#\")))","v":"top, end, uttermost "},null,null,{"$f":"INDIRECT( \"FlashCards!\"&IF(MOD(INT((ROW(B890)-4)/50),2)=0,\"CE\"&TEXT((ROW(B890)/6)+10/3-INT((ROW(B890)-4)/50)/3-8,\"#\"),\"CD\"&TEXT((ROW(B890)/6)+10/3-INT((ROW(B890)-4)/50)/3-8,\"#\")))","v":"unclean, impure"}]
[]
[]
[]
[]
[null,{"$f":"E845","v":"Extra: Verb  "},null,null,{"$f":"B845","v":"Chapter 38: Noun  "}]
[null,{"$f":"INDIRECT( \"FlashCards!\"&IF(MOD(INT((ROW(B896)-4)/50),2)=0,\"CE\"&TEXT((ROW(B896)/6)+10/3-INT((ROW(B896)-4)/50)/3,\"#\"),\"CD\"&TEXT((ROW(B896)/6)+10/3-INT((ROW(B896)-4)/50)/3,\"#\")))","v":"I anoint"},null,null,{"$f":"INDIRECT( \"FlashCards!\"&IF(MOD(INT((ROW(B896)-4)/50),2)=0,\"CE\"&TEXT((ROW(B896)/6)+10/3-INT((ROW(B896)-4)/50)/3-8,\"#\"),\"CD\"&TEXT((ROW(B896)/6)+10/3-INT((ROW(B896)-4)/50)/3-8,\"#\")))","v":"thorn, thorny plant"}]
[]
[]
[]
[]
[]
[]
[null,{"$f":"INDIRECT( \"FlashCards!\"&IF(MOD(INT((ROW(B904)-4)/50),2)=0,\"CF\"&TEXT((ROW(B904)/6)+10/3-INT((ROW(B904)-4)/50)/3,\"#\"),\"CF\"&TEXT((ROW(B904)/6)+10/3-INT((ROW(B904)-4)/50)/3,\"#\")))","v":"Index of Textbook: Noun  "},null,null,{"$f":"INDIRECT( \"FlashCards!\"&IF(MOD(INT((ROW(B904)-4)/50),2)=0,\"CF\"&TEXT((ROW(B904)/6)+10/3-INT((ROW(B904)-4)/50)/3+8,\"#\"),\"CF\"&TEXT((ROW(B904)/6)+10/3-INT((ROW(B904)-4)/50)/3+8,\"#\")))","v":"Extra: Verb  "}]
[null,{"$f":"INDIRECT( \"FlashCards!\"&IF(MOD(INT((ROW(B904)-4)/50),2)=0,\"CE\"&TEXT((ROW(B904)/6)+10/3-INT((ROW(B904)-4)/50)/3,\"#\"),\"CD\"&TEXT((ROW(B904)/6)+10/3-INT((ROW(B904)-4)/50)/3,\"#\")))","v":"ἡ ἀλέκτωρ"},null,null,{"$f":"INDIRECT( \"FlashCards!\"&IF(MOD(INT((ROW(B904)-4)/50),2)=0,\"CE\"&TEXT((ROW(B904)/6)+10/3-INT((ROW(B904)-4)/50)/3+8,\"#\"),\"CD\"&TEXT((ROW(B904)/6)+10/3-INT((ROW(B904)-4)/50)/3+8,\"#\")))","v":"ἀλλάσσω"}]
[]
[null,{"$f":"INDIRECT( \"FlashCards!\"&IF(MOD(INT((ROW(B904)-4)/50),2)=0,\"CC\"&TEXT((ROW(B904)/6)+10/3-INT((ROW(B904)-4)/50)/3,\"#\"),\"\"))","v":"ah-LEK-torr"},null,null,{"$f":"INDIRECT( \"FlashCards!\"&IF(MOD(INT((ROW(B904)-4)/50),2)=0,\"CC\"&TEXT((ROW(B904)/6)+10/3-INT((ROW(B904)-4)/50)/3+8,\"#\"),\"CC\"&TEXT((ROW(B904)/6)+10/3-INT((ROW(B904)-4)/50)/3+8,\"#\")))","v":"ah-LAHS-owe"}]
[]
[]
[null,{"$f":"INDIRECT( \"FlashCards!\"&IF(MOD(INT((ROW(B910)-4)/50),2)=0,\"CF\"&TEXT((ROW(B910)/6)+10/3-INT((ROW(B910)-4)/50)/3,\"#\"),\"CF\"&TEXT((ROW(B910)/6)+10/3-INT((ROW(B910)-4)/50)/3,\"#\")))","v":"Extra: Proper Noun"},null,null,{"$f":"INDIRECT( \"FlashCards!\"&IF(MOD(INT((ROW(B910)-4)/50),2)=0,\"CF\"&TEXT((ROW(B910)/6)+10/3-INT((ROW(B910)-4)/50)/3+8,\"#\"),\"CF\"&TEXT((ROW(B910)/6)+10/3-INT((ROW(B910)-4)/50)/3+8,\"#\")))","v":"Chapter 09: Noun  "}]
[null,{"$f":"INDIRECT( \"FlashCards!\"&IF(MOD(INT((ROW(B910)-4)/50),2)=0,\"CE\"&TEXT((ROW(B910)/6)+10/3-INT((ROW(B910)-4)/50)/3,\"#\"),\"CD\"&TEXT((ROW(B910)/6)+10/3-INT((ROW(B910)-4)/50)/3,\"#\")))","v":"ὁ Ἀλέξανδρος"},null,null,{"$f":"INDIRECT( \"FlashCards!\"&IF(MOD(INT((ROW(B910)-4)/50),2)=0,\"CE\"&TEXT((ROW(B910)/6)+10/3-INT((ROW(B910)-4)/50)/3+8,\"#\"),\"CD\"&TEXT((ROW(B910)/6)+10/3-INT((ROW(B910)-4)/50)/3+8,\"#\")))","v":"ἡ ἀλλήλωη"}]
[]
[null,{"$f":"INDIRECT( \"FlashCards!\"&IF(MOD(INT((ROW(B910)-4)/50),2)=0,\"CC\"&TEXT((ROW(B910)/6)+10/3-INT((ROW(B910)-4)/50)/3,\"#\"),\"\"))","v":"ah-LEX-ahn-dross"},null,null,{"$f":"INDIRECT( \"FlashCards!\"&IF(MOD(INT((ROW(B910)-4)/50),2)=0,\"CC\"&TEXT((ROW(B910)/6)+10/3-INT((ROW(B910)-4)/50)/3+8,\"#\"),\"CC\"&TEXT((ROW(B910)/6)+10/3-INT((ROW(B910)-4)/50)/3+8,\"#\")))","v":"ahl-LAY-low-ay"}]
[]
[]
[null,{"$f":"INDIRECT( \"FlashCards!\"&IF(MOD(INT((ROW(B916)-4)/50),2)=0,\"CF\"&TEXT((ROW(B916)/6)+10/3-INT((ROW(B916)-4)/50)/3,\"#\"),\"CF\"&TEXT((ROW(B916)/6)+10/3-INT((ROW(B916)-4)/50)/3,\"#\")))","v":"Chapter 14: Noun  "},null,null,{"$f":"INDIRECT( \"FlashCards!\"&IF(MOD(INT((ROW(B916)-4)/50),2)=0,\"CF\"&TEXT((ROW(B916)/6)+10/3-INT((ROW(B916)-4)/50)/3+8,\"#\"),\"CF\"&TEXT((ROW(B916)/6)+10/3-INT((ROW(B916)-4)/50)/3+8,\"#\")))","v":"Extra: Verb  "}]
[null,{"$f":"INDIRECT( \"FlashCards!\"&IF(MOD(INT((ROW(B916)-4)/50),2)=0,\"CE\"&TEXT((ROW(B916)/6)+10/3-INT((ROW(B916)-4)/50)/3,\"#\"),\"CD\"&TEXT((ROW(B916)/6)+10/3-INT((ROW(B916)-4)/50)/3,\"#\")))","v":"ἡ ἀλήθεια"},null,null,{"$f":"INDIRECT( \"FlashCards!\"&IF(MOD(INT((ROW(B916)-4)/50),2)=0,\"CE\"&TEXT((ROW(B916)/6)+10/3-INT((ROW(B916)-4)/50)/3+8,\"#\"),\"CD\"&TEXT((ROW(B916)/6)+10/3-INT((ROW(B916)-4)/50)/3+8,\"#\")))","v":"ἅλλομαι"}]
[]
[null,{"$f":"INDIRECT( \"FlashCards!\"&IF(MOD(INT((ROW(B916)-4)/50),2)=0,\"CC\"&TEXT((ROW(B916)/6)+10/3-INT((ROW(B916)-4)/50)/3,\"#\"),\"\"))","v":"ah-LAY-thee-ah"},null,null,{"$f":"INDIRECT( \"FlashCards!\"&IF(MOD(INT((ROW(B916)-4)/50),2)=0,\"CC\"&TEXT((ROW(B916)/6)+10/3-INT((ROW(B916)-4)/50)/3+8,\"#\"),\"CC\"&TEXT((ROW(B916)/6)+10/3-INT((ROW(B916)-4)/50)/3+8,\"#\")))","v":"HAHL-om-eye"}]
[]
[]
[null,{"$f":"INDIRECT( \"FlashCards!\"&IF(MOD(INT((ROW(B922)-4)/50),2)=0,\"CF\"&TEXT((ROW(B922)/6)+10/3-INT((ROW(B922)-4)/50)/3,\"#\"),\"CF\"&TEXT((ROW(B922)/6)+10/3-INT((ROW(B922)-4)/50)/3,\"#\")))","v":"Index of Textbook: Adjective"},null,null,{"$f":"INDIRECT( \"FlashCards!\"&IF(MOD(INT((ROW(B922)-4)/50),2)=0,\"CF\"&TEXT((ROW(B922)/6)+10/3-INT((ROW(B922)-4)/50)/3+8,\"#\"),\"CF\"&TEXT((ROW(B922)/6)+10/3-INT((ROW(B922)-4)/50)/3+8,\"#\")))","v":"Chapter 06: Pronoun"}]
[null,{"$f":"INDIRECT( \"FlashCards!\"&IF(MOD(INT((ROW(B922)-4)/50),2)=0,\"CE\"&TEXT((ROW(B922)/6)+10/3-INT((ROW(B922)-4)/50)/3,\"#\"),\"CD\"&TEXT((ROW(B922)/6)+10/3-INT((ROW(B922)-4)/50)/3,\"#\")))","v":"ἀληθής"},null,null,{"$f":"INDIRECT( \"FlashCards!\"&IF(MOD(INT((ROW(B922)-4)/50),2)=0,\"CE\"&TEXT((ROW(B922)/6)+10/3-INT((ROW(B922)-4)/50)/3+8,\"#\"),\"CD\"&TEXT((ROW(B922)/6)+10/3-INT((ROW(B922)-4)/50)/3+8,\"#\")))","v":"ἄλλος"}]
[]
[null,{"$f":"INDIRECT( \"FlashCards!\"&IF(MOD(INT((ROW(B922)-4)/50),2)=0,\"CC\"&TEXT((ROW(B922)/6)+10/3-INT((ROW(B922)-4)/50)/3,\"#\"),\"\"))","v":"ah-lay-THACE"},null,null,{"$f":"INDIRECT( \"FlashCards!\"&IF(MOD(INT((ROW(B922)-4)/50),2)=0,\"CC\"&TEXT((ROW(B922)/6)+10/3-INT((ROW(B922)-4)/50)/3+8,\"#\"),\"CC\"&TEXT((ROW(B922)/6)+10/3-INT((ROW(B922)-4)/50)/3+8,\"#\")))","v":"ALL-oss"}]
[]
[]
[null,{"$f":"INDIRECT( \"FlashCards!\"&IF(MOD(INT((ROW(B928)-4)/50),2)=0,\"CF\"&TEXT((ROW(B928)/6)+10/3-INT((ROW(B928)-4)/50)/3,\"#\"),\"CF\"&TEXT((ROW(B928)/6)+10/3-INT((ROW(B928)-4)/50)/3,\"#\")))","v":"Index of Textbook: Adjective"},null,null,{"$f":"INDIRECT( \"FlashCards!\"&IF(MOD(INT((ROW(B928)-4)/50),2)=0,\"CF\"&TEXT((ROW(B928)/6)+10/3-INT((ROW(B928)-4)/50)/3+8,\"#\"),\"CF\"&TEXT((ROW(B928)/6)+10/3-INT((ROW(B928)-4)/50)/3+8,\"#\")))","v":"Chapter 38: Adjective"}]
[null,{"$f":"INDIRECT( \"FlashCards!\"&IF(MOD(INT((ROW(B928)-4)/50),2)=0,\"CE\"&TEXT((ROW(B928)/6)+10/3-INT((ROW(B928)-4)/50)/3,\"#\"),\"CD\"&TEXT((ROW(B928)/6)+10/3-INT((ROW(B928)-4)/50)/3,\"#\")))","v":"ἀληθινός"},null,null,{"$f":"INDIRECT( \"FlashCards!\"&IF(MOD(INT((ROW(B928)-4)/50),2)=0,\"CE\"&TEXT((ROW(B928)/6)+10/3-INT((ROW(B928)-4)/50)/3+8,\"#\"),\"CD\"&TEXT((ROW(B928)/6)+10/3-INT((ROW(B928)-4)/50)/3+8,\"#\")))","v":"ἀλλότριος"}]
[]
[null,{"$f":"INDIRECT( \"FlashCards!\"&IF(MOD(INT((ROW(B928)-4)/50),2)=0,\"CC\"&TEXT((ROW(B928)/6)+10/3-INT((ROW(B928)-4)/50)/3,\"#\"),\"\"))","v":"ah-lay-thin-OSS"},null,null,{"$f":"INDIRECT( \"FlashCards!\"&IF(MOD(INT((ROW(B928)-4)/50),2)=0,\"CC\"&TEXT((ROW(B928)/6)+10/3-INT((ROW(B928)-4)/50)/3+8,\"#\"),\"CC\"&TEXT((ROW(B928)/6)+10/3-INT((ROW(B928)-4)/50)/3+8,\"#\")))","v":"ahl-LOT-ree-oss"}]
[]
[]
[null,{"$f":"INDIRECT( \"FlashCards!\"&IF(MOD(INT((ROW(B934)-4)/50),2)=0,\"CF\"&TEXT((ROW(B934)/6)+10/3-INT((ROW(B934)-4)/50)/3,\"#\"),\"CF\"&TEXT((ROW(B934)/6)+10/3-INT((ROW(B934)-4)/50)/3,\"#\")))","v":"Index of Textbook: Adverb"},null,null,{"$f":"INDIRECT( \"FlashCards!\"&IF(MOD(INT((ROW(B934)-4)/50),2)=0,\"CF\"&TEXT((ROW(B934)/6)+10/3-INT((ROW(B934)-4)/50)/3+8,\"#\"),\"CF\"&TEXT((ROW(B934)/6)+10/3-INT((ROW(B934)-4)/50)/3+8,\"#\")))","v":"Extra: Adjective"}]
[null,{"$f":"INDIRECT( \"FlashCards!\"&IF(MOD(INT((ROW(B934)-4)/50),2)=0,\"CE\"&TEXT((ROW(B934)/6)+10/3-INT((ROW(B934)-4)/50)/3,\"#\"),\"CD\"&TEXT((ROW(B934)/6)+10/3-INT((ROW(B934)-4)/50)/3,\"#\")))","v":"ἀληθῶς"},null,null,{"$f":"INDIRECT( \"FlashCards!\"&IF(MOD(INT((ROW(B934)-4)/50),2)=0,\"CE\"&TEXT((ROW(B934)/6)+10/3-INT((ROW(B934)-4)/50)/3+8,\"#\"),\"CD\"&TEXT((ROW(B934)/6)+10/3-INT((ROW(B934)-4)/50)/3+8,\"#\")))","v":"ἄλογος"}]
[]
[null,{"$f":"INDIRECT( \"FlashCards!\"&IF(MOD(INT((ROW(B934)-4)/50),2)=0,\"CC\"&TEXT((ROW(B934)/6)+10/3-INT((ROW(B934)-4)/50)/3,\"#\"),\"\"))","v":"ah-lay-THOCE"},null,null,{"$f":"INDIRECT( \"FlashCards!\"&IF(MOD(INT((ROW(B934)-4)/50),2)=0,\"CC\"&TEXT((ROW(B934)/6)+10/3-INT((ROW(B934)-4)/50)/3+8,\"#\"),\"CC\"&TEXT((ROW(B934)/6)+10/3-INT((ROW(B934)-4)/50)/3+8,\"#\")))","v":"AHL-ogg-oss"}]
[]
[]
[null,{"$f":"INDIRECT( \"FlashCards!\"&IF(MOD(INT((ROW(B940)-4)/50),2)=0,\"CF\"&TEXT((ROW(B940)/6)+10/3-INT((ROW(B940)-4)/50)/3,\"#\"),\"CF\"&TEXT((ROW(B940)/6)+10/3-INT((ROW(B940)-4)/50)/3,\"#\")))","v":"Extra: Noun  "},null,null,{"$f":"INDIRECT( \"FlashCards!\"&IF(MOD(INT((ROW(B940)-4)/50),2)=0,\"CF\"&TEXT((ROW(B940)/6)+10/3-INT((ROW(B940)-4)/50)/3+8,\"#\"),\"CF\"&TEXT((ROW(B940)/6)+10/3-INT((ROW(B940)-4)/50)/3+8,\"#\")))","v":"Chapter 38: Noun  "}]
[null,{"$f":"INDIRECT( \"FlashCards!\"&IF(MOD(INT((ROW(B940)-4)/50),2)=0,\"CE\"&TEXT((ROW(B940)/6)+10/3-INT((ROW(B940)-4)/50)/3,\"#\"),\"CD\"&TEXT((ROW(B940)/6)+10/3-INT((ROW(B940)-4)/50)/3,\"#\")))","v":"ὁ ἁλιεύς"},null,null,{"$f":"INDIRECT( \"FlashCards!\"&IF(MOD(INT((ROW(B940)-4)/50),2)=0,\"CE\"&TEXT((ROW(B940)/6)+10/3-INT((ROW(B940)-4)/50)/3+8,\"#\"),\"CD\"&TEXT((ROW(B940)/6)+10/3-INT((ROW(B940)-4)/50)/3+8,\"#\")))","v":"ἡ ἅλυσις"}]
[]
[null,{"$f":"INDIRECT( \"FlashCards!\"&IF(MOD(INT((ROW(B940)-4)/50),2)=0,\"CC\"&TEXT((ROW(B940)/6)+10/3-INT((ROW(B940)-4)/50)/3,\"#\"),\"\"))","v":"hah-lee-OOSE"},null,null,{"$f":"INDIRECT( \"FlashCards!\"&IF(MOD(INT((ROW(B940)-4)/50),2)=0,\"CC\"&TEXT((ROW(B940)/6)+10/3-INT((ROW(B940)-4)/50)/3+8,\"#\"),\"CC\"&TEXT((ROW(B940)/6)+10/3-INT((ROW(B940)-4)/50)/3+8,\"#\")))","v":"HAH-loo-sis"}]
[]
[]
[null,{"$f":"INDIRECT( \"FlashCards!\"&IF(MOD(INT((ROW(B946)-4)/50),2)=0,\"CF\"&TEXT((ROW(B946)/6)+10/3-INT((ROW(B946)-4)/50)/3,\"#\"),\"CF\"&TEXT((ROW(B946)/6)+10/3-INT((ROW(B946)-4)/50)/3,\"#\")))","v":"Chapter 08: Conjunction"},null,null,{"$f":"INDIRECT( \"FlashCards!\"&IF(MOD(INT((ROW(B946)-4)/50),2)=0,\"CF\"&TEXT((ROW(B946)/6)+10/3-INT((ROW(B946)-4)/50)/3+8,\"#\"),\"CF\"&TEXT((ROW(B946)/6)+10/3-INT((ROW(B946)-4)/50)/3+8,\"#\")))","v":"Extra: Noun  "}]
[null,{"$f":"INDIRECT( \"FlashCards!\"&IF(MOD(INT((ROW(B946)-4)/50),2)=0,\"CE\"&TEXT((ROW(B946)/6)+10/3-INT((ROW(B946)-4)/50)/3,\"#\"),\"CD\"&TEXT((ROW(B946)/6)+10/3-INT((ROW(B946)-4)/50)/3,\"#\")))","v":"ἀλλά"},null,null,{"$f":"INDIRECT( \"FlashCards!\"&IF(MOD(INT((ROW(B946)-4)/50),2)=0,\"CE\"&TEXT((ROW(B946)/6)+10/3-INT((ROW(B946)-4)/50)/3+8,\"#\"),\"CD\"&TEXT((ROW(B946)/6)+10/3-INT((ROW(B946)-4)/50)/3+8,\"#\")))","v":"ἡ ἀλώπηξ"}]
[]
[null,{"$f":"INDIRECT( \"FlashCards!\"&IF(MOD(INT((ROW(B946)-4)/50),2)=0,\"CC\"&TEXT((ROW(B946)/6)+10/3-INT((ROW(B946)-4)/50)/3,\"#\"),\"\"))","v":"ahl-LAH"},null,null,{"$f":"INDIRECT( \"FlashCards!\"&IF(MOD(INT((ROW(B946)-4)/50),2)=0,\"CC\"&TEXT((ROW(B946)/6)+10/3-INT((ROW(B946)-4)/50)/3+8,\"#\"),\"CC\"&TEXT((ROW(B946)/6)+10/3-INT((ROW(B946)-4)/50)/3+8,\"#\")))","v":"ahl-OPE-ayks"}]
[]
[]
[]
[]
[null,{"$f":"E903","v":"Extra: Verb  "},null,null,{"$f":"B903","v":"Index of Textbook: Noun  "}]
[null,{"$f":"INDIRECT( \"FlashCards!\"&IF(MOD(INT((ROW(B954)-4)/50),2)=0,\"CE\"&TEXT((ROW(B954)/6)+10/3-INT((ROW(B954)-4)/50)/3,\"#\"),\"CD\"&TEXT((ROW(B954)/6)+10/3-INT((ROW(B954)-4)/50)/3,\"#\")))","v":"I change, I alter"},null,null,{"$f":"INDIRECT( \"FlashCards!\"&IF(MOD(INT((ROW(B954)-4)/50),2)=0,\"CE\"&TEXT((ROW(B954)/6)+10/3-INT((ROW(B954)-4)/50)/3-8,\"#\"),\"CD\"&TEXT((ROW(B954)/6)+10/3-INT((ROW(B954)-4)/50)/3-8,\"#\")))","v":"rooster"}]
[]
[]
[]
[]
[null,{"$f":"E909","v":"Chapter 09: Noun  "},null,null,{"$f":"B909","v":"Extra: Proper Noun"}]
[null,{"$f":"INDIRECT( \"FlashCards!\"&IF(MOD(INT((ROW(B960)-4)/50),2)=0,\"CE\"&TEXT((ROW(B960)/6)+10/3-INT((ROW(B960)-4)/50)/3,\"#\"),\"CD\"&TEXT((ROW(B960)/6)+10/3-INT((ROW(B960)-4)/50)/3,\"#\")))","v":"one another [genitive plural…]"},null,null,{"$f":"INDIRECT( \"FlashCards!\"&IF(MOD(INT((ROW(B960)-4)/50),2)=0,\"CE\"&TEXT((ROW(B960)/6)+10/3-INT((ROW(B960)-4)/50)/3-8,\"#\"),\"CD\"&TEXT((ROW(B960)/6)+10/3-INT((ROW(B960)-4)/50)/3-8,\"#\")))","v":"Alexander"}]
[]
[]
[]
[]
[null,{"$f":"E915","v":"Extra: Verb  "},null,null,{"$f":"B915","v":"Chapter 14: Noun  "}]
[null,{"$f":"INDIRECT( \"FlashCards!\"&IF(MOD(INT((ROW(B966)-4)/50),2)=0,\"CE\"&TEXT((ROW(B966)/6)+10/3-INT((ROW(B966)-4)/50)/3,\"#\"),\"CD\"&TEXT((ROW(B966)/6)+10/3-INT((ROW(B966)-4)/50)/3,\"#\")))","v":"I jump, I leap, I spring (up)"},null,null,{"$f":"INDIRECT( \"FlashCards!\"&IF(MOD(INT((ROW(B966)-4)/50),2)=0,\"CE\"&TEXT((ROW(B966)/6)+10/3-INT((ROW(B966)-4)/50)/3-8,\"#\"),\"CD\"&TEXT((ROW(B966)/6)+10/3-INT((ROW(B966)-4)/50)/3-8,\"#\")))","v":"truth"}]
[]
[]
[]
[]
[null,{"$f":"E921","v":"Chapter 06: Pronoun"},null,null,{"$f":"B921","v":"Index of Textbook: Adjective"}]
[null,{"$f":"INDIRECT( \"FlashCards!\"&IF(MOD(INT((ROW(B972)-4)/50),2)=0,\"CE\"&TEXT((ROW(B972)/6)+10/3-INT((ROW(B972)-4)/50)/3,\"#\"),\"CD\"&TEXT((ROW(B972)/6)+10/3-INT((ROW(B972)-4)/50)/3,\"#\")))","v":"other, another"},null,null,{"$f":"INDIRECT( \"FlashCards!\"&IF(MOD(INT((ROW(B972)-4)/50),2)=0,\"CE\"&TEXT((ROW(B972)/6)+10/3-INT((ROW(B972)-4)/50)/3-8,\"#\"),\"CD\"&TEXT((ROW(B972)/6)+10/3-INT((ROW(B972)-4)/50)/3-8,\"#\")))","v":"true, truthful"}]
[]
[]
[]
[]
[null,{"$f":"E927","v":"Chapter 38: Adjective"},null,null,{"$f":"B927","v":"Index of Textbook: Adjective"}]
[null,{"$f":"INDIRECT( \"FlashCards!\"&IF(MOD(INT((ROW(B978)-4)/50),2)=0,\"CE\"&TEXT((ROW(B978)/6)+10/3-INT((ROW(B978)-4)/50)/3,\"#\"),\"CD\"&TEXT((ROW(B978)/6)+10/3-INT((ROW(B978)-4)/50)/3,\"#\")))","v":"strange, not one's own"},null,null,{"$f":"INDIRECT( \"FlashCards!\"&IF(MOD(INT((ROW(B978)-4)/50),2)=0,\"CE\"&TEXT((ROW(B978)/6)+10/3-INT((ROW(B978)-4)/50)/3-8,\"#\"),\"CD\"&TEXT((ROW(B978)/6)+10/3-INT((ROW(B978)-4)/50)/3-8,\"#\")))","v":"true, genuine"}]
[]
[]
[]
[]
[null,{"$f":"E933","v":"Extra: Adjective"},null,null,{"$f":"B933","v":"Index of Textbook: Adverb"}]
[null,{"$f":"INDIRECT( \"FlashCards!\"&IF(MOD(INT((ROW(B984)-4)/50),2)=0,\"CE\"&TEXT((ROW(B984)/6)+10/3-INT((ROW(B984)-4)/50)/3,\"#\"),\"CD\"&TEXT((ROW(B984)/6)+10/3-INT((ROW(B984)-4)/50)/3,\"#\")))","v":"irrational, unreasonable, absurd"},null,null,{"$f":"INDIRECT( \"FlashCards!\"&IF(MOD(INT((ROW(B984)-4)/50),2)=0,\"CE\"&TEXT((ROW(B984)/6)+10/3-INT((ROW(B984)-4)/50)/3-8,\"#\"),\"CD\"&TEXT((ROW(B984)/6)+10/3-INT((ROW(B984)-4)/50)/3-8,\"#\")))","v":"truly"}]
[]
[]
[]
[]
[null,{"$f":"E939","v":"Chapter 38: Noun  "},null,null,{"$f":"B939","v":"Extra: Noun  "}]
[null,{"$f":"INDIRECT( \"FlashCards!\"&IF(MOD(INT((ROW(B990)-4)/50),2)=0,\"CE\"&TEXT((ROW(B990)/6)+10/3-INT((ROW(B990)-4)/50)/3,\"#\"),\"CD\"&TEXT((ROW(B990)/6)+10/3-INT((ROW(B990)-4)/50)/3,\"#\")))","v":"chain"},null,null,{"$f":"INDIRECT( \"FlashCards!\"&IF(MOD(INT((ROW(B990)-4)/50),2)=0,\"CE\"&TEXT((ROW(B990)/6)+10/3-INT((ROW(B990)-4)/50)/3-8,\"#\"),\"CD\"&TEXT((ROW(B990)/6)+10/3-INT((ROW(B990)-4)/50)/3-8,\"#\")))","v":"sailor, fisherman"}]
[]
[]
[]
[]
[null,{"$f":"E945","v":"Extra: Noun  "},null,null,{"$f":"B945","v":"Chapter 08: Conjunction"}]
[null,{"$f":"INDIRECT( \"FlashCards!\"&IF(MOD(INT((ROW(B996)-4)/50),2)=0,\"CE\"&TEXT((ROW(B996)/6)+10/3-INT((ROW(B996)-4)/50)/3,\"#\"),\"CD\"&TEXT((ROW(B996)/6)+10/3-INT((ROW(B996)-4)/50)/3,\"#\")))","v":"fox (i.e., the animal)"},null,null,{"$f":"INDIRECT( \"FlashCards!\"&IF(MOD(INT((ROW(B996)-4)/50),2)=0,\"CE\"&TEXT((ROW(B996)/6)+10/3-INT((ROW(B996)-4)/50)/3-8,\"#\"),\"CD\"&TEXT((ROW(B996)/6)+10/3-INT((ROW(B996)-4)/50)/3-8,\"#\")))","v":"but, yet, rather (particle)"}]

{"sheet":"Index","index":3,"n_rows":2002,"n_cols":31,"rows_kept":2002,"cut":false,"hidden":false,"merged":[[12,2,14,2],[12,3,14,3],[12,4,14,4],[20,7,24,8]]}
[]
[null,null,"Lexical","English Definition","Strongs",null,null,null,null,null,null,null,null,null,null,null,null,null,"tot","offset",{"$f":"B14","v":1592},"max?","min?","all strong","number","Plus?","Comma?","cleaned","err^2","all i","min"]
[null,"▲ -10",{"$f":"VLOOKUP(S3,FlashCards!$AE$4:$AQ$2003,3,TRUE)","v":"διό"},{"$f":"VLOOKUP(S3,FlashCards!$AE$4:$AQ$2003,5,TRUE)","v":"therefore, for this reason"},{"$f":"VLOOKUP(S3,FlashCards!$AE$4:$AQ$2003,13,TRUE)","v":"1352"},null,null,null,null,null,null,null,null,null,null,null,null,null,{"$f":"W3","v":427},-10,{"$f":"$H$10+T3","v":427},{"$f":"IF(U3>$U$2,U3-$U$2,U3)","v":427},{"$f":"IF(V3<=0,V3+$U$2,V3)","v":427},{"$f":"FlashCards!AQ4","v":"0"},{"$f":"VALUE(X3)","v":0},{"$f":"IF(ISERR(FIND(\"+\",X3,1)),0,FIND(\"+\",X3,1))","v":0},{"$f":"IF(ISERR(FIND(\",\",X3,1)),0,FIND(\",\",X3,1))","v":0},{"$f":"IF(Z3>0,VALUE(LEFT(X3,Z3-1)),IF(AA3>0,VALUE(LEFT(X3,AA3-1)),IF(ISERR(Y3),VALUE(LEFT(X3,LEN(X3)-1)),Y3)))","v":0},{"$f":"(AB3-U$28)^2","v":2310400},{"$f":"FlashCards!AE4","v":1},{"$f":"IF(AB3=0,10000,AB3)","v":10000}]
[null,"▲ -  9",{"$f":"VLOOKUP(S4,FlashCards!$AE$4:$AQ$2003,3,TRUE)","v":"διοδεύω"},{"$f":"VLOOKUP(S4,FlashCards!$AE$4:$AQ$2003,5,TRUE)","v":"I pass through"},{"$f":"VLOOKUP(S4,FlashCards!$AE$4:$AQ$2003,13,TRUE)","v":"1353"},null,null,null,null,null,null,null,null,null,null,null,null,null,428,-9,428,428,{"$f":"IF(V4<=0,V4+$U$2,V4)","v":428},{"$f":"FlashCards!AQ5","v":"0"},{"$f":"VALUE(X4)","v":0},{"$f":"IF(ISERR(FIND(\"+\",X4,1)),0,FIND(\"+\",X4,1))","v":0},{"$f":"IF(ISERR(FIND(\",\",X4,1)),0,FIND(\",\",X4,1))","v":0},{"$f":"IF(Z4>0,VALUE(LEFT(X4,Z4-1)),IF(AA4>0,VALUE(LEFT(X4,AA4-1)),IF(ISERR(Y4),VALUE(LEFT(X4,LEN(X4)-1)),Y4)))","v":0},{"$f":"(AB4-U$28)^2","v":2310400},{"$f":"FlashCards!AE5","v":2},{"$f":"IF(AB4=0,10000,AB4)","v":10000}]
[null,"▲ -  8",{"$f":"VLOOKUP(S5,FlashCards!$AE$4:$AQ$2003,3,TRUE)","v":"διότι"},{"$f":"VLOOKUP(S5,FlashCards!$AE$4:$AQ$2003,5,TRUE)","v":"for, because"},{"$f":"VLOOKUP(S5,FlashCards!$AE$4:$AQ$2003,13,TRUE)","v":"1360"},null,null,null,null,null,null,null,null,null,null,null,null,null,429,-8,429,429,429,{"$f":"FlashCards!AQ6","v":"0"},0,0,0,0,2310400,{"$f":"FlashCards!AE6","v":3},10000]
[null,"▲ -  7",{"$f":"VLOOKUP(S6,FlashCards!$AE$4:$AQ$2003,3,TRUE)","v":"διψάω"},{"$f":"VLOOKUP(S6,FlashCards!$AE$4:$AQ$2003,5,TRUE)","v":"I thirst, I am thirsty"},{"$f":"VLOOKUP(S6,FlashCards!$AE$4:$AQ$2003,13,TRUE)","v":"1372"},null,"Jump to Index:",520,{"$f":"\"  (1 to \"&TEXT(B14,\"#\")&\")\"","v":"  (1 to 1592)"},null,null,null,null,null,null,null,null,null,430,-7,430,430,430,{"$f":"FlashCards!AQ7","v":"0"},0,0,0,0,2310400,{"$f":"FlashCards!AE7","v":4},10000]
[null,"▲ -  6",{"$f":"VLOOKUP(S7,FlashCards!$AE$4:$AQ$2003,3,TRUE)","v":"διωγμός"},{"$f":"VLOOKUP(S7,FlashCards!$AE$4:$AQ$2003,5,TRUE)","v":"persecution"},{"$f":"VLOOKUP(S7,FlashCards!$AE$4:$AQ$2003,13,TRUE)","v":"1375"},null,null,null,null,null,null,null,null,null,null,null,null,null,431,-6,431,431,431,{"$f":"FlashCards!AQ8","v":"0"},0,0,0,0,2310400,{"$f":"FlashCards!AE8","v":5},10000]
[null,"▲ -  5",{"$f":"VLOOKUP(S8,FlashCards!$AE$4:$AQ$2003,3,TRUE)","v":"διώκω"},{"$f":"VLOOKUP(S8,FlashCards!$AE$4:$AQ$2003,5,TRUE)","v":"I pursue, I persecute"},{"$f":"VLOOKUP(S8,FlashCards!$AE$4:$AQ$2003,13,TRUE)","v":"1377"},null,"Jump to Strongs:","1520",{"$f":"\"  (\"&TEXT(S30,\"#\")&\" to \"&TEXT(T30,\"#\")&\")\"","v":"  (11 to 5623)"},null,null,null,null,null,null,null,null,null,432,-5,432,432,432,{"$f":"FlashCards!AQ9","v":"0"},0,0,0,0,2310400,{"$f":"FlashCards!AE9","v":6},10000]
[null,"▲ -  4",{"$f":"VLOOKUP(S9,FlashCards!$AE$4:$AQ$2003,3,TRUE)","v":"δόγμα"},{"$f":"VLOOKUP(S9,FlashCards!$AE$4:$AQ$2003,5,TRUE)","v":"ordinance, decision, command"},{"$f":"VLOOKUP(S9,FlashCards!$AE$4:$AQ$2003,13,TRUE)","v":"1378"},null,null,null,null,null,null,null,null,null,null,null,null,null,433,-4,433,433,433,{"$f":"FlashCards!AQ10","v":"0"},0,0,0,0,2310400,{"$f":"FlashCards!AE10","v":7},10000]
[null,"▲ -  3",{"$f":"VLOOKUP(S10,FlashCards!$AE$4:$AQ$2003,3,TRUE)","v":"δοκέω"},{"$f":"VLOOKUP(S10,FlashCards!$AE$4:$AQ$2003,5,TRUE)","v":"I think, I seem"},{"$f":"VLOOKUP(S10,FlashCards!$AE$4:$AQ$2003,13,TRUE)","v":"1380"},null,"Index:",{"$f":"VLOOKUP($B$13,FlashCards!$AE$4:$AQ$2003,1,TRUE)","v":437},null,null,null,null,null,null,null,null,null,null,434,-3,434,434,434,{"$f":"FlashCards!AQ11","v":"0"},0,0,0,0,2310400,{"$f":"FlashCards!AE11","v":8},10000]
[null,"▲ -  2",{"$f":"VLOOKUP(S11,FlashCards!$AE$4:$AQ$2003,3,TRUE)","v":"δοκιμάζω"},{"$f":"VLOOKUP(S11,FlashCards!$AE$4:$AQ$2003,5,TRUE)","v":"I test, I approve"},{"$f":"VLOOKUP(S11,FlashCards!$AE$4:$AQ$2003,13,TRUE)","v":"1381"},null,"Strongs:",{"$f":"E13","v":"1391"},null,null,null,null,null,null,null,null,null,null,435,-2,435,435,435,{"$f":"FlashCards!AQ12","v":"0"},0,0,0,0,2310400,{"$f":"FlashCards!AE12","v":9},10000]
[null,"▲ -  1",{"$f":"VLOOKUP(S12,FlashCards!$AE$4:$AQ$2003,3,TRUE)","v":"δόλος"},{"$f":"VLOOKUP(S12,FlashCards!$AE$4:$AQ$2003,5,TRUE)","v":"deceit, treachery"},{"$f":"VLOOKUP(S12,FlashCards!$AE$4:$AQ$2003,13,TRUE)","v":"1388"},null,"Lexical:",{"$f":"C13","v":"δόξα"},null,null,null,null,null,null,null,null,null,null,436,-1,436,436,436,{"$f":"FlashCards!AQ13","v":"0"},0,0,0,0,2310400,{"$f":"FlashCards!AE13","v":10},10000]
[null,437,{"$f":"VLOOKUP($B$13,FlashCards!$AE$4:$AQ$2003,3,TRUE)","v":"δόξα"},{"$f":"VLOOKUP($B$13,FlashCards!$AE$4:$AQ$2003,5,TRUE)","v":"glory, majesty, fame"},{"$f":"VLOOKUP($B$13,FlashCards!$AE$4:$AQ$2003,13,TRUE)","v":"1391"},null,"Pronunciation:",{"$f":"VLOOKUP($B$13,FlashCards!$AE$4:$AQ$2003,6,TRUE)","v":"DOX-ah"},null,null,null,null,null,null,null,null,null,null,437,0,437,437,437,{"$f":"FlashCards!AQ14","v":"0"},0,0,0,0,2310400,{"$f":"FlashCards!AE14","v":11},10000]
[null,{"$f":"FlashCards!AR2","v":1592},null,null,null,null,"Chapter:",{"$f":"VLOOKUP($B$13,FlashCards!$AE$4:$AQ$2003,2,TRUE)","v":"04"},null,null,null,null,null,null,null,null,null,null,437,0,437,{"$f":"IF(U14>$U$2,U14-$U$2,U14)","v":437},437,{"$f":"FlashCards!AQ15","v":"0"},0,0,0,0,2310400,{"$f":"FlashCards!AE15","v":12},10000]
[null,null,null,null,null,null,"Root:",{"$f":"VLOOKUP($B$13,FlashCards!$AE$4:$AQ$2003,4,TRUE)","v":"*δοξα"},null,null,null,null,null,null,null,null,null,null,437,0,437,{"$f":"IF(U15>$U$2,U15-$U$2,U15)","v":437},437,{"$f":"FlashCards!AQ16","v":"0"},0,0,0,0,2310400,{"$f":"FlashCards!AE16","v":13},10000]
[null,"▼ +  1",{"$f":"VLOOKUP(S16,FlashCards!$AE$4:$AQ$2003,3,TRUE)","v":"δοξάζω"},{"$f":"VLOOKUP(S16,FlashCards!$AE$4:$AQ$2003,5,TRUE)","v":"I praise, I honor, I glorify"},{"$f":"VLOOKUP(S16,FlashCards!$AE$4:$AQ$2003,13,TRUE)","v":"1392"},null,"Part of Speech:",{"$f":"VLOOKUP($B$13,FlashCards!$AE$4:$AQ$2003,7,TRUE)","v":"Noun  "},null,null,null,null,null,null,null,null,null,null,438,1,438,438,438,{"$f":"FlashCards!AQ17","v":"0"},0,0,0,0,2310400,{"$f":"FlashCards!AE17","v":14},10000]
[null,"▼ +  2",{"$f":"VLOOKUP(S17,FlashCards!$AE$4:$AQ$2003,3,TRUE)","v":"δουλεύω"},{"$f":"VLOOKUP(S17,FlashCards!$AE$4:$AQ$2003,5,TRUE)","v":"I serve, I obey, I (am a) slave"},{"$f":"VLOOKUP(S17,FlashCards!$AE$4:$AQ$2003,13,TRUE)","v":"1398"},null,"Article:",{"$f":"VLOOKUP($B$13,FlashCards!$AE$4:$AQ$2003,8,TRUE)","v":"ἡ"},null,null,null,null,null,null,null,null,null,null,439,2,439,439,439,{"$f":"FlashCards!AQ18","v":"0"},0,0,0,0,2310400,{"$f":"FlashCards!AE18","v":15},10000]
[null,"▼ +  3",{"$f":"VLOOKUP(S18,FlashCards!$AE$4:$AQ$2003,3,TRUE)","v":"δοῦλος"},{"$f":"VLOOKUP(S18,FlashCards!$AE$4:$AQ$2003,5,TRUE)","v":"slave, servant"},{"$f":"VLOOKUP(S18,FlashCards!$AE$4:$AQ$2003,13,TRUE)","v":"1401"},null,"Imperfect:",{"$f":"VLOOKUP($B$13,FlashCards!$AE$4:$AQ$2003,9,TRUE)","v":" "},null,null,null,null,null,null,null,null,null,null,440,3,440,440,440,{"$f":"FlashCards!AQ19","v":"0"},0,0,0,0,2310400,{"$f":"FlashCards!AE19","v":16},10000]
[null,"▼ +  4",{"$f":"VLOOKUP(S19,FlashCards!$AE$4:$AQ$2003,3,TRUE)","v":"δράκων"},{"$f":"VLOOKUP(S19,FlashCards!$AE$4:$AQ$2003,5,TRUE)","v":"dragon, serpent"},{"$f":"VLOOKUP(S19,FlashCards!$AE$4:$AQ$2003,13,TRUE)","v":"1404"},null,"Future:",{"$f":"VLOOKUP($B$13,FlashCards!$AE$4:$AQ$2003,10,TRUE)","v":" "},null,null,null,null,null,null,null,null,null,null,441,4,441,441,441,{"$f":"FlashCards!AQ20","v":"0"},0,0,0,0,2310400,{"$f":"FlashCards!AE20","v":17},10000]
[null,"▼ +  5",{"$f":"VLOOKUP(S20,FlashCards!$AE$4:$AQ$2003,3,TRUE)","v":"δύναμαι"},{"$f":"VLOOKUP(S20,FlashCards!$AE$4:$AQ$2003,5,TRUE)","v":"I am able, I can, I am powerful"},{"$f":"VLOOKUP(S20,FlashCards!$AE$4:$AQ$2003,13,TRUE)","v":"1410"},null,"Aorist:",{"$f":"VLOOKUP($B$13,FlashCards!$AE$4:$AQ$2003,11,TRUE)","v":"  "},null,null,null,null,null,null,null,null,null,null,442,5,442,442,442,{"$f":"FlashCards!AQ21","v":"0"},0,0,0,0,2310400,{"$f":"FlashCards!AE21","v":18},10000]
[null,"▼ +  6",{"$f":"VLOOKUP(S21,FlashCards!$AE$4:$AQ$2003,3,TRUE)","v":"δύναμις"},{"$f":"VLOOKUP(S21,FlashCards!$AE$4:$AQ$2003,5,TRUE)","v":"power, miracle"},{"$f":"VLOOKUP(S21,FlashCards!$AE$4:$AQ$2003,13,TRUE)","v":"1411"},null,"Definition:",{"$f":"D13","v":"glory, majesty, fame"},null,null,null,null,null,null,null,null,null,null,443,6,443,443,443,{"$f":"FlashCards!AQ22","v":"0"},0,0,0,0,2310400,{"$f":"FlashCards!AE22","v":19},10000]
[null,"▼ +  7",{"$f":"VLOOKUP(S22,FlashCards!$AE$4:$AQ$2003,3,TRUE)","v":"δυνατός"},{"$f":"VLOOKUP(S22,FlashCards!$AE$4:$AQ$2003,5,TRUE)","v":"able, capable, possible"},{"$f":"VLOOKUP(S22,FlashCards!$AE$4:$AQ$2003,13,TRUE)","v":"1415"},null,null,null,null,null,null,null,null,null,null,null,null,null,444,7,444,444,444,{"$f":"FlashCards!AQ23","v":"0"},0,0,0,0,2310400,{"$f":"FlashCards!AE23","v":20},10000]
[null,"▼ +  8",{"$f":"VLOOKUP(S23,FlashCards!$AE$4:$AQ$2003,3,TRUE)","v":"δύο"},{"$f":"VLOOKUP(S23,FlashCards!$AE$4:$AQ$2003,5,TRUE)","v":"two"},{"$f":"VLOOKUP(S23,FlashCards!$AE$4:$AQ$2003,13,TRUE)","v":"1417"},null,null,null,null,null,null,null,null,null,null,null,null,null,445,8,445,445,445,{"$f":"FlashCards!AQ24","v":"0"},0,0,0,0,2310400,{"$f":"FlashCards!AE24","v":21},10000]
[null,"▼ +  9",{"$f":"VLOOKUP(S24,FlashCards!$AE$4:$AQ$2003,3,TRUE)","v":"δώδεκα"},{"$f":"VLOOKUP(S24,FlashCards!$AE$4:$AQ$2003,5,TRUE)","v":"twelve"},{"$f":"VLOOKUP(S24,FlashCards!$AE$4:$AQ$2003,13,TRUE)","v":"1427"},null,null,null,null,null,null,null,null,null,null,null,null,null,446,9,446,446,446,{"$f":"FlashCards!AQ25","v":"0"},0,0,0,0,2310400,{"$f":"FlashCards!AE25","v":22},10000]
[null,"▼ +10",{"$f":"VLOOKUP(S25,FlashCards!$AE$4:$AQ$2003,3,TRUE)","v":"δωρεά"},{"$f":"VLOOKUP(S25,FlashCards!$AE$4:$AQ$2003,5,TRUE)","v":"gift"},{"$f":"VLOOKUP(S25,FlashCards!$AE$4:$AQ$2003,13,TRUE)","v":"1431"},null,null,null,null,null,null,null,null,null,null,null,null,null,{"$f":"W25","v":447},10,447,447,447,{"$f":"FlashCards!AQ26","v":"0"},0,0,0,0,2310400,{"$f":"FlashCards!AE26","v":23},10000]
[null,null,null,null,null,null,null,null,null,null,null,null,null,null,null,null,null,null,null,null,null,null,null,{"$f":"FlashCards!AQ27","v":"0"},0,0,0,0,2310400,{"$f":"FlashCards!AE27","v":24},10000]
[null,null,null,null,null,null,null,null,null,null,null,null,null,null,null,null,null,null,"Strong","Number","Cleaned","Index",null,{"$f":"FlashCards!AQ28","v":"0"},0,0,0,0,2310400,{"$f":"FlashCards!AE28","v":25},10000]
[null,null,null,null,null,null,null,null,null,null,null,null,null,null,null,null,null,null,{"$f":"H8","v":"1520"},{"$f":"VALUE(S28)","v":1520},{"$f":"IF(ISERR(T28),VALUE(LEFT(S28,LEN(S28)-1)),T28)","v":1520},{"$f":"VLOOKUP(T32,AC3:AD2002,2, FALSE)","v":487},null,{"$f":"FlashCards!AQ29","v":"0"},0,0,0,0,2310400,{"$f":"FlashCards!AE29","v":26},10000]
[null,null,null,null,null,null,null,null,null,null,null,null,null,null,null,null,null,null,"Min","Max",null,null,null,{"$f":"FlashCards!AQ30","v":"0"},0,0,0,0,2310400,{"$f":"FlashCards!AE30","v":27},10000]
[null,null,null,null,null,null,null,null,null,null,null,null,null,null,null,null,null,null,{"$f":"MIN(AE3:AE2002)","v":11},{"$f":"MAX(AB3:AB2002)","v":5623},null,null,null,{"$f":"FlashCards!AQ31","v":"0"},0,0,0,0,2310400,{"$f":"FlashCards!AE31","v":28},10000]
[null,null,null,null,null,null,null,null,null,null,null,null,null,null,null,null,null,null,null,null,null,null,null,{"$f":"FlashCards!AQ32","v":"0"},0,0,0,0,2310400,{"$f":"FlashCards!AE32","v":29},10000]
[null,null,null,null,null,null,null,null,null,null,null,null,null,null,null,null,null,null,"Min err",{"$f":"MIN(AC3:AC2002)","v":0},null,null,null,{"$f":"FlashCards!AQ33","v":"0"},0,0,0,0,2310400,{"$f":"FlashCards!AE33","v":30},10000]
[null,null,null,null,null,null,null,null,null,null,null,null,null,null,null,null,null,null,null,null,null,null,null,{"$f":"FlashCards!AQ34","v":"0"},0,0,0,0,2310400,{"$f":"FlashCards!AE34","v":31},10000]
[null,null,null,null,null,null,null,null,null,null,null,null,null,null,null,null,null,null,"Progress Bar:",null,{"$f":"H10*100/B14","v":27.449748743718594},"%",null,{"$f":"FlashCards!AQ35","v":"0"},0,0,0,0,2310400,{"$f":"FlashCards!AE35","v":32},10000]
[null,null,null,null,null,null,null,null,null,null,null,null,null,null,"% from 2 to 98",null,null,null,0,{"$f":"S35/S$88*U$34","v":0},{"$f":"2+0.96*T35","v":2},0.1,null,{"$f":"FlashCards!AQ36","v":"0"},0,0,0,0,2310400,{"$f":"FlashCards!AE36","v":33},10000]
[null,null,null,null,null,null,null,null,null,null,null,null,null,null,null,null,null,null,1,{"$f":"S36/S$88*U$34","v":0.51791978761733193},{"$f":"2+0.96*T36","v":2.4972029961126387},0.1,null,{"$f":"FlashCards!AQ37","v":"0"},0,0,0,0,2310400,{"$f":"FlashCards!AE37","v":34},10000]
[null,null,null,null,null,null,null,null,null,null,null,null,null,null,null,null,null,null,2,1.0358395752346639,2.9944059922252775,0.1,null,{"$f":"FlashCards!AQ38","v":"0"},0,0,0,0,2310400,{"$f":"FlashCards!AE38","v":35},10000]
[null,null,null,null,null,null,null,null,null,null,null,null,null,null,null,null,null,null,3,1.5537593628519959,3.4916089883379158,0.1,null,{"$f":"FlashCards!AQ39","v":"0"},0,0,0,0,2310400,{"$f":"FlashCards!AE39","v":36},10000]
[null,null,null,null,null,null,null,null,null,null,null,null,null,null,null,null,null,null,4,2.0716791504693277,3.9888119844505545,0.1,null,{"$f":"FlashCards!AQ40","v":"0"},0,0,0,0,2310400,{"$f":"FlashCards!AE40","v":37},10000]
[null,null,null,null,null,null,null,null,null,null,null,null,null,null,null,null,null,null,5,2.58959893808666,4.4860149805631941,0.1,null,{"$f":"FlashCards!AQ41","v":"0"},0,0,0,0,2310400,{"$f":"FlashCards!AE41","v":38},10000]
[null,null,null,null,null,null,null,null,null,null,null,null,null,null,null,null,null,null,6,3.1075187257039918,4.9832179766758316,0.1,null,{"$f":"FlashCards!AQ42","v":"0"},0,0,0,0,2310400,{"$f":"FlashCards!AE42","v":39},10000]
[null,null,null,null,null,null,null,null,null,null,null,null,null,null,null,null,null,null,7,3.6254385133213236,5.4804209727884707,0.1,null,{"$f":"FlashCards!AQ43","v":"0"},0,0,0,0,2310400,{"$f":"FlashCards!AE43","v":40},10000]
[null,null,null,null,null,null,null,null,null,null,null,null,null,null,null,null,null,null,8,4.1433583009386554,5.977623968901109,0.1,null,{"$f":"FlashCards!AQ44","v":"0"},0,0,0,0,2310400,{"$f":"FlashCards!AE44","v":41},10000]
[null,null,null,null,null,null,null,null,null,null,null,null,null,null,null,null,null,null,9,4.6612780885559877,6.4748269650137482,0.1,null,{"$f":"FlashCards!AQ45","v":"0"},0,0,0,0,2310400,{"$f":"FlashCards!AE45","v":42},10000]
[null,null,null,null,null,null,null,null,null,null,null,null,null,null,null,null,null,null,10,5.1791978761733199,6.9720299611263874,0.1,null,{"$f":"FlashCards!AQ46","v":"0"},0,0,0,0,2310400,{"$f":"FlashCards!AE46","v":43},10000]
[null,null,null,null,null,null,null,null,null,null,null,null,null,null,null,null,null,null,11,5.6971176637906522,7.4692329572390257,0.1,null,{"$f":"FlashCards!AQ47","v":"0"},0,0,0,0,2310400,{"$f":"FlashCards!AE47","v":44},10000]
[null,null,null,null,null,null,null,null,null,null,null,null,null,null,null,null,null,null,12,6.2150374514079836,7.966435953351664,0.1,null,{"$f":"FlashCards!AQ48","v":"0"},0,0,0,0,2310400,{"$f":"FlashCards!AE48","v":45},10000]
[null,null,null,null,null,null,null,null,null,null,null,null,null,null,null,null,null,null,13,6.7329572390253158,8.4636389494643041,0.1,null,{"$f":"FlashCards!AQ49","v":"0"},0,0,0,0,2310400,{"$f":"FlashCards!AE49","v":46},10000]
[null,null,null,null,null,null,null,null,null,null,null,null,null,null,null,null,null,null,14,7.2508770266426472,8.9608419455769415,0.1,null,{"$f":"FlashCards!AQ50","v":"0"},0,0,0,0,2310400,{"$f":"FlashCards!AE50","v":47},10000]
[null,null,null,null,null,null,null,null,null,null,null,null,null,null,null,null,null,null,15,7.7687968142599795,9.4580449416895789,0.1,null,{"$f":"FlashCards!AQ51","v":"0"},0,0,0,0,2310400,{"$f":"FlashCards!AE51","v":48},10000]
[null,null,null,null,null,null,null,null,null,null,null,null,null,null,null,null,null,null,16,8.2867166018773109,9.9552479378022181,0.1,null,{"$f":"FlashCards!AQ52","v":"0"},0,0,0,0,2310400,{"$f":"FlashCards!AE52","v":49},10000]
[null,null,null,null,null,null,null,null,null,null,null,null,null,null,null,null,null,null,17,8.8046363894946431,10.452450933914857,0.1,null,{"$f":"FlashCards!AQ53","v":"0"},0,0,0,0,2310400,{"$f":"FlashCards!AE53","v":50},10000]
[null,null,null,null,null,null,null,null,null,null,null,null,null,null,null,null,null,null,18,9.3225561771119754,10.949653930027496,0.1,null,{"$f":"FlashCards!AQ54","v":"0"},0,0,0,0,2310400,{"$f":"FlashCards!AE54","v":51},10000]
[null,null,null,null,null,null,null,null,null,null,null,null,null,null,null,null,null,null,19,9.8404759647293059,11.446856926140134,0.1,null,{"$f":"FlashCards!AQ55","v":"0"},0,0,0,0,2310400,{"$f":"FlashCards!AE55","v":52},10000]
[null,null,null,null,null,null,null,null,null,null,null,null,null,null,null,null,null,null,20,10.35839575234664,11.944059922252775,0.1,null,{"$f":"FlashCards!AQ56","v":"0"},0,0,0,0,2310400,{"$f":"FlashCards!AE56","v":53},10000]
[null,null,null,null,null,null,null,null,null,null,null,null,null,null,null,null,null,null,21,10.876315539963972,12.441262918365412,0.1,null,{"$f":"FlashCards!AQ57","v":"0"},0,0,0,0,2310400,{"$f":"FlashCards!AE57","v":54},10000]
[null,null,null,null,null,null,null,null,null,null,null,null,null,null,null,null,null,null,22,11.394235327581304,12.938465914478051,0.1,null,{"$f":"FlashCards!AQ58","v":"0"},0,0,0,0,2310400,{"$f":"FlashCards!AE58","v":55},10000]
[null,null,null,null,null,null,null,null,null,null,null,null,null,null,null,null,null,null,23,11.912155115198635,13.435668910590689,0.1,null,{"$f":"FlashCards!AQ59","v":"0"},0,0,0,0,2310400,{"$f":"FlashCards!AE59","v":56},10000]
[null,null,null,null,null,null,null,null,null,null,null,null,null,null,null,null,null,null,24,12.430074902815967,13.932871906703328,0.1,null,{"$f":"FlashCards!AQ60","v":"0"},0,0,0,0,2310400,{"$f":"FlashCards!AE60","v":57},10000]
[null,null,null,null,null,null,null,null,null,null,null,null,null,null,null,null,null,null,25,12.947994690433299,14.430074902815967,0.1,null,{"$f":"FlashCards!AQ61","v":"0"},0,0,0,0,2310400,{"$f":"FlashCards!AE61","v":58},10000]
[null,null,null,null,null,null,null,null,null,null,null,null,null,null,null,null,null,null,26,13.465914478050632,14.927277898928606,0.1,null,{"$f":"FlashCards!AQ62","v":"0"},0,0,0,0,2310400,{"$f":"FlashCards!AE62","v":59},10000]
[null,null,null,null,null,null,null,null,null,null,null,null,null,null,null,null,null,null,27,13.983834265667962,15.424480895041244,0.1,null,{"$f":"FlashCards!AQ63","v":"0"},0,0,0,0,2310400,{"$f":"FlashCards!AE63","v":60},10000]
[null,null,null,null,null,null,null,null,null,null,null,null,null,null,null,null,null,null,28,14.501754053285294,15.921683891153883,0.1,null,{"$f":"FlashCards!AQ64","v":"0"},0,0,0,0,2310400,{"$f":"FlashCards!AE64","v":61},10000]
[null,null,null,null,null,null,null,null,null,null,null,null,null,null,null,null,null,null,29,15.019673840902627,16.41888688726652,0.1,null,{"$f":"FlashCards!AQ65","v":"0"},0,0,0,0,2310400,{"$f":"FlashCards!AE65","v":62},10000]
[null,null,null,null,null,null,null,null,null,null,null,null,null,null,null,null,null,null,30,15.537593628519959,16.916089883379158,0.1,null,{"$f":"FlashCards!AQ66","v":"0"},0,0,0,0,2310400,{"$f":"FlashCards!AE66","v":63},10000]
[null,null,null,null,null,null,null,null,null,null,null,null,null,null,null,null,null,null,31,16.055513416137291,17.413292879491799,0.1,null,{"$f":"FlashCards!AQ67","v":"0"},0,0,0,0,2310400,{"$f":"FlashCards!AE67","v":64},10000]
[null,null,null,null,null,null,null,null,null,null,null,null,null,null,null,null,null,null,32,16.573433203754622,17.910495875604436,0.1,null,{"$f":"FlashCards!AQ68","v":"0"},0,0,0,0,2310400,{"$f":"FlashCards!AE68","v":65},10000]
[null,null,null,null,null,null,null,null,null,null,null,null,null,null,null,null,null,null,33,17.091352991371952,18.407698871717074,0.1,null,{"$f":"FlashCards!AQ69","v":"0"},{"$f":"VALUE(X68)","v":0},{"$f":"IF(ISERR(FIND(\"+\",X68,1)),0,FIND(\"+\",X68,1))","v":0},{"$f":"IF(ISERR(FIND(\",\",X68,1)),0,FIND(\",\",X68,1))","v":0},{"$f":"IF(Z68>0,VALUE(LEFT(X68,Z68-1)),IF(AA68>0,VALUE(LEFT(X68,AA68-1)),IF(ISERR(Y68),VALUE(LEFT(X68,LEN(X68)-1)),Y68)))","v":0},{"$f":"(AB68-U$28)^2","v":2310400},{"$f":"FlashCards!AE69","v":66},{"$f":"IF(AB68=0,10000,AB68)","v":10000}]
[null,null,null,null,null,null,null,null,null,null,null,null,null,null,null,null,null,null,34,17.609272778989286,18.904901867829714,0.1,null,{"$f":"FlashCards!AQ70","v":"0"},0,0,0,0,2310400,{"$f":"FlashCards!AE70","v":67},10000]
[null,null,null,null,null,null,null,null,null,null,null,null,null,null,null,null,null,null,35,18.127192566606617,19.402104863942352,0.1,null,{"$f":"FlashCards!AQ71","v":"0"},0,0,0,0,2310400,{"$f":"FlashCards!AE71","v":68},10000]
[null,null,null,null,null,null,null,null,null,null,null,null,null,null,null,null,null,null,36,18.645112354223951,19.899307860054993,0.1,null,{"$f":"FlashCards!AQ72","v":"0"},0,0,0,0,2310400,{"$f":"FlashCards!AE72","v":69},10000]
[null,null,null,null,null,null,null,null,null,null,null,null,null,null,null,null,null,null,37,19.163032141841281,20.39651085616763,0.1,null,{"$f":"FlashCards!AQ73","v":"11"},11,0,0,11,2277081,{"$f":"FlashCards!AE73","v":70},11]
[null,null,null,null,null,null,null,null,null,null,null,null,null,null,null,null,null,null,38,19.680951929458612,20.893713852280268,0.1,null,{"$f":"FlashCards!AQ74","v":12},12,0,0,12,2274064,{"$f":"FlashCards!AE74","v":71},12]
[null,null,null,null,null,null,null,null,null,null,null,null,null,null,null,null,null,null,39,20.198871717075946,21.390916848392909,0.1,null,{"$f":"FlashCards!AQ75","v":15},15,0,0,15,2265025,{"$f":"FlashCards!AE75","v":72},15]
[null,null,null,null,null,null,null,null,null,null,null,null,null,null,null,null,null,null,40,20.71679150469328,21.88811984450555,0.1,null,{"$f":"FlashCards!AQ76","v":"18"},18,0,0,18,2256004,{"$f":"FlashCards!AE76","v":73},18]
[null,null,null,null,null,null,null,null,null,null,null,null,null,null,null,null,null,null,41,21.23471129231061,22.385322840618183,0.1,null,{"$f":"FlashCards!AQ77","v":"21"},21,0,0,21,2247001,{"$f":"FlashCards!AE77","v":74},21]
[null,null,null,null,null,null,null,null,null,null,null,null,null,null,null,null,null,null,42,21.752631079927944,22.882525836730824,0.1,null,{"$f":"FlashCards!AQ78","v":22},22,0,0,22,2244004,{"$f":"FlashCards!AE78","v":75},22]
[null,null,null,null,null,null,null,null,null,null,null,null,null,null,null,null,null,null,43,22.270550867545275,23.379728832843462,0.1,null,{"$f":"FlashCards!AQ79","v":23},23,0,0,23,2241009,{"$f":"FlashCards!AE79","v":76},23]
[null,null,null,null,null,null,null,null,null,null,null,null,null,null,null,null,null,null,44,22.788470655162609,23.876931828956103,0.1,null,{"$f":"FlashCards!AQ80","v":"25"},25,0,0,25,2235025,{"$f":"FlashCards!AE80","v":77},25]
[null,null,null,null,null,null,null,null,null,null,null,null,null,null,null,null,null,null,45,23.306390442779939,24.37413482506874,0.1,null,{"$f":"FlashCards!AQ81","v":"26"},26,0,0,26,2232036,{"$f":"FlashCards!AE81","v":78},26]
[null,null,null,null,null,null,null,null,null,null,null,null,null,null,null,null,null,null,46,23.82431023039727,24.871337821181378,0.1,null,{"$f":"FlashCards!AQ82","v":"27"},27,0,0,27,2229049,{"$f":"FlashCards!AE82","v":79},27]
[null,null,null,null,null,null,null,null,null,null,null,null,null,null,null,null,null,null,47,24.342230018014604,25.368540817294019,0.1,null,{"$f":"FlashCards!AQ83","v":"31a"},{"$error":"#VALUE!"},0,0,31,2217121,{"$f":"FlashCards!AE83","v":80},31]
[null,null,null,null,null,null,null,null,null,null,null,null,null,null,null,null,null,null,48,24.860149805631934,25.865743813406656,0.1,null,{"$f":"FlashCards!AQ84","v":"32a"},{"$error":"#VALUE!"},0,0,32,2214144,{"$f":"FlashCards!AE84","v":81},32]
[null,null,null,null,null,null,null,null,null,null,null,null,null,null,null,null,null,null,49,25.378069593249265,26.362946809519293,0.1,null,{"$f":"FlashCards!AQ85","v":34},34,0,0,34,2208196,{"$f":"FlashCards!AE85","v":82},34]
[null,null,null,null,null,null,null,null,null,null,null,null,null,null,null,null,null,null,50,25.895989380866599,26.860149805631934,0.1,null,{"$f":"FlashCards!AQ86","v":"37"},37,0,0,37,2199289,{"$f":"FlashCards!AE86","v":83},37]
[null,null,null,null,null,null,null,null,null,null,null,null,null,null,null,null,null,null,51,26.413909168483929,27.357352801744572,0.1,null,{"$f":"FlashCards!AQ87","v":"38"},38,0,0,38,2196324,{"$f":"FlashCards!AE87","v":84},38]
[null,null,null,null,null,null,null,null,null,null,null,null,null,null,null,null,null,null,52,26.931828956101263,27.854555797857213,0.1,null,{"$f":"FlashCards!AQ88","v":"40"},40,0,0,40,2190400,{"$f":"FlashCards!AE88","v":85},40]
[null,null,null,null,null,null,null,null,null,null,null,null,null,null,null,null,null,null,53,27.449748743718594,28.35175879396985,0.1,null,{"$f":"FlashCards!AQ89","v":"40"},40,0,0,40,2190400,{"$f":"FlashCards!AE89","v":86},40]
[null,null,null,null,null,null,null,null,null,null,null,null,null,null,null,null,null,null,null,null,null,null,null,{"$f":"FlashCards!AQ90","v":45},45,0,0,45,2175625,{"$f":"FlashCards!AE90","v":87},45]
[null,null,null,null,null,null,null,null,null,null,null,null,null,null,null,null,null,null,null,null,null,null,null,{"$f":"FlashCards!AQ91","v":48},48,0,0,48,2166784,{"$f":"FlashCards!AE91","v":88},48]
[null,null,null,null,null,null,null,null,null,null,null,null,null,null,null,null,null,null,null,null,null,null,null,{"$f":"FlashCards!AQ92","v":"50"},50,0,0,50,2160900,{"$f":"FlashCards!AE92","v":89},50]
[null,null,null,null,null,null,null,null,null,null,null,null,null,null,null,null,null,null,null,null,null,null,null,{"$f":"FlashCards!AQ93","v":53},53,0,0,53,2152089,{"$f":"FlashCards!AE93","v":90},53]
[null,null,null,null,null,null,null,null,null,null,null,null,null,null,null,null,null,null,null,null,null,null,null,{"$f":"FlashCards!AQ94","v":"58"},58,0,0,58,2137444,{"$f":"FlashCards!AE94","v":91},58]
[null,null,null,null,null,null,null,null,null,null,null,null,null,null,null,null,null,null,null,null,null,null,null,{"$f":"FlashCards!AQ95","v":"59"},59,0,0,59,2134521,{"$f":"FlashCards!AE95","v":92},59]
[null,null,null,null,null,null,null,null,null,null,null,null,null,null,null,null,null,null,null,null,null,null,null,{"$f":"FlashCards!AQ96","v":65},65,0,0,65,2117025,{"$f":"FlashCards!AE96","v":93},65]
[null,null,null,null,null,null,null,null,null,null,null,null,null,null,null,null,null,null,null,null,null,null,null,{"$f":"FlashCards!AQ97","v":66},66,0,0,66,2114116,{"$f":"FlashCards!AE97","v":94},66]
[null,null,null,null,null,null,null,null,null,null,null,null,null,null,null,null,null,null,null,null,null,null,null,{"$f":"FlashCards!AQ98","v":"67"},67,0,0,67,2111209,{"$f":"FlashCards!AE98","v":95},67]
[null,null,null,null,null,null,null,null,null,null,null,null,null,null,null,null,null,null,null,null,null,null,null,{"$f":"FlashCards!AQ99","v":"68"},68,0,0,68,2108304,{"$f":"FlashCards!AE99","v":96},68]
[null,null,null,null,null,null,null,null,null,null,null,null,null,null,null,null,null,null,null,null,null,null,null,{"$f":"FlashCards!AQ100","v":"71"},71,0,0,71,2099601,{"$f":"FlashCards!AE100","v":97},71]
[null,null,null,null,null,null,null,null,null,null,null,null,null,null,null,null,null,null,null,null,null,null,null,{"$f":"FlashCards!AQ101","v":73},73,0,0,73,2093809,{"$f":"FlashCards!AE101","v":98},73]
[null,null,null,null,null,null,null,null,null,null,null,null,null,null,null,null,null,null,null,null,null,null,null,{"$f":"FlashCards!AQ102","v":75},75,0,0,75,2088025,{"$f":"FlashCards!AE102","v":99},75]
[null,null,null,null,null,null,null,null,null,null,null,null,null,null,null,null,null,null,null,null,null,null,null,{"$f":"FlashCards!AQ103","v":76},76,0,0,76,2085136,{"$f":"FlashCards!AE103","v":100},76]
[null,null,null,null,null,null,null,null,null,null,null,null,null,null,null,null,null,null,null,null,null,null,null,{"$f":"FlashCards!AQ104","v":"79"},79,0,0,79,2076481,{"$f":"FlashCards!AE104","v":101},79]
[null,null,null,null,null,null,null,null,null,null,null,null,null,null,null,null,null,null,null,null,null,null,null,{"$f":"FlashCards!AQ105","v":"80"},80,0,0,80,2073600,{"$f":"FlashCards!AE105","v":102},80]
[null,null,null,null,null,null,null,null,null,null,null,null,null,null,null,null,null,null,null,null,null,null,null,{"$f":"FlashCards!AQ106","v":"86"},86,0,0,86,2056356,{"$f":"FlashCards!AE106","v":103},86]
[null,null,null,null,null,null,null,null,null,null,null,null,null,null,null,null,null,null,null,null,null,null,null,{"$f":"FlashCards!AQ107","v":"91"},91,0,0,91,2042041,{"$f":"FlashCards!AE107","v":104},91]
[null,null,null,null,null,null,null,null,null,null,null,null,null,null,null,null,null,null,null,null,null,null,null,{"$f":"FlashCards!AQ108","v":"93"},93,0,0,93,2036329,{"$f":"FlashCards!AE108","v":105},93]
[null,null,null,null,null,null,null,null,null,null,null,null,null,null,null,null,null,null,null,null,null,null,null,{"$f":"FlashCards!AQ109","v":"94"},94,0,0,94,2033476,{"$f":"FlashCards!AE109","v":106},94]
[null,null,null,null,null,null,null,null,null,null,null,null,null,null,null,null,null,null,null,null,null,null,null,{"$f":"FlashCards!AQ110","v":"96b"},{"$error":"#VALUE!"},0,0,96,2027776,{"$f":"FlashCards!AE110","v":107},96]
[null,null,null,null,null,null,null,null,null,null,null,null,null,null,null,null,null,null,null,null,null,null,null,{"$f":"FlashCards!AQ111","v":"102"},102,0,0,102,2010724,{"$f":"FlashCards!AE111","v":108},102]
[null,null,null,null,null,null,null,null,null,null,null,null,null,null,null,null,null,null,null,null,null,null,null,{"$f":"FlashCards!AQ112","v":103},103,0,0,103,2007889,{"$f":"FlashCards!AE112","v":109},103]
[null,null,null,null,null,null,null,null,null,null,null,null,null,null,null,null,null,null,null,null,null,null,null,{"$f":"FlashCards!AQ113","v":104},104,0,0,104,2005056,{"$f":"FlashCards!AE113","v":110},104]
[null,null,null,null,null,null,null,null,null,null,null,null,null,null,null,null,null,null,null,null,null,null,null,{"$f":"FlashCards!AQ114","v":105},105,0,0,105,2002225,{"$f":"FlashCards!AE114","v":111},105]
[null,null,null,null,null,null,null,null,null,null,null,null,null,null,null,null,null,null,null,null,null,null,null,{"$f":"FlashCards!AQ115","v":106},106,0,0,106,1999396,{"$f":"FlashCards!AE115","v":112},106]
[null,null,null,null,null,null,null,null,null,null,null,null,null,null,null,null,null,null,null,null,null,null,null,{"$f":"FlashCards!AQ116","v":109},109,0,0,109,1990921,{"$f":"FlashCards!AE116","v":113},109]
[null,null,null,null,null,null,null,null,null,null,null,null,null,null,null,null,null,null,null,null,null,null,null,{"$f":"FlashCards!AQ117","v":"114"},114,0,0,114,1976836,{"$f":"FlashCards!AE117","v":114},114]
[null,null,null,null,null,null,null,null,null,null,null,null,null,null,null,null,null,null,null,null,null,null,null,{"$f":"FlashCards!AQ118","v":116},116,0,0,116,1971216,{"$f":"FlashCards!AE118","v":115},116]
[null,null,null,null,null,null,null,null,null,null,null,null,null,null,null,null,null,null,null,null,null,null,null,{"$f":"FlashCards!AQ119","v":"125"},125,0,0,125,1946025,{"$f":"FlashCards!AE119","v":116},125]
[null,null,null,null,null,null,null,null,null,null,null,null,null,null,null,null,null,null,null,null,null,null,null,{"$f":"FlashCards!AQ120","v":"129"},129,0,0,129,1934881,{"$f":"FlashCards!AE120","v":117},129]
[null,null,null,null,null,null,null,null,null,null,null,null,null,null,null,null,null,null,null,null,null,null,null,{"$f":"FlashCards!AQ121","v":134},134,0,0,134,1920996,{"$f":"FlashCards!AE121","v":118},134]
[null,null,null,null,null,null,null,null,null,null,null,null,null,null,null,null,null,null,null,null,null,null,null,{"$f":"FlashCards!AQ122","v":138},138,0,0,138,1909924,{"$f":"FlashCards!AE122","v":119},138]
[null,null,null,null,null,null,null,null,null,null,null,null,null,null,null,null,null,null,null,null,null,null,null,{"$f":"FlashCards!AQ123","v":139},139,0,0,139,1907161,{"$f":"FlashCards!AE123","v":120},139]
[null,null,null,null,null,null,null,null,null,null,null,null,null,null,null,null,null,null,null,null,null,null,null,{"$f":"FlashCards!AQ124","v":"142"},142,0,0,142,1898884,{"$f":"FlashCards!AE124","v":121},142]
[null,null,null,null,null,null,null,null,null,null,null,null,null,null,null,null,null,null,null,null,null,null,null,{"$f":"FlashCards!AQ125","v":150},150,0,0,150,1876900,{"$f":"FlashCards!AE125","v":122},150]
[null,null,null,null,null,null,null,null,null,null,null,null,null,null,null,null,null,null,null,null,null,null,null,{"$f":"FlashCards!AQ126","v":152},152,0,0,152,1871424,{"$f":"FlashCards!AE126","v":123},152]
[null,null,null,null,null,null,null,null,null,null,null,null,null,null,null,null,null,null,null,null,null,null,null,{"$f":"FlashCards!AQ127","v":153},153,0,0,153,1868689,{"$f":"FlashCards!AE127","v":124},153]
[null,null,null,null,null,null,null,null,null,null,null,null,null,null,null,null,null,null,null,null,null,null,null,{"$f":"FlashCards!AQ128","v":"153"},153,0,0,153,1868689,{"$f":"FlashCards!AE128","v":125},153]
[null,null,null,null,null,null,null,null,null,null,null,null,null,null,null,null,null,null,null,null,null,null,null,{"$f":"FlashCards!AQ129","v":"154"},154,0,0,154,1865956,{"$f":"FlashCards!AE129","v":126},154]
[null,null,null,null,null,null,null,null,null,null,null,null,null,null,null,null,null,null,null,null,null,null,null,{"$f":"FlashCards!AQ130","v":"156"},156,0,0,156,1860496,{"$f":"FlashCards!AE130","v":127},156]
[null,null,null,null,null,null,null,null,null,null,null,null,null,null,null,null,null,null,null,null,null,null,null,{"$f":"FlashCards!AQ131","v":161},161,0,0,161,1846881,{"$f":"FlashCards!AE131","v":128},161]
[null,null,null,null,null,null,null,null,null,null,null,null,null,null,null,null,null,null,null,null,null,null,null,{"$f":"FlashCards!AQ132","v":163},163,0,0,163,1841449,{"$f":"FlashCards!AE132","v":129},163]
[null,null,null,null,null,null,null,null,null,null,null,null,null,null,null,null,null,null,null,null,null,null,null,{"$f":"FlashCards!AQ133","v":"165"},{"$f":"VALUE(X132)","v":165},{"$f":"IF(ISERR(FIND(\"+\",X132,1)),0,FIND(\"+\",X132,1))","v":0},{"$f":"IF(ISERR(FIND(\",\",X132,1)),0,FIND(\",\",X132,1))","v":0},{"$f":"IF(Z132>0,VALUE(LEFT(X132,Z132-1)),IF(AA132>0,VALUE(LEFT(X132,AA132-1)),IF(ISERR(Y132),VALUE(LEFT(X132,LEN(X132)-1)),Y132)))","v":165},{"$f":"(AB132-U$28)^2","v":1836025},{"$f":"FlashCards!AE133","v":130},{"$f":"IF(AB132=0,10000,AB132)","v":165}]
[null,null,null,null,null,null,null,null,null,null,null,null,null,null,null,null,null,null,null,null,null,null,null,{"$f":"FlashCards!AQ134","v":"1519, 165"},{"$error":"#VALUE!"},0,5,1519,1,{"$f":"FlashCards!AE134","v":131},1519]
[null,null,null,null,null,null,null,null,null,null,null,null,null,null,null,null,null,null,null,null,null,null,null,{"$f":"FlashCards!AQ135","v":"1519, 165"},{"$error":"#VALUE!"},0,5,1519,1,{"$f":"FlashCards!AE135","v":132},1519]
[null,null,null,null,null,null,null,null,null,null,null,null,null,null,null,null,null,null,null,null,null,null,null,{"$f":"FlashCards!AQ136","v":"166"},166,0,0,166,1833316,{"$f":"FlashCards!AE136","v":133},166]
[null,null,null,null,null,null,null,null,null,null,null,null,null,null,null,null,null,null,null,null,null,null,null,{"$f":"FlashCards!AQ137","v":"167"},167,0,0,167,1830609,{"$f":"FlashCards!AE137","v":134},167]
[null,null,null,null,null,null,null,null,null,null,null,null,null,null,null,null,null,null,null,null,null,null,null,{"$f":"FlashCards!AQ138","v":"169"},169,0,0,169,1825201,{"$f":"FlashCards!AE138","v":135},169]
[null,null,null,null,null,null,null,null,null,null,null,null,null,null,null,null,null,null,null,null,null,null,null,{"$f":"FlashCards!AQ139","v":"173"},173,0,0,173,1814409,{"$f":"FlashCards!AE139","v":136},173]
[null,null,null,null,null,null,null,null,null,null,null,null,null,null,null,null,null,null,null,null,null,null,null,{"$f":"FlashCards!AQ140","v":181},181,0,0,181,1792921,{"$f":"FlashCards!AE140","v":137},181]
[null,null,null,null,null,null,null,null,null,null,null,null,null,null,null,null,null,null,null,null,null,null,null,{"$f":"FlashCards!AQ141","v":"189"},189,0,0,189,1771561,{"$f":"FlashCards!AE141","v":138},189]
[null,null,null,null,null,null,null,null,null,null,null,null,null,null,null,null,null,null,null,null,null,null,null,{"$f":"FlashCards!AQ142","v":"190"},190,0,0,190,1768900,{"$f":"FlashCards!AE142","v":139},190]
[null,null,null,null,null,null,null,null,null,null,null,null,null,null,null,null,null,null,null,null,null,null,null,{"$f":"FlashCards!AQ143","v":"191"},191,0,0,191,1766241,{"$f":"FlashCards!AE143","v":140},191]
[null,null,null,null,null,null,null,null,null,null,null,null,null,null,null,null,null,null,null,null,null,null,null,{"$f":"FlashCards!AQ144","v":199},199,0,0,199,1745041,{"$f":"FlashCards!AE144","v":141},199]
[null,null,null,null,null,null,null,null,null,null,null,null,null,null,null,null,null,null,null,null,null,null,null,{"$f":"FlashCards!AQ145","v":"203"},203,0,0,203,1734489,{"$f":"FlashCards!AE145","v":142},203]
[null,null,null,null,null,null,null,null,null,null,null,null,null,null,null,null,null,null,null,null,null,null,null,{"$f":"FlashCards!AQ146","v":206},206,0,0,206,1726596,{"$f":"FlashCards!AE146","v":143},206]
[null,null,null,null,null,null,null,null,null,null,null,null,null,null,null,null,null,null,null,null,null,null,null,{"$f":"FlashCards!AQ147","v":"218b"},{"$error":"#VALUE!"},0,0,218,1695204,{"$f":"FlashCards!AE147","v":144},218]
[null,null,null,null,null,null,null,null,null,null,null,null,null,null,null,null,null,null,null,null,null,null,null,{"$f":"FlashCards!AQ148","v":"220"},220,0,0,220,1690000,{"$f":"FlashCards!AE148","v":145},220]
[null,null,null,null,null,null,null,null,null,null,null,null,null,null,null,null,null,null,null,null,null,null,null,{"$f":"FlashCards!AQ149","v":223},223,0,0,223,1682209,{"$f":"FlashCards!AE149","v":146},223]
[null,null,null,null,null,null,null,null,null,null,null,null,null,null,null,null,null,null,null,null,null,null,null,{"$f":"FlashCards!AQ150","v":"225"},225,0,0,225,1677025,{"$f":"FlashCards!AE150","v":147},225]
[null,null,null,null,null,null,null,null,null,null,null,null,null,null,null,null,null,null,null,null,null,null,null,{"$f":"FlashCards!AQ151","v":"227"},227,0,0,227,1671849,{"$f":"FlashCards!AE151","v":148},227]
[null,null,null,null,null,null,null,null,null,null,null,null,null,null,null,null,null,null,null,null,null,null,null,{"$f":"FlashCards!AQ152","v":"228"},228,0,0,228,1669264,{"$f":"FlashCards!AE152","v":149},228]
[null,null,null,null,null,null,null,null,null,null,null,null,null,null,null,null,null,null,null,null,null,null,null,{"$f":"FlashCards!AQ153","v":"230"},230,0,0,230,1664100,{"$f":"FlashCards!AE153","v":150},230]
[null,null,null,null,null,null,null,null,null,null,null,null,null,null,null,null,null,null,null,null,null,null,null,{"$f":"FlashCards!AQ154","v":231},231,0,0,231,1661521,{"$f":"FlashCards!AE154","v":151},231]
[null,null,null,null,null,null,null,null,null,null,null,null,null,null,null,null,null,null,null,null,null,null,null,{"$f":"FlashCards!AQ155","v":"235"},235,0,0,235,1651225,{"$f":"FlashCards!AE155","v":152},235]
[null,null,null,null,null,null,null,null,null,null,null,null,null,null,null,null,null,null,null,null,null,null,null,{"$f":"FlashCards!AQ156","v":236},236,0,0,236,1648656,{"$f":"FlashCards!AE156","v":153},236]
[null,null,null,null,null,null,null,null,null,null,null,null,null,null,null,null,null,null,null,null,null,null,null,{"$f":"FlashCards!AQ157","v":"240"},240,0,0,240,1638400,{"$f":"FlashCards!AE157","v":154},240]
[null,null,null,null,null,null,null,null,null,null,null,null,null,null,null,null,null,null,null,null,null,null,null,{"$f":"FlashCards!AQ158","v":242},242,0,0,242,1633284,{"$f":"FlashCards!AE158","v":155},242]
[null,null,null,null,null,null,null,null,null,null,null,null,null,null,null,null,null,null,null,null,null,null,null,{"$f":"FlashCards!AQ159","v":"243"},243,0,0,243,1630729,{"$f":"FlashCards!AE159","v":156},243]
[null,null,null,null,null,null,null,null,null,null,null,null,null,null,null,null,null,null,null,null,null,null,null,{"$f":"FlashCards!AQ160","v":"245"},245,0,0,245,1625625,{"$f":"FlashCards!AE160","v":157},245]
[null,null,null,null,null,null,null,null,null,null,null,null,null,null,null,null,null,null,null,null,null,null,null,{"$f":"FlashCards!AQ161","v":249},249,0,0,249,1615441,{"$f":"FlashCards!AE161","v":158},249]
[null,null,null,null,null,null,null,null,null,null,null,null,null,null,null,null,null,null,null,null,null,null,null,{"$f":"FlashCards!AQ162","v":"254"},254,0,0,254,1602756,{"$f":"FlashCards!AE162","v":159},254]
[null,null,null,null,null,null,null,null,null,null,null,null,null,null,null,null,null,null,null,null,null,null,null,{"$f":"FlashCards!AQ163","v":258},258,0,0,258,1592644,{"$f":"FlashCards!AE163","v":160},258]
[null,null,null,null,null,null,null,null,null,null,null,null,null,null,null,null,null,null,null,null,null,null,null,{"$f":"FlashCards!AQ164","v":"260"},260,0,0,260,1587600,{"$f":"FlashCards!AE164","v":161},260]
[null,null,null,null,null,null,null,null,null,null,null,null,null,null,null,null,null,null,null,null,null,null,null,{"$f":"FlashCards!AQ165","v":"260"},260,0,0,260,1587600,{"$f":"FlashCards!AE165","v":162},260]
[null,null,null,null,null,null,null,null,null,null,null,null,null,null,null,null,null,null,null,null,null,null,null,{"$f":"FlashCards!AQ166","v":"264"},264,0,0,264,1577536,{"$f":"FlashCards!AE166","v":163},264]
[null,null,null,null,null,null,null,null,null,null,null,null,null,null,null,null,null,null,null,null,null,null,null,{"$f":"FlashCards!AQ167","v":"266"},266,0,0,266,1572516,{"$f":"FlashCards!AE167","v":164},266]
[null,null,null,null,null,null,null,null,null,null,null,null,null,null,null,null,null,null,null,null,null,null,null,{"$f":"FlashCards!AQ168","v":"268"},268,0,0,268,1567504,{"$f":"FlashCards!AE168","v":165},268]
[null,null,null,null,null,null,null,null,null,null,null,null,null,null,null,null,null,null,null,null,null,null,null,{"$f":"FlashCards!AQ169","v":"268"},268,0,0,268,1567504,{"$f":"FlashCards!AE169","v":166},268]
[null,null,null,null,null,null,null,null,null,null,null,null,null,null,null,null,null,null,null,null,null,null,null,{"$f":"FlashCards!AQ170","v":272},272,0,0,272,1557504,{"$f":"FlashCards!AE170","v":167},272]
[null,null,null,null,null,null,null,null,null,null,null,null,null,null,null,null,null,null,null,null,null,null,null,{"$f":"FlashCards!AQ171","v":273},273,0,0,273,1555009,{"$f":"FlashCards!AE171","v":168},273]
[null,null,null,null,null,null,null,null,null,null,null,null,null,null,null,null,null,null,null,null,null,null,null,{"$f":"FlashCards!AQ172","v":"281"},281,0,0,281,1535121,{"$f":"FlashCards!AE172","v":169},281]
[null,null,null,null,null,null,null,null,null,null,null,null,null,null,null,null,null,null,null,null,null,null,null,{"$f":"FlashCards!AQ173","v":283},283,0,0,283,1530169,{"$f":"FlashCards!AE173","v":170},283]
[null,null,null,null,null,null,null,null,null,null,null,null,null,null,null,null,null,null,null,null,null,null,null,{"$f":"FlashCards!AQ174","v":285},285,0,0,285,1525225,{"$f":"FlashCards!AE174","v":171},285]
[null,null,null,null,null,null,null,null,null,null,null,null,null,null,null,null,null,null,null,null,null,null,null,{"$f":"FlashCards!AQ175","v":286},286,0,0,286,1522756,{"$f":"FlashCards!AE175","v":172},286]
[null,null,null,null,null,null,null,null,null,null,null,null,null,null,null,null,null,null,null,null,null,null,null,{"$f":"FlashCards!AQ176","v":288},288,0,0,288,1517824,{"$f":"FlashCards!AE176","v":173},288]
[null,null,null,null,null,null,null,null,null,null,null,null,null,null,null,null,null,null,null,null,null,null,null,{"$f":"FlashCards!AQ177","v":"290"},290,0,0,290,1512900,{"$f":"FlashCards!AE177","v":174},290]
[null,null,null,null,null,null,null,null,null,null,null,null,null,null,null,null,null,null,null,null,null,null,null,{"$f":"FlashCards!AQ178","v":"294"},294,0,0,294,1503076,{"$f":"FlashCards!AE178","v":175},294]
[null,null,null,null,null,null,null,null,null,null,null,null,null,null,null,null,null,null,null,null,null,null,null,{"$f":"FlashCards!AQ179","v":"297"},297,0,0,297,1495729,{"$f":"FlashCards!AE179","v":176},297]
[null,null,null,null,null,null,null,null,null,null,null,null,null,null,null,null,null,null,null,null,null,null,null,{"$f":"FlashCards!AQ180","v":"299b"},{"$error":"#VALUE!"},0,0,299,1490841,{"$f":"FlashCards!AE180","v":177},299]
[null,null,null,null,null,null,null,null,null,null,null,null,null,null,null,null,null,null,null,null,null,null,null,{"$f":"FlashCards!AQ181","v":"302"},302,0,0,302,1483524,{"$f":"FlashCards!AE181","v":178},302]
[null,null,null,null,null,null,null,null,null,null,null,null,null,null,null,null,null,null,null,null,null,null,null,{"$f":"FlashCards!AQ182","v":"302"},302,0,0,302,1483524,{"$f":"FlashCards!AE182","v":179},302]
[null,null,null,null,null,null,null,null,null,null,null,null,null,null,null,null,null,null,null,null,null,null,null,{"$f":"FlashCards!AQ183","v":"303"},303,0,0,303,1481089,{"$f":"FlashCards!AE183","v":180},303]
[null,null,null,null,null,null,null,null,null,null,null,null,null,null,null,null,null,null,null,null,null,null,null,{"$f":"FlashCards!AQ184","v":"305"},305,0,0,305,1476225,{"$f":"FlashCards!AE184","v":181},305]
[null,null,null,null,null,null,null,null,null,null,null,null,null,null,null,null,null,null,null,null,null,null,null,{"$f":"FlashCards!AQ185","v":"308"},308,0,0,308,1468944,{"$f":"FlashCards!AE185","v":182},308]
[null,null,null,null,null,null,null,null,null,null,null,null,null,null,null,null,null,null,null,null,null,null,null,{"$f":"FlashCards!AQ186","v":"312"},312,0,0,312,1459264,{"$f":"FlashCards!AE186","v":183},312]
[null,null,null,null,null,null,null,null,null,null,null,null,null,null,null,null,null,null,null,null,null,null,null,{"$f":"FlashCards!AQ187","v":"314"},314,0,0,314,1454436,{"$f":"FlashCards!AE187","v":184},314]
[null,null,null,null,null,null,null,null,null,null,null,null,null,null,null,null,null,null,null,null,null,null,null,{"$f":"FlashCards!AQ188","v":"315"},315,0,0,315,1452025,{"$f":"FlashCards!AE188","v":185},315]
[null,null,null,null,null,null,null,null,null,null,null,null,null,null,null,null,null,null,null,null,null,null,null,{"$f":"FlashCards!AQ189","v":316},316,0,0,316,1449616,{"$f":"FlashCards!AE189","v":186},316]
[null,null,null,null,null,null,null,null,null,null,null,null,null,null,null,null,null,null,null,null,null,null,null,{"$f":"FlashCards!AQ190","v":"318"},318,0,0,318,1444804,{"$f":"FlashCards!AE190","v":187},318]
[null,null,null,null,null,null,null,null,null,null,null,null,null,null,null,null,null,null,null,null,null,null,null,{"$f":"FlashCards!AQ191","v":"321"},321,0,0,321,1437601,{"$f":"FlashCards!AE191","v":188},321]
[null,null,null,null,null,null,null,null,null,null,null,null,null,null,null,null,null,null,null,null,null,null,null,{"$f":"FlashCards!AQ192","v":"337"},337,0,0,337,1399489,{"$f":"FlashCards!AE192","v":189},337]
[null,null,null,null,null,null,null,null,null,null,null,null,null,null,null,null,null,null,null,null,null,null,null,{"$f":"FlashCards!AQ193","v":"345"},345,0,0,345,1380625,{"$f":"FlashCards!AE193","v":190},345]
[null,null,null,null,null,null,null,null,null,null,null,null,null,null,null,null,null,null,null,null,null,null,null,{"$f":"FlashCards!AQ194","v":"350"},350,0,0,350,1368900,{"$f":"FlashCards!AE194","v":191},350]
[null,null,null,null,null,null,null,null,null,null,null,null,null,null,null,null,null,null,null,null,null,null,null,{"$f":"FlashCards!AQ195","v":"353"},353,0,0,353,1361889,{"$f":"FlashCards!AE195","v":192},353]
[null,null,null,null,null,null,null,null,null,null,null,null,null,null,null,null,null,null,null,null,null,null,null,{"$f":"FlashCards!AQ196","v":"367"},367,0,0,367,1329409,{"$f":"FlashCards!AE196","v":193},367]
[null,null,null,null,null,null,null,null,null,null,null,null,null,null,null,null,null,null,null,null,null,null,null,{"$f":"FlashCards!AQ197","v":"373"},{"$f":"VALUE(X196)","v":373},{"$f":"IF(ISERR(FIND(\"+\",X196,1)),0,FIND(\"+\",X196,1))","v":0},{"$f":"IF(ISERR(FIND(\",\",X196,1)),0,FIND(\",\",X196,1))","v":0},{"$f":"IF(Z196>0,VALUE(LEFT(X196,Z196-1)),IF(AA196>0,VALUE(LEFT(X196,AA196-1)),IF(ISERR(Y196),VALUE(LEFT(X196,LEN(X196)-1)),Y196)))","v":373},{"$f":"(AB196-U$28)^2","v":1315609},{"$f":"FlashCards!AE197","v":194},{"$f":"IF(AB196=0,10000,AB196)","v":373}]
[null,null,null,null,null,null,null,null,null,null,null,null,null,null,null,null,null,null,null,null,null,null,null,{"$f":"FlashCards!AQ198","v":"377"},377,0,0,377,1306449,{"$f":"FlashCards!AE198","v":195},377]
[null,null,null,null,null,null,null,null,null,null,null,null,null,null,null,null,null,null,null,null,null,null,null,{"$f":"FlashCards!AQ199","v":"386"},386,0,0,386,1285956,{"$f":"FlashCards!AE199","v":196},386]
[null,null,null,null,null,null,null,null,null,null,null,null,null,null,null,null,null,null,null,null,null,null,null,{"$f":"FlashCards!AQ200","v":"391"},391,0,0,391,1274641,{"$f":"FlashCards!AE200","v":197},391]
[null,null,null,null,null,null,null,null,null,null,null,null,null,null,null,null,null,null,null,null,null,null,null,{"$f":"FlashCards!AQ201","v":"395"},395,0,0,395,1265625,{"$f":"FlashCards!AE201","v":198},395]
[null,null,null,null,null,null,null,null,null,null,null,null,null,null,null,null,null,null,null,null,null,null,null,{"$f":"FlashCards!AQ202","v":"399"},399,0,0,399,1256641,{"$f":"FlashCards!AE202","v":199},399]
[null,null,null,null,null,null,null,null,null,null,null,null,null,null,null,null,null,null,null,null,null,null,null,{"$f":"FlashCards!AQ203","v":"402"},402,0,0,402,1249924,{"$f":"FlashCards!AE203","v":200},402]
[null,null,null,null,null,null,null,null,null,null,null,null,null,null,null,null,null,null,null,null,null,null,null,{"$f":"FlashCards!AQ204","v":"406"},406,0,0,406,1240996,{"$f":"FlashCards!AE204","v":201},406]
[null,null,null,null,null,null,null,null,null,null,null,null,null,null,null,null,null,null,null,null,null,null,null,{"$f":"FlashCards!AQ205","v":"417"},417,0,0,417,1216609,{"$f":"FlashCards!AE205","v":202},417]
[null,null,null,null,null,null,null,null,null,null,null,null,null,null,null,null,null,null,null,null,null,null,null,{"$f":"FlashCards!AQ206","v":"430"},430,0,0,430,1188100,{"$f":"FlashCards!AE206","v":203},430]
[null,null,null,null,null,null,null,null,null,null,null,null,null,null,null,null,null,null,null,null,null,null,null,{"$f":"FlashCards!AQ207","v":"435"},435,0,0,435,1177225,{"$f":"FlashCards!AE207","v":204},435]
[null,null,null,null,null,null,null,null,null,null,null,null,null,null,null,null,null,null,null,null,null,null,null,{"$f":"FlashCards!AQ208","v":"435"},435,0,0,435,1177225,{"$f":"FlashCards!AE208","v":205},435]
[null,null,null,null,null,null,null,null,null,null,null,null,null,null,null,null,null,null,null,null,null,null,null,{"$f":"FlashCards!AQ209","v":"436"},436,0,0,436,1175056,{"$f":"FlashCards!AE209","v":206},436]
[null,null,null,null,null,null,null,null,null,null,null,null,null,null,null,null,null,null,null,null,null,null,null,{"$f":"FlashCards!AQ210","v":"444"},444,0,0,444,1157776,{"$f":"FlashCards!AE210","v":207},444]
[null,null,null,null,null,null,null,null,null,null,null,null,null,null,null,null,null,null,null,null,null,null,null,{"$f":"FlashCards!AQ211","v":"450"},450,0,0,450,1144900,{"$f":"FlashCards!AE211","v":208},450]
[null,null,null,null,null,null,null,null,null,null,null,null,null,null,null,null,null,null,null,null,null,null,null,{"$f":"FlashCards!AQ212","v":"454"},454,0,0,454,1136356,{"$f":"FlashCards!AE212","v":209},454]
[null,null,null,null,null,null,null,null,null,null,null,null,null,null,null,null,null,null,null,null,null,null,null,{"$f":"FlashCards!AQ213","v":"455"},455,0,0,455,1134225,{"$f":"FlashCards!AE213","v":210},455]
[null,null,null,null,null,null,null,null,null,null,null,null,null,null,null,null,null,null,null,null,null,null,null,{"$f":"FlashCards!AQ214","v":"458"},458,0,0,458,1127844,{"$f":"FlashCards!AE214","v":211},458]
[null,null,null,null,null,null,null,null,null,null,null,null,null,null,null,null,null,null,null,null,null,null,null,{"$f":"FlashCards!AQ215","v":"473"},473,0,0,473,1096209,{"$f":"FlashCards!AE215","v":212},473]
[null,null,null,null,null,null,null,null,null,null,null,null,null,null,null,null,null,null,null,null,null,null,null,{"$f":"FlashCards!AQ216","v":"474"},474,0,0,474,1094116,{"$f":"FlashCards!AE216","v":213},474]
[null,null,null,null,null,null,null,null,null,null,null,null,null,null,null,null,null,null,null,null,null,null,null,{"$f":"FlashCards!AQ217","v":"490"},490,0,0,490,1060900,{"$f":"FlashCards!AE217","v":214},490]
[null,null,null,null,null,null,null,null,null,null,null,null,null,null,null,null,null,null,null,null,null,null,null,{"$f":"FlashCards!AQ218","v":"507"},507,0,0,507,1026169,{"$f":"FlashCards!AE218","v":215},507]
[null,null,null,null,null,null,null,null,null,null,null,null,null,null,null,null,null,null,null,null,null,null,null,{"$f":"FlashCards!AQ219","v":"509"},509,0,0,509,1022121,{"$f":"FlashCards!AE219","v":216},509]
[null,null,null,null,null,null,null,null,null,null,null,null,null,null,null,null,null,null,null,null,null,null,null,{"$f":"FlashCards!AQ220","v":"514"},514,0,0,514,1012036,{"$f":"FlashCards!AE220","v":217},514]
[null,null,null,null,null,null,null,null,null,null,null,null,null,null,null,null,null,null,null,null,null,null,null,{"$f":"FlashCards!AQ221","v":"518"},518,0,0,518,1004004,{"$f":"FlashCards!AE221","v":218},518]
[null,null,null,null,null,null,null,null,null,null,null,null,null,null,null,null,null,null,null,null,null,null,null,{"$f":"FlashCards!AQ222","v":"520"},520,0,0,520,1000000,{"$f":"FlashCards!AE222","v":219},520]
[null,null,null,null,null,null,null,null,null,null,null,null,null,null,null,null,null,null,null,null,null,null,null,{"$f":"FlashCards!AQ223","v":"530"},530,0,0,530,980100,{"$f":"FlashCards!AE223","v":220},530]
[null,null,null,null,null,null,null,null,null,null,null,null,null,null,null,null,null,null,null,null,null,null,null,{"$f":"FlashCards!AQ224","v":"533"},533,0,0,533,974169,{"$f":"FlashCards!AE224","v":221},533]
[null,null,null,null,null,null,null,null,null,null,null,null,null,null,null,null,null,null,null,null,null,null,null,{"$f":"FlashCards!AQ225","v":"537a"},{"$error":"#VALUE!"},0,0,537,966289,{"$f":"FlashCards!AE225","v":222},537]
[null,null,null,null,null,null,null,null,null,null,null,null,null,null,null,null,null,null,null,null,null,null,null,{"$f":"FlashCards!AQ226","v":"544"},544,0,0,544,952576,{"$f":"FlashCards!AE226","v":223},544]
[null,null,null,null,null,null,null,null,null,null,null,null,null,null,null,null,null,null,null,null,null,null,null,{"$f":"FlashCards!AQ227","v":"565"},565,0,0,565,912025,{"$f":"FlashCards!AE227","v":224},565]
[null,null,null,null,null,null,null,null,null,null,null,null,null,null,null,null,null,null,null,null,null,null,null,{"$f":"FlashCards!AQ228","v":"568"},568,0,0,568,906304,{"$f":"FlashCards!AE228","v":225},568]
[null,null,null,null,null,null,null,null,null,null,null,null,null,null,null,null,null,null,null,null,null,null,null,{"$f":"FlashCards!AQ229","v":"570"},570,0,0,570,902500,{"$f":"FlashCards!AE229","v":226},570]
[null,null,null,null,null,null,null,null,null,null,null,null,null,null,null,null,null,null,null,null,null,null,null,{"$f":"FlashCards!AQ230","v":"571"},571,0,0,571,900601,{"$f":"FlashCards!AE230","v":227},571]
[null,null,null,null,null,null,null,null,null,null,null,null,null,null,null,null,null,null,null,null,null,null,null,{"$f":"FlashCards!AQ231","v":"575"},575,0,0,575,893025,{"$f":"FlashCards!AE231","v":228},575]
[null,null,null,null,null,null,null,null,null,null,null,null,null,null,null,null,null,null,null,null,null,null,null,{"$f":"FlashCards!AQ232","v":"591"},591,0,0,591,863041,{"$f":"FlashCards!AE232","v":229},591]
[null,null,null,null,null,null,null,null,null,null,null,null,null,null,null,null,null,null,null,null,null,null,null,{"$f":"FlashCards!AQ233","v":"599"},599,0,0,599,848241,{"$f":"FlashCards!AE233","v":230},599]
[null,null,null,null,null,null,null,null,null,null,null,null,null,null,null,null,null,null,null,null,null,null,null,{"$f":"FlashCards!AQ234","v":"600"},600,0,0,600,846400,{"$f":"FlashCards!AE234","v":231},600]
[null,null,null,null,null,null,null,null,null,null,null,null,null,null,null,null,null,null,null,null,null,null,null,{"$f":"FlashCards!AQ235","v":"601"},601,0,0,601,844561,{"$f":"FlashCards!AE235","v":232},601]
[null,null,null,null,null,null,null,null,null,null,null,null,null,null,null,null,null,null,null,null,null,null,null,{"$f":"FlashCards!AQ236","v":"602"},602,0,0,602,842724,{"$f":"FlashCards!AE236","v":233},602]
[null,null,null,null,null,null,null,null,null,null,null,null,null,null,null,null,null,null,null,null,null,null,null,{"$f":"FlashCards!AQ237","v":"611"},611,0,0,611,826281,{"$f":"FlashCards!AE237","v":234},611]
[null,null,null,null,null,null,null,null,null,null,null,null,null,null,null,null,null,null,null,null,null,null,null,{"$f":"FlashCards!AQ238","v":"611"},611,0,0,611,826281,{"$f":"FlashCards!AE238","v":235},611]
[null,null,null,null,null,null,null,null,null,null,null,null,null,null,null,null,null,null,null,null,null,null,null,{"$f":"FlashCards!AQ239","v":"615"},615,0,0,615,819025,{"$f":"FlashCards!AE239","v":236},615]
[null,null,null,null,null,null,null,null,null,null,null,null,null,null,null,null,null,null,null,null,null,null,null,{"$f":"FlashCards!AQ240","v":"618"},618,0,0,618,813604,{"$f":"FlashCards!AE240","v":237},618]
[null,null,null,null,null,null,null,null,null,null,null,null,null,null,null,null,null,null,null,null,null,null,null,{"$f":"FlashCards!AQ241","v":"622"},622,0,0,622,806404,{"$f":"FlashCards!AE241","v":238},622]
[null,null,null,null,null,null,null,null,null,null,null,null,null,null,null,null,null,null,null,null,null,null,null,{"$f":"FlashCards!AQ242","v":"622"},622,0,0,622,806404,{"$f":"FlashCards!AE242","v":239},622]
[null,null,null,null,null,null,null,null,null,null,null,null,null,null,null,null,null,null,null,null,null,null,null,{"$f":"FlashCards!AQ243","v":"625"},625,0,0,625,801025,{"$f":"FlashCards!AE243","v":240},625]
[null,null,null,null,null,null,null,null,null,null,null,null,null,null,null,null,null,null,null,null,null,null,null,{"$f":"FlashCards!AQ244","v":"626"},626,0,0,626,799236,{"$f":"FlashCards!AE244","v":241},626]
[null,null,null,null,null,null,null,null,null,null,null,null,null,null,null,null,null,null,null,null,null,null,null,{"$f":"FlashCards!AQ245","v":"627"},627,0,0,627,797449,{"$f":"FlashCards!AE245","v":242},627]
[null,null,null,null,null,null,null,null,null,null,null,null,null,null,null,null,null,null,null,null,null,null,null,{"$f":"FlashCards!AQ246","v":"629"},629,0,0,629,793881,{"$f":"FlashCards!AE246","v":243},629]
[null,null,null,null,null,null,null,null,null,null,null,null,null,null,null,null,null,null,null,null,null,null,null,{"$f":"FlashCards!AQ247","v":"630"},630,0,0,630,792100,{"$f":"FlashCards!AE247","v":244},630]
[null,null,null,null,null,null,null,null,null,null,null,null,null,null,null,null,null,null,null,null,null,null,null,{"$f":"FlashCards!AQ248","v":"639"},639,0,0,639,776161,{"$f":"FlashCards!AE248","v":245},639]
[null,null,null,null,null,null,null,null,null,null,null,null,null,null,null,null,null,null,null,null,null,null,null,{"$f":"FlashCards!AQ249","v":"649"},649,0,0,649,758641,{"$f":"FlashCards!AE249","v":246},649]
[null,null,null,null,null,null,null,null,null,null,null,null,null,null,null,null,null,null,null,null,null,null,null,{"$f":"FlashCards!AQ250","v":"652"},652,0,0,652,753424,{"$f":"FlashCards!AE250","v":247},652]
[null,null,null,null,null,null,null,null,null,null,null,null,null,null,null,null,null,null,null,null,null,null,null,{"$f":"FlashCards!AQ251","v":"681"},681,0,0,681,703921,{"$f":"FlashCards!AE251","v":248},681]
[null,null,null,null,null,null,null,null,null,null,null,null,null,null,null,null,null,null,null,null,null,null,null,{"$f":"FlashCards!AQ252","v":"684"},684,0,0,684,698896,{"$f":"FlashCards!AE252","v":249},684]
[null,null,null,null,null,null,null,null,null,null,null,null,null,null,null,null,null,null,null,null,null,null,null,{"$f":"FlashCards!AQ253","v":"686"},686,0,0,686,695556,{"$f":"FlashCards!AE253","v":250},686]
[null,null,null,null,null,null,null,null,null,null,null,null,null,null,null,null,null,null,null,null,null,null,null,{"$f":"FlashCards!AQ254","v":"686+1065"},{"$error":"#VALUE!"},4,0,686,695556,{"$f":"FlashCards!AE254","v":251},686]
[null,null,null,null,null,null,null,null,null,null,null,null,null,null,null,null,null,null,null,null,null,null,null,{"$f":"FlashCards!AQ255","v":"687"},687,0,0,687,693889,{"$f":"FlashCards!AE255","v":252},687]
[null,null,null,null,null,null,null,null,null,null,null,null,null,null,null,null,null,null,null,null,null,null,null,{"$f":"FlashCards!AQ256","v":"694"},694,0,0,694,682276,{"$f":"FlashCards!AE256","v":253},694]
[null,null,null,null,null,null,null,null,null,null,null,null,null,null,null,null,null,null,null,null,null,null,null,{"$f":"FlashCards!AQ257","v":"700"},700,0,0,700,672400,{"$f":"FlashCards!AE257","v":254},700]
[null,null,null,null,null,null,null,null,null,null,null,null,null,null,null,null,null,null,null,null,null,null,null,{"$f":"FlashCards!AQ258","v":"701"},701,0,0,701,670761,{"$f":"FlashCards!AE258","v":255},701]
[null,null,null,null,null,null,null,null,null,null,null,null,null,null,null,null,null,null,null,null,null,null,null,{"$f":"FlashCards!AQ259","v":"706"},706,0,0,706,662596,{"$f":"FlashCards!AE259","v":256},706]
[null,null,null,null,null,null,null,null,null,null,null,null,null,null,null,null,null,null,null,null,null,null,null,{"$f":"FlashCards!AQ260","v":"714"},714,0,0,714,649636,{"$f":"FlashCards!AE260","v":257},714]
[null,null,null,null,null,null,null,null,null,null,null,null,null,null,null,null,null,null,null,null,null,null,null,{"$f":"FlashCards!AQ261","v":"720"},{"$f":"VALUE(X260)","v":720},{"$f":"IF(ISERR(FIND(\"+\",X260,1)),0,FIND(\"+\",X260,1))","v":0},{"$f":"IF(ISERR(FIND(\",\",X260,1)),0,FIND(\",\",X260,1))","v":0},{"$f":"IF(Z260>0,VALUE(LEFT(X260,Z260-1)),IF(AA260>0,VALUE(LEFT(X260,AA260-1)),IF(ISERR(Y260),VALUE(LEFT(X260,LEN(X260)-1)),Y260)))","v":720},{"$f":"(AB260-U$28)^2","v":640000},{"$f":"FlashCards!AE261","v":258},{"$f":"IF(AB260=0,10000,AB260)","v":720}]
[null,null,null,null,null,null,null,null,null,null,null,null,null,null,null,null,null,null,null,null,null,null,null,{"$f":"FlashCards!AQ262","v":"721b"},{"$error":"#VALUE!"},0,0,721,638401,{"$f":"FlashCards!AE262","v":259},721]
[null,null,null,null,null,null,null,null,null,null,null,null,null,null,null,null,null,null,null,null,null,null,null,{"$f":"FlashCards!AQ263","v":"726"},726,0,0,726,630436,{"$f":"FlashCards!AE263","v":260},726]
[null,null,null,null,null,null,null,null,null,null,null,null,null,null,null,null,null,null,null,null,null,null,null,{"$f":"FlashCards!AQ264","v":"737"},737,0,0,737,613089,{"$f":"FlashCards!AE264","v":261},737]
[null,null,null,null,null,null,null,null,null,null,null,null,null,null,null,null,null,null,null,null,null,null,null,{"$f":"FlashCards!AQ265","v":"740"},740,0,0,740,608400,{"$f":"FlashCards!AE265","v":262},740]
[null,null,null,null,null,null,null,null,null,null,null,null,null,null,null,null,null,null,null,null,null,null,null,{"$f":"FlashCards!AQ266","v":"744"},744,0,0,744,602176,{"$f":"FlashCards!AE266","v":263},744]
[null,null,null,null,null,null,null,null,null,null,null,null,null,null,null,null,null,null,null,null,null,null,null,{"$f":"FlashCards!AQ267","v":"746"},746,0,0,746,599076,{"$f":"FlashCards!AE267","v":264},746]
[null,null,null,null,null,null,null,null,null,null,null,null,null,null,null,null,null,null,null,null,null,null,null,{"$f":"FlashCards!AQ268","v":"749"},749,0,0,749,594441,{"$f":"FlashCards!AE268","v":265},749]
[null,null,null,null,null,null,null,null,null,null,null,null,null,null,null,null,null,null,null,null,null,null,null,{"$f":"FlashCards!AQ269","v":"756, 757"},{"$error":"#VALUE!"},0,4,756,583696,{"$f":"FlashCards!AE269","v":266},756]
[null,null,null,null,null,null,null,null,null,null,null,null,null,null,null,null,null,null,null,null,null,null,null,{"$f":"FlashCards!AQ270","v":"758"},758,0,0,758,580644,{"$f":"FlashCards!AE270","v":267},758]
[null,null,null,null,null,null,null,null,null,null,null,null,null,null,null,null,null,null,null,null,null,null,null,{"$f":"FlashCards!AQ271","v":"766"},766,0,0,766,568516,{"$f":"FlashCards!AE271","v":268},766]
[null,null,null,null,null,null,null,null,null,null,null,null,null,null,null,null,null,null,null,null,null,null,null,{"$f":"FlashCards!AQ272","v":"769"},769,0,0,769,564001,{"$f":"FlashCards!AE272","v":269},769]
[null,null,null,null,null,null,null,null,null,null,null,null,null,null,null,null,null,null,null,null,null,null,null,{"$f":"FlashCards!AQ273","v":"770"},770,0,0,770,562500,{"$f":"FlashCards!AE273","v":270},770]
[null,null,null,null,null,null,null,null,null,null,null,null,null,null,null,null,null,null,null,null,null,null,null,{"$f":"FlashCards!AQ274","v":"772"},772,0,0,772,559504,{"$f":"FlashCards!AE274","v":271},772]
[null,null,null,null,null,null,null,null,null,null,null,null,null,null,null,null,null,null,null,null,null,null,null,{"$f":"FlashCards!AQ275","v":"773"},773,0,0,773,558009,{"$f":"FlashCards!AE275","v":272},773]
[null,null,null,null,null,null,null,null,null,null,null,null,null,null,null,null,null,null,null,null,null,null,null,{"$f":"FlashCards!AQ276","v":"779"},779,0,0,779,549081,{"$f":"FlashCards!AE276","v":273},779]
[null,null,null,null,null,null,null,null,null,null,null,null,null,null,null,null,null,null,null,null,null,null,null,{"$f":"FlashCards!AQ277","v":"782"},782,0,0,782,544644,{"$f":"FlashCards!AE277","v":274},782]
[null,null,null,null,null,null,null,null,null,null,null,null,null,null,null,null,null,null,null,null,null,null,null,{"$f":"FlashCards!AQ278","v":"783"},783,0,0,783,543169,{"$f":"FlashCards!AE278","v":275},783]
[null,null,null,null,null,null,null,null,null,null,null,null,null,null,null,null,null,null,null,null,null,null,null,{"$f":"FlashCards!AQ279","v":"792"},792,0,0,792,529984,{"$f":"FlashCards!AE279","v":276},792]
[null,null,null,null,null,null,null,null,null,null,null,null,null,null,null,null,null,null,null,null,null,null,null,{"$f":"FlashCards!AQ280","v":"797"},797,0,0,797,522729,{"$f":"FlashCards!AE280","v":277},797]
[null,null,null,null,null,null,null,null,null,null,null,null,null,null,null,null,null,null,null,null,null,null,null,{"$f":"FlashCards!AQ281","v":"800a"},{"$error":"#VALUE!"},0,0,800,518400,{"$f":"FlashCards!AE281","v":278},800]
[null,null,null,null,null,null,null,null,null,null,null,null,null,null,null,null,null,null,null,null,null,null,null,{"$f":"FlashCards!AQ282","v":"816"},816,0,0,816,495616,{"$f":"FlashCards!AE282","v":279},816]
[null,null,null,null,null,null,null,null,null,null,null,null,null,null,null,null,null,null,null,null,null,null,null,{"$f":"FlashCards!AQ283","v":"833"},833,0,0,833,471969,{"$f":"FlashCards!AE283","v":280},833]
[null,null,null,null,null,null,null,null,null,null,null,null,null,null,null,null,null,null,null,null,null,null,null,{"$f":"FlashCards!AQ284","v":"837"},837,0,0,837,466489,{"$f":"FlashCards!AE284","v":281},837]
[null,null,null,null,null,null,null,null,null,null,null,null,null,null,null,null,null,null,null,null,null,null,null,{"$f":"FlashCards!AQ285","v":"839"},839,0,0,839,463761,{"$f":"FlashCards!AE285","v":282},839]
[null,null,null,null,null,null,null,null,null,null,null,null,null,null,null,null,null,null,null,null,null,null,null,{"$f":"FlashCards!AQ286","v":"846"},846,0,0,846,454276,{"$f":"FlashCards!AE286","v":283},846]
[null,null,null,null,null,null,null,null,null,null,null,null,null,null,null,null,null,null,null,null,null,null,null,{"$f":"FlashCards!AQ287","v":"846"},846,0,0,846,454276,{"$f":"FlashCards!AE287","v":284},846]
[null,null,null,null,null,null,null,null,null,null,null,null,null,null,null,null,null,null,null,null,null,null,null,{"$f":"FlashCards!AQ288","v":"846"},846,0,0,846,454276,{"$f":"FlashCards!AE288","v":285},846]
[null,null,null,null,null,null,null,null,null,null,null,null,null,null,null,null,null,null,null,null,null,null,null,{"$f":"FlashCards!AQ289","v":"846"},846,0,0,846,454276,{"$f":"FlashCards!AE289","v":286},846]
[null,null,null,null,null,null,null,null,null,null,null,null,null,null,null,null,null,null,null,null,null,null,null,{"$f":"FlashCards!AQ290","v":"846"},846,0,0,846,454276,{"$f":"FlashCards!AE290","v":287},846]
[null,null,null,null,null,null,null,null,null,null,null,null,null,null,null,null,null,null,null,null,null,null,null,{"$f":"FlashCards!AQ291","v":"846"},846,0,0,846,454276,{"$f":"FlashCards!AE291","v":288},846]
[null,null,null,null,null,null,null,null,null,null,null,null,null,null,null,null,null,null,null,null,null,null,null,{"$f":"FlashCards!AQ292","v":"846"},846,0,0,846,454276,{"$f":"FlashCards!AE292","v":289},846]
[null,null,null,null,null,null,null,null,null,null,null,null,null,null,null,null,null,null,null,null,null,null,null,{"$f":"FlashCards!AQ293","v":"846"},846,0,0,846,454276,{"$f":"FlashCards!AE293","v":290},846]
[null,null,null,null,null,null,null,null,null,null,null,null,null,null,null,null,null,null,null,null,null,null,null,{"$f":"FlashCards!AQ294","v":"846"},846,0,0,846,454276,{"$f":"FlashCards!AE294","v":291},846]
[null,null,null,null,null,null,null,null,null,null,null,null,null,null,null,null,null,null,null,null,null,null,null,{"$f":"FlashCards!AQ295","v":"846"},846,0,0,846,454276,{"$f":"FlashCards!AE295","v":292},846]
[null,null,null,null,null,null,null,null,null,null,null,null,null,null,null,null,null,null,null,null,null,null,null,{"$f":"FlashCards!AQ296","v":"846"},846,0,0,846,454276,{"$f":"FlashCards!AE296","v":293},846]
[null,null,null,null,null,null,null,null,null,null,null,null,null,null,null,null,null,null,null,null,null,null,null,{"$f":"FlashCards!AQ297","v":"846"},846,0,0,846,454276,{"$f":"FlashCards!AE297","v":294},846]
[null,null,null,null,null,null,null,null,null,null,null,null,null,null,null,null,null,null,null,null,null,null,null,{"$f":"FlashCards!AQ298","v":"846"},846,0,0,846,454276,{"$f":"FlashCards!AE298","v":295},846]
[null,null,null,null,null,null,null,null,null,null,null,null,null,null,null,null,null,null,null,null,null,null,null,{"$f":"FlashCards!AQ299","v":"846"},846,0,0,846,454276,{"$f":"FlashCards!AE299","v":296},846]
[null,null,null,null,null,null,null,null,null,null,null,null,null,null,null,null,null,null,null,null,null,null,null,{"$f":"FlashCards!AQ300","v":"846"},846,0,0,846,454276,{"$f":"FlashCards!AE300","v":297},846]
[null,null,null,null,null,null,null,null,null,null,null,null,null,null,null,null,null,null,null,null,null,null,null,{"$f":"FlashCards!AQ301","v":"846"},846,0,0,846,454276,{"$f":"FlashCards!AE301","v":298},846]
[null,null,null,null,null,null,null,null,null,null,null,null,null,null,null,null,null,null,null,null,null,null,null,{"$f":"FlashCards!AQ302","v":"846"},846,0,0,846,454276,{"$f":"FlashCards!AE302","v":299},846]
[null,null,null,null,null,null,null,null,null,null,null,null,null,null,null,null,null,null,null,null,null,null,null,{"$f":"FlashCards!AQ303","v":"851"},851,0,0,851,447561,{"$f":"FlashCards!AE303","v":300},851]
[null,null,null,null,null,null,null,null,null,null,null,null,null,null,null,null,null,null,null,null,null,null,null,{"$f":"FlashCards!AQ304","v":"859"},859,0,0,859,436921,{"$f":"FlashCards!AE304","v":301},859]
[null,null,null,null,null,null,null,null,null,null,null,null,null,null,null,null,null,null,null,null,null,null,null,{"$f":"FlashCards!AQ305","v":"863"},863,0,0,863,431649,{"$f":"FlashCards!AE305","v":302},863]
[null,null,null,null,null,null,null,null,null,null,null,null,null,null,null,null,null,null,null,null,null,null,null,{"$f":"FlashCards!AQ306","v":"868"},868,0,0,868,425104,{"$f":"FlashCards!AE306","v":303},868]
[null,null,null,null,null,null,null,null,null,null,null,null,null,null,null,null,null,null,null,null,null,null,null,{"$f":"FlashCards!AQ307","v":"873"},873,0,0,873,418609,{"$f":"FlashCards!AE307","v":304},873]
[null,null,null,null,null,null,null,null,null,null,null,null,null,null,null,null,null,null,null,null,null,null,null,{"$f":"FlashCards!AQ308","v":"878"},878,0,0,878,412164,{"$f":"FlashCards!AE308","v":305},878]
[null,null,null,null,null,null,null,null,null,null,null,null,null,null,null,null,null,null,null,null,null,null,null,{"$f":"FlashCards!AQ309","v":"882"},882,0,0,882,407044,{"$f":"FlashCards!AE309","v":306},882]
[null,null,null,null,null,null,null,null,null,null,null,null,null,null,null,null,null,null,null,null,null,null,null,{"$f":"FlashCards!AQ310","v":"891"},891,0,0,891,395641,{"$f":"FlashCards!AE310","v":307},891]
[null,null,null,null,null,null,null,null,null,null,null,null,null,null,null,null,null,null,null,null,null,null,null,{"$f":"FlashCards!AQ311","v":"897"},897,0,0,897,388129,{"$f":"FlashCards!AE311","v":308},897]
[null,null,null,null,null,null,null,null,null,null,null,null,null,null,null,null,null,null,null,null,null,null,null,{"$f":"FlashCards!AQ312","v":"901"},901,0,0,901,383161,{"$f":"FlashCards!AE312","v":309},901]
[null,null,null,null,null,null,null,null,null,null,null,null,null,null,null,null,null,null,null,null,null,null,null,{"$f":"FlashCards!AQ313","v":"906"},906,0,0,906,376996,{"$f":"FlashCards!AE313","v":310},906]
[null,null,null,null,null,null,null,null,null,null,null,null,null,null,null,null,null,null,null,null,null,null,null,{"$f":"FlashCards!AQ314","v":"907"},907,0,0,907,375769,{"$f":"FlashCards!AE314","v":311},907]
[null,null,null,null,null,null,null,null,null,null,null,null,null,null,null,null,null,null,null,null,null,null,null,{"$f":"FlashCards!AQ315","v":"908"},908,0,0,908,374544,{"$f":"FlashCards!AE315","v":312},908]
[null,null,null,null,null,null,null,null,null,null,null,null,null,null,null,null,null,null,null,null,null,null,null,{"$f":"FlashCards!AQ316","v":"910"},910,0,0,910,372100,{"$f":"FlashCards!AE316","v":313},910]
[null,null,null,null,null,null,null,null,null,null,null,null,null,null,null,null,null,null,null,null,null,null,null,{"$f":"FlashCards!AQ317","v":"912"},912,0,0,912,369664,{"$f":"FlashCards!AE317","v":314},912]
[null,null,null,null,null,null,null,null,null,null,null,null,null,null,null,null,null,null,null,null,null,null,null,{"$f":"FlashCards!AQ318","v":"921"},921,0,0,921,358801,{"$f":"FlashCards!AE318","v":315},921]
[null,null,null,null,null,null,null,null,null,null,null,null,null,null,null,null,null,null,null,null,null,null,null,{"$f":"FlashCards!AQ319","v":"928"},928,0,0,928,350464,{"$f":"FlashCards!AE319","v":316},928]
[null,null,null,null,null,null,null,null,null,null,null,null,null,null,null,null,null,null,null,null,null,null,null,{"$f":"FlashCards!AQ320","v":"932"},932,0,0,932,345744,{"$f":"FlashCards!AE320","v":317},932]
[null,null,null,null,null,null,null,null,null,null,null,null,null,null,null,null,null,null,null,null,null,null,null,{"$f":"FlashCards!AQ321","v":"934"},934,0,0,934,343396,{"$f":"FlashCards!AE321","v":318},934]
[null,null,null,null,null,null,null,null,null,null,null,null,null,null,null,null,null,null,null,null,null,null,null,{"$f":"FlashCards!AQ322","v":"935"},935,0,0,935,342225,{"$f":"FlashCards!AE322","v":319},935]
[null,null,null,null,null,null,null,null,null,null,null,null,null,null,null,null,null,null,null,null,null,null,null,{"$f":"FlashCards!AQ323","v":"936"},936,0,0,936,341056,{"$f":"FlashCards!AE323","v":320},936]
[null,null,null,null,null,null,null,null,null,null,null,null,null,null,null,null,null,null,null,null,null,null,null,{"$f":"FlashCards!AQ324","v":"941"},941,0,0,941,335241,{"$f":"FlashCards!AE324","v":321},941]
[null,null,null,null,null,null,null,null,null,null,null,null,null,null,null,null,null,null,null,null,null,null,null,{"$f":"FlashCards!AQ325","v":"963"},{"$f":"VALUE(X324)","v":963},{"$f":"IF(ISERR(FIND(\"+\",X324,1)),0,FIND(\"+\",X324,1))","v":0},{"$f":"IF(ISERR(FIND(\",\",X324,1)),0,FIND(\",\",X324,1))","v":0},{"$f":"IF(Z324>0,VALUE(LEFT(X324,Z324-1)),IF(AA324>0,VALUE(LEFT(X324,AA324-1)),IF(ISERR(Y324),VALUE(LEFT(X324,LEN(X324)-1)),Y324)))","v":963},{"$f":"(AB324-U$28)^2","v":310249},{"$f":"FlashCards!AE325","v":322},{"$f":"IF(AB324=0,10000,AB324)","v":963}]
[null,null,null,null,null,null,null,null,null,null,null,null,null,null,null,null,null,null,null,null,null,null,null,{"$f":"FlashCards!AQ326","v":"968"},968,0,0,968,304704,{"$f":"FlashCards!AE326","v":323},968]
[null,null,null,null,null,null,null,null,null,null,null,null,null,null,null,null,null,null,null,null,null,null,null,{"$f":"FlashCards!AQ327","v":"975"},975,0,0,975,297025,{"$f":"FlashCards!AE327","v":324},975]
[null,null,null,null,null,null,null,null,null,null,null,null,null,null,null,null,null,null,null,null,null,null,null,{"$f":"FlashCards!AQ328","v":"976"},976,0,0,976,295936,{"$f":"FlashCards!AE328","v":325},976]
[null,null,null,null,null,null,null,null,null,null,null,null,null,null,null,null,null,null,null,null,null,null,null,{"$f":"FlashCards!AQ329","v":"979"},979,0,0,979,292681,{"$f":"FlashCards!AE329","v":326},979]
[null,null,null,null,null,null,null,null,null,null,null,null,null,null,null,null,null,null,null,null,null,null,null,{"$f":"FlashCards!AQ330","v":"987"},987,0,0,987,284089,{"$f":"FlashCards!AE330","v":327},987]
[null,null,null,null,null,null,null,null,null,null,null,null,null,null,null,null,null,null,null,null,null,null,null,{"$f":"FlashCards!AQ331","v":"988"},988,0,0,988,283024,{"$f":"FlashCards!AE331","v":328},988]
[null,null,null,null,null,null,null,null,null,null,null,null,null,null,null,null,null,null,null,null,null,null,null,{"$f":"FlashCards!AQ332","v":"991"},991,0,0,991,279841,{"$f":"FlashCards!AE332","v":329},991]
[null,null,null,null,null,null,null,null,null,null,null,null,null,null,null,null,null,null,null,null,null,null,null,{"$f":"FlashCards!AQ333","v":"994"},994,0,0,994,276676,{"$f":"FlashCards!AE333","v":330},994]
[null,null,null,null,null,null,null,null,null,null,null,null,null,null,null,null,null,null,null,null,null,null,null,{"$f":"FlashCards!AQ334","v":"1012"},1012,0,0,1012,258064,{"$f":"FlashCards!AE334","v":331},1012]
[null,null,null,null,null,null,null,null,null,null,null,null,null,null,null,null,null,null,null,null,null,null,null,{"$f":"FlashCards!AQ335","v":"1014"},1014,0,0,1014,256036,{"$f":"FlashCards!AE335","v":332},1014]
[null,null,null,null,null,null,null,null,null,null,null,null,null,null,null,null,null,null,null,null,null,null,null,{"$f":"FlashCards!AQ336","v":"1027"},1027,0,0,1027,243049,{"$f":"FlashCards!AE336","v":333},1027]
[null,null,null,null,null,null,null,null,null,null,null,null,null,null,null,null,null,null,null,null,null,null,null,{"$f":"FlashCards!AQ337","v":"1033"},1033,0,0,1033,237169,{"$f":"FlashCards!AE337","v":334},1033]
[null,null,null,null,null,null,null,null,null,null,null,null,null,null,null,null,null,null,null,null,null,null,null,{"$f":"FlashCards!AQ338","v":"1035"},1035,0,0,1035,235225,{"$f":"FlashCards!AE338","v":335},1035]
[null,null,null,null,null,null,null,null,null,null,null,null,null,null,null,null,null,null,null,null,null,null,null,{"$f":"FlashCards!AQ339","v":"1055"},1055,0,0,1055,216225,{"$f":"FlashCards!AE339","v":336},1055]
[null,null,null,null,null,null,null,null,null,null,null,null,null,null,null,null,null,null,null,null,null,null,null,{"$f":"FlashCards!AQ340","v":"1056"},1056,0,0,1056,215296,{"$f":"FlashCards!AE340","v":337},1056]
[null,null,null,null,null,null,null,null,null,null,null,null,null,null,null,null,null,null,null,null,null,null,null,{"$f":"FlashCards!AQ341","v":"1057"},1057,0,0,1057,214369,{"$f":"FlashCards!AE341","v":338},1057]
[null,null,null,null,null,null,null,null,null,null,null,null,null,null,null,null,null,null,null,null,null,null,null,{"$f":"FlashCards!AQ342","v":"1060"},1060,0,0,1060,211600,{"$f":"FlashCards!AE342","v":339},1060]
[null,null,null,null,null,null,null,null,null,null,null,null,null,null,null,null,null,null,null,null,null,null,null,{"$f":"FlashCards!AQ343","v":"1062"},1062,0,0,1062,209764,{"$f":"FlashCards!AE343","v":340},1062]
[null,null,null,null,null,null,null,null,null,null,null,null,null,null,null,null,null,null,null,null,null,null,null,{"$f":"FlashCards!AQ344","v":"1063"},1063,0,0,1063,208849,{"$f":"FlashCards!AE344","v":341},1063]
[null,null,null,null,null,null,null,null,null,null,null,null,null,null,null,null,null,null,null,null,null,null,null,{"$f":"FlashCards!AQ345","v":"1065"},1065,0,0,1065,207025,{"$f":"FlashCards!AE345","v":342},1065]
[null,null,null,null,null,null,null,null,null,null,null,null,null,null,null,null,null,null,null,null,null,null,null,{"$f":"FlashCards!AQ346","v":"1067"},1067,0,0,1067,205209,{"$f":"FlashCards!AE346","v":343},1067]
[null,null,null,null,null,null,null,null,null,null,null,null,null,null,null,null,null,null,null,null,null,null,null,{"$f":"FlashCards!AQ347","v":1070},1070,0,0,1070,202500,{"$f":"FlashCards!AE347","v":344},1070]
[null,null,null,null,null,null,null,null,null,null,null,null,null,null,null,null,null,null,null,null,null,null,null,{"$f":"FlashCards!AQ348","v":"1073"},1073,0,0,1073,199809,{"$f":"FlashCards!AE348","v":345},1073]
[null,null,null,null,null,null,null,null,null,null,null,null,null,null,null,null,null,null,null,null,null,null,null,{"$f":"FlashCards!AQ349","v":"1074"},1074,0,0,1074,198916,{"$f":"FlashCards!AE349","v":346},1074]
[null,null,null,null,null,null,null,null,null,null,null,null,null,null,null,null,null,null,null,null,null,null,null,{"$f":"FlashCards!AQ350","v":"1080"},1080,0,0,1080,193600,{"$f":"FlashCards!AE350","v":347},1080]
[null,null,null,null,null,null,null,null,null,null,null,null,null,null,null,null,null,null,null,null,null,null,null,{"$f":"FlashCards!AQ351","v":"1085"},1085,0,0,1085,189225,{"$f":"FlashCards!AE351","v":348},1085]
[null,null,null,null,null,null,null,null,null,null,null,null,null,null,null,null,null,null,null,null,null,null,null,{"$f":"FlashCards!AQ352","v":"1089"},1089,0,0,1089,185761,{"$f":"FlashCards!AE352","v":349},1089]
[null,null,null,null,null,null,null,null,null,null,null,null,null,null,null,null,null,null,null,null,null,null,null,{"$f":"FlashCards!AQ353","v":"1092"},1092,0,0,1092,183184,{"$f":"FlashCards!AE353","v":350},1092]
[null,null,null,null,null,null,null,null,null,null,null,null,null,null,null,null,null,null,null,null,null,null,null,{"$f":"FlashCards!AQ354","v":"1093"},1093,0,0,1093,182329,{"$f":"FlashCards!AE354","v":351},1093]
[null,null,null,null,null,null,null,null,null,null,null,null,null,null,null,null,null,null,null,null,null,null,null,{"$f":"FlashCards!AQ355","v":"1096"},1096,0,0,1096,179776,{"$f":"FlashCards!AE355","v":352},1096]
[null,null,null,null,null,null,null,null,null,null,null,null,null,null,null,null,null,null,null,null,null,null,null,{"$f":"FlashCards!AQ356","v":"1097"},1097,0,0,1097,178929,{"$f":"FlashCards!AE356","v":353},1097]
[null,null,null,null,null,null,null,null,null,null,null,null,null,null,null,null,null,null,null,null,null,null,null,{"$f":"FlashCards!AQ357","v":"1100"},1100,0,0,1100,176400,{"$f":"FlashCards!AE357","v":354},1100]
[null,null,null,null,null,null,null,null,null,null,null,null,null,null,null,null,null,null,null,null,null,null,null,{"$f":"FlashCards!AQ358","v":"1107"},1107,0,0,1107,170569,{"$f":"FlashCards!AE358","v":355},1107]
[null,null,null,null,null,null,null,null,null,null,null,null,null,null,null,null,null,null,null,null,null,null,null,{"$f":"FlashCards!AQ359","v":"1108"},1108,0,0,1108,169744,{"$f":"FlashCards!AE359","v":356},1108]
[null,null,null,null,null,null,null,null,null,null,null,null,null,null,null,null,null,null,null,null,null,null,null,{"$f":"FlashCards!AQ360","v":"1110"},1110,0,0,1110,168100,{"$f":"FlashCards!AE360","v":357},1110]
[null,null,null,null,null,null,null,null,null,null,null,null,null,null,null,null,null,null,null,null,null,null,null,{"$f":"FlashCards!AQ361","v":"1110"},1110,0,0,1110,168100,{"$f":"FlashCards!AE361","v":358},1110]
[null,null,null,null,null,null,null,null,null,null,null,null,null,null,null,null,null,null,null,null,null,null,null,{"$f":"FlashCards!AQ362","v":"1118"},1118,0,0,1118,161604,{"$f":"FlashCards!AE362","v":359},1118]
[null,null,null,null,null,null,null,null,null,null,null,null,null,null,null,null,null,null,null,null,null,null,null,{"$f":"FlashCards!AQ363","v":"1119"},1119,0,0,1119,160801,{"$f":"FlashCards!AE363","v":360},1119]
[null,null,null,null,null,null,null,null,null,null,null,null,null,null,null,null,null,null,null,null,null,null,null,{"$f":"FlashCards!AQ364","v":"1121"},1121,0,0,1121,159201,{"$f":"FlashCards!AE364","v":361},1121]
[null,null,null,null,null,null,null,null,null,null,null,null,null,null,null,null,null,null,null,null,null,null,null,{"$f":"FlashCards!AQ365","v":"1122"},1122,0,0,1122,158404,{"$f":"FlashCards!AE365","v":362},1122]
[null,null,null,null,null,null,null,null,null,null,null,null,null,null,null,null,null,null,null,null,null,null,null,{"$f":"FlashCards!AQ366","v":"1124"},1124,0,0,1124,156816,{"$f":"FlashCards!AE366","v":363},1124]
[null,null,null,null,null,null,null,null,null,null,null,null,null,null,null,null,null,null,null,null,null,null,null,{"$f":"FlashCards!AQ367","v":"1125"},1125,0,0,1125,156025,{"$f":"FlashCards!AE367","v":364},1125]
[null,null,null,null,null,null,null,null,null,null,null,null,null,null,null,null,null,null,null,null,null,null,null,{"$f":"FlashCards!AQ368","v":"1127"},1127,0,0,1127,154449,{"$f":"FlashCards!AE368","v":365},1127]
[null,null,null,null,null,null,null,null,null,null,null,null,null,null,null,null,null,null,null,null,null,null,null,{"$f":"FlashCards!AQ369","v":"1131"},1131,0,0,1131,151321,{"$f":"FlashCards!AE369","v":366},1131]
[null,null,null,null,null,null,null,null,null,null,null,null,null,null,null,null,null,null,null,null,null,null,null,{"$f":"FlashCards!AQ370","v":"1135"},1135,0,0,1135,148225,{"$f":"FlashCards!AE370","v":367},1135]
[null,null,null,null,null,null,null,null,null,null,null,null,null,null,null,null,null,null,null,null,null,null,null,{"$f":"FlashCards!AQ371","v":"1138"},1138,0,0,1138,145924,{"$f":"FlashCards!AE371","v":368},1138]
[null,null,null,null,null,null,null,null,null,null,null,null,null,null,null,null,null,null,null,null,null,null,null,{"$f":"FlashCards!AQ372","v":"1139"},1139,0,0,1139,145161,{"$f":"FlashCards!AE372","v":369},1139]
[null,null,null,null,null,null,null,null,null,null,null,null,null,null,null,null,null,null,null,null,null,null,null,{"$f":"FlashCards!AQ373","v":"1140"},1140,0,0,1140,144400,{"$f":"FlashCards!AE373","v":370},1140]
[null,null,null,null,null,null,null,null,null,null,null,null,null,null,null,null,null,null,null,null,null,null,null,{"$f":"FlashCards!AQ374","v":"1144"},1144,0,0,1144,141376,{"$f":"FlashCards!AE374","v":371},1144]
[null,null,null,null,null,null,null,null,null,null,null,null,null,null,null,null,null,null,null,null,null,null,null,{"$f":"FlashCards!AQ375","v":"1154"},1154,0,0,1154,133956,{"$f":"FlashCards!AE375","v":372},1154]
[null,null,null,null,null,null,null,null,null,null,null,null,null,null,null,null,null,null,null,null,null,null,null,{"$f":"FlashCards!AQ376","v":"1161"},1161,0,0,1161,128881,{"$f":"FlashCards!AE376","v":373},1161]
[null,null,null,null,null,null,null,null,null,null,null,null,null,null,null,null,null,null,null,null,null,null,null,{"$f":"FlashCards!AQ377","v":"3588+1161"},{"$error":"#VALUE!"},5,0,3588,4276624,{"$f":"FlashCards!AE377","v":374},3588]
[null,null,null,null,null,null,null,null,null,null,null,null,null,null,null,null,null,null,null,null,null,null,null,{"$f":"FlashCards!AQ378","v":"1162"},1162,0,0,1162,128164,{"$f":"FlashCards!AE378","v":375},1162]
[null,null,null,null,null,null,null,null,null,null,null,null,null,null,null,null,null,null,null,null,null,null,null,{"$f":"FlashCards!AQ379","v":"1163"},1163,0,0,1163,127449,{"$f":"FlashCards!AE379","v":376},1163]
[null,null,null,null,null,null,null,null,null,null,null,null,null,null,null,null,null,null,null,null,null,null,null,{"$f":"FlashCards!AQ380","v":"1166"},1166,0,0,1166,125316,{"$f":"FlashCards!AE380","v":377},1166]
[null,null,null,null,null,null,null,null,null,null,null,null,null,null,null,null,null,null,null,null,null,null,null,{"$f":"FlashCards!AQ381","v":"1173"},1173,0,0,1173,120409,{"$f":"FlashCards!AE381","v":378},1173]
[null,null,null,null,null,null,null,null,null,null,null,null,null,null,null,null,null,null,null,null,null,null,null,{"$f":"FlashCards!AQ382","v":"1176"},1176,0,0,1176,118336,{"$f":"FlashCards!AE382","v":379},1176]
[null,null,null,null,null,null,null,null,null,null,null,null,null,null,null,null,null,null,null,null,null,null,null,{"$f":"FlashCards!AQ383","v":"1186"},1186,0,0,1186,111556,{"$f":"FlashCards!AE383","v":380},1186]
[null,null,null,null,null,null,null,null,null,null,null,null,null,null,null,null,null,null,null,null,null,null,null,{"$f":"FlashCards!AQ384","v":"1188"},1188,0,0,1188,110224,{"$f":"FlashCards!AE384","v":381},1188]
[null,null,null,null,null,null,null,null,null,null,null,null,null,null,null,null,null,null,null,null,null,null,null,{"$f":"FlashCards!AQ385","v":"1189"},1189,0,0,1189,109561,{"$f":"FlashCards!AE385","v":382},1189]
[null,null,null,null,null,null,null,null,null,null,null,null,null,null,null,null,null,null,null,null,null,null,null,{"$f":"FlashCards!AQ386","v":"1194"},1194,0,0,1194,106276,{"$f":"FlashCards!AE386","v":383},1194]
[null,null,null,null,null,null,null,null,null,null,null,null,null,null,null,null,null,null,null,null,null,null,null,{"$f":"FlashCards!AQ387","v":"1198"},1198,0,0,1198,103684,{"$f":"FlashCards!AE387","v":384},1198]
[null,null,null,null,null,null,null,null,null,null,null,null,null,null,null,null,null,null,null,null,null,null,null,{"$f":"FlashCards!AQ388","v":"1199"},1199,0,0,1199,103041,{"$f":"FlashCards!AE388","v":385},1199]
[null,null,null,null,null,null,null,null,null,null,null,null,null,null,null,null,null,null,null,null,null,null,null,{"$f":"FlashCards!AQ389","v":"1203"},{"$f":"VALUE(X388)","v":1203},{"$f":"IF(ISERR(FIND(\"+\",X388,1)),0,FIND(\"+\",X388,1))","v":0},{"$f":"IF(ISERR(FIND(\",\",X388,1)),0,FIND(\",\",X388,1))","v":0},{"$f":"IF(Z388>0,VALUE(LEFT(X388,Z388-1)),IF(AA388>0,VALUE(LEFT(X388,AA388-1)),IF(ISERR(Y388),VALUE(LEFT(X388,LEN(X388)-1)),Y388)))","v":1203},{"$f":"(AB388-U$28)^2","v":100489},{"$f":"FlashCards!AE389","v":386},{"$f":"IF(AB388=0,10000,AB388)","v":1203}]
[null,null,null,null,null,null,null,null,null,null,null,null,null,null,null,null,null,null,null,null,null,null,null,{"$f":"FlashCards!AQ390","v":"1205"},1205,0,0,1205,99225,{"$f":"FlashCards!AE390","v":387},1205]
[null,null,null,null,null,null,null,null,null,null,null,null,null,null,null,null,null,null,null,null,null,null,null,{"$f":"FlashCards!AQ391","v":"1208"},1208,0,0,1208,97344,{"$f":"FlashCards!AE391","v":388},1208]
[null,null,null,null,null,null,null,null,null,null,null,null,null,null,null,null,null,null,null,null,null,null,null,{"$f":"FlashCards!AQ392","v":"1209"},1209,0,0,1209,96721,{"$f":"FlashCards!AE392","v":389},1209]
[null,null,null,null,null,null,null,null,null,null,null,null,null,null,null,null,null,null,null,null,null,null,null,{"$f":"FlashCards!AQ393","v":"1210"},1210,0,0,1210,96100,{"$f":"FlashCards!AE393","v":390},1210]
[null,null,null,null,null,null,null,null,null,null,null,null,null,null,null,null,null,null,null,null,null,null,null,{"$f":"FlashCards!AQ394","v":"1211"},1211,0,0,1211,95481,{"$f":"FlashCards!AE394","v":391},1211]
[null,null,null,null,null,null,null,null,null,null,null,null,null,null,null,null,null,null,null,null,null,null,null,{"$f":"FlashCards!AQ395","v":"1220"},1220,0,0,1220,90000,{"$f":"FlashCards!AE395","v":392},1220]
[null,null,null,null,null,null,null,null,null,null,null,null,null,null,null,null,null,null,null,null,null,null,null,{"$f":"FlashCards!AQ396","v":"1223"},1223,0,0,1223,88209,{"$f":"FlashCards!AE396","v":393},1223]
[null,null,null,null,null,null,null,null,null,null,null,null,null,null,null,null,null,null,null,null,null,null,null,{"$f":"FlashCards!AQ397","v":"1223"},1223,0,0,1223,88209,{"$f":"FlashCards!AE397","v":394},1223]
[null,null,null,null,null,null,null,null,null,null,null,null,null,null,null,null,null,null,null,null,null,null,null,{"$f":"FlashCards!AQ398","v":"1223+3956"},{"$error":"#VALUE!"},5,0,1223,88209,{"$f":"FlashCards!AE398","v":395},1223]
[null,null,null,null,null,null,null,null,null,null,null,null,null,null,null,null,null,null,null,null,null,null,null,{"$f":"FlashCards!AQ399","v":"1223+5101"},{"$error":"#VALUE!"},5,0,1223,88209,{"$f":"FlashCards!AE399","v":396},1223]
[null,null,null,null,null,null,null,null,null,null,null,null,null,null,null,null,null,null,null,null,null,null,null,{"$f":"FlashCards!AQ400","v":"1223+3778"},{"$error":"#VALUE!"},5,0,1223,88209,{"$f":"FlashCards!AE400","v":397},1223]
[null,null,null,null,null,null,null,null,null,null,null,null,null,null,null,null,null,null,null,null,null,null,null,{"$f":"FlashCards!AQ401","v":"1228"},1228,0,0,1228,85264,{"$f":"FlashCards!AE401","v":398},1228]
[null,null,null,null,null,null,null,null,null,null,null,null,null,null,null,null,null,null,null,null,null,null,null,{"$f":"FlashCards!AQ402","v":"1228"},1228,0,0,1228,85264,{"$f":"FlashCards!AE402","v":399},1228]
[null,null,null,null,null,null,null,null,null,null,null,null,null,null,null,null,null,null,null,null,null,null,null,{"$f":"FlashCards!AQ403","v":"1242"},1242,0,0,1242,77284,{"$f":"FlashCards!AE403","v":400},1242]
[null,null,null,null,null,null,null,null,null,null,null,null,null,null,null,null,null,null,null,null,null,null,null,{"$f":"FlashCards!AQ404","v":"1243"},1243,0,0,1243,76729,{"$f":"FlashCards!AE404","v":401},1243]
[null,null,null,null,null,null,null,null,null,null,null,null,null,null,null,null,null,null,null,null,null,null,null,{"$f":"FlashCards!AQ405","v":"1247"},1247,0,0,1247,74529,{"$f":"FlashCards!AE405","v":402},1247]
[null,null,null,null,null,null,null,null,null,null,null,null,null,null,null,null,null,null,null,null,null,null,null,{"$f":"FlashCards!AQ406","v":"1248"},1248,0,0,1248,73984,{"$f":"FlashCards!AE406","v":403},1248]
[null,null,null,null,null,null,null,null,null,null,null,null,null,null,null,null,null,null,null,null,null,null,null,{"$f":"FlashCards!AQ407","v":"1249"},1249,0,0,1249,73441,{"$f":"FlashCards!AE407","v":404},1249]
[null,null,null,null,null,null,null,null,null,null,null,null,null,null,null,null,null,null,null,null,null,null,null,{"$f":"FlashCards!AQ408","v":"1252"},1252,0,0,1252,71824,{"$f":"FlashCards!AE408","v":405},1252]
[null,null,null,null,null,null,null,null,null,null,null,null,null,null,null,null,null,null,null,null,null,null,null,{"$f":"FlashCards!AQ409","v":"1256"},1256,0,0,1256,69696,{"$f":"FlashCards!AE409","v":406},1256]
[null,null,null,null,null,null,null,null,null,null,null,null,null,null,null,null,null,null,null,null,null,null,null,{"$f":"FlashCards!AQ410","v":"1260"},1260,0,0,1260,67600,{"$f":"FlashCards!AE410","v":407},1260]
[null,null,null,null,null,null,null,null,null,null,null,null,null,null,null,null,null,null,null,null,null,null,null,{"$f":"FlashCards!AQ411","v":"1261"},1261,0,0,1261,67081,{"$f":"FlashCards!AE411","v":408},1261]
[null,null,null,null,null,null,null,null,null,null,null,null,null,null,null,null,null,null,null,null,null,null,null,{"$f":"FlashCards!AQ412","v":"1263"},1263,0,0,1263,66049,{"$f":"FlashCards!AE412","v":409},1263]
[null,null,null,null,null,null,null,null,null,null,null,null,null,null,null,null,null,null,null,null,null,null,null,{"$f":"FlashCards!AQ413","v":"1266"},1266,0,0,1266,64516,{"$f":"FlashCards!AE413","v":410},1266]
[null,null,null,null,null,null,null,null,null,null,null,null,null,null,null,null,null,null,null,null,null,null,null,{"$f":"FlashCards!AQ414","v":"1271"},1271,0,0,1271,62001,{"$f":"FlashCards!AE414","v":411},1271]
[null,null,null,null,null,null,null,null,null,null,null,null,null,null,null,null,null,null,null,null,null,null,null,{"$f":"FlashCards!AQ415","v":"1299"},1299,0,0,1299,48841,{"$f":"FlashCards!AE415","v":412},1299]
[null,null,null,null,null,null,null,null,null,null,null,null,null,null,null,null,null,null,null,null,null,null,null,{"$f":"FlashCards!AQ416","v":"1308"},1308,0,0,1308,44944,{"$f":"FlashCards!AE416","v":413},1308]
[null,null,null,null,null,null,null,null,null,null,null,null,null,null,null,null,null,null,null,null,null,null,null,{"$f":"FlashCards!AQ417","v":"1313"},1313,0,0,1313,42849,{"$f":"FlashCards!AE417","v":414},1313]
[null,null,null,null,null,null,null,null,null,null,null,null,null,null,null,null,null,null,null,null,null,null,null,{"$f":"FlashCards!AQ418","v":"1313"},1313,0,0,1313,42849,{"$f":"FlashCards!AE418","v":415},1313]
[null,null,null,null,null,null,null,null,null,null,null,null,null,null,null,null,null,null,null,null,null,null,null,{"$f":"FlashCards!AQ419","v":"1319"},1319,0,0,1319,40401,{"$f":"FlashCards!AE419","v":416},1319]
[null,null,null,null,null,null,null,null,null,null,null,null,null,null,null,null,null,null,null,null,null,null,null,{"$f":"FlashCards!AQ420","v":"1320"},1320,0,0,1320,40000,{"$f":"FlashCards!AE420","v":417},1320]
[null,null,null,null,null,null,null,null,null,null,null,null,null,null,null,null,null,null,null,null,null,null,null,{"$f":"FlashCards!AQ421","v":"1321"},1321,0,0,1321,39601,{"$f":"FlashCards!AE421","v":418},1321]
[null,null,null,null,null,null,null,null,null,null,null,null,null,null,null,null,null,null,null,null,null,null,null,{"$f":"FlashCards!AQ422","v":"1322"},1322,0,0,1322,39204,{"$f":"FlashCards!AE422","v":419},1322]
[null,null,null,null,null,null,null,null,null,null,null,null,null,null,null,null,null,null,null,null,null,null,null,{"$f":"FlashCards!AQ423","v":"1325"},1325,0,0,1325,38025,{"$f":"FlashCards!AE423","v":420},1325]
[null,null,null,null,null,null,null,null,null,null,null,null,null,null,null,null,null,null,null,null,null,null,null,{"$f":"FlashCards!AQ424","v":"1330"},1330,0,0,1330,36100,{"$f":"FlashCards!AE424","v":421},1330]
[null,null,null,null,null,null,null,null,null,null,null,null,null,null,null,null,null,null,null,null,null,null,null,{"$f":"FlashCards!AQ425","v":"1342"},1342,0,0,1342,31684,{"$f":"FlashCards!AE425","v":422},1342]
[null,null,null,null,null,null,null,null,null,null,null,null,null,null,null,null,null,null,null,null,null,null,null,{"$f":"FlashCards!AQ426","v":"1343"},1343,0,0,1343,31329,{"$f":"FlashCards!AE426","v":423},1343]
[null,null,null,null,null,null,null,null,null,null,null,null,null,null,null,null,null,null,null,null,null,null,null,{"$f":"FlashCards!AQ427","v":"1344"},1344,0,0,1344,30976,{"$f":"FlashCards!AE427","v":424},1344]
[null,null,null,null,null,null,null,null,null,null,null,null,null,null,null,null,null,null,null,null,null,null,null,{"$f":"FlashCards!AQ428","v":"1345"},1345,0,0,1345,30625,{"$f":"FlashCards!AE428","v":425},1345]
[null,null,null,null,null,null,null,null,null,null,null,null,null,null,null,null,null,null,null,null,null,null,null,{"$f":"FlashCards!AQ429","v":"1350"},1350,0,0,1350,28900,{"$f":"FlashCards!AE429","v":426},1350]
[null,null,null,null,null,null,null,null,null,null,null,null,null,null,null,null,null,null,null,null,null,null,null,{"$f":"FlashCards!AQ430","v":"1352"},1352,0,0,1352,28224,{"$f":"FlashCards!AE430","v":427},1352]
[null,null,null,null,null,null,null,null,null,null,null,null,null,null,null,null,null,null,null,null,null,null,null,{"$f":"FlashCards!AQ431","v":"1353"},1353,0,0,1353,27889,{"$f":"FlashCards!AE431","v":428},1353]
[null,null,null,null,null,null,null,null,null,null,null,null,null,null,null,null,null,null,null,null,null,null,null,{"$f":"FlashCards!AQ432","v":"1360"},1360,0,0,1360,25600,{"$f":"FlashCards!AE432","v":429},1360]
[null,null,null,null,null,null,null,null,null,null,null,null,null,null,null,null,null,null,null,null,null,null,null,{"$f":"FlashCards!AQ433","v":"1372"},1372,0,0,1372,21904,{"$f":"FlashCards!AE433","v":430},1372]
[null,null,null,null,null,null,null,null,null,null,null,null,null,null,null,null,null,null,null,null,null,null,null,{"$f":"FlashCards!AQ434","v":"1375"},1375,0,0,1375,21025,{"$f":"FlashCards!AE434","v":431},1375]
[null,null,null,null,null,null,null,null,null,null,null,null,null,null,null,null,null,null,null,null,null,null,null,{"$f":"FlashCards!AQ435","v":"1377"},1377,0,0,1377,20449,{"$f":"FlashCards!AE435","v":432},1377]
[null,null,null,null,null,null,null,null,null,null,null,null,null,null,null,null,null,null,null,null,null,null,null,{"$f":"FlashCards!AQ436","v":"1378"},1378,0,0,1378,20164,{"$f":"FlashCards!AE436","v":433},1378]
[null,null,null,null,null,null,null,null,null,null,null,null,null,null,null,null,null,null,null,null,null,null,null,{"$f":"FlashCards!AQ437","v":"1380"},1380,0,0,1380,19600,{"$f":"FlashCards!AE437","v":434},1380]
[null,null,null,null,null,null,null,null,null,null,null,null,null,null,null,null,null,null,null,null,null,null,null,{"$f":"FlashCards!AQ438","v":"1381"},1381,0,0,1381,19321,{"$f":"FlashCards!AE438","v":435},1381]
[null,null,null,null,null,null,null,null,null,null,null,null,null,null,null,null,null,null,null,null,null,null,null,{"$f":"FlashCards!AQ439","v":"1388"},1388,0,0,1388,17424,{"$f":"FlashCards!AE439","v":436},1388]
[null,null,null,null,null,null,null,null,null,null,null,null,null,null,null,null,null,null,null,null,null,null,null,{"$f":"FlashCards!AQ440","v":"1391"},1391,0,0,1391,16641,{"$f":"FlashCards!AE440","v":437},1391]
[null,null,null,null,null,null,null,null,null,null,null,null,null,null,null,null,null,null,null,null,null,null,null,{"$f":"FlashCards!AQ441","v":"1392"},1392,0,0,1392,16384,{"$f":"FlashCards!AE441","v":438},1392]
[null,null,null,null,null,null,null,null,null,null,null,null,null,null,null,null,null,null,null,null,null,null,null,{"$f":"FlashCards!AQ442","v":"1398"},1398,0,0,1398,14884,{"$f":"FlashCards!AE442","v":439},1398]
[null,null,null,null,null,null,null,null,null,null,null,null,null,null,null,null,null,null,null,null,null,null,null,{"$f":"FlashCards!AQ443","v":"1401"},1401,0,0,1401,14161,{"$f":"FlashCards!AE443","v":440},1401]
[null,null,null,null,null,null,null,null,null,null,null,null,null,null,null,null,null,null,null,null,null,null,null,{"$f":"FlashCards!AQ444","v":"1404"},1404,0,0,1404,13456,{"$f":"FlashCards!AE444","v":441},1404]
[null,null,null,null,null,null,null,null,null,null,null,null,null,null,null,null,null,null,null,null,null,null,null,{"$f":"FlashCards!AQ445","v":"1410"},1410,0,0,1410,12100,{"$f":"FlashCards!AE445","v":442},1410]
[null,null,null,null,null,null,null,null,null,null,null,null,null,null,null,null,null,null,null,null,null,null,null,{"$f":"FlashCards!AQ446","v":"1411"},1411,0,0,1411,11881,{"$f":"FlashCards!AE446","v":443},1411]
[null,null,null,null,null,null,null,null,null,null,null,null,null,null,null,null,null,null,null,null,null,null,null,{"$f":"FlashCards!AQ447","v":"1415"},1415,0,0,1415,11025,{"$f":"FlashCards!AE447","v":444},1415]
[null,null,null,null,null,null,null,null,null,null,null,null,null,null,null,null,null,null,null,null,null,null,null,{"$f":"FlashCards!AQ448","v":"1417"},1417,0,0,1417,10609,{"$f":"FlashCards!AE448","v":445},1417]
[null,null,null,null,null,null,null,null,null,null,null,null,null,null,null,null,null,null,null,null,null,null,null,{"$f":"FlashCards!AQ449","v":"1427"},1427,0,0,1427,8649,{"$f":"FlashCards!AE449","v":446},1427]
[null,null,null,null,null,null,null,null,null,null,null,null,null,null,null,null,null,null,null,null,null,null,null,{"$f":"FlashCards!AQ450","v":"1431"},1431,0,0,1431,7921,{"$f":"FlashCards!AE450","v":447},1431]
[null,null,null,null,null,null,null,null,null,null,null,null,null,null,null,null,null,null,null,null,null,null,null,{"$f":"FlashCards!AQ451","v":"1435"},1435,0,0,1435,7225,{"$f":"FlashCards!AE451","v":448},1435]
[null,null,null,null,null,null,null,null,null,null,null,null,null,null,null,null,null,null,null,null,null,null,null,{"$f":"FlashCards!AQ452","v":"1437"},1437,0,0,1437,6889,{"$f":"FlashCards!AE452","v":449},1437]
[null,null,null,null,null,null,null,null,null,null,null,null,null,null,null,null,null,null,null,null,null,null,null,{"$f":"FlashCards!AQ453","v":"1438"},{"$f":"VALUE(X452)","v":1438},{"$f":"IF(ISERR(FIND(\"+\",X452,1)),0,FIND(\"+\",X452,1))","v":0},{"$f":"IF(ISERR(FIND(\",\",X452,1)),0,FIND(\",\",X452,1))","v":0},{"$f":"IF(Z452>0,VALUE(LEFT(X452,Z452-1)),IF(AA452>0,VALUE(LEFT(X452,AA452-1)),IF(ISERR(Y452),VALUE(LEFT(X452,LEN(X452)-1)),Y452)))","v":1438},{"$f":"(AB452-U$28)^2","v":6724},{"$f":"FlashCards!AE453","v":450},{"$f":"IF(AB452=0,10000,AB452)","v":1438}]
[null,null,null,null,null,null,null,null,null,null,null,null,null,null,null,null,null,null,null,null,null,null,null,{"$f":"FlashCards!AQ454","v":"1438"},1438,0,0,1438,6724,{"$f":"FlashCards!AE454","v":451},1438]
[null,null,null,null,null,null,null,null,null,null,null,null,null,null,null,null,null,null,null,null,null,null,null,{"$f":"FlashCards!AQ455","v":"1438"},1438,0,0,1438,6724,{"$f":"FlashCards!AE455","v":452},1438]
[null,null,null,null,null,null,null,null,null,null,null,null,null,null,null,null,null,null,null,null,null,null,null,{"$f":"FlashCards!AQ456","v":"1438"},1438,0,0,1438,6724,{"$f":"FlashCards!AE456","v":453},1438]
[null,null,null,null,null,null,null,null,null,null,null,null,null,null,null,null,null,null,null,null,null,null,null,{"$f":"FlashCards!AQ457","v":"1438"},1438,0,0,1438,6724,{"$f":"FlashCards!AE457","v":454},1438]
[null,null,null,null,null,null,null,null,null,null,null,null,null,null,null,null,null,null,null,null,null,null,null,{"$f":"FlashCards!AQ458","v":"1438"},1438,0,0,1438,6724,{"$f":"FlashCards!AE458","v":455},1438]
[null,null,null,null,null,null,null,null,null,null,null,null,null,null,null,null,null,null,null,null,null,null,null,{"$f":"FlashCards!AQ459","v":"1438"},1438,0,0,1438,6724,{"$f":"FlashCards!AE459","v":456},1438]
[null,null,null,null,null,null,null,null,null,null,null,null,null,null,null,null,null,null,null,null,null,null,null,{"$f":"FlashCards!AQ460","v":"1438"},1438,0,0,1438,6724,{"$f":"FlashCards!AE460","v":457},1438]
[null,null,null,null,null,null,null,null,null,null,null,null,null,null,null,null,null,null,null,null,null,null,null,{"$f":"FlashCards!AQ461","v":"1438"},1438,0,0,1438,6724,{"$f":"FlashCards!AE461","v":458},1438]
[null,null,null,null,null,null,null,null,null,null,null,null,null,null,null,null,null,null,null,null,null,null,null,{"$f":"FlashCards!AQ462","v":"1438"},1438,0,0,1438,6724,{"$f":"FlashCards!AE462","v":459},1438]
[null,null,null,null,null,null,null,null,null,null,null,null,null,null,null,null,null,null,null,null,null,null,null,{"$f":"FlashCards!AQ463","v":"1438"},1438,0,0,1438,6724,{"$f":"FlashCards!AE463","v":460},1438]
[null,null,null,null,null,null,null,null,null,null,null,null,null,null,null,null,null,null,null,null,null,null,null,{"$f":"FlashCards!AQ464","v":"1438"},1438,0,0,1438,6724,{"$f":"FlashCards!AE464","v":461},1438]
[null,null,null,null,null,null,null,null,null,null,null,null,null,null,null,null,null,null,null,null,null,null,null,{"$f":"FlashCards!AQ465","v":"1438"},1438,0,0,1438,6724,{"$f":"FlashCards!AE465","v":462},1438]
[null,null,null,null,null,null,null,null,null,null,null,null,null,null,null,null,null,null,null,null,null,null,null,{"$f":"FlashCards!AQ466","v":"1439"},1439,0,0,1439,6561,{"$f":"FlashCards!AE466","v":463},1439]
[null,null,null,null,null,null,null,null,null,null,null,null,null,null,null,null,null,null,null,null,null,null,null,{"$f":"FlashCards!AQ467","v":"1448"},1448,0,0,1448,5184,{"$f":"FlashCards!AE467","v":464},1448]
[null,null,null,null,null,null,null,null,null,null,null,null,null,null,null,null,null,null,null,null,null,null,null,{"$f":"FlashCards!AQ468","v":"1451"},1451,0,0,1451,4761,{"$f":"FlashCards!AE468","v":465},1451]
[null,null,null,null,null,null,null,null,null,null,null,null,null,null,null,null,null,null,null,null,null,null,null,{"$f":"FlashCards!AQ469","v":"1453"},1453,0,0,1453,4489,{"$f":"FlashCards!AE469","v":466},1453]
[null,null,null,null,null,null,null,null,null,null,null,null,null,null,null,null,null,null,null,null,null,null,null,{"$f":"FlashCards!AQ470","v":"1459"},1459,0,0,1459,3721,{"$f":"FlashCards!AE470","v":467},1459]
[null,null,null,null,null,null,null,null,null,null,null,null,null,null,null,null,null,null,null,null,null,null,null,{"$f":"FlashCards!AQ471","v":"1473"},1473,0,0,1473,2209,{"$f":"FlashCards!AE471","v":468},1473]
[null,null,null,null,null,null,null,null,null,null,null,null,null,null,null,null,null,null,null,null,null,null,null,{"$f":"FlashCards!AQ472","v":"1473"},1473,0,0,1473,2209,{"$f":"FlashCards!AE472","v":469},1473]
[null,null,null,null,null,null,null,null,null,null,null,null,null,null,null,null,null,null,null,null,null,null,null,{"$f":"FlashCards!AQ473","v":"1473"},1473,0,0,1473,2209,{"$f":"FlashCards!AE473","v":470},1473]
[null,null,null,null,null,null,null,null,null,null,null,null,null,null,null,null,null,null,null,null,null,null,null,{"$f":"FlashCards!AQ474","v":"1473"},1473,0,0,1473,2209,{"$f":"FlashCards!AE474","v":471},1473]
[null,null,null,null,null,null,null,null,null,null,null,null,null,null,null,null,null,null,null,null,null,null,null,{"$f":"FlashCards!AQ475","v":"1473"},1473,0,0,1473,2209,{"$f":"FlashCards!AE475","v":472},1473]
[null,null,null,null,null,null,null,null,null,null,null,null,null,null,null,null,null,null,null,null,null,null,null,{"$f":"FlashCards!AQ476","v":"1475z"},{"$error":"#VALUE!"},0,0,1475,2025,{"$f":"FlashCards!AE476","v":473},1475]
[null,null,null,null,null,null,null,null,null,null,null,null,null,null,null,null,null,null,null,null,null,null,null,{"$f":"FlashCards!AQ477","v":"1484"},1484,0,0,1484,1296,{"$f":"FlashCards!AE477","v":474},1484]
[null,null,null,null,null,null,null,null,null,null,null,null,null,null,null,null,null,null,null,null,null,null,null,{"$f":"FlashCards!AQ478","v":"1485"},1485,0,0,1485,1225,{"$f":"FlashCards!AE478","v":475},1485]
[null,null,null,null,null,null,null,null,null,null,null,null,null,null,null,null,null,null,null,null,null,null,null,{"$f":"FlashCards!AQ479","v":"1487"},1487,0,0,1487,1089,{"$f":"FlashCards!AE479","v":476},1487]
[null,null,null,null,null,null,null,null,null,null,null,null,null,null,null,null,null,null,null,null,null,null,null,{"$f":"FlashCards!AQ480","v":"1487+3361"},{"$error":"#VALUE!"},5,0,1487,1089,{"$f":"FlashCards!AE480","v":477},1487]
[null,null,null,null,null,null,null,null,null,null,null,null,null,null,null,null,null,null,null,null,null,null,null,{"$f":"FlashCards!AQ481","v":"1487+3361"},{"$error":"#VALUE!"},5,0,1487,1089,{"$f":"FlashCards!AE481","v":478},1487]
[null,null,null,null,null,null,null,null,null,null,null,null,null,null,null,null,null,null,null,null,null,null,null,{"$f":"FlashCards!AQ482","v":"1488, 1510"},{"$error":"#VALUE!"},0,5,1488,1024,{"$f":"FlashCards!AE482","v":479},1488]
[null,null,null,null,null,null,null,null,null,null,null,null,null,null,null,null,null,null,null,null,null,null,null,{"$f":"FlashCards!AQ483","v":"1492"},1492,0,0,1492,784,{"$f":"FlashCards!AE483","v":480},1492]
[null,null,null,null,null,null,null,null,null,null,null,null,null,null,null,null,null,null,null,null,null,null,null,{"$f":"FlashCards!AQ484","v":"1497"},1497,0,0,1497,529,{"$f":"FlashCards!AE484","v":481},1497]
[null,null,null,null,null,null,null,null,null,null,null,null,null,null,null,null,null,null,null,null,null,null,null,{"$f":"FlashCards!AQ485","v":"1501"},1501,0,0,1501,361,{"$f":"FlashCards!AE485","v":482},1501]
[null,null,null,null,null,null,null,null,null,null,null,null,null,null,null,null,null,null,null,null,null,null,null,{"$f":"FlashCards!AQ486","v":"1504"},1504,0,0,1504,256,{"$f":"FlashCards!AE486","v":483},1504]
[null,null,null,null,null,null,null,null,null,null,null,null,null,null,null,null,null,null,null,null,null,null,null,{"$f":"FlashCards!AQ487","v":"1510"},1510,0,0,1510,100,{"$f":"FlashCards!AE487","v":484},1510]
[null,null,null,null,null,null,null,null,null,null,null,null,null,null,null,null,null,null,null,null,null,null,null,{"$f":"FlashCards!AQ488","v":"1515"},1515,0,0,1515,25,{"$f":"FlashCards!AE488","v":485},1515]
[null,null,null,null,null,null,null,null,null,null,null,null,null,null,null,null,null,null,null,null,null,null,null,{"$f":"FlashCards!AQ489","v":"1519"},1519,0,0,1519,1,{"$f":"FlashCards!AE489","v":486},1519]
[null,null,null,null,null,null,null,null,null,null,null,null,null,null,null,null,null,null,null,null,null,null,null,{"$f":"FlashCards!AQ490","v":"1520"},1520,0,0,1520,0,{"$f":"FlashCards!AE490","v":487},1520]
[null,null,null,null,null,null,null,null,null,null,null,null,null,null,null,null,null,null,null,null,null,null,null,{"$f":"FlashCards!AQ491","v":"1520"},1520,0,0,1520,0,{"$f":"FlashCards!AE491","v":488},1520]
[null,null,null,null,null,null,null,null,null,null,null,null,null,null,null,null,null,null,null,null,null,null,null,{"$f":"FlashCards!AQ492","v":"1520"},1520,0,0,1520,0,{"$f":"FlashCards!AE492","v":489},1520]
[null,null,null,null,null,null,null,null,null,null,null,null,null,null,null,null,null,null,null,null,null,null,null,{"$f":"FlashCards!AQ493","v":"1520"},1520,0,0,1520,0,{"$f":"FlashCards!AE493","v":490},1520]
[null,null,null,null,null,null,null,null,null,null,null,null,null,null,null,null,null,null,null,null,null,null,null,{"$f":"FlashCards!AQ494","v":"1520"},1520,0,0,1520,0,{"$f":"FlashCards!AE494","v":491},1520]
[null,null,null,null,null,null,null,null,null,null,null,null,null,null,null,null,null,null,null,null,null,null,null,{"$f":"FlashCards!AQ495","v":"1520"},1520,0,0,1520,0,{"$f":"FlashCards!AE495","v":492},1520]
[null,null,null,null,null,null,null,null,null,null,null,null,null,null,null,null,null,null,null,null,null,null,null,{"$f":"FlashCards!AQ496","v":"1520"},1520,0,0,1520,0,{"$f":"FlashCards!AE496","v":493},1520]
[null,null,null,null,null,null,null,null,null,null,null,null,null,null,null,null,null,null,null,null,null,null,null,{"$f":"FlashCards!AQ497","v":"1520"},1520,0,0,1520,0,{"$f":"FlashCards!AE497","v":494},1520]
[null,null,null,null,null,null,null,null,null,null,null,null,null,null,null,null,null,null,null,null,null,null,null,{"$f":"FlashCards!AQ498","v":"1520"},1520,0,0,1520,0,{"$f":"FlashCards!AE498","v":495},1520]
[null,null,null,null,null,null,null,null,null,null,null,null,null,null,null,null,null,null,null,null,null,null,null,{"$f":"FlashCards!AQ499","v":"1521"},1521,0,0,1521,1,{"$f":"FlashCards!AE499","v":496},1521]
[null,null,null,null,null,null,null,null,null,null,null,null,null,null,null,null,null,null,null,null,null,null,null,{"$f":"FlashCards!AQ500","v":"1525"},1525,0,0,1525,25,{"$f":"FlashCards!AE500","v":497},1525]
[null,null,null,null,null,null,null,null,null,null,null,null,null,null,null,null,null,null,null,null,null,null,null,{"$f":"FlashCards!AQ501","v":"1526, 1510"},{"$error":"#VALUE!"},0,5,1526,36,{"$f":"FlashCards!AE501","v":498},1526]
[null,null,null,null,null,null,null,null,null,null,null,null,null,null,null,null,null,null,null,null,null,null,null,{"$f":"FlashCards!AQ502","v":"1531"},1531,0,0,1531,121,{"$f":"FlashCards!AE502","v":499},1531]
[null,null,null,null,null,null,null,null,null,null,null,null,null,null,null,null,null,null,null,null,null,null,null,{"$f":"FlashCards!AQ503","v":"1534"},1534,0,0,1534,196,{"$f":"FlashCards!AE503","v":500},1534]
[null,null,null,null,null,null,null,null,null,null,null,null,null,null,null,null,null,null,null,null,null,null,null,{"$f":"FlashCards!AQ504","v":"1535"},1535,0,0,1535,225,{"$f":"FlashCards!AE504","v":501},1535]
[null,null,null,null,null,null,null,null,null,null,null,null,null,null,null,null,null,null,null,null,null,null,null,{"$f":"FlashCards!AQ505","v":"1537"},1537,0,0,1537,289,{"$f":"FlashCards!AE505","v":502},1537]
[null,null,null,null,null,null,null,null,null,null,null,null,null,null,null,null,null,null,null,null,null,null,null,{"$f":"FlashCards!AQ506","v":"1538"},1538,0,0,1538,324,{"$f":"FlashCards!AE506","v":503},1538]
[null,null,null,null,null,null,null,null,null,null,null,null,null,null,null,null,null,null,null,null,null,null,null,{"$f":"FlashCards!AQ507","v":"1540"},1540,0,0,1540,400,{"$f":"FlashCards!AE507","v":504},1540]
[null,null,null,null,null,null,null,null,null,null,null,null,null,null,null,null,null,null,null,null,null,null,null,{"$f":"FlashCards!AQ508","v":"1543"},1543,0,0,1543,529,{"$f":"FlashCards!AE508","v":505},1543]
[null,null,null,null,null,null,null,null,null,null,null,null,null,null,null,null,null,null,null,null,null,null,null,{"$f":"FlashCards!AQ509","v":"1544"},1544,0,0,1544,576,{"$f":"FlashCards!AE509","v":506},1544]
[null,null,null,null,null,null,null,null,null,null,null,null,null,null,null,null,null,null,null,null,null,null,null,{"$f":"FlashCards!AQ510","v":"1563"},1563,0,0,1563,1849,{"$f":"FlashCards!AE510","v":507},1563]
[null,null,null,null,null,null,null,null,null,null,null,null,null,null,null,null,null,null,null,null,null,null,null,{"$f":"FlashCards!AQ511","v":"1564"},1564,0,0,1564,1936,{"$f":"FlashCards!AE511","v":508},1564]
[null,null,null,null,null,null,null,null,null,null,null,null,null,null,null,null,null,null,null,null,null,null,null,{"$f":"FlashCards!AQ512","v":"1565"},1565,0,0,1565,2025,{"$f":"FlashCards!AE512","v":509},1565]
[null,null,null,null,null,null,null,null,null,null,null,null,null,null,null,null,null,null,null,null,null,null,null,{"$f":"FlashCards!AQ513","v":"1565"},1565,0,0,1565,2025,{"$f":"FlashCards!AE513","v":510},1565]
[null,null,null,null,null,null,null,null,null,null,null,null,null,null,null,null,null,null,null,null,null,null,null,{"$f":"FlashCards!AQ514","v":"1565"},1565,0,0,1565,2025,{"$f":"FlashCards!AE514","v":511},1565]
[null,null,null,null,null,null,null,null,null,null,null,null,null,null,null,null,null,null,null,null,null,null,null,{"$f":"FlashCards!AQ515","v":"1565"},1565,0,0,1565,2025,{"$f":"FlashCards!AE515","v":512},1565]
[null,null,null,null,null,null,null,null,null,null,null,null,null,null,null,null,null,null,null,null,null,null,null,{"$f":"FlashCards!AQ516","v":"1565"},1565,0,0,1565,2025,{"$f":"FlashCards!AE516","v":513},1565]
[null,null,null,null,null,null,null,null,null,null,null,null,null,null,null,null,null,null,null,null,null,null,null,{"$f":"FlashCards!AQ517","v":"1565"},{"$f":"VALUE(X516)","v":1565},{"$f":"IF(ISERR(FIND(\"+\",X516,1)),0,FIND(\"+\",X516,1))","v":0},{"$f":"IF(ISERR(FIND(\",\",X516,1)),0,FIND(\",\",X516,1))","v":0},{"$f":"IF(Z516>0,VALUE(LEFT(X516,Z516-1)),IF(AA516>0,VALUE(LEFT(X516,AA516-1)),IF(ISERR(Y516),VALUE(LEFT(X516,LEN(X516)-1)),Y516)))","v":1565},{"$f":"(AB516-U$28)^2","v":2025},{"$f":"FlashCards!AE517","v":514},{"$f":"IF(AB516=0,10000,AB516)","v":1565}]
[null,null,null,null,null,null,null,null,null,null,null,null,null,null,null,null,null,null,null,null,null,null,null,{"$f":"FlashCards!AQ518","v":"1565"},1565,0,0,1565,2025,{"$f":"FlashCards!AE518","v":515},1565]
[null,null,null,null,null,null,null,null,null,null,null,null,null,null,null,null,null,null,null,null,null,null,null,{"$f":"FlashCards!AQ519","v":"1565"},1565,0,0,1565,2025,{"$f":"FlashCards!AE519","v":516},1565]
[null,null,null,null,null,null,null,null,null,null,null,null,null,null,null,null,null,null,null,null,null,null,null,{"$f":"FlashCards!AQ520","v":"1565"},1565,0,0,1565,2025,{"$f":"FlashCards!AE520","v":517},1565]
[null,null,null,null,null,null,null,null,null,null,null,null,null,null,null,null,null,null,null,null,null,null,null,{"$f":"FlashCards!AQ521","v":"1565"},1565,0,0,1565,2025,{"$f":"FlashCards!AE521","v":518},1565]
[null,null,null,null,null,null,null,null,null,null,null,null,null,null,null,null,null,null,null,null,null,null,null,{"$f":"FlashCards!AQ522","v":"1565"},1565,0,0,1565,2025,{"$f":"FlashCards!AE522","v":519},1565]
[null,null,null,null,null,null,null,null,null,null,null,null,null,null,null,null,null,null,null,null,null,null,null,{"$f":"FlashCards!AQ523","v":"1565"},1565,0,0,1565,2025,{"$f":"FlashCards!AE523","v":520},1565]
[null,null,null,null,null,null,null,null,null,null,null,null,null,null,null,null,null,null,null,null,null,null,null,{"$f":"FlashCards!AQ524","v":"1565"},1565,0,0,1565,2025,{"$f":"FlashCards!AE524","v":521},1565]
[null,null,null,null,null,null,null,null,null,null,null,null,null,null,null,null,null,null,null,null,null,null,null,{"$f":"FlashCards!AQ525","v":"1565"},1565,0,0,1565,2025,{"$f":"FlashCards!AE525","v":522},1565]
[null,null,null,null,null,null,null,null,null,null,null,null,null,null,null,null,null,null,null,null,null,null,null,{"$f":"FlashCards!AQ526","v":"1565"},1565,0,0,1565,2025,{"$f":"FlashCards!AE526","v":523},1565]
[null,null,null,null,null,null,null,null,null,null,null,null,null,null,null,null,null,null,null,null,null,null,null,{"$f":"FlashCards!AQ527","v":"1565"},1565,0,0,1565,2025,{"$f":"FlashCards!AE527","v":524},1565]
[null,null,null,null,null,null,null,null,null,null,null,null,null,null,null,null,null,null,null,null,null,null,null,{"$f":"FlashCards!AQ528","v":"1565"},1565,0,0,1565,2025,{"$f":"FlashCards!AE528","v":525},1565]
[null,null,null,null,null,null,null,null,null,null,null,null,null,null,null,null,null,null,null,null,null,null,null,{"$f":"FlashCards!AQ529","v":"1565"},1565,0,0,1565,2025,{"$f":"FlashCards!AE529","v":526},1565]
[null,null,null,null,null,null,null,null,null,null,null,null,null,null,null,null,null,null,null,null,null,null,null,{"$f":"FlashCards!AQ530","v":"1577"},1577,0,0,1577,3249,{"$f":"FlashCards!AE530","v":527},1577]
[null,null,null,null,null,null,null,null,null,null,null,null,null,null,null,null,null,null,null,null,null,null,null,{"$f":"FlashCards!AQ531","v":"1581"},1581,0,0,1581,3721,{"$f":"FlashCards!AE531","v":528},1581]
[null,null,null,null,null,null,null,null,null,null,null,null,null,null,null,null,null,null,null,null,null,null,null,{"$f":"FlashCards!AQ532","v":"1586"},1586,0,0,1586,4356,{"$f":"FlashCards!AE532","v":529},1586]
[null,null,null,null,null,null,null,null,null,null,null,null,null,null,null,null,null,null,null,null,null,null,null,{"$f":"FlashCards!AQ533","v":"1588"},1588,0,0,1588,4624,{"$f":"FlashCards!AE533","v":530},1588]
[null,null,null,null,null,null,null,null,null,null,null,null,null,null,null,null,null,null,null,null,null,null,null,{"$f":"FlashCards!AQ534","v":"1601"},1601,0,0,1601,6561,{"$f":"FlashCards!AE534","v":531},1601]
[null,null,null,null,null,null,null,null,null,null,null,null,null,null,null,null,null,null,null,null,null,null,null,{"$f":"FlashCards!AQ535","v":"1605"},1605,0,0,1605,7225,{"$f":"FlashCards!AE535","v":532},1605]
[null,null,null,null,null,null,null,null,null,null,null,null,null,null,null,null,null,null,null,null,null,null,null,{"$f":"FlashCards!AQ536","v":"1607"},1607,0,0,1607,7569,{"$f":"FlashCards!AE536","v":533},1607]
[null,null,null,null,null,null,null,null,null,null,null,null,null,null,null,null,null,null,null,null,null,null,null,{"$f":"FlashCards!AQ537","v":"1614"},1614,0,0,1614,8836,{"$f":"FlashCards!AE537","v":534},1614]
[null,null,null,null,null,null,null,null,null,null,null,null,null,null,null,null,null,null,null,null,null,null,null,{"$f":"FlashCards!AQ538","v":"1623"},1623,0,0,1623,10609,{"$f":"FlashCards!AE538","v":535},1623]
[null,null,null,null,null,null,null,null,null,null,null,null,null,null,null,null,null,null,null,null,null,null,null,{"$f":"FlashCards!AQ539","v":"1632"},1632,0,0,1632,12544,{"$f":"FlashCards!AE539","v":536},1632]
[null,null,null,null,null,null,null,null,null,null,null,null,null,null,null,null,null,null,null,null,null,null,null,{"$f":"FlashCards!AQ540","v":"1632"},1632,0,0,1632,12544,{"$f":"FlashCards!AE540","v":537},1632]
[null,null,null,null,null,null,null,null,null,null,null,null,null,null,null,null,null,null,null,null,null,null,null,{"$f":"FlashCards!AQ541","v":"1636"},1636,0,0,1636,13456,{"$f":"FlashCards!AE541","v":538},1636]
[null,null,null,null,null,null,null,null,null,null,null,null,null,null,null,null,null,null,null,null,null,null,null,{"$f":"FlashCards!AQ542","v":"1637"},1637,0,0,1637,13689,{"$f":"FlashCards!AE542","v":539},1637]
[null,null,null,null,null,null,null,null,null,null,null,null,null,null,null,null,null,null,null,null,null,null,null,{"$f":"FlashCards!AQ543","v":"1643"},1643,0,0,1643,15129,{"$f":"FlashCards!AE543","v":540},1643]
[null,null,null,null,null,null,null,null,null,null,null,null,null,null,null,null,null,null,null,null,null,null,null,{"$f":"FlashCards!AQ544","v":"1646"},1646,0,0,1646,15876,{"$f":"FlashCards!AE544","v":541},1646]
[null,null,null,null,null,null,null,null,null,null,null,null,null,null,null,null,null,null,null,null,null,null,null,{"$f":"FlashCards!AQ545","v":"1651"},1651,0,0,1651,17161,{"$f":"FlashCards!AE545","v":542},1651]
[null,null,null,null,null,null,null,null,null,null,null,null,null,null,null,null,null,null,null,null,null,null,null,{"$f":"FlashCards!AQ546","v":"1653"},1653,0,0,1653,17689,{"$f":"FlashCards!AE546","v":543},1653]
[null,null,null,null,null,null,null,null,null,null,null,null,null,null,null,null,null,null,null,null,null,null,null,{"$f":"FlashCards!AQ547","v":"1654"},1654,0,0,1654,17956,{"$f":"FlashCards!AE547","v":544},1654]
[null,null,null,null,null,null,null,null,null,null,null,null,null,null,null,null,null,null,null,null,null,null,null,{"$f":"FlashCards!AQ548","v":"1656"},1656,0,0,1656,18496,{"$f":"FlashCards!AE548","v":545},1656]
[null,null,null,null,null,null,null,null,null,null,null,null,null,null,null,null,null,null,null,null,null,null,null,{"$f":"FlashCards!AQ549","v":"1657"},1657,0,0,1657,18769,{"$f":"FlashCards!AE549","v":546},1657]
[null,null,null,null,null,null,null,null,null,null,null,null,null,null,null,null,null,null,null,null,null,null,null,{"$f":"FlashCards!AQ550","v":"1658"},1658,0,0,1658,19044,{"$f":"FlashCards!AE550","v":547},1658]
[null,null,null,null,null,null,null,null,null,null,null,null,null,null,null,null,null,null,null,null,null,null,null,{"$f":"FlashCards!AQ551","v":"1672"},1672,0,0,1672,23104,{"$f":"FlashCards!AE551","v":548},1672]
[null,null,null,null,null,null,null,null,null,null,null,null,null,null,null,null,null,null,null,null,null,null,null,{"$f":"FlashCards!AQ552","v":"1679"},1679,0,0,1679,25281,{"$f":"FlashCards!AE552","v":549},1679]
[null,null,null,null,null,null,null,null,null,null,null,null,null,null,null,null,null,null,null,null,null,null,null,{"$f":"FlashCards!AQ553","v":"1680"},1680,0,0,1680,25600,{"$f":"FlashCards!AE553","v":550},1680]
[null,null,null,null,null,null,null,null,null,null,null,null,null,null,null,null,null,null,null,null,null,null,null,{"$f":"FlashCards!AQ554","v":"1683"},1683,0,0,1683,26569,{"$f":"FlashCards!AE554","v":551},1683]
[null,null,null,null,null,null,null,null,null,null,null,null,null,null,null,null,null,null,null,null,null,null,null,{"$f":"FlashCards!AQ555","v":"1684"},1684,0,0,1684,26896,{"$f":"FlashCards!AE555","v":552},1684]
[null,null,null,null,null,null,null,null,null,null,null,null,null,null,null,null,null,null,null,null,null,null,null,{"$f":"FlashCards!AQ556","v":"1689"},1689,0,0,1689,28561,{"$f":"FlashCards!AE556","v":553},1689]
[null,null,null,null,null,null,null,null,null,null,null,null,null,null,null,null,null,null,null,null,null,null,null,{"$f":"FlashCards!AQ557","v":"1698"},1698,0,0,1698,31684,{"$f":"FlashCards!AE557","v":554},1698]
[null,null,null,null,null,null,null,null,null,null,null,null,null,null,null,null,null,null,null,null,null,null,null,{"$f":"FlashCards!AQ558","v":"1699"},1699,0,0,1699,32041,{"$f":"FlashCards!AE558","v":555},1699]
[null,null,null,null,null,null,null,null,null,null,null,null,null,null,null,null,null,null,null,null,null,null,null,{"$f":"FlashCards!AQ559","v":"1699"},1699,0,0,1699,32041,{"$f":"FlashCards!AE559","v":556},1699]
[null,null,null,null,null,null,null,null,null,null,null,null,null,null,null,null,null,null,null,null,null,null,null,{"$f":"FlashCards!AQ560","v":"1699"},1699,0,0,1699,32041,{"$f":"FlashCards!AE560","v":557},1699]
[null,null,null,null,null,null,null,null,null,null,null,null,null,null,null,null,null,null,null,null,null,null,null,{"$f":"FlashCards!AQ561","v":"1700"},1700,0,0,1700,32400,{"$f":"FlashCards!AE561","v":558},1700]
[null,null,null,null,null,null,null,null,null,null,null,null,null,null,null,null,null,null,null,null,null,null,null,{"$f":"FlashCards!AQ562","v":"1700"},1700,0,0,1700,32400,{"$f":"FlashCards!AE562","v":559},1700]
[null,null,null,null,null,null,null,null,null,null,null,null,null,null,null,null,null,null,null,null,null,null,null,{"$f":"FlashCards!AQ563","v":"1702"},1702,0,0,1702,33124,{"$f":"FlashCards!AE563","v":560},1702]
[null,null,null,null,null,null,null,null,null,null,null,null,null,null,null,null,null,null,null,null,null,null,null,{"$f":"FlashCards!AQ564","v":1705},1705,0,0,1705,34225,{"$f":"FlashCards!AE564","v":561},1705]
[null,null,null,null,null,null,null,null,null,null,null,null,null,null,null,null,null,null,null,null,null,null,null,{"$f":"FlashCards!AQ565","v":"1715"},1715,0,0,1715,38025,{"$f":"FlashCards!AE565","v":562},1715]
[null,null,null,null,null,null,null,null,null,null,null,null,null,null,null,null,null,null,null,null,null,null,null,{"$f":"FlashCards!AQ566","v":"1718"},1718,0,0,1718,39204,{"$f":"FlashCards!AE566","v":563},1718]
[null,null,null,null,null,null,null,null,null,null,null,null,null,null,null,null,null,null,null,null,null,null,null,{"$f":"FlashCards!AQ567","v":"1722"},1722,0,0,1722,40804,{"$f":"FlashCards!AE567","v":564},1722]
[null,null,null,null,null,null,null,null,null,null,null,null,null,null,null,null,null,null,null,null,null,null,null,{"$f":"FlashCards!AQ568","v":"1726"},1726,0,0,1726,42436,{"$f":"FlashCards!AE568","v":565},1726]
[null,null,null,null,null,null,null,null,null,null,null,null,null,null,null,null,null,null,null,null,null,null,null,{"$f":"FlashCards!AQ569","v":"1727"},1727,0,0,1727,42849,{"$f":"FlashCards!AE569","v":566},1727]
[null,null,null,null,null,null,null,null,null,null,null,null,null,null,null,null,null,null,null,null,null,null,null,{"$f":"FlashCards!AQ570","v":"1731"},1731,0,0,1731,44521,{"$f":"FlashCards!AE570","v":567},1731]
[null,null,null,null,null,null,null,null,null,null,null,null,null,null,null,null,null,null,null,null,null,null,null,{"$f":"FlashCards!AQ571","v":"1733"},1733,0,0,1733,45369,{"$f":"FlashCards!AE571","v":568},1733]
[null,null,null,null,null,null,null,null,null,null,null,null,null,null,null,null,null,null,null,null,null,null,null,{"$f":"FlashCards!AQ572","v":"1746"},1746,0,0,1746,51076,{"$f":"FlashCards!AE572","v":569},1746]
[null,null,null,null,null,null,null,null,null,null,null,null,null,null,null,null,null,null,null,null,null,null,null,{"$f":"FlashCards!AQ573","v":"1752"},1752,0,0,1752,53824,{"$f":"FlashCards!AE573","v":570},1752]
[null,null,null,null,null,null,null,null,null,null,null,null,null,null,null,null,null,null,null,null,null,null,null,{"$f":"FlashCards!AQ574","v":"1752"},1752,0,0,1752,53824,{"$f":"FlashCards!AE574","v":571},1752]
[null,null,null,null,null,null,null,null,null,null,null,null,null,null,null,null,null,null,null,null,null,null,null,{"$f":"FlashCards!AQ575","v":"1754"},1754,0,0,1754,54756,{"$f":"FlashCards!AE575","v":572},1754]
[null,null,null,null,null,null,null,null,null,null,null,null,null,null,null,null,null,null,null,null,null,null,null,{"$f":"FlashCards!AQ576","v":"1755"},1755,0,0,1755,55225,{"$f":"FlashCards!AE576","v":573},1755]
[null,null,null,null,null,null,null,null,null,null,null,null,null,null,null,null,null,null,null,null,null,null,null,{"$f":"FlashCards!AQ577","v":"1762"},1762,0,0,1762,58564,{"$f":"FlashCards!AE577","v":574},1762]
[null,null,null,null,null,null,null,null,null,null,null,null,null,null,null,null,null,null,null,null,null,null,null,{"$f":"FlashCards!AQ578","v":"1763"},1763,0,0,1763,59049,{"$f":"FlashCards!AE578","v":575},1763]
[null,null,null,null,null,null,null,null,null,null,null,null,null,null,null,null,null,null,null,null,null,null,null,{"$f":"FlashCards!AQ579","v":"1766"},1766,0,0,1766,60516,{"$f":"FlashCards!AE579","v":576},1766]
[null,null,null,null,null,null,null,null,null,null,null,null,null,null,null,null,null,null,null,null,null,null,null,{"$f":"FlashCards!AQ580","v":"1777"},1777,0,0,1777,66049,{"$f":"FlashCards!AE580","v":577},1777]
[null,null,null,null,null,null,null,null,null,null,null,null,null,null,null,null,null,null,null,null,null,null,null,{"$f":"FlashCards!AQ581","v":"1781"},{"$f":"VALUE(X580)","v":1781},{"$f":"IF(ISERR(FIND(\"+\",X580,1)),0,FIND(\"+\",X580,1))","v":0},{"$f":"IF(ISERR(FIND(\",\",X580,1)),0,FIND(\",\",X580,1))","v":0},{"$f":"IF(Z580>0,VALUE(LEFT(X580,Z580-1)),IF(AA580>0,VALUE(LEFT(X580,AA580-1)),IF(ISERR(Y580),VALUE(LEFT(X580,LEN(X580)-1)),Y580)))","v":1781},{"$f":"(AB580-U$28)^2","v":68121},{"$f":"FlashCards!AE581","v":578},{"$f":"IF(AB580=0,10000,AB580)","v":1781}]
[null,null,null,null,null,null,null,null,null,null,null,null,null,null,null,null,null,null,null,null,null,null,null,{"$f":"FlashCards!AQ582","v":"1782"},1782,0,0,1782,68644,{"$f":"FlashCards!AE582","v":579},1782]
[null,null,null,null,null,null,null,null,null,null,null,null,null,null,null,null,null,null,null,null,null,null,null,{"$f":"FlashCards!AQ583","v":"1785"},1785,0,0,1785,70225,{"$f":"FlashCards!AE583","v":580},1785]
[null,null,null,null,null,null,null,null,null,null,null,null,null,null,null,null,null,null,null,null,null,null,null,{"$f":"FlashCards!AQ584","v":"1799"},1799,0,0,1799,77841,{"$f":"FlashCards!AE584","v":581},1799]
[null,null,null,null,null,null,null,null,null,null,null,null,null,null,null,null,null,null,null,null,null,null,null,{"$f":"FlashCards!AQ585","v":"1803"},1803,0,0,1803,80089,{"$f":"FlashCards!AE585","v":582},1803]
[null,null,null,null,null,null,null,null,null,null,null,null,null,null,null,null,null,null,null,null,null,null,null,{"$f":"FlashCards!AQ586","v":"1806"},1806,0,0,1806,81796,{"$f":"FlashCards!AE586","v":583},1806]
[null,null,null,null,null,null,null,null,null,null,null,null,null,null,null,null,null,null,null,null,null,null,null,{"$f":"FlashCards!AQ587","v":"1821"},1821,0,0,1821,90601,{"$f":"FlashCards!AE587","v":584},1821]
[null,null,null,null,null,null,null,null,null,null,null,null,null,null,null,null,null,null,null,null,null,null,null,{"$f":"FlashCards!AQ588","v":"1831"},1831,0,0,1831,96721,{"$f":"FlashCards!AE588","v":585},1831]
[null,null,null,null,null,null,null,null,null,null,null,null,null,null,null,null,null,null,null,null,null,null,null,{"$f":"FlashCards!AQ589","v":"1832"},1832,0,0,1832,97344,{"$f":"FlashCards!AE589","v":586},1832]
[null,null,null,null,null,null,null,null,null,null,null,null,null,null,null,null,null,null,null,null,null,null,null,{"$f":"FlashCards!AQ590","v":"1835"},1835,0,0,1835,99225,{"$f":"FlashCards!AE590","v":587},1835]
[null,null,null,null,null,null,null,null,null,null,null,null,null,null,null,null,null,null,null,null,null,null,null,{"$f":"FlashCards!AQ591","v":"1839"},1839,0,0,1839,101761,{"$f":"FlashCards!AE591","v":588},1839]
[null,null,null,null,null,null,null,null,null,null,null,null,null,null,null,null,null,null,null,null,null,null,null,{"$f":"FlashCards!AQ592","v":"1843"},1843,0,0,1843,104329,{"$f":"FlashCards!AE592","v":589},1843]
[null,null,null,null,null,null,null,null,null,null,null,null,null,null,null,null,null,null,null,null,null,null,null,{"$f":"FlashCards!AQ593","v":"1848"},1848,0,0,1848,107584,{"$f":"FlashCards!AE593","v":590},1848]
[null,null,null,null,null,null,null,null,null,null,null,null,null,null,null,null,null,null,null,null,null,null,null,{"$f":"FlashCards!AQ594","v":"1849"},1849,0,0,1849,108241,{"$f":"FlashCards!AE594","v":591},1849]
[null,null,null,null,null,null,null,null,null,null,null,null,null,null,null,null,null,null,null,null,null,null,null,{"$f":"FlashCards!AQ595","v":"1854"},1854,0,0,1854,111556,{"$f":"FlashCards!AE595","v":592},1854]
[null,null,null,null,null,null,null,null,null,null,null,null,null,null,null,null,null,null,null,null,null,null,null,{"$f":"FlashCards!AQ596","v":"1854"},1854,0,0,1854,111556,{"$f":"FlashCards!AE596","v":593},1854]
[null,null,null,null,null,null,null,null,null,null,null,null,null,null,null,null,null,null,null,null,null,null,null,{"$f":"FlashCards!AQ597","v":"1855"},1855,0,0,1855,112225,{"$f":"FlashCards!AE597","v":594},1855]
[null,null,null,null,null,null,null,null,null,null,null,null,null,null,null,null,null,null,null,null,null,null,null,{"$f":"FlashCards!AQ598","v":"1859"},1859,0,0,1859,114921,{"$f":"FlashCards!AE598","v":595},1859]
[null,null,null,null,null,null,null,null,null,null,null,null,null,null,null,null,null,null,null,null,null,null,null,{"$f":"FlashCards!AQ599","v":"1860"},1860,0,0,1860,115600,{"$f":"FlashCards!AE599","v":596},1860]
[null,null,null,null,null,null,null,null,null,null,null,null,null,null,null,null,null,null,null,null,null,null,null,{"$f":"FlashCards!AQ600","v":"1861"},1861,0,0,1861,116281,{"$f":"FlashCards!AE600","v":597},1861]
[null,null,null,null,null,null,null,null,null,null,null,null,null,null,null,null,null,null,null,null,null,null,null,{"$f":"FlashCards!AQ601","v":"1868"},1868,0,0,1868,121104,{"$f":"FlashCards!AE601","v":598},1868]
[null,null,null,null,null,null,null,null,null,null,null,null,null,null,null,null,null,null,null,null,null,null,null,{"$f":"FlashCards!AQ602","v":"1869"},1869,0,0,1869,121801,{"$f":"FlashCards!AE602","v":599},1869]
[null,null,null,null,null,null,null,null,null,null,null,null,null,null,null,null,null,null,null,null,null,null,null,{"$f":"FlashCards!AQ603","v":"1870"},1870,0,0,1870,122500,{"$f":"FlashCards!AE603","v":600},1870]
[null,null,null,null,null,null,null,null,null,null,null,null,null,null,null,null,null,null,null,null,null,null,null,{"$f":"FlashCards!AQ604","v":"1883"},1883,0,0,1883,131769,{"$f":"FlashCards!AE604","v":601},1883]
[null,null,null,null,null,null,null,null,null,null,null,null,null,null,null,null,null,null,null,null,null,null,null,{"$f":"FlashCards!AQ605","v":"1883"},1883,0,0,1883,131769,{"$f":"FlashCards!AE605","v":602},1883]
[null,null,null,null,null,null,null,null,null,null,null,null,null,null,null,null,null,null,null,null,null,null,null,{"$f":"FlashCards!AQ606","v":"1887"},1887,0,0,1887,134689,{"$f":"FlashCards!AE606","v":603},1887]
[null,null,null,null,null,null,null,null,null,null,null,null,null,null,null,null,null,null,null,null,null,null,null,{"$f":"FlashCards!AQ607","v":"1893"},1893,0,0,1893,139129,{"$f":"FlashCards!AE607","v":604},1893]
[null,null,null,null,null,null,null,null,null,null,null,null,null,null,null,null,null,null,null,null,null,null,null,{"$f":"FlashCards!AQ608","v":"1894"},1894,0,0,1894,139876,{"$f":"FlashCards!AE608","v":605},1894]
[null,null,null,null,null,null,null,null,null,null,null,null,null,null,null,null,null,null,null,null,null,null,null,{"$f":"FlashCards!AQ609","v":"1899"},1899,0,0,1899,143641,{"$f":"FlashCards!AE609","v":606},1899]
[null,null,null,null,null,null,null,null,null,null,null,null,null,null,null,null,null,null,null,null,null,null,null,{"$f":"FlashCards!AQ610","v":"1904"},1904,0,0,1904,147456,{"$f":"FlashCards!AE610","v":607},1904]
[null,null,null,null,null,null,null,null,null,null,null,null,null,null,null,null,null,null,null,null,null,null,null,{"$f":"FlashCards!AQ611","v":"1905"},1905,0,0,1905,148225,{"$f":"FlashCards!AE611","v":608},1905]
[null,null,null,null,null,null,null,null,null,null,null,null,null,null,null,null,null,null,null,null,null,null,null,{"$f":"FlashCards!AQ612","v":"1909"},1909,0,0,1909,151321,{"$f":"FlashCards!AE612","v":609},1909]
[null,null,null,null,null,null,null,null,null,null,null,null,null,null,null,null,null,null,null,null,null,null,null,{"$f":"FlashCards!AQ613","v":"1909"},1909,0,0,1909,151321,{"$f":"FlashCards!AE613","v":610},1909]
[null,null,null,null,null,null,null,null,null,null,null,null,null,null,null,null,null,null,null,null,null,null,null,{"$f":"FlashCards!AQ614","v":"1909"},1909,0,0,1909,151321,{"$f":"FlashCards!AE614","v":611},1909]
[null,null,null,null,null,null,null,null,null,null,null,null,null,null,null,null,null,null,null,null,null,null,null,{"$f":"FlashCards!AQ615","v":"1911"},1911,0,0,1911,152881,{"$f":"FlashCards!AE615","v":612},1911]
[null,null,null,null,null,null,null,null,null,null,null,null,null,null,null,null,null,null,null,null,null,null,null,{"$f":"FlashCards!AQ616","v":"1915"},1915,0,0,1915,156025,{"$f":"FlashCards!AE616","v":613},1915]
[null,null,null,null,null,null,null,null,null,null,null,null,null,null,null,null,null,null,null,null,null,null,null,{"$f":"FlashCards!AQ617","v":"1921"},1921,0,0,1921,160801,{"$f":"FlashCards!AE617","v":614},1921]
[null,null,null,null,null,null,null,null,null,null,null,null,null,null,null,null,null,null,null,null,null,null,null,{"$f":"FlashCards!AQ618","v":"1922"},1922,0,0,1922,161604,{"$f":"FlashCards!AE618","v":615},1922]
[null,null,null,null,null,null,null,null,null,null,null,null,null,null,null,null,null,null,null,null,null,null,null,{"$f":"FlashCards!AQ619","v":"1934"},1934,0,0,1934,171396,{"$f":"FlashCards!AE619","v":616},1934]
[null,null,null,null,null,null,null,null,null,null,null,null,null,null,null,null,null,null,null,null,null,null,null,{"$f":"FlashCards!AQ620","v":"1937"},1937,0,0,1937,173889,{"$f":"FlashCards!AE620","v":617},1937]
[null,null,null,null,null,null,null,null,null,null,null,null,null,null,null,null,null,null,null,null,null,null,null,{"$f":"FlashCards!AQ621","v":"1939"},1939,0,0,1939,175561,{"$f":"FlashCards!AE621","v":618},1939]
[null,null,null,null,null,null,null,null,null,null,null,null,null,null,null,null,null,null,null,null,null,null,null,{"$f":"FlashCards!AQ622","v":"1941"},1941,0,0,1941,177241,{"$f":"FlashCards!AE622","v":619},1941]
[null,null,null,null,null,null,null,null,null,null,null,null,null,null,null,null,null,null,null,null,null,null,null,{"$f":"FlashCards!AQ623","v":"1949"},1949,0,0,1949,184041,{"$f":"FlashCards!AE623","v":620},1949]
[null,null,null,null,null,null,null,null,null,null,null,null,null,null,null,null,null,null,null,null,null,null,null,{"$f":"FlashCards!AQ624","v":"1961"},1961,0,0,1961,194481,{"$f":"FlashCards!AE624","v":621},1961]
[null,null,null,null,null,null,null,null,null,null,null,null,null,null,null,null,null,null,null,null,null,null,null,{"$f":"FlashCards!AQ625","v":"1968"},1968,0,0,1968,200704,{"$f":"FlashCards!AE625","v":622},1968]
[null,null,null,null,null,null,null,null,null,null,null,null,null,null,null,null,null,null,null,null,null,null,null,{"$f":"FlashCards!AQ626","v":"1980"},1980,0,0,1980,211600,{"$f":"FlashCards!AE626","v":623},1980]
[null,null,null,null,null,null,null,null,null,null,null,null,null,null,null,null,null,null,null,null,null,null,null,{"$f":"FlashCards!AQ627","v":"1987"},1987,0,0,1987,218089,{"$f":"FlashCards!AE627","v":624},1987]
[null,null,null,null,null,null,null,null,null,null,null,null,null,null,null,null,null,null,null,null,null,null,null,{"$f":"FlashCards!AQ628","v":"1992"},1992,0,0,1992,222784,{"$f":"FlashCards!AE628","v":625},1992]
[null,null,null,null,null,null,null,null,null,null,null,null,null,null,null,null,null,null,null,null,null,null,null,{"$f":"FlashCards!AQ629","v":"1994"},1994,0,0,1994,224676,{"$f":"FlashCards!AE629","v":626},1994]
[null,null,null,null,null,null,null,null,null,null,null,null,null,null,null,null,null,null,null,null,null,null,null,{"$f":"FlashCards!AQ630","v":"2004"},2004,0,0,2004,234256,{"$f":"FlashCards!AE630","v":627},2004]
[null,null,null,null,null,null,null,null,null,null,null,null,null,null,null,null,null,null,null,null,null,null,null,{"$f":"FlashCards!AQ631","v":"2005"},2005,0,0,2005,235225,{"$f":"FlashCards!AE631","v":628},2005]
[null,null,null,null,null,null,null,null,null,null,null,null,null,null,null,null,null,null,null,null,null,null,null,{"$f":"FlashCards!AQ632","v":"2007"},2007,0,0,2007,237169,{"$f":"FlashCards!AE632","v":629},2007]
[null,null,null,null,null,null,null,null,null,null,null,null,null,null,null,null,null,null,null,null,null,null,null,{"$f":"FlashCards!AQ633","v":"2008"},2008,0,0,2008,238144,{"$f":"FlashCards!AE633","v":630},2008]
[null,null,null,null,null,null,null,null,null,null,null,null,null,null,null,null,null,null,null,null,null,null,null,{"$f":"FlashCards!AQ634","v":"2010"},2010,0,0,2010,240100,{"$f":"FlashCards!AE634","v":631},2010]
[null,null,null,null,null,null,null,null,null,null,null,null,null,null,null,null,null,null,null,null,null,null,null,{"$f":"FlashCards!AQ635","v":"2012"},2012,0,0,2012,242064,{"$f":"FlashCards!AE635","v":632},2012]
[null,null,null,null,null,null,null,null,null,null,null,null,null,null,null,null,null,null,null,null,null,null,null,{"$f":"FlashCards!AQ636","v":"2032"},2032,0,0,2032,262144,{"$f":"FlashCards!AE636","v":633},2032]
[null,null,null,null,null,null,null,null,null,null,null,null,null,null,null,null,null,null,null,null,null,null,null,{"$f":"FlashCards!AQ637","v":"2033"},2033,0,0,2033,263169,{"$f":"FlashCards!AE637","v":634},2033]
[null,null,null,null,null,null,null,null,null,null,null,null,null,null,null,null,null,null,null,null,null,null,null,{"$f":"FlashCards!AQ638","v":"2038"},2038,0,0,2038,268324,{"$f":"FlashCards!AE638","v":635},2038]
[null,null,null,null,null,null,null,null,null,null,null,null,null,null,null,null,null,null,null,null,null,null,null,{"$f":"FlashCards!AQ639","v":"2040"},2040,0,0,2040,270400,{"$f":"FlashCards!AE639","v":636},2040]
[null,null,null,null,null,null,null,null,null,null,null,null,null,null,null,null,null,null,null,null,null,null,null,{"$f":"FlashCards!AQ640","v":"2041"},2041,0,0,2041,271441,{"$f":"FlashCards!AE640","v":637},2041]
[null,null,null,null,null,null,null,null,null,null,null,null,null,null,null,null,null,null,null,null,null,null,null,{"$f":"FlashCards!AQ641","v":"2048"},2048,0,0,2048,278784,{"$f":"FlashCards!AE641","v":638},2048]
[null,null,null,null,null,null,null,null,null,null,null,null,null,null,null,null,null,null,null,null,null,null,null,{"$f":"FlashCards!AQ642","v":"2048"},2048,0,0,2048,278784,{"$f":"FlashCards!AE642","v":639},2048]
[null,null,null,null,null,null,null,null,null,null,null,null,null,null,null,null,null,null,null,null,null,null,null,{"$f":"FlashCards!AQ643","v":"2064"},2064,0,0,2064,295936,{"$f":"FlashCards!AE643","v":640},2064]
[null,null,null,null,null,null,null,null,null,null,null,null,null,null,null,null,null,null,null,null,null,null,null,{"$f":"FlashCards!AQ644","v":"2065"},2065,0,0,2065,297025,{"$f":"FlashCards!AE644","v":641},2065]
[null,null,null,null,null,null,null,null,null,null,null,null,null,null,null,null,null,null,null,null,null,null,null,{"$f":"FlashCards!AQ645","v":"2066"},{"$f":"VALUE(X644)","v":2066},{"$f":"IF(ISERR(FIND(\"+\",X644,1)),0,FIND(\"+\",X644,1))","v":0},{"$f":"IF(ISERR(FIND(\",\",X644,1)),0,FIND(\",\",X644,1))","v":0},{"$f":"IF(Z644>0,VALUE(LEFT(X644,Z644-1)),IF(AA644>0,VALUE(LEFT(X644,AA644-1)),IF(ISERR(Y644),VALUE(LEFT(X644,LEN(X644)-1)),Y644)))","v":2066},{"$f":"(AB644-U$28)^2","v":298116},{"$f":"FlashCards!AE645","v":642},{"$f":"IF(AB644=0,10000,AB644)","v":2066}]
[null,null,null,null,null,null,null,null,null,null,null,null,null,null,null,null,null,null,null,null,null,null,null,{"$f":"FlashCards!AQ646","v":"2068"},2068,0,0,2068,300304,{"$f":"FlashCards!AE646","v":643},2068]
[null,null,null,null,null,null,null,null,null,null,null,null,null,null,null,null,null,null,null,null,null,null,null,{"$f":"FlashCards!AQ647","v":"2070, 1510"},{"$error":"#VALUE!"},0,5,2070,302500,{"$f":"FlashCards!AE647","v":644},2070]
[null,null,null,null,null,null,null,null,null,null,null,null,null,null,null,null,null,null,null,null,null,null,null,{"$f":"FlashCards!AQ648","v":"2071, 1510"},{"$error":"#VALUE!"},0,5,2071,303601,{"$f":"FlashCards!AE648","v":645},2071]
[null,null,null,null,null,null,null,null,null,null,null,null,null,null,null,null,null,null,null,null,null,null,null,{"$f":"FlashCards!AQ649","v":"2071, 1510"},{"$error":"#VALUE!"},0,5,2071,303601,{"$f":"FlashCards!AE649","v":646},2071]
[null,null,null,null,null,null,null,null,null,null,null,null,null,null,null,null,null,null,null,null,null,null,null,{"$f":"FlashCards!AQ650","v":"2071, 1510"},{"$error":"#VALUE!"},0,5,2071,303601,{"$f":"FlashCards!AE650","v":647},2071]
[null,null,null,null,null,null,null,null,null,null,null,null,null,null,null,null,null,null,null,null,null,null,null,{"$f":"FlashCards!AQ651","v":"2071, 1510"},{"$error":"#VALUE!"},0,5,2071,303601,{"$f":"FlashCards!AE651","v":648},2071]
[null,null,null,null,null,null,null,null,null,null,null,null,null,null,null,null,null,null,null,null,null,null,null,{"$f":"FlashCards!AQ652","v":"2071, 1510"},{"$error":"#VALUE!"},0,5,2071,303601,{"$f":"FlashCards!AE652","v":649},2071]
[null,null,null,null,null,null,null,null,null,null,null,null,null,null,null,null,null,null,null,null,null,null,null,{"$f":"FlashCards!AQ653","v":"2071, 1510"},{"$error":"#VALUE!"},0,5,2071,303601,{"$f":"FlashCards!AE653","v":650},2071]
[null,null,null,null,null,null,null,null,null,null,null,null,null,null,null,null,null,null,null,null,null,null,null,{"$f":"FlashCards!AQ654","v":"2075, 1510"},{"$error":"#VALUE!"},0,5,2075,308025,{"$f":"FlashCards!AE654","v":651},2075]
[null,null,null,null,null,null,null,null,null,null,null,null,null,null,null,null,null,null,null,null,null,null,null,{"$f":"FlashCards!AQ655","v":"2076, 1510"},{"$error":"#VALUE!"},0,5,2076,309136,{"$f":"FlashCards!AE655","v":652},2076]
[null,null,null,null,null,null,null,null,null,null,null,null,null,null,null,null,null,null,null,null,null,null,null,{"$f":"FlashCards!AQ656","v":"2078"},2078,0,0,2078,311364,{"$f":"FlashCards!AE656","v":653},2078]
[null,null,null,null,null,null,null,null,null,null,null,null,null,null,null,null,null,null,null,null,null,null,null,{"$f":"FlashCards!AQ657","v":"2081"},2081,0,0,2081,314721,{"$f":"FlashCards!AE657","v":654},2081]
[null,null,null,null,null,null,null,null,null,null,null,null,null,null,null,null,null,null,null,null,null,null,null,{"$f":"FlashCards!AQ658","v":"2087"},2087,0,0,2087,321489,{"$f":"FlashCards!AE658","v":655},2087]
[null,null,null,null,null,null,null,null,null,null,null,null,null,null,null,null,null,null,null,null,null,null,null,{"$f":"FlashCards!AQ659","v":"2089"},2089,0,0,2089,323761,{"$f":"FlashCards!AE659","v":656},2089]
[null,null,null,null,null,null,null,null,null,null,null,null,null,null,null,null,null,null,null,null,null,null,null,{"$f":"FlashCards!AQ660","v":"2090"},2090,0,0,2090,324900,{"$f":"FlashCards!AE660","v":657},2090]
[null,null,null,null,null,null,null,null,null,null,null,null,null,null,null,null,null,null,null,null,null,null,null,{"$f":"FlashCards!AQ661","v":"2092"},2092,0,0,2092,327184,{"$f":"FlashCards!AE661","v":658},2092]
[null,null,null,null,null,null,null,null,null,null,null,null,null,null,null,null,null,null,null,null,null,null,null,{"$f":"FlashCards!AQ662","v":"2094"},2094,0,0,2094,329476,{"$f":"FlashCards!AE662","v":659},2094]
[null,null,null,null,null,null,null,null,null,null,null,null,null,null,null,null,null,null,null,null,null,null,null,{"$f":"FlashCards!AQ663","v":"2097"},2097,0,0,2097,332929,{"$f":"FlashCards!AE663","v":660},2097]
[null,null,null,null,null,null,null,null,null,null,null,null,null,null,null,null,null,null,null,null,null,null,null,{"$f":"FlashCards!AQ664","v":"2098"},2098,0,0,2098,334084,{"$f":"FlashCards!AE664","v":661},2098]
[null,null,null,null,null,null,null,null,null,null,null,null,null,null,null,null,null,null,null,null,null,null,null,{"$f":"FlashCards!AQ665","v":"2106"},2106,0,0,2106,343396,{"$f":"FlashCards!AE665","v":662},2106]
[null,null,null,null,null,null,null,null,null,null,null,null,null,null,null,null,null,null,null,null,null,null,null,{"$f":"FlashCards!AQ666","v":"2112"},2112,0,0,2112,350464,{"$f":"FlashCards!AE666","v":663},2112]
[null,null,null,null,null,null,null,null,null,null,null,null,null,null,null,null,null,null,null,null,null,null,null,{"$f":"FlashCards!AQ667","v":"2117"},2117,0,0,2117,356409,{"$f":"FlashCards!AE667","v":664},2117]
[null,null,null,null,null,null,null,null,null,null,null,null,null,null,null,null,null,null,null,null,null,null,null,{"$f":"FlashCards!AQ668","v":"2117"},2117,0,0,2117,356409,{"$f":"FlashCards!AE668","v":665},2117]
[null,null,null,null,null,null,null,null,null,null,null,null,null,null,null,null,null,null,null,null,null,null,null,{"$f":"FlashCards!AQ669","v":"2127"},2127,0,0,2127,368449,{"$f":"FlashCards!AE669","v":666},2127]
[null,null,null,null,null,null,null,null,null,null,null,null,null,null,null,null,null,null,null,null,null,null,null,{"$f":"FlashCards!AQ670","v":"2128"},2128,0,0,2128,369664,{"$f":"FlashCards!AE670","v":667},2128]
[null,null,null,null,null,null,null,null,null,null,null,null,null,null,null,null,null,null,null,null,null,null,null,{"$f":"FlashCards!AQ671","v":"2129"},2129,0,0,2129,370881,{"$f":"FlashCards!AE671","v":668},2129]
[null,null,null,null,null,null,null,null,null,null,null,null,null,null,null,null,null,null,null,null,null,null,null,{"$f":"FlashCards!AQ672","v":"2147"},2147,0,0,2147,393129,{"$f":"FlashCards!AE672","v":669},2147]
[null,null,null,null,null,null,null,null,null,null,null,null,null,null,null,null,null,null,null,null,null,null,null,{"$f":"FlashCards!AQ673","v":"2150"},2150,0,0,2150,396900,{"$f":"FlashCards!AE673","v":670},2150]
[null,null,null,null,null,null,null,null,null,null,null,null,null,null,null,null,null,null,null,null,null,null,null,{"$f":"FlashCards!AQ674","v":"2165"},2165,0,0,2165,416025,{"$f":"FlashCards!AE674","v":671},2165]
[null,null,null,null,null,null,null,null,null,null,null,null,null,null,null,null,null,null,null,null,null,null,null,{"$f":"FlashCards!AQ675","v":"2168"},2168,0,0,2168,419904,{"$f":"FlashCards!AE675","v":672},2168]
[null,null,null,null,null,null,null,null,null,null,null,null,null,null,null,null,null,null,null,null,null,null,null,{"$f":"FlashCards!AQ676","v":"2169"},2169,0,0,2169,421201,{"$f":"FlashCards!AE676","v":673},2169]
[null,null,null,null,null,null,null,null,null,null,null,null,null,null,null,null,null,null,null,null,null,null,null,{"$f":"FlashCards!AQ677","v":"2181"},2181,0,0,2181,436921,{"$f":"FlashCards!AE677","v":674},2181]
[null,null,null,null,null,null,null,null,null,null,null,null,null,null,null,null,null,null,null,null,null,null,null,{"$f":"FlashCards!AQ678","v":"2186"},2186,0,0,2186,443556,{"$f":"FlashCards!AE678","v":675},2186]
[null,null,null,null,null,null,null,null,null,null,null,null,null,null,null,null,null,null,null,null,null,null,null,{"$f":"FlashCards!AQ679","v":"2190"},2190,0,0,2190,448900,{"$f":"FlashCards!AE679","v":676},2190]
[null,null,null,null,null,null,null,null,null,null,null,null,null,null,null,null,null,null,null,null,null,null,null,{"$f":"FlashCards!AQ680","v":"2190"},2190,0,0,2190,448900,{"$f":"FlashCards!AE680","v":677},2190]
[null,null,null,null,null,null,null,null,null,null,null,null,null,null,null,null,null,null,null,null,null,null,null,{"$f":"FlashCards!AQ681","v":"2192"},2192,0,0,2192,451584,{"$f":"FlashCards!AE681","v":678},2192]
[null,null,null,null,null,null,null,null,null,null,null,null,null,null,null,null,null,null,null,null,null,null,null,{"$f":"FlashCards!AQ682","v":"3588+2192"},{"$error":"#VALUE!"},5,0,3588,4276624,{"$f":"FlashCards!AE682","v":679},3588]
[null,null,null,null,null,null,null,null,null,null,null,null,null,null,null,null,null,null,null,null,null,null,null,{"$f":"FlashCards!AQ683","v":"2193"},2193,0,0,2193,452929,{"$f":"FlashCards!AE683","v":680},2193]
[null,null,null,null,null,null,null,null,null,null,null,null,null,null,null,null,null,null,null,null,null,null,null,{"$f":"FlashCards!AQ684","v":"2193"},2193,0,0,2193,452929,{"$f":"FlashCards!AE684","v":681},2193]
[null,null,null,null,null,null,null,null,null,null,null,null,null,null,null,null,null,null,null,null,null,null,null,{"$f":"FlashCards!AQ685","v":"2197"},2197,0,0,2197,458329,{"$f":"FlashCards!AE685","v":682},2197]
[null,null,null,null,null,null,null,null,null,null,null,null,null,null,null,null,null,null,null,null,null,null,null,{"$f":"FlashCards!AQ686","v":"2198"},2198,0,0,2198,459684,{"$f":"FlashCards!AE686","v":683},2198]
[null,null,null,null,null,null,null,null,null,null,null,null,null,null,null,null,null,null,null,null,null,null,null,{"$f":"FlashCards!AQ687","v":"3588+2198"},{"$error":"#VALUE!"},5,0,3588,4276624,{"$f":"FlashCards!AE687","v":684},3588]
[null,null,null,null,null,null,null,null,null,null,null,null,null,null,null,null,null,null,null,null,null,null,null,{"$f":"FlashCards!AQ688","v":"2199"},2199,0,0,2199,461041,{"$f":"FlashCards!AE688","v":685},2199]
[null,null,null,null,null,null,null,null,null,null,null,null,null,null,null,null,null,null,null,null,null,null,null,{"$f":"FlashCards!AQ689","v":"2205"},2205,0,0,2205,469225,{"$f":"FlashCards!AE689","v":686},2205]
[null,null,null,null,null,null,null,null,null,null,null,null,null,null,null,null,null,null,null,null,null,null,null,{"$f":"FlashCards!AQ690","v":"2206"},2206,0,0,2206,470596,{"$f":"FlashCards!AE690","v":687},2206]
[null,null,null,null,null,null,null,null,null,null,null,null,null,null,null,null,null,null,null,null,null,null,null,{"$f":"FlashCards!AQ691","v":"2212"},2212,0,0,2212,478864,{"$f":"FlashCards!AE691","v":688},2212]
[null,null,null,null,null,null,null,null,null,null,null,null,null,null,null,null,null,null,null,null,null,null,null,{"$f":"FlashCards!AQ692","v":"2219"},2219,0,0,2219,488601,{"$f":"FlashCards!AE692","v":689},2219]
[null,null,null,null,null,null,null,null,null,null,null,null,null,null,null,null,null,null,null,null,null,null,null,{"$f":"FlashCards!AQ693","v":"2222"},2222,0,0,2222,492804,{"$f":"FlashCards!AE693","v":690},2222]
[null,null,null,null,null,null,null,null,null,null,null,null,null,null,null,null,null,null,null,null,null,null,null,{"$f":"FlashCards!AQ694","v":"2226"},2226,0,0,2226,498436,{"$f":"FlashCards!AE694","v":691},2226]
[null,null,null,null,null,null,null,null,null,null,null,null,null,null,null,null,null,null,null,null,null,null,null,{"$f":"FlashCards!AQ695","v":"2227"},2227,0,0,2227,499849,{"$f":"FlashCards!AE695","v":692},2227]
[null,null,null,null,null,null,null,null,null,null,null,null,null,null,null,null,null,null,null,null,null,null,null,{"$f":"FlashCards!AQ696","v":"2228"},2228,0,0,2228,501264,{"$f":"FlashCards!AE696","v":693},2228]
[null,null,null,null,null,null,null,null,null,null,null,null,null,null,null,null,null,null,null,null,null,null,null,{"$f":"FlashCards!AQ697","v":"2232"},2232,0,0,2232,506944,{"$f":"FlashCards!AE697","v":694},2232]
[null,null,null,null,null,null,null,null,null,null,null,null,null,null,null,null,null,null,null,null,null,null,null,{"$f":"FlashCards!AQ698","v":"2233"},2233,0,0,2233,508369,{"$f":"FlashCards!AE698","v":695},2233]
[null,null,null,null,null,null,null,null,null,null,null,null,null,null,null,null,null,null,null,null,null,null,null,{"$f":"FlashCards!AQ699","v":"2235"},2235,0,0,2235,511225,{"$f":"FlashCards!AE699","v":696},2235]
[null,null,null,null,null,null,null,null,null,null,null,null,null,null,null,null,null,null,null,null,null,null,null,{"$f":"FlashCards!AQ700","v":"2240"},2240,0,0,2240,518400,{"$f":"FlashCards!AE700","v":697},2240]
[null,null,null,null,null,null,null,null,null,null,null,null,null,null,null,null,null,null,null,null,null,null,null,{"$f":"FlashCards!AQ701","v":"2243"},2243,0,0,2243,522729,{"$f":"FlashCards!AE701","v":698},2243]
[null,null,null,null,null,null,null,null,null,null,null,null,null,null,null,null,null,null,null,null,null,null,null,{"$f":"FlashCards!AQ702","v":"2244"},2244,0,0,2244,524176,{"$f":"FlashCards!AE702","v":699},2244]
[null,null,null,null,null,null,null,null,null,null,null,null,null,null,null,null,null,null,null,null,null,null,null,{"$f":"FlashCards!AQ703","v":"2246"},2246,0,0,2246,527076,{"$f":"FlashCards!AE703","v":700},2246]
[null,null,null,null,null,null,null,null,null,null,null,null,null,null,null,null,null,null,null,null,null,null,null,{"$f":"FlashCards!AQ704","v":"2248"},2248,0,0,2248,529984,{"$f":"FlashCards!AE704","v":701},2248]
[null,null,null,null,null,null,null,null,null,null,null,null,null,null,null,null,null,null,null,null,null,null,null,{"$f":"FlashCards!AQ705","v":"2250"},2250,0,0,2250,532900,{"$f":"FlashCards!AE705","v":702},2250]
[null,null,null,null,null,null,null,null,null,null,null,null,null,null,null,null,null,null,null,null,null,null,null,{"$f":"FlashCards!AQ706","v":"2251"},2251,0,0,2251,534361,{"$f":"FlashCards!AE706","v":703},2251]
[null,null,null,null,null,null,null,null,null,null,null,null,null,null,null,null,null,null,null,null,null,null,null,{"$f":"FlashCards!AQ707","v":"2254"},2254,0,0,2254,538756,{"$f":"FlashCards!AE707","v":704},2254]
[null,null,null,null,null,null,null,null,null,null,null,null,null,null,null,null,null,null,null,null,null,null,null,{"$f":"FlashCards!AQ708","v":"2257"},2257,0,0,2257,543169,{"$f":"FlashCards!AE708","v":705},2257]
[null,null,null,null,null,null,null,null,null,null,null,null,null,null,null,null,null,null,null,null,null,null,null,{"$f":"FlashCards!AQ709","v":"2258, 1510"},{"$f":"VALUE(X708)","v":{"$error":"#VALUE!"}},{"$f":"IF(ISERR(FIND(\"+\",X708,1)),0,FIND(\"+\",X708,1))","v":0},{"$f":"IF(ISERR(FIND(\",\",X708,1)),0,FIND(\",\",X708,1))","v":5},{"$f":"IF(Z708>0,VALUE(LEFT(X708,Z708-1)),IF(AA708>0,VALUE(LEFT(X708,AA708-1)),IF(ISERR(Y708),VALUE(LEFT(X708,LEN(X708)-1)),Y708)))","v":2258},{"$f":"(AB708-U$28)^2","v":544644},{"$f":"FlashCards!AE709","v":706},{"$f":"IF(AB708=0,10000,AB708)","v":2258}]
[null,null,null,null,null,null,null,null,null,null,null,null,null,null,null,null,null,null,null,null,null,null,null,{"$f":"FlashCards!AQ710","v":"2264"},2264,0,0,2264,553536,{"$f":"FlashCards!AE710","v":707},2264]
[null,null,null,null,null,null,null,null,null,null,null,null,null,null,null,null,null,null,null,null,null,null,null,{"$f":"FlashCards!AQ711","v":"2268"},2268,0,0,2268,559504,{"$f":"FlashCards!AE711","v":708},2268]
[null,null,null,null,null,null,null,null,null,null,null,null,null,null,null,null,null,null,null,null,null,null,null,{"$f":"FlashCards!AQ712","v":"2273"},2273,0,0,2273,567009,{"$f":"FlashCards!AE712","v":709},2273]
[null,null,null,null,null,null,null,null,null,null,null,null,null,null,null,null,null,null,null,null,null,null,null,{"$f":"FlashCards!AQ713","v":"2281"},2281,0,0,2281,579121,{"$f":"FlashCards!AE713","v":710},2281]
[null,null,null,null,null,null,null,null,null,null,null,null,null,null,null,null,null,null,null,null,null,null,null,{"$f":"FlashCards!AQ714","v":"2288"},2288,0,0,2288,589824,{"$f":"FlashCards!AE714","v":711},2288]
[null,null,null,null,null,null,null,null,null,null,null,null,null,null,null,null,null,null,null,null,null,null,null,{"$f":"FlashCards!AQ715","v":"2289"},2289,0,0,2289,591361,{"$f":"FlashCards!AE715","v":712},2289]
[null,null,null,null,null,null,null,null,null,null,null,null,null,null,null,null,null,null,null,null,null,null,null,{"$f":"FlashCards!AQ716","v":"2290"},2290,0,0,2290,592900,{"$f":"FlashCards!AE716","v":713},2290]
[null,null,null,null,null,null,null,null,null,null,null,null,null,null,null,null,null,null,null,null,null,null,null,{"$f":"FlashCards!AQ717","v":"2296"},2296,0,0,2296,602176,{"$f":"FlashCards!AE717","v":714},2296]
[null,null,null,null,null,null,null,null,null,null,null,null,null,null,null,null,null,null,null,null,null,null,null,{"$f":"FlashCards!AQ718","v":"2300"},2300,0,0,2300,608400,{"$f":"FlashCards!AE718","v":715},2300]
[null,null,null,null,null,null,null,null,null,null,null,null,null,null,null,null,null,null,null,null,null,null,null,{"$f":"FlashCards!AQ719","v":"2307"},2307,0,0,2307,619369,{"$f":"FlashCards!AE719","v":716},2307]
[null,null,null,null,null,null,null,null,null,null,null,null,null,null,null,null,null,null,null,null,null,null,null,{"$f":"FlashCards!AQ720","v":"2309"},2309,0,0,2309,622521,{"$f":"FlashCards!AE720","v":717},2309]
[null,null,null,null,null,null,null,null,null,null,null,null,null,null,null,null,null,null,null,null,null,null,null,{"$f":"FlashCards!AQ721","v":"2310"},2310,0,0,2310,624100,{"$f":"FlashCards!AE721","v":718},2310]
[null,null,null,null,null,null,null,null,null,null,null,null,null,null,null,null,null,null,null,null,null,null,null,{"$f":"FlashCards!AQ722","v":"2316"},2316,0,0,2316,633616,{"$f":"FlashCards!AE722","v":719},2316]
[null,null,null,null,null,null,null,null,null,null,null,null,null,null,null,null,null,null,null,null,null,null,null,{"$f":"FlashCards!AQ723","v":"2323"},2323,0,0,2323,644809,{"$f":"FlashCards!AE723","v":720},2323]
[null,null,null,null,null,null,null,null,null,null,null,null,null,null,null,null,null,null,null,null,null,null,null,{"$f":"FlashCards!AQ724","v":"2325"},2325,0,0,2325,648025,{"$f":"FlashCards!AE724","v":721},2325]
[null,null,null,null,null,null,null,null,null,null,null,null,null,null,null,null,null,null,null,null,null,null,null,{"$f":"FlashCards!AQ725","v":"2326"},2326,0,0,2326,649636,{"$f":"FlashCards!AE725","v":722},2326]
[null,null,null,null,null,null,null,null,null,null,null,null,null,null,null,null,null,null,null,null,null,null,null,{"$f":"FlashCards!AQ726","v":"2334"},2334,0,0,2334,662596,{"$f":"FlashCards!AE726","v":723},2334]
[null,null,null,null,null,null,null,null,null,null,null,null,null,null,null,null,null,null,null,null,null,null,null,{"$f":"FlashCards!AQ727","v":"2342"},2342,0,0,2342,675684,{"$f":"FlashCards!AE727","v":724},2342]
[null,null,null,null,null,null,null,null,null,null,null,null,null,null,null,null,null,null,null,null,null,null,null,{"$f":"FlashCards!AQ728","v":"2344"},2344,0,0,2344,678976,{"$f":"FlashCards!AE728","v":725},2344]
[null,null,null,null,null,null,null,null,null,null,null,null,null,null,null,null,null,null,null,null,null,null,null,{"$f":"FlashCards!AQ729","v":"2346"},2346,0,0,2346,682276,{"$f":"FlashCards!AE729","v":726},2346]
[null,null,null,null,null,null,null,null,null,null,null,null,null,null,null,null,null,null,null,null,null,null,null,{"$f":"FlashCards!AQ730","v":"2347"},2347,0,0,2347,683929,{"$f":"FlashCards!AE730","v":727},2347]
[null,null,null,null,null,null,null,null,null,null,null,null,null,null,null,null,null,null,null,null,null,null,null,{"$f":"FlashCards!AQ731","v":"2359"},2359,0,0,2359,703921,{"$f":"FlashCards!AE731","v":728},2359]
[null,null,null,null,null,null,null,null,null,null,null,null,null,null,null,null,null,null,null,null,null,null,null,{"$f":"FlashCards!AQ732","v":"2359"},2359,0,0,2359,703921,{"$f":"FlashCards!AE732","v":729},2359]
[null,null,null,null,null,null,null,null,null,null,null,null,null,null,null,null,null,null,null,null,null,null,null,{"$f":"FlashCards!AQ733","v":"2362"},2362,0,0,2362,708964,{"$f":"FlashCards!AE733","v":730},2362]
[null,null,null,null,null,null,null,null,null,null,null,null,null,null,null,null,null,null,null,null,null,null,null,{"$f":"FlashCards!AQ734","v":"2364"},2364,0,0,2364,712336,{"$f":"FlashCards!AE734","v":731},2364]
[null,null,null,null,null,null,null,null,null,null,null,null,null,null,null,null,null,null,null,null,null,null,null,{"$f":"FlashCards!AQ735","v":"2372"},2372,0,0,2372,725904,{"$f":"FlashCards!AE735","v":732},2372]
[null,null,null,null,null,null,null,null,null,null,null,null,null,null,null,null,null,null,null,null,null,null,null,{"$f":"FlashCards!AQ736","v":"2374"},2374,0,0,2374,729316,{"$f":"FlashCards!AE736","v":733},2374]
[null,null,null,null,null,null,null,null,null,null,null,null,null,null,null,null,null,null,null,null,null,null,null,{"$f":"FlashCards!AQ737","v":"2378"},2378,0,0,2378,736164,{"$f":"FlashCards!AE737","v":734},2378]
[null,null,null,null,null,null,null,null,null,null,null,null,null,null,null,null,null,null,null,null,null,null,null,{"$f":"FlashCards!AQ738","v":"2379"},2379,0,0,2379,737881,{"$f":"FlashCards!AE738","v":735},2379]
[null,null,null,null,null,null,null,null,null,null,null,null,null,null,null,null,null,null,null,null,null,null,null,{"$f":"FlashCards!AQ739","v":"2380"},2380,0,0,2380,739600,{"$f":"FlashCards!AE739","v":736},2380]
[null,null,null,null,null,null,null,null,null,null,null,null,null,null,null,null,null,null,null,null,null,null,null,{"$f":"FlashCards!AQ740","v":"2381"},2381,0,0,2381,741321,{"$f":"FlashCards!AE740","v":737},2381]
[null,null,null,null,null,null,null,null,null,null,null,null,null,null,null,null,null,null,null,null,null,null,null,{"$f":"FlashCards!AQ741","v":"2384"},2384,0,0,2384,746496,{"$f":"FlashCards!AE741","v":738},2384]
[null,null,null,null,null,null,null,null,null,null,null,null,null,null,null,null,null,null,null,null,null,null,null,{"$f":"FlashCards!AQ742","v":"2385"},2385,0,0,2385,748225,{"$f":"FlashCards!AE742","v":739},2385]
[null,null,null,null,null,null,null,null,null,null,null,null,null,null,null,null,null,null,null,null,null,null,null,{"$f":"FlashCards!AQ743","v":"2390"},2390,0,0,2390,756900,{"$f":"FlashCards!AE743","v":740},2390]
[null,null,null,null,null,null,null,null,null,null,null,null,null,null,null,null,null,null,null,null,null,null,null,{"$f":"FlashCards!AQ744","v":"2396"},2396,0,0,2396,767376,{"$f":"FlashCards!AE744","v":741},2396]
[null,null,null,null,null,null,null,null,null,null,null,null,null,null,null,null,null,null,null,null,null,null,null,{"$f":"FlashCards!AQ745","v":"2398"},2398,0,0,2398,770884,{"$f":"FlashCards!AE745","v":742},2398]
[null,null,null,null,null,null,null,null,null,null,null,null,null,null,null,null,null,null,null,null,null,null,null,{"$f":"FlashCards!AQ746","v":"2398"},2398,0,0,2398,770884,{"$f":"FlashCards!AE746","v":743},2398]
[null,null,null,null,null,null,null,null,null,null,null,null,null,null,null,null,null,null,null,null,null,null,null,{"$f":"FlashCards!AQ747","v":"2398"},2398,0,0,2398,770884,{"$f":"FlashCards!AE747","v":744},2398]
[null,null,null,null,null,null,null,null,null,null,null,null,null,null,null,null,null,null,null,null,null,null,null,{"$f":"FlashCards!AQ748","v":"2400"},2400,0,0,2400,774400,{"$f":"FlashCards!AE748","v":745},2400]
[null,null,null,null,null,null,null,null,null,null,null,null,null,null,null,null,null,null,null,null,null,null,null,{"$f":"FlashCards!AQ749","v":"2409"},2409,0,0,2409,790321,{"$f":"FlashCards!AE749","v":746},2409]
[null,null,null,null,null,null,null,null,null,null,null,null,null,null,null,null,null,null,null,null,null,null,null,{"$f":"FlashCards!AQ750","v":"2411"},2411,0,0,2411,793881,{"$f":"FlashCards!AE750","v":747},2411]
[null,null,null,null,null,null,null,null,null,null,null,null,null,null,null,null,null,null,null,null,null,null,null,{"$f":"FlashCards!AQ751","v":"2414"},2414,0,0,2414,799236,{"$f":"FlashCards!AE751","v":748},2414]
[null,null,null,null,null,null,null,null,null,null,null,null,null,null,null,null,null,null,null,null,null,null,null,{"$f":"FlashCards!AQ752","v":"2419"},2419,0,0,2419,808201,{"$f":"FlashCards!AE752","v":749},2419]
[null,null,null,null,null,null,null,null,null,null,null,null,null,null,null,null,null,null,null,null,null,null,null,{"$f":"FlashCards!AQ753","v":"2424"},2424,0,0,2424,817216,{"$f":"FlashCards!AE753","v":750},2424]
[null,null,null,null,null,null,null,null,null,null,null,null,null,null,null,null,null,null,null,null,null,null,null,{"$f":"FlashCards!AQ754","v":"2425"},2425,0,0,2425,819025,{"$f":"FlashCards!AE754","v":751},2425]
[null,null,null,null,null,null,null,null,null,null,null,null,null,null,null,null,null,null,null,null,null,null,null,{"$f":"FlashCards!AQ755","v":"2429"},2429,0,0,2429,826281,{"$f":"FlashCards!AE755","v":752},2429]
[null,null,null,null,null,null,null,null,null,null,null,null,null,null,null,null,null,null,null,null,null,null,null,{"$f":"FlashCards!AQ756","v":"2434"},2434,0,0,2434,835396,{"$f":"FlashCards!AE756","v":753},2434]
[null,null,null,null,null,null,null,null,null,null,null,null,null,null,null,null,null,null,null,null,null,null,null,{"$f":"FlashCards!AQ757","v":"2435"},2435,0,0,2435,837225,{"$f":"FlashCards!AE757","v":754},2435]
[null,null,null,null,null,null,null,null,null,null,null,null,null,null,null,null,null,null,null,null,null,null,null,{"$f":"FlashCards!AQ758","v":"2440"},2440,0,0,2440,846400,{"$f":"FlashCards!AE758","v":755},2440]
[null,null,null,null,null,null,null,null,null,null,null,null,null,null,null,null,null,null,null,null,null,null,null,{"$f":"FlashCards!AQ759","v":"2443"},2443,0,0,2443,851929,{"$f":"FlashCards!AE759","v":756},2443]
[null,null,null,null,null,null,null,null,null,null,null,null,null,null,null,null,null,null,null,null,null,null,null,{"$f":"FlashCards!AQ760","v":"2445"},2445,0,0,2445,855625,{"$f":"FlashCards!AE760","v":757},2445]
[null,null,null,null,null,null,null,null,null,null,null,null,null,null,null,null,null,null,null,null,null,null,null,{"$f":"FlashCards!AQ761","v":"2446"},2446,0,0,2446,857476,{"$f":"FlashCards!AE761","v":758},2446]
[null,null,null,null,null,null,null,null,null,null,null,null,null,null,null,null,null,null,null,null,null,null,null,{"$f":"FlashCards!AQ762","v":"2449"},2449,0,0,2449,863041,{"$f":"FlashCards!AE762","v":759},2449]
[null,null,null,null,null,null,null,null,null,null,null,null,null,null,null,null,null,null,null,null,null,null,null,{"$f":"FlashCards!AQ763","v":"2453"},2453,0,0,2453,870489,{"$f":"FlashCards!AE763","v":760},2453]
[null,null,null,null,null,null,null,null,null,null,null,null,null,null,null,null,null,null,null,null,null,null,null,{"$f":"FlashCards!AQ764","v":"2453"},2453,0,0,2453,870489,{"$f":"FlashCards!AE764","v":761},2453]
[null,null,null,null,null,null,null,null,null,null,null,null,null,null,null,null,null,null,null,null,null,null,null,{"$f":"FlashCards!AQ765","v":"2455"},2455,0,0,2455,874225,{"$f":"FlashCards!AE765","v":762},2455]
[null,null,null,null,null,null,null,null,null,null,null,null,null,null,null,null,null,null,null,null,null,null,null,{"$f":"FlashCards!AQ766","v":"2462"},2462,0,0,2462,887364,{"$f":"FlashCards!AE766","v":763},2462]
[null,null,null,null,null,null,null,null,null,null,null,null,null,null,null,null,null,null,null,null,null,null,null,{"$f":"FlashCards!AQ767","v":"2464"},2464,0,0,2464,891136,{"$f":"FlashCards!AE767","v":764},2464]
[null,null,null,null,null,null,null,null,null,null,null,null,null,null,null,null,null,null,null,null,null,null,null,{"$f":"FlashCards!AQ768","v":2470},2470,0,0,2470,902500,{"$f":"FlashCards!AE768","v":765},2470]
[null,null,null,null,null,null,null,null,null,null,null,null,null,null,null,null,null,null,null,null,null,null,null,{"$f":"FlashCards!AQ769","v":"2474"},2474,0,0,2474,910116,{"$f":"FlashCards!AE769","v":766},2474]
[null,null,null,null,null,null,null,null,null,null,null,null,null,null,null,null,null,null,null,null,null,null,null,{"$f":"FlashCards!AQ770","v":"2476"},2476,0,0,2476,913936,{"$f":"FlashCards!AE770","v":767},2476]
[null,null,null,null,null,null,null,null,null,null,null,null,null,null,null,null,null,null,null,null,null,null,null,{"$f":"FlashCards!AQ771","v":"2478"},2478,0,0,2478,917764,{"$f":"FlashCards!AE771","v":768},2478]
[null,null,null,null,null,null,null,null,null,null,null,null,null,null,null,null,null,null,null,null,null,null,null,{"$f":"FlashCards!AQ772","v":"2479"},2479,0,0,2479,919681,{"$f":"FlashCards!AE772","v":769},2479]
[null,null,null,null,null,null,null,null,null,null,null,null,null,null,null,null,null,null,null,null,null,null,null,{"$f":"FlashCards!AQ773","v":"2480"},{"$f":"VALUE(X772)","v":2480},{"$f":"IF(ISERR(FIND(\"+\",X772,1)),0,FIND(\"+\",X772,1))","v":0},{"$f":"IF(ISERR(FIND(\",\",X772,1)),0,FIND(\",\",X772,1))","v":0},{"$f":"IF(Z772>0,VALUE(LEFT(X772,Z772-1)),IF(AA772>0,VALUE(LEFT(X772,AA772-1)),IF(ISERR(Y772),VALUE(LEFT(X772,LEN(X772)-1)),Y772)))","v":2480},{"$f":"(AB772-U$28)^2","v":921600},{"$f":"FlashCards!AE773","v":770},{"$f":"IF(AB772=0,10000,AB772)","v":2480}]
[null,null,null,null,null,null,null,null,null,null,null,null,null,null,null,null,null,null,null,null,null,null,null,{"$f":"FlashCards!AQ774","v":"2486"},2486,0,0,2486,933156,{"$f":"FlashCards!AE774","v":771},2486]
[null,null,null,null,null,null,null,null,null,null,null,null,null,null,null,null,null,null,null,null,null,null,null,{"$f":"FlashCards!AQ775","v":"2491"},2491,0,0,2491,942841,{"$f":"FlashCards!AE775","v":772},2491]
[null,null,null,null,null,null,null,null,null,null,null,null,null,null,null,null,null,null,null,null,null,null,null,{"$f":"FlashCards!AQ776","v":"2501"},2501,0,0,2501,962361,{"$f":"FlashCards!AE776","v":773},2501]
[null,null,null,null,null,null,null,null,null,null,null,null,null,null,null,null,null,null,null,null,null,null,null,{"$f":"FlashCards!AQ777","v":"2504"},2504,0,0,2504,968256,{"$f":"FlashCards!AE777","v":774},2504]
[null,null,null,null,null,null,null,null,null,null,null,null,null,null,null,null,null,null,null,null,null,null,null,{"$f":"FlashCards!AQ778","v":"2509"},2509,0,0,2509,978121,{"$f":"FlashCards!AE778","v":775},2509]
[null,null,null,null,null,null,null,null,null,null,null,null,null,null,null,null,null,null,null,null,null,null,null,{"$f":"FlashCards!AQ779","v":"2511"},2511,0,0,2511,982081,{"$f":"FlashCards!AE779","v":776},2511]
[null,null,null,null,null,null,null,null,null,null,null,null,null,null,null,null,null,null,null,null,null,null,null,{"$f":"FlashCards!AQ780","v":"2513"},2513,0,0,2513,986049,{"$f":"FlashCards!AE780","v":777},2513]
[null,null,null,null,null,null,null,null,null,null,null,null,null,null,null,null,null,null,null,null,null,null,null,{"$f":"FlashCards!AQ781","v":"2518"},2518,0,0,2518,996004,{"$f":"FlashCards!AE781","v":778},2518]
[null,null,null,null,null,null,null,null,null,null,null,null,null,null,null,null,null,null,null,null,null,null,null,{"$f":"FlashCards!AQ782","v":"2521"},2521,0,0,2521,1002001,{"$f":"FlashCards!AE782","v":779},2521]
[null,null,null,null,null,null,null,null,null,null,null,null,null,null,null,null,null,null,null,null,null,null,null,{"$f":"FlashCards!AQ783","v":"2523"},2523,0,0,2523,1006009,{"$f":"FlashCards!AE783","v":780},2523]
[null,null,null,null,null,null,null,null,null,null,null,null,null,null,null,null,null,null,null,null,null,null,null,{"$f":"FlashCards!AQ784","v":"2525"},2525,0,0,2525,1010025,{"$f":"FlashCards!AE784","v":781},2525]
[null,null,null,null,null,null,null,null,null,null,null,null,null,null,null,null,null,null,null,null,null,null,null,{"$f":"FlashCards!AQ785","v":"2531"},2531,0,0,2531,1022121,{"$f":"FlashCards!AE785","v":782},2531]
[null,null,null,null,null,null,null,null,null,null,null,null,null,null,null,null,null,null,null,null,null,null,null,{"$f":"FlashCards!AQ786","v":"2532"},2532,0,0,2532,1024144,{"$f":"FlashCards!AE786","v":783},2532]
[null,null,null,null,null,null,null,null,null,null,null,null,null,null,null,null,null,null,null,null,null,null,null,{"$f":"FlashCards!AQ787","v":"2532+3375"},{"$error":"#VALUE!"},5,0,2532,1024144,{"$f":"FlashCards!AE787","v":784},2532]
[null,null,null,null,null,null,null,null,null,null,null,null,null,null,null,null,null,null,null,null,null,null,null,{"$f":"FlashCards!AQ788","v":"2537"},2537,0,0,2537,1034289,{"$f":"FlashCards!AE788","v":785},2537]
[null,null,null,null,null,null,null,null,null,null,null,null,null,null,null,null,null,null,null,null,null,null,null,{"$f":"FlashCards!AQ789","v":"2539"},2539,0,0,2539,1038361,{"$f":"FlashCards!AE789","v":786},2539]
[null,null,null,null,null,null,null,null,null,null,null,null,null,null,null,null,null,null,null,null,null,null,null,{"$f":"FlashCards!AQ790","v":"2540"},2540,0,0,2540,1040400,{"$f":"FlashCards!AE790","v":787},2540]
[null,null,null,null,null,null,null,null,null,null,null,null,null,null,null,null,null,null,null,null,null,null,null,{"$f":"FlashCards!AQ791","v":"2541"},2541,0,0,2541,1042441,{"$f":"FlashCards!AE791","v":788},2541]
[null,null,null,null,null,null,null,null,null,null,null,null,null,null,null,null,null,null,null,null,null,null,null,{"$f":"FlashCards!AQ792","v":"2542"},2542,0,0,2542,1044484,{"$f":"FlashCards!AE792","v":789},2542]
[null,null,null,null,null,null,null,null,null,null,null,null,null,null,null,null,null,null,null,null,null,null,null,{"$f":"FlashCards!AQ793","v":"2545"},2545,0,0,2545,1050625,{"$f":"FlashCards!AE793","v":790},2545]
[null,null,null,null,null,null,null,null,null,null,null,null,null,null,null,null,null,null,null,null,null,null,null,{"$f":"FlashCards!AQ794","v":"2546"},2546,0,0,2546,1052676,{"$f":"FlashCards!AE794","v":791},2546]
[null,null,null,null,null,null,null,null,null,null,null,null,null,null,null,null,null,null,null,null,null,null,null,{"$f":"FlashCards!AQ795","v":"2547"},2547,0,0,2547,1054729,{"$f":"FlashCards!AE795","v":792},2547]
[null,null,null,null,null,null,null,null,null,null,null,null,null,null,null,null,null,null,null,null,null,null,null,{"$f":"FlashCards!AQ796","v":"2548"},2548,0,0,2548,1056784,{"$f":"FlashCards!AE796","v":793},2548]
[null,null,null,null,null,null,null,null,null,null,null,null,null,null,null,null,null,null,null,null,null,null,null,{"$f":"FlashCards!AQ797","v":"2549"},2549,0,0,2549,1058841,{"$f":"FlashCards!AE797","v":794},2549]
[null,null,null,null,null,null,null,null,null,null,null,null,null,null,null,null,null,null,null,null,null,null,null,{"$f":"FlashCards!AQ798","v":"2556"},2556,0,0,2556,1073296,{"$f":"FlashCards!AE798","v":795},2556]
[null,null,null,null,null,null,null,null,null,null,null,null,null,null,null,null,null,null,null,null,null,null,null,{"$f":"FlashCards!AQ799","v":"2560"},2560,0,0,2560,1081600,{"$f":"FlashCards!AE799","v":796},2560]
[null,null,null,null,null,null,null,null,null,null,null,null,null,null,null,null,null,null,null,null,null,null,null,{"$f":"FlashCards!AQ800","v":"2563"},2563,0,0,2563,1087849,{"$f":"FlashCards!AE800","v":797},2563]
[null,null,null,null,null,null,null,null,null,null,null,null,null,null,null,null,null,null,null,null,null,null,null,{"$f":"FlashCards!AQ801","v":"2564"},2564,0,0,2564,1089936,{"$f":"FlashCards!AE801","v":798},2564]
[null,null,null,null,null,null,null,null,null,null,null,null,null,null,null,null,null,null,null,null,null,null,null,{"$f":"FlashCards!AQ802","v":"2570"},2570,0,0,2570,1102500,{"$f":"FlashCards!AE802","v":799},2570]
[null,null,null,null,null,null,null,null,null,null,null,null,null,null,null,null,null,null,null,null,null,null,null,{"$f":"FlashCards!AQ803","v":"2573"},2573,0,0,2573,1108809,{"$f":"FlashCards!AE803","v":800},2573]
[null,null,null,null,null,null,null,null,null,null,null,null,null,null,null,null,null,null,null,null,null,null,null,{"$f":"FlashCards!AQ804","v":"2579"},2579,0,0,2579,1121481,{"$f":"FlashCards!AE804","v":801},2579]
[null,null,null,null,null,null,null,null,null,null,null,null,null,null,null,null,null,null,null,null,null,null,null,{"$f":"FlashCards!AQ805","v":"2584"},2584,0,0,2584,1132096,{"$f":"FlashCards!AE805","v":802},2584]
[null,null,null,null,null,null,null,null,null,null,null,null,null,null,null,null,null,null,null,null,null,null,null,{"$f":"FlashCards!AQ806","v":"2586"},2586,0,0,2586,1136356,{"$f":"FlashCards!AE806","v":803},2586]
[null,null,null,null,null,null,null,null,null,null,null,null,null,null,null,null,null,null,null,null,null,null,null,{"$f":"FlashCards!AQ807","v":"2588"},2588,0,0,2588,1140624,{"$f":"FlashCards!AE807","v":804},2588]
[null,null,null,null,null,null,null,null,null,null,null,null,null,null,null,null,null,null,null,null,null,null,null,{"$f":"FlashCards!AQ808","v":"2590"},2590,0,0,2590,1144900,{"$f":"FlashCards!AE808","v":805},2590]
[null,null,null,null,null,null,null,null,null,null,null,null,null,null,null,null,null,null,null,null,null,null,null,{"$f":"FlashCards!AQ809","v":"2592"},2592,0,0,2592,1149184,{"$f":"FlashCards!AE809","v":806},2592]
[null,null,null,null,null,null,null,null,null,null,null,null,null,null,null,null,null,null,null,null,null,null,null,{"$f":"FlashCards!AQ810","v":"2596"},2596,0,0,2596,1157776,{"$f":"FlashCards!AE810","v":807},2596]
[null,null,null,null,null,null,null,null,null,null,null,null,null,null,null,null,null,null,null,null,null,null,null,{"$f":"FlashCards!AQ811","v":"2596"},2596,0,0,2596,1157776,{"$f":"FlashCards!AE811","v":808},2596]
[null,null,null,null,null,null,null,null,null,null,null,null,null,null,null,null,null,null,null,null,null,null,null,{"$f":"FlashCards!AQ812","v":"2597"},2597,0,0,2597,1159929,{"$f":"FlashCards!AE812","v":809},2597]
[null,null,null,null,null,null,null,null,null,null,null,null,null,null,null,null,null,null,null,null,null,null,null,{"$f":"FlashCards!AQ813","v":"2602"},2602,0,0,2602,1170724,{"$f":"FlashCards!AE813","v":810},2602]
[null,null,null,null,null,null,null,null,null,null,null,null,null,null,null,null,null,null,null,null,null,null,null,{"$f":"FlashCards!AQ814","v":"2605"},2605,0,0,2605,1177225,{"$f":"FlashCards!AE814","v":811},2605]
[null,null,null,null,null,null,null,null,null,null,null,null,null,null,null,null,null,null,null,null,null,null,null,{"$f":"FlashCards!AQ815","v":"2617"},2617,0,0,2617,1203409,{"$f":"FlashCards!AE815","v":812},2617]
[null,null,null,null,null,null,null,null,null,null,null,null,null,null,null,null,null,null,null,null,null,null,null,{"$f":"FlashCards!AQ816","v":"2618"},2618,0,0,2618,1205604,{"$f":"FlashCards!AE816","v":813},2618]
[null,null,null,null,null,null,null,null,null,null,null,null,null,null,null,null,null,null,null,null,null,null,null,{"$f":"FlashCards!AQ817","v":"2621"},2621,0,0,2621,1212201,{"$f":"FlashCards!AE817","v":814},2621]
[null,null,null,null,null,null,null,null,null,null,null,null,null,null,null,null,null,null,null,null,null,null,null,{"$f":"FlashCards!AQ818","v":"2632"},2632,0,0,2632,1236544,{"$f":"FlashCards!AE818","v":815},2632]
[null,null,null,null,null,null,null,null,null,null,null,null,null,null,null,null,null,null,null,null,null,null,null,{"$f":"FlashCards!AQ819","v":"2638"},2638,0,0,2638,1249924,{"$f":"FlashCards!AE819","v":816},2638]
[null,null,null,null,null,null,null,null,null,null,null,null,null,null,null,null,null,null,null,null,null,null,null,{"$f":"FlashCards!AQ820","v":"2641"},2641,0,0,2641,1256641,{"$f":"FlashCards!AE820","v":817},2641]
[null,null,null,null,null,null,null,null,null,null,null,null,null,null,null,null,null,null,null,null,null,null,null,{"$f":"FlashCards!AQ821","v":"2647"},2647,0,0,2647,1270129,{"$f":"FlashCards!AE821","v":818},2647]
[null,null,null,null,null,null,null,null,null,null,null,null,null,null,null,null,null,null,null,null,null,null,null,{"$f":"FlashCards!AQ822","v":"2657"},2657,0,0,2657,1292769,{"$f":"FlashCards!AE822","v":819},2657]
[null,null,null,null,null,null,null,null,null,null,null,null,null,null,null,null,null,null,null,null,null,null,null,{"$f":"FlashCards!AQ823","v":"2658"},2658,0,0,2658,1295044,{"$f":"FlashCards!AE823","v":820},2658]
[null,null,null,null,null,null,null,null,null,null,null,null,null,null,null,null,null,null,null,null,null,null,null,{"$f":"FlashCards!AQ824","v":"2662"},2662,0,0,2662,1304164,{"$f":"FlashCards!AE824","v":821},2662]
[null,null,null,null,null,null,null,null,null,null,null,null,null,null,null,null,null,null,null,null,null,null,null,{"$f":"FlashCards!AQ825","v":"2673"},2673,0,0,2673,1329409,{"$f":"FlashCards!AE825","v":822},2673]
[null,null,null,null,null,null,null,null,null,null,null,null,null,null,null,null,null,null,null,null,null,null,null,{"$f":"FlashCards!AQ826","v":"2675"},2675,0,0,2675,1334025,{"$f":"FlashCards!AE826","v":823},2675]
[null,null,null,null,null,null,null,null,null,null,null,null,null,null,null,null,null,null,null,null,null,null,null,{"$f":"FlashCards!AQ827","v":"2680"},2680,0,0,2680,1345600,{"$f":"FlashCards!AE827","v":824},2680]
[null,null,null,null,null,null,null,null,null,null,null,null,null,null,null,null,null,null,null,null,null,null,null,{"$f":"FlashCards!AQ828","v":"2716"},2716,0,0,2716,1430416,{"$f":"FlashCards!AE828","v":825},2716]
[null,null,null,null,null,null,null,null,null,null,null,null,null,null,null,null,null,null,null,null,null,null,null,{"$f":"FlashCards!AQ829","v":"2718"},2718,0,0,2718,1435204,{"$f":"FlashCards!AE829","v":826},2718]
[null,null,null,null,null,null,null,null,null,null,null,null,null,null,null,null,null,null,null,null,null,null,null,{"$f":"FlashCards!AQ830","v":"2719"},2719,0,0,2719,1437601,{"$f":"FlashCards!AE830","v":827},2719]
[null,null,null,null,null,null,null,null,null,null,null,null,null,null,null,null,null,null,null,null,null,null,null,{"$f":"FlashCards!AQ831","v":"2722"},2722,0,0,2722,1444804,{"$f":"FlashCards!AE831","v":828},2722]
[null,null,null,null,null,null,null,null,null,null,null,null,null,null,null,null,null,null,null,null,null,null,null,{"$f":"FlashCards!AQ832","v":"2723"},2723,0,0,2723,1447209,{"$f":"FlashCards!AE832","v":829},2723]
[null,null,null,null,null,null,null,null,null,null,null,null,null,null,null,null,null,null,null,null,null,null,null,{"$f":"FlashCards!AQ833","v":"2730"},2730,0,0,2730,1464100,{"$f":"FlashCards!AE833","v":830},2730]
[null,null,null,null,null,null,null,null,null,null,null,null,null,null,null,null,null,null,null,null,null,null,null,{"$f":"FlashCards!AQ834","v":"2736"},2736,0,0,2736,1478656,{"$f":"FlashCards!AE834","v":831},2736]
[null,null,null,null,null,null,null,null,null,null,null,null,null,null,null,null,null,null,null,null,null,null,null,{"$f":"FlashCards!AQ835","v":"2744"},2744,0,0,2744,1498176,{"$f":"FlashCards!AE835","v":832},2744]
[null,null,null,null,null,null,null,null,null,null,null,null,null,null,null,null,null,null,null,null,null,null,null,{"$f":"FlashCards!AQ836","v":"2745"},2745,0,0,2745,1500625,{"$f":"FlashCards!AE836","v":833},2745]
[null,null,null,null,null,null,null,null,null,null,null,null,null,null,null,null,null,null,null,null,null,null,null,{"$f":"FlashCards!AQ837","v":"2746"},{"$f":"VALUE(X836)","v":2746},{"$f":"IF(ISERR(FIND(\"+\",X836,1)),0,FIND(\"+\",X836,1))","v":0},{"$f":"IF(ISERR(FIND(\",\",X836,1)),0,FIND(\",\",X836,1))","v":0},{"$f":"IF(Z836>0,VALUE(LEFT(X836,Z836-1)),IF(AA836>0,VALUE(LEFT(X836,AA836-1)),IF(ISERR(Y836),VALUE(LEFT(X836,LEN(X836)-1)),Y836)))","v":2746},{"$f":"(AB836-U$28)^2","v":1503076},{"$f":"FlashCards!AE837","v":834},{"$f":"IF(AB836=0,10000,AB836)","v":2746}]
[null,null,null,null,null,null,null,null,null,null,null,null,null,null,null,null,null,null,null,null,null,null,null,{"$f":"FlashCards!AQ838","v":"2749"},2749,0,0,2749,1510441,{"$f":"FlashCards!AE838","v":835},2749]
[null,null,null,null,null,null,null,null,null,null,null,null,null,null,null,null,null,null,null,null,null,null,null,{"$f":"FlashCards!AQ839","v":"2753"},2753,0,0,2753,1520289,{"$f":"FlashCards!AE839","v":836},2753]
[null,null,null,null,null,null,null,null,null,null,null,null,null,null,null,null,null,null,null,null,null,null,null,{"$f":"FlashCards!AQ840","v":"2756"},2756,0,0,2756,1527696,{"$f":"FlashCards!AE840","v":837},2756]
[null,null,null,null,null,null,null,null,null,null,null,null,null,null,null,null,null,null,null,null,null,null,null,{"$f":"FlashCards!AQ841","v":"2768"},2768,0,0,2768,1557504,{"$f":"FlashCards!AE841","v":838},2768]
[null,null,null,null,null,null,null,null,null,null,null,null,null,null,null,null,null,null,null,null,null,null,null,{"$f":"FlashCards!AQ842","v":"2770"},2770,0,0,2770,1562500,{"$f":"FlashCards!AE842","v":839},2770]
[null,null,null,null,null,null,null,null,null,null,null,null,null,null,null,null,null,null,null,null,null,null,null,{"$f":"FlashCards!AQ843","v":"2776"},2776,0,0,2776,1577536,{"$f":"FlashCards!AE843","v":840},2776]
[null,null,null,null,null,null,null,null,null,null,null,null,null,null,null,null,null,null,null,null,null,null,null,{"$f":"FlashCards!AQ844","v":"2784"},2784,0,0,2784,1597696,{"$f":"FlashCards!AE844","v":841},2784]
[null,null,null,null,null,null,null,null,null,null,null,null,null,null,null,null,null,null,null,null,null,null,null,{"$f":"FlashCards!AQ845","v":"2798"},2798,0,0,2798,1633284,{"$f":"FlashCards!AE845","v":842},2798]
[null,null,null,null,null,null,null,null,null,null,null,null,null,null,null,null,null,null,null,null,null,null,null,{"$f":"FlashCards!AQ846","v":"2799"},2799,0,0,2799,1635841,{"$f":"FlashCards!AE846","v":843},2799]
[null,null,null,null,null,null,null,null,null,null,null,null,null,null,null,null,null,null,null,null,null,null,null,{"$f":"FlashCards!AQ847","v":"2806"},2806,0,0,2806,1653796,{"$f":"FlashCards!AE847","v":844},2806]
[null,null,null,null,null,null,null,null,null,null,null,null,null,null,null,null,null,null,null,null,null,null,null,{"$f":"FlashCards!AQ848","v":"2808"},2808,0,0,2808,1658944,{"$f":"FlashCards!AE848","v":845},2808]
[null,null,null,null,null,null,null,null,null,null,null,null,null,null,null,null,null,null,null,null,null,null,null,{"$f":"FlashCards!AQ849","v":"2812"},2812,0,0,2812,1669264,{"$f":"FlashCards!AE849","v":846},2812]
[null,null,null,null,null,null,null,null,null,null,null,null,null,null,null,null,null,null,null,null,null,null,null,{"$f":"FlashCards!AQ850","v":"2813"},2813,0,0,2813,1671849,{"$f":"FlashCards!AE850","v":847},2813]
[null,null,null,null,null,null,null,null,null,null,null,null,null,null,null,null,null,null,null,null,null,null,null,{"$f":"FlashCards!AQ851","v":"2816"},2816,0,0,2816,1679616,{"$f":"FlashCards!AE851","v":848},2816]
[null,null,null,null,null,null,null,null,null,null,null,null,null,null,null,null,null,null,null,null,null,null,null,{"$f":"FlashCards!AQ852","v":"2817"},2817,0,0,2817,1682209,{"$f":"FlashCards!AE852","v":849},2817]
[null,null,null,null,null,null,null,null,null,null,null,null,null,null,null,null,null,null,null,null,null,null,null,{"$f":"FlashCards!AQ853","v":"2818"},2818,0,0,2818,1684804,{"$f":"FlashCards!AE853","v":850},2818]
[null,null,null,null,null,null,null,null,null,null,null,null,null,null,null,null,null,null,null,null,null,null,null,{"$f":"FlashCards!AQ854","v":"2819"},2819,0,0,2819,1687401,{"$f":"FlashCards!AE854","v":851},2819]
[null,null,null,null,null,null,null,null,null,null,null,null,null,null,null,null,null,null,null,null,null,null,null,{"$f":"FlashCards!AQ855","v":"2821"},2821,0,0,2821,1692601,{"$f":"FlashCards!AE855","v":852},2821]
[null,null,null,null,null,null,null,null,null,null,null,null,null,null,null,null,null,null,null,null,null,null,null,{"$f":"FlashCards!AQ856","v":"2822"},2822,0,0,2822,1695204,{"$f":"FlashCards!AE856","v":853},2822]
[null,null,null,null,null,null,null,null,null,null,null,null,null,null,null,null,null,null,null,null,null,null,null,{"$f":"FlashCards!AQ857","v":"2825"},2825,0,0,2825,1703025,{"$f":"FlashCards!AE857","v":854},2825]
[null,null,null,null,null,null,null,null,null,null,null,null,null,null,null,null,null,null,null,null,null,null,null,{"$f":"FlashCards!AQ858","v":"2827"},2827,0,0,2827,1708249,{"$f":"FlashCards!AE858","v":855},2827]
[null,null,null,null,null,null,null,null,null,null,null,null,null,null,null,null,null,null,null,null,null,null,null,{"$f":"FlashCards!AQ859","v":"2836"},2836,0,0,2836,1731856,{"$f":"FlashCards!AE859","v":856},2836]
[null,null,null,null,null,null,null,null,null,null,null,null,null,null,null,null,null,null,null,null,null,null,null,{"$f":"FlashCards!AQ860","v":"2837"},2837,0,0,2837,1734489,{"$f":"FlashCards!AE860","v":857},2837]
[null,null,null,null,null,null,null,null,null,null,null,null,null,null,null,null,null,null,null,null,null,null,null,{"$f":"FlashCards!AQ861","v":"2839"},2839,0,0,2839,1739761,{"$f":"FlashCards!AE861","v":858},2839]
[null,null,null,null,null,null,null,null,null,null,null,null,null,null,null,null,null,null,null,null,null,null,null,{"$f":"FlashCards!AQ862","v":"2840"},2840,0,0,2840,1742400,{"$f":"FlashCards!AE862","v":859},2840]
[null,null,null,null,null,null,null,null,null,null,null,null,null,null,null,null,null,null,null,null,null,null,null,{"$f":"FlashCards!AQ863","v":"2842"},2842,0,0,2842,1747684,{"$f":"FlashCards!AE863","v":860},2842]
[null,null,null,null,null,null,null,null,null,null,null,null,null,null,null,null,null,null,null,null,null,null,null,{"$f":"FlashCards!AQ864","v":"2844"},2844,0,0,2844,1752976,{"$f":"FlashCards!AE864","v":861},2844]
[null,null,null,null,null,null,null,null,null,null,null,null,null,null,null,null,null,null,null,null,null,null,null,{"$f":"FlashCards!AQ865","v":"2853"},2853,0,0,2853,1776889,{"$f":"FlashCards!AE865","v":862},2853]
[null,null,null,null,null,null,null,null,null,null,null,null,null,null,null,null,null,null,null,null,null,null,null,{"$f":"FlashCards!AQ866","v":"2865"},2865,0,0,2865,1809025,{"$f":"FlashCards!AE866","v":863},2865]
[null,null,null,null,null,null,null,null,null,null,null,null,null,null,null,null,null,null,null,null,null,null,null,{"$f":"FlashCards!AQ867","v":"2872"},2872,0,0,2872,1827904,{"$f":"FlashCards!AE867","v":864},2872]
[null,null,null,null,null,null,null,null,null,null,null,null,null,null,null,null,null,null,null,null,null,null,null,{"$f":"FlashCards!AQ868","v":"2873"},2873,0,0,2873,1830609,{"$f":"FlashCards!AE868","v":865},2873]
[null,null,null,null,null,null,null,null,null,null,null,null,null,null,null,null,null,null,null,null,null,null,null,{"$f":"FlashCards!AQ869","v":"2885"},2885,0,0,2885,1863225,{"$f":"FlashCards!AE869","v":866},2885]
[null,null,null,null,null,null,null,null,null,null,null,null,null,null,null,null,null,null,null,null,null,null,null,{"$f":"FlashCards!AQ870","v":"2889"},2889,0,0,2889,1874161,{"$f":"FlashCards!AE870","v":867},2889]
[null,null,null,null,null,null,null,null,null,null,null,null,null,null,null,null,null,null,null,null,null,null,null,{"$f":"FlashCards!AQ871","v":"2894"},2894,0,0,2894,1887876,{"$f":"FlashCards!AE871","v":868},2894]
[null,null,null,null,null,null,null,null,null,null,null,null,null,null,null,null,null,null,null,null,null,null,null,{"$f":"FlashCards!AQ872","v":"2895"},2895,0,0,2895,1890625,{"$f":"FlashCards!AE872","v":869},2895]
[null,null,null,null,null,null,null,null,null,null,null,null,null,null,null,null,null,null,null,null,null,null,null,{"$f":"FlashCards!AQ873","v":"2896"},2896,0,0,2896,1893376,{"$f":"FlashCards!AE873","v":870},2896]
[null,null,null,null,null,null,null,null,null,null,null,null,null,null,null,null,null,null,null,null,null,null,null,{"$f":"FlashCards!AQ874","v":"2902"},2902,0,0,2902,1909924,{"$f":"FlashCards!AE874","v":871},2902]
[null,null,null,null,null,null,null,null,null,null,null,null,null,null,null,null,null,null,null,null,null,null,null,{"$f":"FlashCards!AQ875","v":"2904"},2904,0,0,2904,1915456,{"$f":"FlashCards!AE875","v":872},2904]
[null,null,null,null,null,null,null,null,null,null,null,null,null,null,null,null,null,null,null,null,null,null,null,{"$f":"FlashCards!AQ876","v":"2908"},2908,0,0,2908,1926544,{"$f":"FlashCards!AE876","v":873},2908]
[null,null,null,null,null,null,null,null,null,null,null,null,null,null,null,null,null,null,null,null,null,null,null,{"$f":"FlashCards!AQ877","v":"2909"},2909,0,0,2909,1929321,{"$f":"FlashCards!AE877","v":874},2909]
[null,null,null,null,null,null,null,null,null,null,null,null,null,null,null,null,null,null,null,null,null,null,null,{"$f":"FlashCards!AQ878","v":"2917"},2917,0,0,2917,1951609,{"$f":"FlashCards!AE878","v":875},2917]
[null,null,null,null,null,null,null,null,null,null,null,null,null,null,null,null,null,null,null,null,null,null,null,{"$f":"FlashCards!AQ879","v":"2919"},2919,0,0,2919,1957201,{"$f":"FlashCards!AE879","v":876},2919]
[null,null,null,null,null,null,null,null,null,null,null,null,null,null,null,null,null,null,null,null,null,null,null,{"$f":"FlashCards!AQ880","v":"2920"},2920,0,0,2920,1960000,{"$f":"FlashCards!AE880","v":877},2920]
[null,null,null,null,null,null,null,null,null,null,null,null,null,null,null,null,null,null,null,null,null,null,null,{"$f":"FlashCards!AQ881","v":"2923"},2923,0,0,2923,1968409,{"$f":"FlashCards!AE881","v":878},2923]
[null,null,null,null,null,null,null,null,null,null,null,null,null,null,null,null,null,null,null,null,null,null,null,{"$f":"FlashCards!AQ882","v":"2927"},2927,0,0,2927,1979649,{"$f":"FlashCards!AE882","v":879},2927]
[null,null,null,null,null,null,null,null,null,null,null,null,null,null,null,null,null,null,null,null,null,null,null,{"$f":"FlashCards!AQ883","v":"2928"},2928,0,0,2928,1982464,{"$f":"FlashCards!AE883","v":880},2928]
[null,null,null,null,null,null,null,null,null,null,null,null,null,null,null,null,null,null,null,null,null,null,null,{"$f":"FlashCards!AQ884","v":"2931a"},{"$error":"#VALUE!"},0,0,2931,1990921,{"$f":"FlashCards!AE884","v":881},2931]
[null,null,null,null,null,null,null,null,null,null,null,null,null,null,null,null,null,null,null,null,null,null,null,{"$f":"FlashCards!AQ885","v":"2931c"},{"$error":"#VALUE!"},0,0,2931,1990921,{"$f":"FlashCards!AE885","v":882},2931]
[null,null,null,null,null,null,null,null,null,null,null,null,null,null,null,null,null,null,null,null,null,null,null,{"$f":"FlashCards!AQ886","v":"2936"},2936,0,0,2936,2005056,{"$f":"FlashCards!AE886","v":883},2936]
[null,null,null,null,null,null,null,null,null,null,null,null,null,null,null,null,null,null,null,null,null,null,null,{"$f":"FlashCards!AQ887","v":"2937"},2937,0,0,2937,2007889,{"$f":"FlashCards!AE887","v":884},2937]
[null,null,null,null,null,null,null,null,null,null,null,null,null,null,null,null,null,null,null,null,null,null,null,{"$f":"FlashCards!AQ888","v":"2945"},2945,0,0,2945,2030625,{"$f":"FlashCards!AE888","v":885},2945]
[null,null,null,null,null,null,null,null,null,null,null,null,null,null,null,null,null,null,null,null,null,null,null,{"$f":"FlashCards!AQ889","v":"2962"},2962,0,0,2962,2079364,{"$f":"FlashCards!AE889","v":886},2962]
[null,null,null,null,null,null,null,null,null,null,null,null,null,null,null,null,null,null,null,null,null,null,null,{"$f":"FlashCards!AQ890","v":"2967"},2967,0,0,2967,2093809,{"$f":"FlashCards!AE890","v":887},2967]
[null,null,null,null,null,null,null,null,null,null,null,null,null,null,null,null,null,null,null,null,null,null,null,{"$f":"FlashCards!AQ891","v":"2968"},2968,0,0,2968,2096704,{"$f":"FlashCards!AE891","v":888},2968]
[null,null,null,null,null,null,null,null,null,null,null,null,null,null,null,null,null,null,null,null,null,null,null,{"$f":"FlashCards!AQ892","v":"2974"},2974,0,0,2974,2114116,{"$f":"FlashCards!AE892","v":889},2974]
[null,null,null,null,null,null,null,null,null,null,null,null,null,null,null,null,null,null,null,null,null,null,null,{"$f":"FlashCards!AQ893","v":"2976"},2976,0,0,2976,2119936,{"$f":"FlashCards!AE893","v":890},2976]
[null,null,null,null,null,null,null,null,null,null,null,null,null,null,null,null,null,null,null,null,null,null,null,{"$f":"FlashCards!AQ894","v":"2980"},2980,0,0,2980,2131600,{"$f":"FlashCards!AE894","v":891},2980]
[null,null,null,null,null,null,null,null,null,null,null,null,null,null,null,null,null,null,null,null,null,null,null,{"$f":"FlashCards!AQ895","v":"2983"},2983,0,0,2983,2140369,{"$f":"FlashCards!AE895","v":892},2983]
[null,null,null,null,null,null,null,null,null,null,null,null,null,null,null,null,null,null,null,null,null,null,null,{"$f":"FlashCards!AQ896","v":"2992"},2992,0,0,2992,2166784,{"$f":"FlashCards!AE896","v":893},2992]
[null,null,null,null,null,null,null,null,null,null,null,null,null,null,null,null,null,null,null,null,null,null,null,{"$f":"FlashCards!AQ897","v":"3000"},3000,0,0,3000,2190400,{"$f":"FlashCards!AE897","v":894},3000]
[null,null,null,null,null,null,null,null,null,null,null,null,null,null,null,null,null,null,null,null,null,null,null,{"$f":"FlashCards!AQ898","v":"3004"},3004,0,0,3004,2202256,{"$f":"FlashCards!AE898","v":895},3004]
[null,null,null,null,null,null,null,null,null,null,null,null,null,null,null,null,null,null,null,null,null,null,null,{"$f":"FlashCards!AQ899","v":"3004"},3004,0,0,3004,2202256,{"$f":"FlashCards!AE899","v":896},3004]
[null,null,null,null,null,null,null,null,null,null,null,null,null,null,null,null,null,null,null,null,null,null,null,{"$f":"FlashCards!AQ900","v":"3022"},3022,0,0,3022,2256004,{"$f":"FlashCards!AE900","v":897},3022]
[null,null,null,null,null,null,null,null,null,null,null,null,null,null,null,null,null,null,null,null,null,null,null,{"$f":"FlashCards!AQ901","v":"3027"},{"$f":"VALUE(X900)","v":3027},{"$f":"IF(ISERR(FIND(\"+\",X900,1)),0,FIND(\"+\",X900,1))","v":0},{"$f":"IF(ISERR(FIND(\",\",X900,1)),0,FIND(\",\",X900,1))","v":0},{"$f":"IF(Z900>0,VALUE(LEFT(X900,Z900-1)),IF(AA900>0,VALUE(LEFT(X900,AA900-1)),IF(ISERR(Y900),VALUE(LEFT(X900,LEN(X900)-1)),Y900)))","v":3027},{"$f":"(AB900-U$28)^2","v":2271049},{"$f":"FlashCards!AE901","v":898},{"$f":"IF(AB900=0,10000,AB900)","v":3027}]
[null,null,null,null,null,null,null,null,null,null,null,null,null,null,null,null,null,null,null,null,null,null,null,{"$f":"FlashCards!AQ902","v":"3029"},3029,0,0,3029,2277081,{"$f":"FlashCards!AE902","v":899},3029]
[null,null,null,null,null,null,null,null,null,null,null,null,null,null,null,null,null,null,null,null,null,null,null,{"$f":"FlashCards!AQ903","v":"3037"},3037,0,0,3037,2301289,{"$f":"FlashCards!AE903","v":900},3037]
[null,null,null,null,null,null,null,null,null,null,null,null,null,null,null,null,null,null,null,null,null,null,null,{"$f":"FlashCards!AQ904","v":"3041"},3041,0,0,3041,2313441,{"$f":"FlashCards!AE904","v":901},3041]
[null,null,null,null,null,null,null,null,null,null,null,null,null,null,null,null,null,null,null,null,null,null,null,{"$f":"FlashCards!AQ905","v":"3042"},3042,0,0,3042,2316484,{"$f":"FlashCards!AE905","v":902},3042]
[null,null,null,null,null,null,null,null,null,null,null,null,null,null,null,null,null,null,null,null,null,null,null,{"$f":"FlashCards!AQ906","v":"3049"},3049,0,0,3049,2337841,{"$f":"FlashCards!AE906","v":903},3049]
[null,null,null,null,null,null,null,null,null,null,null,null,null,null,null,null,null,null,null,null,null,null,null,{"$f":"FlashCards!AQ907","v":"3056"},3056,0,0,3056,2359296,{"$f":"FlashCards!AE907","v":904},3056]
[null,null,null,null,null,null,null,null,null,null,null,null,null,null,null,null,null,null,null,null,null,null,null,{"$f":"FlashCards!AQ908","v":"3062"},3062,0,0,3062,2377764,{"$f":"FlashCards!AE908","v":905},3062]
[null,null,null,null,null,null,null,null,null,null,null,null,null,null,null,null,null,null,null,null,null,null,null,{"$f":"FlashCards!AQ909","v":"3062"},3062,0,0,3062,2377764,{"$f":"FlashCards!AE909","v":906},3062]
[null,null,null,null,null,null,null,null,null,null,null,null,null,null,null,null,null,null,null,null,null,null,null,{"$f":"FlashCards!AQ910","v":"3062"},3062,0,0,3062,2377764,{"$f":"FlashCards!AE910","v":907},3062]
[null,null,null,null,null,null,null,null,null,null,null,null,null,null,null,null,null,null,null,null,null,null,null,{"$f":"FlashCards!AQ911","v":"3076"},3076,0,0,3076,2421136,{"$f":"FlashCards!AE911","v":908},3076]
[null,null,null,null,null,null,null,null,null,null,null,null,null,null,null,null,null,null,null,null,null,null,null,{"$f":"FlashCards!AQ912","v":"3077"},3077,0,0,3077,2424249,{"$f":"FlashCards!AE912","v":909},3077]
[null,null,null,null,null,null,null,null,null,null,null,null,null,null,null,null,null,null,null,null,null,null,null,{"$f":"FlashCards!AQ913","v":"3084"},3084,0,0,3084,2446096,{"$f":"FlashCards!AE913","v":910},3084]
[null,null,null,null,null,null,null,null,null,null,null,null,null,null,null,null,null,null,null,null,null,null,null,{"$f":"FlashCards!AQ914","v":"3087"},3087,0,0,3087,2455489,{"$f":"FlashCards!AE914","v":911},3087]
[null,null,null,null,null,null,null,null,null,null,null,null,null,null,null,null,null,null,null,null,null,null,null,{"$f":"FlashCards!AQ915","v":"3088"},3088,0,0,3088,2458624,{"$f":"FlashCards!AE915","v":912},3088]
[null,null,null,null,null,null,null,null,null,null,null,null,null,null,null,null,null,null,null,null,null,null,null,{"$f":"FlashCards!AQ916","v":"3089"},3089,0,0,3089,2461761,{"$f":"FlashCards!AE916","v":913},3089]
[null,null,null,null,null,null,null,null,null,null,null,null,null,null,null,null,null,null,null,null,null,null,null,{"$f":"FlashCards!AQ917","v":"3094"},3094,0,0,3094,2477476,{"$f":"FlashCards!AE917","v":914},3094]
[null,null,null,null,null,null,null,null,null,null,null,null,null,null,null,null,null,null,null,null,null,null,null,{"$f":"FlashCards!AQ918","v":"3101"},3101,0,0,3101,2499561,{"$f":"FlashCards!AE918","v":915},3101]
[null,null,null,null,null,null,null,null,null,null,null,null,null,null,null,null,null,null,null,null,null,null,null,{"$f":"FlashCards!AQ919","v":"3107"},3107,0,0,3107,2518569,{"$f":"FlashCards!AE919","v":916},3107]
[null,null,null,null,null,null,null,null,null,null,null,null,null,null,null,null,null,null,null,null,null,null,null,{"$f":"FlashCards!AQ920","v":"3109"},3109,0,0,3109,2524921,{"$f":"FlashCards!AE920","v":917},3109]
[null,null,null,null,null,null,null,null,null,null,null,null,null,null,null,null,null,null,null,null,null,null,null,{"$f":"FlashCards!AQ921","v":"3112"},3112,0,0,3112,2534464,{"$f":"FlashCards!AE921","v":918},3112]
[null,null,null,null,null,null,null,null,null,null,null,null,null,null,null,null,null,null,null,null,null,null,null,{"$f":"FlashCards!AQ922","v":"3113"},3113,0,0,3113,2537649,{"$f":"FlashCards!AE922","v":919},3113]
[null,null,null,null,null,null,null,null,null,null,null,null,null,null,null,null,null,null,null,null,null,null,null,{"$f":"FlashCards!AQ923","v":"3114"},3114,0,0,3114,2540836,{"$f":"FlashCards!AE923","v":920},3114]
[null,null,null,null,null,null,null,null,null,null,null,null,null,null,null,null,null,null,null,null,null,null,null,{"$f":"FlashCards!AQ924","v":"3115"},3115,0,0,3115,2544025,{"$f":"FlashCards!AE924","v":921},3115]
[null,null,null,null,null,null,null,null,null,null,null,null,null,null,null,null,null,null,null,null,null,null,null,{"$f":"FlashCards!AQ925","v":"3120"},3120,0,0,3120,2560000,{"$f":"FlashCards!AE925","v":922},3120]
[null,null,null,null,null,null,null,null,null,null,null,null,null,null,null,null,null,null,null,null,null,null,null,{"$f":"FlashCards!AQ926","v":"3112"},3112,0,0,3112,2534464,{"$f":"FlashCards!AE926","v":923},3112]
[null,null,null,null,null,null,null,null,null,null,null,null,null,null,null,null,null,null,null,null,null,null,null,{"$f":"FlashCards!AQ927","v":"3123"},3123,0,0,3123,2569609,{"$f":"FlashCards!AE927","v":924},3123]
[null,null,null,null,null,null,null,null,null,null,null,null,null,null,null,null,null,null,null,null,null,null,null,{"$f":"FlashCards!AQ928","v":"3129"},3129,0,0,3129,2588881,{"$f":"FlashCards!AE928","v":925},3129]
[null,null,null,null,null,null,null,null,null,null,null,null,null,null,null,null,null,null,null,null,null,null,null,{"$f":"FlashCards!AQ929","v":"3136"},3136,0,0,3136,2611456,{"$f":"FlashCards!AE929","v":926},3136]
[null,null,null,null,null,null,null,null,null,null,null,null,null,null,null,null,null,null,null,null,null,null,null,{"$f":"FlashCards!AQ930","v":"3137"},3137,0,0,3137,2614689,{"$f":"FlashCards!AE930","v":927},3137]
[null,null,null,null,null,null,null,null,null,null,null,null,null,null,null,null,null,null,null,null,null,null,null,{"$f":"FlashCards!AQ931","v":"3137"},3137,0,0,3137,2614689,{"$f":"FlashCards!AE931","v":928},3137]
[null,null,null,null,null,null,null,null,null,null,null,null,null,null,null,null,null,null,null,null,null,null,null,{"$f":"FlashCards!AQ932","v":"3140"},3140,0,0,3140,2624400,{"$f":"FlashCards!AE932","v":929},3140]
[null,null,null,null,null,null,null,null,null,null,null,null,null,null,null,null,null,null,null,null,null,null,null,{"$f":"FlashCards!AQ933","v":"3141"},3141,0,0,3141,2627641,{"$f":"FlashCards!AE933","v":930},3141]
[null,null,null,null,null,null,null,null,null,null,null,null,null,null,null,null,null,null,null,null,null,null,null,{"$f":"FlashCards!AQ934","v":"3142"},3142,0,0,3142,2630884,{"$f":"FlashCards!AE934","v":931},3142]
[null,null,null,null,null,null,null,null,null,null,null,null,null,null,null,null,null,null,null,null,null,null,null,{"$f":"FlashCards!AQ935","v":"3144"},3144,0,0,3144,2637376,{"$f":"FlashCards!AE935","v":932},3144]
[null,null,null,null,null,null,null,null,null,null,null,null,null,null,null,null,null,null,null,null,null,null,null,{"$f":"FlashCards!AQ936","v":"3148"},3148,0,0,3148,2650384,{"$f":"FlashCards!AE936","v":933},3148]
[null,null,null,null,null,null,null,null,null,null,null,null,null,null,null,null,null,null,null,null,null,null,null,{"$f":"FlashCards!AQ937","v":"3162"},3162,0,0,3162,2696164,{"$f":"FlashCards!AE937","v":934},3162]
[null,null,null,null,null,null,null,null,null,null,null,null,null,null,null,null,null,null,null,null,null,null,null,{"$f":"FlashCards!AQ938","v":"3173"},3173,0,0,3173,2732409,{"$f":"FlashCards!AE938","v":935},3173]
[null,null,null,null,null,null,null,null,null,null,null,null,null,null,null,null,null,null,null,null,null,null,null,{"$f":"FlashCards!AQ939","v":"3173"},3173,0,0,3173,2732409,{"$f":"FlashCards!AE939","v":936},3173]
[null,null,null,null,null,null,null,null,null,null,null,null,null,null,null,null,null,null,null,null,null,null,null,{"$f":"FlashCards!AQ940","v":"3173"},3173,0,0,3173,2732409,{"$f":"FlashCards!AE940","v":937},3173]
[null,null,null,null,null,null,null,null,null,null,null,null,null,null,null,null,null,null,null,null,null,null,null,{"$f":"FlashCards!AQ941","v":"3187"},3187,0,0,3187,2778889,{"$f":"FlashCards!AE941","v":938},3187]
[null,null,null,null,null,null,null,null,null,null,null,null,null,null,null,null,null,null,null,null,null,null,null,{"$f":"FlashCards!AQ942","v":"3191"},3191,0,0,3191,2792241,{"$f":"FlashCards!AE942","v":939},3191]
[null,null,null,null,null,null,null,null,null,null,null,null,null,null,null,null,null,null,null,null,null,null,null,{"$f":"FlashCards!AQ943","v":"3195"},3195,0,0,3195,2805625,{"$f":"FlashCards!AE943","v":940},3195]
[null,null,null,null,null,null,null,null,null,null,null,null,null,null,null,null,null,null,null,null,null,null,null,{"$f":"FlashCards!AQ944","v":"3196"},3196,0,0,3196,2808976,{"$f":"FlashCards!AE944","v":941},3196]
[null,null,null,null,null,null,null,null,null,null,null,null,null,null,null,null,null,null,null,null,null,null,null,{"$f":"FlashCards!AQ945","v":"3199"},3199,0,0,3199,2819041,{"$f":"FlashCards!AE945","v":942},3199]
[null,null,null,null,null,null,null,null,null,null,null,null,null,null,null,null,null,null,null,null,null,null,null,{"$f":"FlashCards!AQ946","v":"3303"},3303,0,0,3303,3179089,{"$f":"FlashCards!AE946","v":943},3303]
[null,null,null,null,null,null,null,null,null,null,null,null,null,null,null,null,null,null,null,null,null,null,null,{"$f":"FlashCards!AQ947","v":"3303+1161"},{"$error":"#VALUE!"},5,0,3303,3179089,{"$f":"FlashCards!AE947","v":944},3303]
[null,null,null,null,null,null,null,null,null,null,null,null,null,null,null,null,null,null,null,null,null,null,null,{"$f":"FlashCards!AQ948","v":"3305"},3305,0,0,3305,3186225,{"$f":"FlashCards!AE948","v":945},3305]
[null,null,null,null,null,null,null,null,null,null,null,null,null,null,null,null,null,null,null,null,null,null,null,{"$f":"FlashCards!AQ949","v":"3306"},3306,0,0,3306,3189796,{"$f":"FlashCards!AE949","v":946},3306]
[null,null,null,null,null,null,null,null,null,null,null,null,null,null,null,null,null,null,null,null,null,null,null,{"$f":"FlashCards!AQ950","v":"3307"},3307,0,0,3307,3193369,{"$f":"FlashCards!AE950","v":947},3307]
[null,null,null,null,null,null,null,null,null,null,null,null,null,null,null,null,null,null,null,null,null,null,null,{"$f":"FlashCards!AQ951","v":"3309"},3309,0,0,3309,3200521,{"$f":"FlashCards!AE951","v":948},3309]
[null,null,null,null,null,null,null,null,null,null,null,null,null,null,null,null,null,null,null,null,null,null,null,{"$f":"FlashCards!AQ952","v":"3313"},3313,0,0,3313,3214849,{"$f":"FlashCards!AE952","v":949},3313]
[null,null,null,null,null,null,null,null,null,null,null,null,null,null,null,null,null,null,null,null,null,null,null,{"$f":"FlashCards!AQ953","v":"3319"},3319,0,0,3319,3236401,{"$f":"FlashCards!AE953","v":950},3319]
[null,null,null,null,null,null,null,null,null,null,null,null,null,null,null,null,null,null,null,null,null,null,null,{"$f":"FlashCards!AQ954","v":"3326"},3326,0,0,3326,3261636,{"$f":"FlashCards!AE954","v":951},3326]
[null,null,null,null,null,null,null,null,null,null,null,null,null,null,null,null,null,null,null,null,null,null,null,{"$f":"FlashCards!AQ955","v":"3326"},3326,0,0,3326,3261636,{"$f":"FlashCards!AE955","v":952},3326]
[null,null,null,null,null,null,null,null,null,null,null,null,null,null,null,null,null,null,null,null,null,null,null,{"$f":"FlashCards!AQ956","v":"3327"},3327,0,0,3327,3265249,{"$f":"FlashCards!AE956","v":953},3327]
[null,null,null,null,null,null,null,null,null,null,null,null,null,null,null,null,null,null,null,null,null,null,null,{"$f":"FlashCards!AQ957","v":"3340"},3340,0,0,3340,3312400,{"$f":"FlashCards!AE957","v":954},3340]
[null,null,null,null,null,null,null,null,null,null,null,null,null,null,null,null,null,null,null,null,null,null,null,{"$f":"FlashCards!AQ958","v":"3341"},3341,0,0,3341,3316041,{"$f":"FlashCards!AE958","v":955},3341]
[null,null,null,null,null,null,null,null,null,null,null,null,null,null,null,null,null,null,null,null,null,null,null,{"$f":"FlashCards!AQ959","v":"3354"},3354,0,0,3354,3363556,{"$f":"FlashCards!AE959","v":956},3354]
[null,null,null,null,null,null,null,null,null,null,null,null,null,null,null,null,null,null,null,null,null,null,null,{"$f":"FlashCards!AQ960","v":"3358"},3358,0,0,3358,3378244,{"$f":"FlashCards!AE960","v":957},3358]
[null,null,null,null,null,null,null,null,null,null,null,null,null,null,null,null,null,null,null,null,null,null,null,{"$f":"FlashCards!AQ961","v":"3360"},3360,0,0,3360,3385600,{"$f":"FlashCards!AE961","v":958},3360]
[null,null,null,null,null,null,null,null,null,null,null,null,null,null,null,null,null,null,null,null,null,null,null,{"$f":"FlashCards!AQ962","v":"3360"},3360,0,0,3360,3385600,{"$f":"FlashCards!AE962","v":959},3360]
[null,null,null,null,null,null,null,null,null,null,null,null,null,null,null,null,null,null,null,null,null,null,null,{"$f":"FlashCards!AQ963","v":"3361"},3361,0,0,3361,3389281,{"$f":"FlashCards!AE963","v":960},3361]
[null,null,null,null,null,null,null,null,null,null,null,null,null,null,null,null,null,null,null,null,null,null,null,{"$f":"FlashCards!AQ964","v":"3366"},3366,0,0,3366,3407716,{"$f":"FlashCards!AE964","v":961},3366]
[null,null,null,null,null,null,null,null,null,null,null,null,null,null,null,null,null,null,null,null,null,null,null,{"$f":"FlashCards!AQ965","v":"3367"},{"$f":"VALUE(X964)","v":3367},{"$f":"IF(ISERR(FIND(\"+\",X964,1)),0,FIND(\"+\",X964,1))","v":0},{"$f":"IF(ISERR(FIND(\",\",X964,1)),0,FIND(\",\",X964,1))","v":0},{"$f":"IF(Z964>0,VALUE(LEFT(X964,Z964-1)),IF(AA964>0,VALUE(LEFT(X964,AA964-1)),IF(ISERR(Y964),VALUE(LEFT(X964,LEN(X964)-1)),Y964)))","v":3367},{"$f":"(AB964-U$28)^2","v":3411409},{"$f":"FlashCards!AE965","v":962},{"$f":"IF(AB964=0,10000,AB964)","v":3367}]
[null,null,null,null,null,null,null,null,null,null,null,null,null,null,null,null,null,null,null,null,null,null,null,{"$f":"FlashCards!AQ966","v":"3367"},3367,0,0,3367,3411409,{"$f":"FlashCards!AE966","v":963},3367]
[null,null,null,null,null,null,null,null,null,null,null,null,null,null,null,null,null,null,null,null,null,null,null,{"$f":"FlashCards!AQ967","v":"3367"},3367,0,0,3367,3411409,{"$f":"FlashCards!AE967","v":964},3367]
[null,null,null,null,null,null,null,null,null,null,null,null,null,null,null,null,null,null,null,null,null,null,null,{"$f":"FlashCards!AQ968","v":"3371"},3371,0,0,3371,3426201,{"$f":"FlashCards!AE968","v":965},3371]
[null,null,null,null,null,null,null,null,null,null,null,null,null,null,null,null,null,null,null,null,null,null,null,{"$f":"FlashCards!AQ969","v":"3375"},3375,0,0,3375,3441025,{"$f":"FlashCards!AE969","v":966},3375]
[null,null,null,null,null,null,null,null,null,null,null,null,null,null,null,null,null,null,null,null,null,null,null,{"$f":"FlashCards!AQ970","v":"3376"},3376,0,0,3376,3444736,{"$f":"FlashCards!AE970","v":967},3376]
[null,null,null,null,null,null,null,null,null,null,null,null,null,null,null,null,null,null,null,null,null,null,null,{"$f":"FlashCards!AQ971","v":"3379"},3379,0,0,3379,3455881,{"$f":"FlashCards!AE971","v":968},3379]
[null,null,null,null,null,null,null,null,null,null,null,null,null,null,null,null,null,null,null,null,null,null,null,{"$f":"FlashCards!AQ972","v":"3383"},3383,0,0,3383,3470769,{"$f":"FlashCards!AE972","v":969},3383]
[null,null,null,null,null,null,null,null,null,null,null,null,null,null,null,null,null,null,null,null,null,null,null,{"$f":"FlashCards!AQ973","v":"3384"},3384,0,0,3384,3474496,{"$f":"FlashCards!AE973","v":970},3384]
[null,null,null,null,null,null,null,null,null,null,null,null,null,null,null,null,null,null,null,null,null,null,null,{"$f":"FlashCards!AQ974","v":"3385"},3385,0,0,3385,3478225,{"$f":"FlashCards!AE974","v":971},3385]
[null,null,null,null,null,null,null,null,null,null,null,null,null,null,null,null,null,null,null,null,null,null,null,{"$f":"FlashCards!AQ975","v":"3397"},3397,0,0,3397,3523129,{"$f":"FlashCards!AE975","v":972},3397]
[null,null,null,null,null,null,null,null,null,null,null,null,null,null,null,null,null,null,null,null,null,null,null,{"$f":"FlashCards!AQ976","v":"3398"},3398,0,0,3398,3526884,{"$f":"FlashCards!AE976","v":973},3398]
[null,null,null,null,null,null,null,null,null,null,null,null,null,null,null,null,null,null,null,null,null,null,null,{"$f":"FlashCards!AQ977","v":"3403"},3403,0,0,3403,3545689,{"$f":"FlashCards!AE977","v":974},3403]
[null,null,null,null,null,null,null,null,null,null,null,null,null,null,null,null,null,null,null,null,null,null,null,{"$f":"FlashCards!AQ978","v":"3404"},3404,0,0,3404,3549456,{"$f":"FlashCards!AE978","v":975},3404]
[null,null,null,null,null,null,null,null,null,null,null,null,null,null,null,null,null,null,null,null,null,null,null,{"$f":"FlashCards!AQ979","v":"3408"},3408,0,0,3408,3564544,{"$f":"FlashCards!AE979","v":976},3408]
[null,null,null,null,null,null,null,null,null,null,null,null,null,null,null,null,null,null,null,null,null,null,null,{"$f":"FlashCards!AQ980","v":"3419"},3419,0,0,3419,3606201,{"$f":"FlashCards!AE980","v":977},3419]
[null,null,null,null,null,null,null,null,null,null,null,null,null,null,null,null,null,null,null,null,null,null,null,{"$f":"FlashCards!AQ981","v":"3421"},3421,0,0,3421,3613801,{"$f":"FlashCards!AE981","v":978},3421]
[null,null,null,null,null,null,null,null,null,null,null,null,null,null,null,null,null,null,null,null,null,null,null,{"$f":"FlashCards!AQ982","v":"3431"},3431,0,0,3431,3651921,{"$f":"FlashCards!AE982","v":979},3431]
[null,null,null,null,null,null,null,null,null,null,null,null,null,null,null,null,null,null,null,null,null,null,null,{"$f":"FlashCards!AQ983","v":"3441"},3441,0,0,3441,3690241,{"$f":"FlashCards!AE983","v":980},3441]
[null,null,null,null,null,null,null,null,null,null,null,null,null,null,null,null,null,null,null,null,null,null,null,{"$f":"FlashCards!AQ984","v":"3450"},3450,0,0,3450,3724900,{"$f":"FlashCards!AE984","v":981},3450]
[null,null,null,null,null,null,null,null,null,null,null,null,null,null,null,null,null,null,null,null,null,null,null,{"$f":"FlashCards!AQ985","v":"3450"},3450,0,0,3450,3724900,{"$f":"FlashCards!AE985","v":982},3450]
[null,null,null,null,null,null,null,null,null,null,null,null,null,null,null,null,null,null,null,null,null,null,null,{"$f":"FlashCards!AQ986","v":"3464"},3464,0,0,3464,3779136,{"$f":"FlashCards!AE986","v":983},3464]
[null,null,null,null,null,null,null,null,null,null,null,null,null,null,null,null,null,null,null,null,null,null,null,{"$f":"FlashCards!AQ987","v":"3466"},3466,0,0,3466,3786916,{"$f":"FlashCards!AE987","v":984},3466]
[null,null,null,null,null,null,null,null,null,null,null,null,null,null,null,null,null,null,null,null,null,null,null,{"$f":"FlashCards!AQ988","v":"3474"},3474,0,0,3474,3818116,{"$f":"FlashCards!AE988","v":985},3474]
[null,null,null,null,null,null,null,null,null,null,null,null,null,null,null,null,null,null,null,null,null,null,null,{"$f":"FlashCards!AQ989","v":"3475"},3475,0,0,3475,3822025,{"$f":"FlashCards!AE989","v":986},3475]
[null,null,null,null,null,null,null,null,null,null,null,null,null,null,null,null,null,null,null,null,null,null,null,{"$f":"FlashCards!AQ990","v":"3480"},3480,0,0,3480,3841600,{"$f":"FlashCards!AE990","v":987},3480]
[null,null,null,null,null,null,null,null,null,null,null,null,null,null,null,null,null,null,null,null,null,null,null,{"$f":"FlashCards!AQ991","v":"3483"},3483,0,0,3483,3853369,{"$f":"FlashCards!AE991","v":988},3483]
[null,null,null,null,null,null,null,null,null,null,null,null,null,null,null,null,null,null,null,null,null,null,null,{"$f":"FlashCards!AQ992","v":"3485"},3485,0,0,3485,3861225,{"$f":"FlashCards!AE992","v":989},3485]
[null,null,null,null,null,null,null,null,null,null,null,null,null,null,null,null,null,null,null,null,null,null,null,{"$f":"FlashCards!AQ993","v":"3495"},3495,0,0,3495,3900625,{"$f":"FlashCards!AE993","v":990},3495]
[null,null,null,null,null,null,null,null,null,null,null,null,null,null,null,null,null,null,null,null,null,null,null,{"$f":"FlashCards!AQ994","v":"3498"},3498,0,0,3498,3912484,{"$f":"FlashCards!AE994","v":991},3498]
[null,null,null,null,null,null,null,null,null,null,null,null,null,null,null,null,null,null,null,null,null,null,null,{"$f":"FlashCards!AQ995","v":"3498"},3498,0,0,3498,3912484,{"$f":"FlashCards!AE995","v":992},3498]
[null,null,null,null,null,null,null,null,null,null,null,null,null,null,null,null,null,null,null,null,null,null,null,{"$f":"FlashCards!AQ996","v":"3501"},3501,0,0,3501,3924361,{"$f":"FlashCards!AE996","v":993},3501]
[null,null,null,null,null,null,null,null,null,null,null,null,null,null,null,null,null,null,null,null,null,null,null,{"$f":"FlashCards!AQ997","v":"3507"},3507,0,0,3507,3948169,{"$f":"FlashCards!AE997","v":994},3507]
[null,null,null,null,null,null,null,null,null,null,null,null,null,null,null,null,null,null,null,null,null,null,null,{"$f":"FlashCards!AQ998","v":"3510"},3510,0,0,3510,3960100,{"$f":"FlashCards!AE998","v":995},3510]
[null,null,null,null,null,null,null,null,null,null,null,null,null,null,null,null,null,null,null,null,null,null,null,{"$f":"FlashCards!AQ999","v":"3516"},3516,0,0,3516,3984016,{"$f":"FlashCards!AE999","v":996},3516]
[null,null,null,null,null,null,null,null,null,null,null,null,null,null,null,null,null,null,null,null,null,null,null,{"$f":"FlashCards!AQ1000","v":"3522"},3522,0,0,3522,4008004,{"$f":"FlashCards!AE1000","v":997},3522]
[null,null,null,null,null,null,null,null,null,null,null,null,null,null,null,null,null,null,null,null,null,null,null,{"$f":"FlashCards!AQ1001","v":"3528"},3528,0,0,3528,4032064,{"$f":"FlashCards!AE1001","v":998},3528]
[null,null,null,null,null,null,null,null,null,null,null,null,null,null,null,null,null,null,null,null,null,null,null,{"$f":"FlashCards!AQ1002","v":"3538"},3538,0,0,3538,4072324,{"$f":"FlashCards!AE1002","v":999},3538]
[null,null,null,null,null,null,null,null,null,null,null,null,null,null,null,null,null,null,null,null,null,null,null,{"$f":"FlashCards!AQ1003","v":"3539"},3539,0,0,3539,4076361,{"$f":"FlashCards!AE1003","v":1000},3539]
[null,null,null,null,null,null,null,null,null,null,null,null,null,null,null,null,null,null,null,null,null,null,null,{"$f":"FlashCards!AQ1004","v":"3543"},3543,0,0,3543,4092529,{"$f":"FlashCards!AE1004","v":1001},3543]
[null,null,null,null,null,null,null,null,null,null,null,null,null,null,null,null,null,null,null,null,null,null,null,{"$f":"FlashCards!AQ1005","v":"3544"},3544,0,0,3544,4096576,{"$f":"FlashCards!AE1005","v":1002},3544]
[null,null,null,null,null,null,null,null,null,null,null,null,null,null,null,null,null,null,null,null,null,null,null,{"$f":"FlashCards!AQ1006","v":"3551"},3551,0,0,3551,4124961,{"$f":"FlashCards!AE1006","v":1003},3551]
[null,null,null,null,null,null,null,null,null,null,null,null,null,null,null,null,null,null,null,null,null,null,null,{"$f":"FlashCards!AQ1007","v":"3554"},3554,0,0,3554,4137156,{"$f":"FlashCards!AE1007","v":1004},3554]
[null,null,null,null,null,null,null,null,null,null,null,null,null,null,null,null,null,null,null,null,null,null,null,{"$f":"FlashCards!AQ1008","v":"3563"},3563,0,0,3563,4173849,{"$f":"FlashCards!AE1008","v":1005},3563]
[null,null,null,null,null,null,null,null,null,null,null,null,null,null,null,null,null,null,null,null,null,null,null,{"$f":"FlashCards!AQ1009","v":"3566"},3566,0,0,3566,4186116,{"$f":"FlashCards!AE1009","v":1006},3566]
[null,null,null,null,null,null,null,null,null,null,null,null,null,null,null,null,null,null,null,null,null,null,null,{"$f":"FlashCards!AQ1010","v":"3568"},3568,0,0,3568,4194304,{"$f":"FlashCards!AE1010","v":1007},3568]
[null,null,null,null,null,null,null,null,null,null,null,null,null,null,null,null,null,null,null,null,null,null,null,{"$f":"FlashCards!AQ1011","v":"3570"},3570,0,0,3570,4202500,{"$f":"FlashCards!AE1011","v":1008},3570]
[null,null,null,null,null,null,null,null,null,null,null,null,null,null,null,null,null,null,null,null,null,null,null,{"$f":"FlashCards!AQ1012","v":"3571"},3571,0,0,3571,4206601,{"$f":"FlashCards!AE1012","v":1009},3571]
[null,null,null,null,null,null,null,null,null,null,null,null,null,null,null,null,null,null,null,null,null,null,null,{"$f":"FlashCards!AQ1013","v":"3579"},3579,0,0,3579,4239481,{"$f":"FlashCards!AE1013","v":1010},3579]
[null,null,null,null,null,null,null,null,null,null,null,null,null,null,null,null,null,null,null,null,null,null,null,{"$f":"FlashCards!AQ1014","v":"3581"},3581,0,0,3581,4247721,{"$f":"FlashCards!AE1014","v":1011},3581]
[null,null,null,null,null,null,null,null,null,null,null,null,null,null,null,null,null,null,null,null,null,null,null,{"$f":"FlashCards!AQ1015","v":"3583"},3583,0,0,3583,4255969,{"$f":"FlashCards!AE1015","v":1012},3583]
[null,null,null,null,null,null,null,null,null,null,null,null,null,null,null,null,null,null,null,null,null,null,null,{"$f":"FlashCards!AQ1016","v":"3584"},3584,0,0,3584,4260096,{"$f":"FlashCards!AE1016","v":1013},3584]
[null,null,null,null,null,null,null,null,null,null,null,null,null,null,null,null,null,null,null,null,null,null,null,{"$f":"FlashCards!AQ1017","v":"3586"},3586,0,0,3586,4268356,{"$f":"FlashCards!AE1017","v":1014},3586]
[null,null,null,null,null,null,null,null,null,null,null,null,null,null,null,null,null,null,null,null,null,null,null,{"$f":"FlashCards!AQ1018","v":"3588"},3588,0,0,3588,4276624,{"$f":"FlashCards!AE1018","v":1015},3588]
[null,null,null,null,null,null,null,null,null,null,null,null,null,null,null,null,null,null,null,null,null,null,null,{"$f":"FlashCards!AQ1019","v":"3588"},3588,0,0,3588,4276624,{"$f":"FlashCards!AE1019","v":1016},3588]
[null,null,null,null,null,null,null,null,null,null,null,null,null,null,null,null,null,null,null,null,null,null,null,{"$f":"FlashCards!AQ1020","v":"3588"},3588,0,0,3588,4276624,{"$f":"FlashCards!AE1020","v":1017},3588]
[null,null,null,null,null,null,null,null,null,null,null,null,null,null,null,null,null,null,null,null,null,null,null,{"$f":"FlashCards!AQ1021","v":"3588"},3588,0,0,3588,4276624,{"$f":"FlashCards!AE1021","v":1018},3588]
[null,null,null,null,null,null,null,null,null,null,null,null,null,null,null,null,null,null,null,null,null,null,null,{"$f":"FlashCards!AQ1022","v":"3588"},3588,0,0,3588,4276624,{"$f":"FlashCards!AE1022","v":1019},3588]
[null,null,null,null,null,null,null,null,null,null,null,null,null,null,null,null,null,null,null,null,null,null,null,{"$f":"FlashCards!AQ1023","v":"3588"},3588,0,0,3588,4276624,{"$f":"FlashCards!AE1023","v":1020},3588]
[null,null,null,null,null,null,null,null,null,null,null,null,null,null,null,null,null,null,null,null,null,null,null,{"$f":"FlashCards!AQ1024","v":"3588"},3588,0,0,3588,4276624,{"$f":"FlashCards!AE1024","v":1021},3588]
[null,null,null,null,null,null,null,null,null,null,null,null,null,null,null,null,null,null,null,null,null,null,null,{"$f":"FlashCards!AQ1025","v":"3588"},3588,0,0,3588,4276624,{"$f":"FlashCards!AE1025","v":1022},3588]
[null,null,null,null,null,null,null,null,null,null,null,null,null,null,null,null,null,null,null,null,null,null,null,{"$f":"FlashCards!AQ1026","v":"3588"},3588,0,0,3588,4276624,{"$f":"FlashCards!AE1026","v":1023},3588]
[null,null,null,null,null,null,null,null,null,null,null,null,null,null,null,null,null,null,null,null,null,null,null,{"$f":"FlashCards!AQ1027","v":"3588"},3588,0,0,3588,4276624,{"$f":"FlashCards!AE1027","v":1024},3588]
[null,null,null,null,null,null,null,null,null,null,null,null,null,null,null,null,null,null,null,null,null,null,null,{"$f":"FlashCards!AQ1028","v":"3588"},3588,0,0,3588,4276624,{"$f":"FlashCards!AE1028","v":1025},3588]
[null,null,null,null,null,null,null,null,null,null,null,null,null,null,null,null,null,null,null,null,null,null,null,{"$f":"FlashCards!AQ1029","v":"3588"},{"$f":"VALUE(X1028)","v":3588},{"$f":"IF(ISERR(FIND(\"+\",X1028,1)),0,FIND(\"+\",X1028,1))","v":0},{"$f":"IF(ISERR(FIND(\",\",X1028,1)),0,FIND(\",\",X1028,1))","v":0},{"$f":"IF(Z1028>0,VALUE(LEFT(X1028,Z1028-1)),IF(AA1028>0,VALUE(LEFT(X1028,AA1028-1)),IF(ISERR(Y1028),VALUE(LEFT(X1028,LEN(X1028)-1)),Y1028)))","v":3588},{"$f":"(AB1028-U$28)^2","v":4276624},{"$f":"FlashCards!AE1029","v":1026},{"$f":"IF(AB1028=0,10000,AB1028)","v":3588}]
[null,null,null,null,null,null,null,null,null,null,null,null,null,null,null,null,null,null,null,null,null,null,null,{"$f":"FlashCards!AQ1030","v":"3588"},3588,0,0,3588,4276624,{"$f":"FlashCards!AE1030","v":1027},3588]
[null,null,null,null,null,null,null,null,null,null,null,null,null,null,null,null,null,null,null,null,null,null,null,{"$f":"FlashCards!AQ1031","v":"3588"},3588,0,0,3588,4276624,{"$f":"FlashCards!AE1031","v":1028},3588]
[null,null,null,null,null,null,null,null,null,null,null,null,null,null,null,null,null,null,null,null,null,null,null,{"$f":"FlashCards!AQ1032","v":"3588"},3588,0,0,3588,4276624,{"$f":"FlashCards!AE1032","v":1029},3588]
[null,null,null,null,null,null,null,null,null,null,null,null,null,null,null,null,null,null,null,null,null,null,null,{"$f":"FlashCards!AQ1033","v":"3588"},3588,0,0,3588,4276624,{"$f":"FlashCards!AE1033","v":1030},3588]
[null,null,null,null,null,null,null,null,null,null,null,null,null,null,null,null,null,null,null,null,null,null,null,{"$f":"FlashCards!AQ1034","v":"3588"},3588,0,0,3588,4276624,{"$f":"FlashCards!AE1034","v":1031},3588]
[null,null,null,null,null,null,null,null,null,null,null,null,null,null,null,null,null,null,null,null,null,null,null,{"$f":"FlashCards!AQ1035","v":"3592"},3592,0,0,3592,4293184,{"$f":"FlashCards!AE1035","v":1032},3592]
[null,null,null,null,null,null,null,null,null,null,null,null,null,null,null,null,null,null,null,null,null,null,null,{"$f":"FlashCards!AQ1036","v":"3598"},3598,0,0,3598,4318084,{"$f":"FlashCards!AE1036","v":1033},3598]
[null,null,null,null,null,null,null,null,null,null,null,null,null,null,null,null,null,null,null,null,null,null,null,{"$f":"FlashCards!AQ1037","v":"3599"},3599,0,0,3599,4322241,{"$f":"FlashCards!AE1037","v":1034},3599]
[null,null,null,null,null,null,null,null,null,null,null,null,null,null,null,null,null,null,null,null,null,null,null,{"$f":"FlashCards!AQ1038","v":"3606"},3606,0,0,3606,4351396,{"$f":"FlashCards!AE1038","v":1035},3606]
[null,null,null,null,null,null,null,null,null,null,null,null,null,null,null,null,null,null,null,null,null,null,null,{"$f":"FlashCards!AQ1039","v":"3608"},3608,0,0,3608,4359744,{"$f":"FlashCards!AE1039","v":1036},3608]
[null,null,null,null,null,null,null,null,null,null,null,null,null,null,null,null,null,null,null,null,null,null,null,{"$f":"FlashCards!AQ1040","v":"3614"},3614,0,0,3614,4384836,{"$f":"FlashCards!AE1040","v":1037},3614]
[null,null,null,null,null,null,null,null,null,null,null,null,null,null,null,null,null,null,null,null,null,null,null,{"$f":"FlashCards!AQ1041","v":"3617"},3617,0,0,3617,4397409,{"$f":"FlashCards!AE1041","v":1038},3617]
[null,null,null,null,null,null,null,null,null,null,null,null,null,null,null,null,null,null,null,null,null,null,null,{"$f":"FlashCards!AQ1042","v":"3618"},3618,0,0,3618,4401604,{"$f":"FlashCards!AE1042","v":1039},3618]
[null,null,null,null,null,null,null,null,null,null,null,null,null,null,null,null,null,null,null,null,null,null,null,{"$f":"FlashCards!AQ1043","v":"3619"},3619,0,0,3619,4405801,{"$f":"FlashCards!AE1043","v":1040},3619]
[null,null,null,null,null,null,null,null,null,null,null,null,null,null,null,null,null,null,null,null,null,null,null,{"$f":"FlashCards!AQ1044","v":"3623"},3623,0,0,3623,4422609,{"$f":"FlashCards!AE1044","v":1041},3623]
[null,null,null,null,null,null,null,null,null,null,null,null,null,null,null,null,null,null,null,null,null,null,null,{"$f":"FlashCards!AQ1045","v":"3624"},3624,0,0,3624,4426816,{"$f":"FlashCards!AE1045","v":1042},3624]
[null,null,null,null,null,null,null,null,null,null,null,null,null,null,null,null,null,null,null,null,null,null,null,{"$f":"FlashCards!AQ1046","v":"3625"},3625,0,0,3625,4431025,{"$f":"FlashCards!AE1046","v":1043},3625]
[null,null,null,null,null,null,null,null,null,null,null,null,null,null,null,null,null,null,null,null,null,null,null,{"$f":"FlashCards!AQ1047","v":"3631"},3631,0,0,3631,4456321,{"$f":"FlashCards!AE1047","v":1044},3631]
[null,null,null,null,null,null,null,null,null,null,null,null,null,null,null,null,null,null,null,null,null,null,null,{"$f":"FlashCards!AQ1048","v":"3634"},3634,0,0,3634,4468996,{"$f":"FlashCards!AE1048","v":1045},3634]
[null,null,null,null,null,null,null,null,null,null,null,null,null,null,null,null,null,null,null,null,null,null,null,{"$f":"FlashCards!AQ1049","v":"3641"},3641,0,0,3641,4498641,{"$f":"FlashCards!AE1049","v":1046},3641]
[null,null,null,null,null,null,null,null,null,null,null,null,null,null,null,null,null,null,null,null,null,null,null,{"$f":"FlashCards!AQ1050","v":"3650"},3650,0,0,3650,4536900,{"$f":"FlashCards!AE1050","v":1047},3650]
[null,null,null,null,null,null,null,null,null,null,null,null,null,null,null,null,null,null,null,null,null,null,null,{"$f":"FlashCards!AQ1051","v":"3650"},3650,0,0,3650,4536900,{"$f":"FlashCards!AE1051","v":1048},3650]
[null,null,null,null,null,null,null,null,null,null,null,null,null,null,null,null,null,null,null,null,null,null,null,{"$f":"FlashCards!AQ1052","v":"3656"},3656,0,0,3656,4562496,{"$f":"FlashCards!AE1052","v":1049},3656]
[null,null,null,null,null,null,null,null,null,null,null,null,null,null,null,null,null,null,null,null,null,null,null,{"$f":"FlashCards!AQ1053","v":"3660"},3660,0,0,3660,4579600,{"$f":"FlashCards!AE1053","v":1050},3660]
[null,null,null,null,null,null,null,null,null,null,null,null,null,null,null,null,null,null,null,null,null,null,null,{"$f":"FlashCards!AQ1054","v":"3661"},3661,0,0,3661,4583881,{"$f":"FlashCards!AE1054","v":1051},3661]
[null,null,null,null,null,null,null,null,null,null,null,null,null,null,null,null,null,null,null,null,null,null,null,{"$f":"FlashCards!AQ1055","v":"3664"},3664,0,0,3664,4596736,{"$f":"FlashCards!AE1055","v":1052},3664]
[null,null,null,null,null,null,null,null,null,null,null,null,null,null,null,null,null,null,null,null,null,null,null,{"$f":"FlashCards!AQ1056","v":"3666"},3666,0,0,3666,4605316,{"$f":"FlashCards!AE1056","v":1053},3666]
[null,null,null,null,null,null,null,null,null,null,null,null,null,null,null,null,null,null,null,null,null,null,null,{"$f":"FlashCards!AQ1057","v":"3668"},3668,0,0,3668,4613904,{"$f":"FlashCards!AE1057","v":1054},3668]
[null,null,null,null,null,null,null,null,null,null,null,null,null,null,null,null,null,null,null,null,null,null,null,{"$f":"FlashCards!AQ1058","v":"3670"},3670,0,0,3670,4622500,{"$f":"FlashCards!AE1058","v":1055},3670]
[null,null,null,null,null,null,null,null,null,null,null,null,null,null,null,null,null,null,null,null,null,null,null,{"$f":"FlashCards!AQ1059","v":"3686"},3686,0,0,3686,4691556,{"$f":"FlashCards!AE1059","v":1056},3686]
[null,null,null,null,null,null,null,null,null,null,null,null,null,null,null,null,null,null,null,null,null,null,null,{"$f":"FlashCards!AQ1060","v":"5101+3686+4771"},{"$error":"#VALUE!"},5,0,5101,12823561,{"$f":"FlashCards!AE1060","v":1057},5101]
[null,null,null,null,null,null,null,null,null,null,null,null,null,null,null,null,null,null,null,null,null,null,null,{"$f":"FlashCards!AQ1061","v":"3687"},3687,0,0,3687,4695889,{"$f":"FlashCards!AE1061","v":1058},3687]
[null,null,null,null,null,null,null,null,null,null,null,null,null,null,null,null,null,null,null,null,null,null,null,{"$f":"FlashCards!AQ1062","v":"3689"},3689,0,0,3689,4704561,{"$f":"FlashCards!AE1062","v":1059},3689]
[null,null,null,null,null,null,null,null,null,null,null,null,null,null,null,null,null,null,null,null,null,null,null,{"$f":"FlashCards!AQ1063","v":"3689"},3689,0,0,3689,4704561,{"$f":"FlashCards!AE1063","v":1060},3689]
[null,null,null,null,null,null,null,null,null,null,null,null,null,null,null,null,null,null,null,null,null,null,null,{"$f":"FlashCards!AQ1064","v":"3694"},3694,0,0,3694,4726276,{"$f":"FlashCards!AE1064","v":1061},3694]
[null,null,null,null,null,null,null,null,null,null,null,null,null,null,null,null,null,null,null,null,null,null,null,{"$f":"FlashCards!AQ1065","v":"3699"},3699,0,0,3699,4748041,{"$f":"FlashCards!AE1065","v":1062},3699]
[null,null,null,null,null,null,null,null,null,null,null,null,null,null,null,null,null,null,null,null,null,null,null,{"$f":"FlashCards!AQ1066","v":"3700"},3700,0,0,3700,4752400,{"$f":"FlashCards!AE1066","v":1063},3700]
[null,null,null,null,null,null,null,null,null,null,null,null,null,null,null,null,null,null,null,null,null,null,null,{"$f":"FlashCards!AQ1067","v":"3701"},3701,0,0,3701,4756761,{"$f":"FlashCards!AE1067","v":1064},3701]
[null,null,null,null,null,null,null,null,null,null,null,null,null,null,null,null,null,null,null,null,null,null,null,{"$f":"FlashCards!AQ1068","v":"3704"},3704,0,0,3704,4769856,{"$f":"FlashCards!AE1068","v":1065},3704]
[null,null,null,null,null,null,null,null,null,null,null,null,null,null,null,null,null,null,null,null,null,null,null,{"$f":"FlashCards!AQ1069","v":"3705"},3705,0,0,3705,4774225,{"$f":"FlashCards!AE1069","v":1066},3705]
[null,null,null,null,null,null,null,null,null,null,null,null,null,null,null,null,null,null,null,null,null,null,null,{"$f":"FlashCards!AQ1070","v":"3708"},3708,0,0,3708,4787344,{"$f":"FlashCards!AE1070","v":1067},3708]
[null,null,null,null,null,null,null,null,null,null,null,null,null,null,null,null,null,null,null,null,null,null,null,{"$f":"FlashCards!AQ1071","v":"3709"},3709,0,0,3709,4791721,{"$f":"FlashCards!AE1071","v":1068},3709]
[null,null,null,null,null,null,null,null,null,null,null,null,null,null,null,null,null,null,null,null,null,null,null,{"$f":"FlashCards!AQ1072","v":"3722"},3722,0,0,3722,4848804,{"$f":"FlashCards!AE1072","v":1069},3722]
[null,null,null,null,null,null,null,null,null,null,null,null,null,null,null,null,null,null,null,null,null,null,null,{"$f":"FlashCards!AQ1073","v":"3725"},3725,0,0,3725,4862025,{"$f":"FlashCards!AE1073","v":1070},3725]
[null,null,null,null,null,null,null,null,null,null,null,null,null,null,null,null,null,null,null,null,null,null,null,{"$f":"FlashCards!AQ1074","v":"3727"},3727,0,0,3727,4870849,{"$f":"FlashCards!AE1074","v":1071},3727]
[null,null,null,null,null,null,null,null,null,null,null,null,null,null,null,null,null,null,null,null,null,null,null,{"$f":"FlashCards!AQ1075","v":"3735"},3735,0,0,3735,4906225,{"$f":"FlashCards!AE1075","v":1072},3735]
[null,null,null,null,null,null,null,null,null,null,null,null,null,null,null,null,null,null,null,null,null,null,null,{"$f":"FlashCards!AQ1076","v":"3739"},3739,0,0,3739,4923961,{"$f":"FlashCards!AE1076","v":1073},3739]
[null,null,null,null,null,null,null,null,null,null,null,null,null,null,null,null,null,null,null,null,null,null,null,{"$f":"FlashCards!AQ1077","v":"3739"},3739,0,0,3739,4923961,{"$f":"FlashCards!AE1077","v":1074},3739]
[null,null,null,null,null,null,null,null,null,null,null,null,null,null,null,null,null,null,null,null,null,null,null,{"$f":"FlashCards!AQ1078","v":"3739"},3739,0,0,3739,4923961,{"$f":"FlashCards!AE1078","v":1075},3739]
[null,null,null,null,null,null,null,null,null,null,null,null,null,null,null,null,null,null,null,null,null,null,null,{"$f":"FlashCards!AQ1079","v":"3739"},3739,0,0,3739,4923961,{"$f":"FlashCards!AE1079","v":1076},3739]
[null,null,null,null,null,null,null,null,null,null,null,null,null,null,null,null,null,null,null,null,null,null,null,{"$f":"FlashCards!AQ1080","v":"3739"},3739,0,0,3739,4923961,{"$f":"FlashCards!AE1080","v":1077},3739]
[null,null,null,null,null,null,null,null,null,null,null,null,null,null,null,null,null,null,null,null,null,null,null,{"$f":"FlashCards!AQ1081","v":"3739"},3739,0,0,3739,4923961,{"$f":"FlashCards!AE1081","v":1078},3739]
[null,null,null,null,null,null,null,null,null,null,null,null,null,null,null,null,null,null,null,null,null,null,null,{"$f":"FlashCards!AQ1082","v":"3739"},3739,0,0,3739,4923961,{"$f":"FlashCards!AE1082","v":1079},3739]
[null,null,null,null,null,null,null,null,null,null,null,null,null,null,null,null,null,null,null,null,null,null,null,{"$f":"FlashCards!AQ1083","v":"3739"},3739,0,0,3739,4923961,{"$f":"FlashCards!AE1083","v":1080},3739]
[null,null,null,null,null,null,null,null,null,null,null,null,null,null,null,null,null,null,null,null,null,null,null,{"$f":"FlashCards!AQ1084","v":"3739"},3739,0,0,3739,4923961,{"$f":"FlashCards!AE1084","v":1081},3739]
[null,null,null,null,null,null,null,null,null,null,null,null,null,null,null,null,null,null,null,null,null,null,null,{"$f":"FlashCards!AQ1085","v":"3739"},3739,0,0,3739,4923961,{"$f":"FlashCards!AE1085","v":1082},3739]
[null,null,null,null,null,null,null,null,null,null,null,null,null,null,null,null,null,null,null,null,null,null,null,{"$f":"FlashCards!AQ1086","v":"3739"},3739,0,0,3739,4923961,{"$f":"FlashCards!AE1086","v":1083},3739]
[null,null,null,null,null,null,null,null,null,null,null,null,null,null,null,null,null,null,null,null,null,null,null,{"$f":"FlashCards!AQ1087","v":"3739"},3739,0,0,3739,4923961,{"$f":"FlashCards!AE1087","v":1084},3739]
[null,null,null,null,null,null,null,null,null,null,null,null,null,null,null,null,null,null,null,null,null,null,null,{"$f":"FlashCards!AQ1088","v":"3739"},3739,0,0,3739,4923961,{"$f":"FlashCards!AE1088","v":1085},3739]
[null,null,null,null,null,null,null,null,null,null,null,null,null,null,null,null,null,null,null,null,null,null,null,{"$f":"FlashCards!AQ1089","v":"3739"},3739,0,0,3739,4923961,{"$f":"FlashCards!AE1089","v":1086},3739]
[null,null,null,null,null,null,null,null,null,null,null,null,null,null,null,null,null,null,null,null,null,null,null,{"$f":"FlashCards!AQ1090","v":"3739"},3739,0,0,3739,4923961,{"$f":"FlashCards!AE1090","v":1087},3739]
[null,null,null,null,null,null,null,null,null,null,null,null,null,null,null,null,null,null,null,null,null,null,null,{"$f":"FlashCards!AQ1091","v":"3739"},3739,0,0,3739,4923961,{"$f":"FlashCards!AE1091","v":1088},3739]
[null,null,null,null,null,null,null,null,null,null,null,null,null,null,null,null,null,null,null,null,null,null,null,{"$f":"FlashCards!AQ1092","v":"3739"},3739,0,0,3739,4923961,{"$f":"FlashCards!AE1092","v":1089},3739]
[null,null,null,null,null,null,null,null,null,null,null,null,null,null,null,null,null,null,null,null,null,null,null,{"$f":"FlashCards!AQ1093","v":"3739+5101"},{"$f":"VALUE(X1092)","v":{"$error":"#VALUE!"}},{"$f":"IF(ISERR(FIND(\"+\",X1092,1)),0,FIND(\"+\",X1092,1))","v":5},{"$f":"IF(ISERR(FIND(\",\",X1092,1)),0,FIND(\",\",X1092,1))","v":0},{"$f":"IF(Z1092>0,VALUE(LEFT(X1092,Z1092-1)),IF(AA1092>0,VALUE(LEFT(X1092,AA1092-1)),IF(ISERR(Y1092),VALUE(LEFT(X1092,LEN(X1092)-1)),Y1092)))","v":3739},{"$f":"(AB1092-U$28)^2","v":4923961},{"$f":"FlashCards!AE1093","v":1090},{"$f":"IF(AB1092=0,10000,AB1092)","v":3739}]
[null,null,null,null,null,null,null,null,null,null,null,null,null,null,null,null,null,null,null,null,null,null,null,{"$f":"FlashCards!AQ1094","v":"3739+1437"},{"$error":"#VALUE!"},5,0,3739,4923961,{"$f":"FlashCards!AE1094","v":1091},3739]
[null,null,null,null,null,null,null,null,null,null,null,null,null,null,null,null,null,null,null,null,null,null,null,{"$f":"FlashCards!AQ1095","v":"3745"},3745,0,0,3745,4950625,{"$f":"FlashCards!AE1095","v":1092},3745]
[null,null,null,null,null,null,null,null,null,null,null,null,null,null,null,null,null,null,null,null,null,null,null,{"$f":"FlashCards!AQ1096","v":"3747"},3747,0,0,3747,4959529,{"$f":"FlashCards!AE1096","v":1093},3747]
[null,null,null,null,null,null,null,null,null,null,null,null,null,null,null,null,null,null,null,null,null,null,null,{"$f":"FlashCards!AQ1097","v":"3748"},3748,0,0,3748,4963984,{"$f":"FlashCards!AE1097","v":1094},3748]
[null,null,null,null,null,null,null,null,null,null,null,null,null,null,null,null,null,null,null,null,null,null,null,{"$f":"FlashCards!AQ1098","v":"3748"},3748,0,0,3748,4963984,{"$f":"FlashCards!AE1098","v":1095},3748]
[null,null,null,null,null,null,null,null,null,null,null,null,null,null,null,null,null,null,null,null,null,null,null,{"$f":"FlashCards!AQ1099","v":"3748"},3748,0,0,3748,4963984,{"$f":"FlashCards!AE1099","v":1096},3748]
[null,null,null,null,null,null,null,null,null,null,null,null,null,null,null,null,null,null,null,null,null,null,null,{"$f":"FlashCards!AQ1100","v":"3752"},3752,0,0,3752,4981824,{"$f":"FlashCards!AE1100","v":1097},3752]
[null,null,null,null,null,null,null,null,null,null,null,null,null,null,null,null,null,null,null,null,null,null,null,{"$f":"FlashCards!AQ1101","v":"3753"},3753,0,0,3753,4986289,{"$f":"FlashCards!AE1101","v":1098},3753]
[null,null,null,null,null,null,null,null,null,null,null,null,null,null,null,null,null,null,null,null,null,null,null,{"$f":"FlashCards!AQ1102","v":"3754"},3754,0,0,3754,4990756,{"$f":"FlashCards!AE1102","v":1099},3754]
[null,null,null,null,null,null,null,null,null,null,null,null,null,null,null,null,null,null,null,null,null,null,null,{"$f":"FlashCards!AQ1103","v":"3756"},3756,0,0,3756,4999696,{"$f":"FlashCards!AE1103","v":1100},3756]
[null,null,null,null,null,null,null,null,null,null,null,null,null,null,null,null,null,null,null,null,null,null,null,{"$f":"FlashCards!AQ1104","v":"3756+3361"},{"$error":"#VALUE!"},5,0,3756,4999696,{"$f":"FlashCards!AE1104","v":1101},3756]
[null,null,null,null,null,null,null,null,null,null,null,null,null,null,null,null,null,null,null,null,null,null,null,{"$f":"FlashCards!AQ1105","v":"3757"},3757,0,0,3757,5004169,{"$f":"FlashCards!AE1105","v":1102},3757]
[null,null,null,null,null,null,null,null,null,null,null,null,null,null,null,null,null,null,null,null,null,null,null,{"$f":"FlashCards!AQ1106","v":"3759"},3759,0,0,3759,5013121,{"$f":"FlashCards!AE1106","v":1103},3759]
[null,null,null,null,null,null,null,null,null,null,null,null,null,null,null,null,null,null,null,null,null,null,null,{"$f":"FlashCards!AQ1107","v":"3761"},3761,0,0,3761,5022081,{"$f":"FlashCards!AE1107","v":1104},3761]
[null,null,null,null,null,null,null,null,null,null,null,null,null,null,null,null,null,null,null,null,null,null,null,{"$f":"FlashCards!AQ1108","v":"3762"},3762,0,0,3762,5026564,{"$f":"FlashCards!AE1108","v":1105},3762]
[null,null,null,null,null,null,null,null,null,null,null,null,null,null,null,null,null,null,null,null,null,null,null,{"$f":"FlashCards!AQ1109","v":"3762"},3762,0,0,3762,5026564,{"$f":"FlashCards!AE1109","v":1106},3762]
[null,null,null,null,null,null,null,null,null,null,null,null,null,null,null,null,null,null,null,null,null,null,null,{"$f":"FlashCards!AQ1110","v":"3762"},3762,0,0,3762,5026564,{"$f":"FlashCards!AE1110","v":1107},3762]
[null,null,null,null,null,null,null,null,null,null,null,null,null,null,null,null,null,null,null,null,null,null,null,{"$f":"FlashCards!AQ1111","v":"3763"},3763,0,0,3763,5031049,{"$f":"FlashCards!AE1111","v":1108},3763]
[null,null,null,null,null,null,null,null,null,null,null,null,null,null,null,null,null,null,null,null,null,null,null,{"$f":"FlashCards!AQ1112","v":"3765"},3765,0,0,3765,5040025,{"$f":"FlashCards!AE1112","v":1109},3765]
[null,null,null,null,null,null,null,null,null,null,null,null,null,null,null,null,null,null,null,null,null,null,null,{"$f":"FlashCards!AQ1113","v":"3766"},3766,0,0,3766,5044516,{"$f":"FlashCards!AE1113","v":1110},3766]
[null,null,null,null,null,null,null,null,null,null,null,null,null,null,null,null,null,null,null,null,null,null,null,{"$f":"FlashCards!AQ1114","v":"3767"},3767,0,0,3767,5049009,{"$f":"FlashCards!AE1114","v":1111},3767]
[null,null,null,null,null,null,null,null,null,null,null,null,null,null,null,null,null,null,null,null,null,null,null,{"$f":"FlashCards!AQ1115","v":"3768"},3768,0,0,3768,5053504,{"$f":"FlashCards!AE1115","v":1112},3768]
[null,null,null,null,null,null,null,null,null,null,null,null,null,null,null,null,null,null,null,null,null,null,null,{"$f":"FlashCards!AQ1116","v":"3770"},3770,0,0,3770,5062500,{"$f":"FlashCards!AE1116","v":1113},3770]
[null,null,null,null,null,null,null,null,null,null,null,null,null,null,null,null,null,null,null,null,null,null,null,{"$f":"FlashCards!AQ1117","v":"3772"},3772,0,0,3772,5071504,{"$f":"FlashCards!AE1117","v":1114},3772]
[null,null,null,null,null,null,null,null,null,null,null,null,null,null,null,null,null,null,null,null,null,null,null,{"$f":"FlashCards!AQ1118","v":"3775"},3775,0,0,3775,5085025,{"$f":"FlashCards!AE1118","v":1115},3775]
[null,null,null,null,null,null,null,null,null,null,null,null,null,null,null,null,null,null,null,null,null,null,null,{"$f":"FlashCards!AQ1119","v":"3777"},3777,0,0,3777,5094049,{"$f":"FlashCards!AE1119","v":1116},3777]
[null,null,null,null,null,null,null,null,null,null,null,null,null,null,null,null,null,null,null,null,null,null,null,{"$f":"FlashCards!AQ1120","v":"3778"},3778,0,0,3778,5098564,{"$f":"FlashCards!AE1120","v":1117},3778]
[null,null,null,null,null,null,null,null,null,null,null,null,null,null,null,null,null,null,null,null,null,null,null,{"$f":"FlashCards!AQ1121","v":"3778"},3778,0,0,3778,5098564,{"$f":"FlashCards!AE1121","v":1118},3778]
[null,null,null,null,null,null,null,null,null,null,null,null,null,null,null,null,null,null,null,null,null,null,null,{"$f":"FlashCards!AQ1122","v":"846"},846,0,0,846,454276,{"$f":"FlashCards!AE1122","v":1119},846]
[null,null,null,null,null,null,null,null,null,null,null,null,null,null,null,null,null,null,null,null,null,null,null,{"$f":"FlashCards!AQ1123","v":"3778"},3778,0,0,3778,5098564,{"$f":"FlashCards!AE1123","v":1120},3778]
[null,null,null,null,null,null,null,null,null,null,null,null,null,null,null,null,null,null,null,null,null,null,null,{"$f":"FlashCards!AQ1124","v":"3778"},3778,0,0,3778,5098564,{"$f":"FlashCards!AE1124","v":1121},3778]
[null,null,null,null,null,null,null,null,null,null,null,null,null,null,null,null,null,null,null,null,null,null,null,{"$f":"FlashCards!AQ1125","v":"3778"},3778,0,0,3778,5098564,{"$f":"FlashCards!AE1125","v":1122},3778]
[null,null,null,null,null,null,null,null,null,null,null,null,null,null,null,null,null,null,null,null,null,null,null,{"$f":"FlashCards!AQ1126","v":"3778"},3778,0,0,3778,5098564,{"$f":"FlashCards!AE1126","v":1123},3778]
[null,null,null,null,null,null,null,null,null,null,null,null,null,null,null,null,null,null,null,null,null,null,null,{"$f":"FlashCards!AQ1127","v":"3778"},3778,0,0,3778,5098564,{"$f":"FlashCards!AE1127","v":1124},3778]
[null,null,null,null,null,null,null,null,null,null,null,null,null,null,null,null,null,null,null,null,null,null,null,{"$f":"FlashCards!AQ1128","v":"3778"},3778,0,0,3778,5098564,{"$f":"FlashCards!AE1128","v":1125},3778]
[null,null,null,null,null,null,null,null,null,null,null,null,null,null,null,null,null,null,null,null,null,null,null,{"$f":"FlashCards!AQ1129","v":"3779"},3779,0,0,3779,5103081,{"$f":"FlashCards!AE1129","v":1126},3779]
[null,null,null,null,null,null,null,null,null,null,null,null,null,null,null,null,null,null,null,null,null,null,null,{"$f":"FlashCards!AQ1130","v":"3780"},3780,0,0,3780,5107600,{"$f":"FlashCards!AE1130","v":1127},3780]
[null,null,null,null,null,null,null,null,null,null,null,null,null,null,null,null,null,null,null,null,null,null,null,{"$f":"FlashCards!AQ1131","v":"3784"},3784,0,0,3784,5125696,{"$f":"FlashCards!AE1131","v":1128},3784]
[null,null,null,null,null,null,null,null,null,null,null,null,null,null,null,null,null,null,null,null,null,null,null,{"$f":"FlashCards!AQ1132","v":"3788"},3788,0,0,3788,5143824,{"$f":"FlashCards!AE1132","v":1129},3788]
[null,null,null,null,null,null,null,null,null,null,null,null,null,null,null,null,null,null,null,null,null,null,null,{"$f":"FlashCards!AQ1133","v":"3789"},3789,0,0,3789,5148361,{"$f":"FlashCards!AE1133","v":1130},3789]
[null,null,null,null,null,null,null,null,null,null,null,null,null,null,null,null,null,null,null,null,null,null,null,{"$f":"FlashCards!AQ1134","v":"3793"},3793,0,0,3793,5166529,{"$f":"FlashCards!AE1134","v":1131},3793]
[null,null,null,null,null,null,null,null,null,null,null,null,null,null,null,null,null,null,null,null,null,null,null,{"$f":"FlashCards!AQ1135","v":"3798"},3798,0,0,3798,5189284,{"$f":"FlashCards!AE1135","v":1132},3798]
[null,null,null,null,null,null,null,null,null,null,null,null,null,null,null,null,null,null,null,null,null,null,null,{"$f":"FlashCards!AQ1136","v":"3804"},3804,0,0,3804,5216656,{"$f":"FlashCards!AE1136","v":1133},3804]
[null,null,null,null,null,null,null,null,null,null,null,null,null,null,null,null,null,null,null,null,null,null,null,{"$f":"FlashCards!AQ1137","v":"3811"},3811,0,0,3811,5248681,{"$f":"FlashCards!AE1137","v":1134},3811]
[null,null,null,null,null,null,null,null,null,null,null,null,null,null,null,null,null,null,null,null,null,null,null,{"$f":"FlashCards!AQ1138","v":"3813"},3813,0,0,3813,5257849,{"$f":"FlashCards!AE1138","v":1135},3813]
[null,null,null,null,null,null,null,null,null,null,null,null,null,null,null,null,null,null,null,null,null,null,null,{"$f":"FlashCards!AQ1139","v":"3814"},3814,0,0,3814,5262436,{"$f":"FlashCards!AE1139","v":1136},3814]
[null,null,null,null,null,null,null,null,null,null,null,null,null,null,null,null,null,null,null,null,null,null,null,{"$f":"FlashCards!AQ1140","v":"3816"},3816,0,0,3816,5271616,{"$f":"FlashCards!AE1140","v":1137},3816]
[null,null,null,null,null,null,null,null,null,null,null,null,null,null,null,null,null,null,null,null,null,null,null,{"$f":"FlashCards!AQ1141","v":"3816"},3816,0,0,3816,5271616,{"$f":"FlashCards!AE1141","v":1138},3816]
[null,null,null,null,null,null,null,null,null,null,null,null,null,null,null,null,null,null,null,null,null,null,null,{"$f":"FlashCards!AQ1142","v":"3820"},3820,0,0,3820,5290000,{"$f":"FlashCards!AE1142","v":1139},3820]
[null,null,null,null,null,null,null,null,null,null,null,null,null,null,null,null,null,null,null,null,null,null,null,{"$f":"FlashCards!AQ1143","v":"3825"},3825,0,0,3825,5313025,{"$f":"FlashCards!AE1143","v":1140},3825]
[null,null,null,null,null,null,null,null,null,null,null,null,null,null,null,null,null,null,null,null,null,null,null,{"$f":"FlashCards!AQ1144","v":"3841"},3841,0,0,3841,5387041,{"$f":"FlashCards!AE1144","v":1141},3841]
[null,null,null,null,null,null,null,null,null,null,null,null,null,null,null,null,null,null,null,null,null,null,null,{"$f":"FlashCards!AQ1145","v":"3842"},3842,0,0,3842,5391684,{"$f":"FlashCards!AE1145","v":1142},3842]
[null,null,null,null,null,null,null,null,null,null,null,null,null,null,null,null,null,null,null,null,null,null,null,{"$f":"FlashCards!AQ1146","v":"3843"},3843,0,0,3843,5396329,{"$f":"FlashCards!AE1146","v":1143},3843]
[null,null,null,null,null,null,null,null,null,null,null,null,null,null,null,null,null,null,null,null,null,null,null,{"$f":"FlashCards!AQ1147","v":"3844"},3844,0,0,3844,5400976,{"$f":"FlashCards!AE1147","v":1144},3844]
[null,null,null,null,null,null,null,null,null,null,null,null,null,null,null,null,null,null,null,null,null,null,null,{"$f":"FlashCards!AQ1148","v":"3844"},3844,0,0,3844,5400976,{"$f":"FlashCards!AE1148","v":1145},3844]
[null,null,null,null,null,null,null,null,null,null,null,null,null,null,null,null,null,null,null,null,null,null,null,{"$f":"FlashCards!AQ1149","v":"3844"},3844,0,0,3844,5400976,{"$f":"FlashCards!AE1149","v":1146},3844]
[null,null,null,null,null,null,null,null,null,null,null,null,null,null,null,null,null,null,null,null,null,null,null,{"$f":"FlashCards!AQ1150","v":"3850"},3850,0,0,3850,5428900,{"$f":"FlashCards!AE1150","v":1147},3850]
[null,null,null,null,null,null,null,null,null,null,null,null,null,null,null,null,null,null,null,null,null,null,null,{"$f":"FlashCards!AQ1151","v":"3853"},3853,0,0,3853,5442889,{"$f":"FlashCards!AE1151","v":1148},3853]
[null,null,null,null,null,null,null,null,null,null,null,null,null,null,null,null,null,null,null,null,null,null,null,{"$f":"FlashCards!AQ1152","v":"3854"},3854,0,0,3854,5447556,{"$f":"FlashCards!AE1152","v":1149},3854]
[null,null,null,null,null,null,null,null,null,null,null,null,null,null,null,null,null,null,null,null,null,null,null,{"$f":"FlashCards!AQ1153","v":"3855"},3855,0,0,3855,5452225,{"$f":"FlashCards!AE1153","v":1150},3855]
[null,null,null,null,null,null,null,null,null,null,null,null,null,null,null,null,null,null,null,null,null,null,null,{"$f":"FlashCards!AQ1154","v":"3857"},3857,0,0,3857,5461569,{"$f":"FlashCards!AE1154","v":1151},3857]
[null,null,null,null,null,null,null,null,null,null,null,null,null,null,null,null,null,null,null,null,null,null,null,{"$f":"FlashCards!AQ1155","v":"3860"},3860,0,0,3860,5475600,{"$f":"FlashCards!AE1155","v":1152},3860]
[null,null,null,null,null,null,null,null,null,null,null,null,null,null,null,null,null,null,null,null,null,null,null,{"$f":"FlashCards!AQ1156","v":"3862"},3862,0,0,3862,5484964,{"$f":"FlashCards!AE1156","v":1153},3862]
[null,null,null,null,null,null,null,null,null,null,null,null,null,null,null,null,null,null,null,null,null,null,null,{"$f":"FlashCards!AQ1157","v":"3868"},{"$f":"VALUE(X1156)","v":3868},{"$f":"IF(ISERR(FIND(\"+\",X1156,1)),0,FIND(\"+\",X1156,1))","v":0},{"$f":"IF(ISERR(FIND(\",\",X1156,1)),0,FIND(\",\",X1156,1))","v":0},{"$f":"IF(Z1156>0,VALUE(LEFT(X1156,Z1156-1)),IF(AA1156>0,VALUE(LEFT(X1156,AA1156-1)),IF(ISERR(Y1156),VALUE(LEFT(X1156,LEN(X1156)-1)),Y1156)))","v":3868},{"$f":"(AB1156-U$28)^2","v":5513104},{"$f":"FlashCards!AE1157","v":1154},{"$f":"IF(AB1156=0,10000,AB1156)","v":3868}]
[null,null,null,null,null,null,null,null,null,null,null,null,null,null,null,null,null,null,null,null,null,null,null,{"$f":"FlashCards!AQ1158","v":"3870"},3870,0,0,3870,5522500,{"$f":"FlashCards!AE1158","v":1155},3870]
[null,null,null,null,null,null,null,null,null,null,null,null,null,null,null,null,null,null,null,null,null,null,null,{"$f":"FlashCards!AQ1159","v":"3874"},3874,0,0,3874,5541316,{"$f":"FlashCards!AE1159","v":1156},3874]
[null,null,null,null,null,null,null,null,null,null,null,null,null,null,null,null,null,null,null,null,null,null,null,{"$f":"FlashCards!AQ1160","v":"3875"},3875,0,0,3875,5546025,{"$f":"FlashCards!AE1160","v":1157},3875]
[null,null,null,null,null,null,null,null,null,null,null,null,null,null,null,null,null,null,null,null,null,null,null,{"$f":"FlashCards!AQ1161","v":"3879"},3879,0,0,3879,5564881,{"$f":"FlashCards!AE1161","v":1158},3879]
[null,null,null,null,null,null,null,null,null,null,null,null,null,null,null,null,null,null,null,null,null,null,null,{"$f":"FlashCards!AQ1162","v":"3880"},3880,0,0,3880,5569600,{"$f":"FlashCards!AE1162","v":1159},3880]
[null,null,null,null,null,null,null,null,null,null,null,null,null,null,null,null,null,null,null,null,null,null,null,{"$f":"FlashCards!AQ1163","v":"3885"},3885,0,0,3885,5593225,{"$f":"FlashCards!AE1163","v":1160},3885]
[null,null,null,null,null,null,null,null,null,null,null,null,null,null,null,null,null,null,null,null,null,null,null,{"$f":"FlashCards!AQ1164","v":"3885"},3885,0,0,3885,5593225,{"$f":"FlashCards!AE1164","v":1161},3885]
[null,null,null,null,null,null,null,null,null,null,null,null,null,null,null,null,null,null,null,null,null,null,null,{"$f":"FlashCards!AQ1165","v":"3900"},3900,0,0,3900,5664400,{"$f":"FlashCards!AE1165","v":1162},3900]
[null,null,null,null,null,null,null,null,null,null,null,null,null,null,null,null,null,null,null,null,null,null,null,{"$f":"FlashCards!AQ1166","v":"3906"},3906,0,0,3906,5692996,{"$f":"FlashCards!AE1166","v":1163},3906]
[null,null,null,null,null,null,null,null,null,null,null,null,null,null,null,null,null,null,null,null,null,null,null,{"$f":"FlashCards!AQ1167","v":"3908"},3908,0,0,3908,5702544,{"$f":"FlashCards!AE1167","v":1164},3908]
[null,null,null,null,null,null,null,null,null,null,null,null,null,null,null,null,null,null,null,null,null,null,null,{"$f":"FlashCards!AQ1168","v":"3916"},3916,0,0,3916,5740816,{"$f":"FlashCards!AE1168","v":1165},3916]
[null,null,null,null,null,null,null,null,null,null,null,null,null,null,null,null,null,null,null,null,null,null,null,{"$f":"FlashCards!AQ1169","v":"3918"},3918,0,0,3918,5750404,{"$f":"FlashCards!AE1169","v":1166},3918]
[null,null,null,null,null,null,null,null,null,null,null,null,null,null,null,null,null,null,null,null,null,null,null,{"$f":"FlashCards!AQ1170","v":"3925"},3925,0,0,3925,5784025,{"$f":"FlashCards!AE1170","v":1167},3925]
[null,null,null,null,null,null,null,null,null,null,null,null,null,null,null,null,null,null,null,null,null,null,null,{"$f":"FlashCards!AQ1171","v":"3928"},3928,0,0,3928,5798464,{"$f":"FlashCards!AE1171","v":1168},3928]
[null,null,null,null,null,null,null,null,null,null,null,null,null,null,null,null,null,null,null,null,null,null,null,{"$f":"FlashCards!AQ1172","v":"3930"},3930,0,0,3930,5808100,{"$f":"FlashCards!AE1172","v":1169},3930]
[null,null,null,null,null,null,null,null,null,null,null,null,null,null,null,null,null,null,null,null,null,null,null,{"$f":"FlashCards!AQ1173","v":"3933"},3933,0,0,3933,5822569,{"$f":"FlashCards!AE1173","v":1170},3933]
[null,null,null,null,null,null,null,null,null,null,null,null,null,null,null,null,null,null,null,null,null,null,null,{"$f":"FlashCards!AQ1174","v":"3936"},3936,0,0,3936,5837056,{"$f":"FlashCards!AE1174","v":1171},3936]
[null,null,null,null,null,null,null,null,null,null,null,null,null,null,null,null,null,null,null,null,null,null,null,{"$f":"FlashCards!AQ1175","v":"3939"},3939,0,0,3939,5851561,{"$f":"FlashCards!AE1175","v":1172},3939]
[null,null,null,null,null,null,null,null,null,null,null,null,null,null,null,null,null,null,null,null,null,null,null,{"$f":"FlashCards!AQ1176","v":"3952"},3952,0,0,3952,5914624,{"$f":"FlashCards!AE1176","v":1173},3952]
[null,null,null,null,null,null,null,null,null,null,null,null,null,null,null,null,null,null,null,null,null,null,null,{"$f":"FlashCards!AQ1177","v":"3954"},3954,0,0,3954,5924356,{"$f":"FlashCards!AE1177","v":1174},3954]
[null,null,null,null,null,null,null,null,null,null,null,null,null,null,null,null,null,null,null,null,null,null,null,{"$f":"FlashCards!AQ1178","v":"3956"},3956,0,0,3956,5934096,{"$f":"FlashCards!AE1178","v":1175},3956]
[null,null,null,null,null,null,null,null,null,null,null,null,null,null,null,null,null,null,null,null,null,null,null,{"$f":"FlashCards!AQ1179","v":"3956"},3956,0,0,3956,5934096,{"$f":"FlashCards!AE1179","v":1176},3956]
[null,null,null,null,null,null,null,null,null,null,null,null,null,null,null,null,null,null,null,null,null,null,null,{"$f":"FlashCards!AQ1180","v":"3956"},3956,0,0,3956,5934096,{"$f":"FlashCards!AE1180","v":1177},3956]
[null,null,null,null,null,null,null,null,null,null,null,null,null,null,null,null,null,null,null,null,null,null,null,{"$f":"FlashCards!AQ1181","v":"3957"},3957,0,0,3957,5938969,{"$f":"FlashCards!AE1181","v":1178},3957]
[null,null,null,null,null,null,null,null,null,null,null,null,null,null,null,null,null,null,null,null,null,null,null,{"$f":"FlashCards!AQ1182","v":"3958"},3958,0,0,3958,5943844,{"$f":"FlashCards!AE1182","v":1179},3958]
[null,null,null,null,null,null,null,null,null,null,null,null,null,null,null,null,null,null,null,null,null,null,null,{"$f":"FlashCards!AQ1183","v":"3960"},3960,0,0,3960,5953600,{"$f":"FlashCards!AE1183","v":1180},3960]
[null,null,null,null,null,null,null,null,null,null,null,null,null,null,null,null,null,null,null,null,null,null,null,{"$f":"FlashCards!AQ1184","v":"3962"},3962,0,0,3962,5963364,{"$f":"FlashCards!AE1184","v":1181},3962]
[null,null,null,null,null,null,null,null,null,null,null,null,null,null,null,null,null,null,null,null,null,null,null,{"$f":"FlashCards!AQ1185","v":"3972"},3972,0,0,3972,6012304,{"$f":"FlashCards!AE1185","v":1182},3972]
[null,null,null,null,null,null,null,null,null,null,null,null,null,null,null,null,null,null,null,null,null,null,null,{"$f":"FlashCards!AQ1186","v":"3973"},3973,0,0,3973,6017209,{"$f":"FlashCards!AE1186","v":1183},3973]
[null,null,null,null,null,null,null,null,null,null,null,null,null,null,null,null,null,null,null,null,null,null,null,{"$f":"FlashCards!AQ1187","v":"3982"},3982,0,0,3982,6061444,{"$f":"FlashCards!AE1187","v":1184},3982]
[null,null,null,null,null,null,null,null,null,null,null,null,null,null,null,null,null,null,null,null,null,null,null,{"$f":"FlashCards!AQ1188","v":"3983"},3983,0,0,3983,6066369,{"$f":"FlashCards!AE1188","v":1185},3983]
[null,null,null,null,null,null,null,null,null,null,null,null,null,null,null,null,null,null,null,null,null,null,null,{"$f":"FlashCards!AQ1189","v":"3985"},3985,0,0,3985,6076225,{"$f":"FlashCards!AE1189","v":1186},3985]
[null,null,null,null,null,null,null,null,null,null,null,null,null,null,null,null,null,null,null,null,null,null,null,{"$f":"FlashCards!AQ1190","v":"3986"},3986,0,0,3986,6081156,{"$f":"FlashCards!AE1190","v":1187},3986]
[null,null,null,null,null,null,null,null,null,null,null,null,null,null,null,null,null,null,null,null,null,null,null,{"$f":"FlashCards!AQ1191","v":"3992"},3992,0,0,3992,6110784,{"$f":"FlashCards!AE1191","v":1188},3992]
[null,null,null,null,null,null,null,null,null,null,null,null,null,null,null,null,null,null,null,null,null,null,null,{"$f":"FlashCards!AQ1192","v":"3996"},3996,0,0,3996,6130576,{"$f":"FlashCards!AE1192","v":1189},3996]
[null,null,null,null,null,null,null,null,null,null,null,null,null,null,null,null,null,null,null,null,null,null,null,{"$f":"FlashCards!AQ1193","v":"4002"},4002,0,0,4002,6160324,{"$f":"FlashCards!AE1193","v":1190},4002]
[null,null,null,null,null,null,null,null,null,null,null,null,null,null,null,null,null,null,null,null,null,null,null,{"$f":"FlashCards!AQ1194","v":"4008"},4008,0,0,4008,6190144,{"$f":"FlashCards!AE1194","v":1191},4008]
[null,null,null,null,null,null,null,null,null,null,null,null,null,null,null,null,null,null,null,null,null,null,null,{"$f":"FlashCards!AQ1195","v":"4012"},4012,0,0,4012,6210064,{"$f":"FlashCards!AE1195","v":1192},4012]
[null,null,null,null,null,null,null,null,null,null,null,null,null,null,null,null,null,null,null,null,null,null,null,{"$f":"FlashCards!AQ1196","v":"4012"},4012,0,0,4012,6210064,{"$f":"FlashCards!AE1196","v":1193},4012]
[null,null,null,null,null,null,null,null,null,null,null,null,null,null,null,null,null,null,null,null,null,null,null,{"$f":"FlashCards!AQ1197","v":"4016"},4016,0,0,4016,6230016,{"$f":"FlashCards!AE1197","v":1194},4016]
[null,null,null,null,null,null,null,null,null,null,null,null,null,null,null,null,null,null,null,null,null,null,null,{"$f":"FlashCards!AQ1198","v":"4037"},4037,0,0,4037,6335289,{"$f":"FlashCards!AE1198","v":1195},4037]
[null,null,null,null,null,null,null,null,null,null,null,null,null,null,null,null,null,null,null,null,null,null,null,{"$f":"FlashCards!AQ1199","v":"4043"},4043,0,0,4043,6365529,{"$f":"FlashCards!AE1199","v":1196},4043]
[null,null,null,null,null,null,null,null,null,null,null,null,null,null,null,null,null,null,null,null,null,null,null,{"$f":"FlashCards!AQ1200","v":"4052"},4052,0,0,4052,6411024,{"$f":"FlashCards!AE1200","v":1197},4052]
[null,null,null,null,null,null,null,null,null,null,null,null,null,null,null,null,null,null,null,null,null,null,null,{"$f":"FlashCards!AQ1201","v":"4055"},4055,0,0,4055,6426225,{"$f":"FlashCards!AE1201","v":1198},4055]
[null,null,null,null,null,null,null,null,null,null,null,null,null,null,null,null,null,null,null,null,null,null,null,{"$f":"FlashCards!AQ1202","v":"4056"},4056,0,0,4056,6431296,{"$f":"FlashCards!AE1202","v":1199},4056]
[null,null,null,null,null,null,null,null,null,null,null,null,null,null,null,null,null,null,null,null,null,null,null,{"$f":"FlashCards!AQ1203","v":"4058"},4058,0,0,4058,6441444,{"$f":"FlashCards!AE1203","v":1200},4058]
[null,null,null,null,null,null,null,null,null,null,null,null,null,null,null,null,null,null,null,null,null,null,null,{"$f":"FlashCards!AQ1204","v":"4059"},4059,0,0,4059,6446521,{"$f":"FlashCards!AE1204","v":1201},4059]
[null,null,null,null,null,null,null,null,null,null,null,null,null,null,null,null,null,null,null,null,null,null,null,{"$f":"FlashCards!AQ1205","v":"4061"},4061,0,0,4061,6456681,{"$f":"FlashCards!AE1205","v":1202},4061]
[null,null,null,null,null,null,null,null,null,null,null,null,null,null,null,null,null,null,null,null,null,null,null,{"$f":"FlashCards!AQ1206","v":"4071"},4071,0,0,4071,6507601,{"$f":"FlashCards!AE1206","v":1203},4071]
[null,null,null,null,null,null,null,null,null,null,null,null,null,null,null,null,null,null,null,null,null,null,null,{"$f":"FlashCards!AQ1207","v":"4073"},4073,0,0,4073,6517809,{"$f":"FlashCards!AE1207","v":1204},4073]
[null,null,null,null,null,null,null,null,null,null,null,null,null,null,null,null,null,null,null,null,null,null,null,{"$f":"FlashCards!AQ1208","v":"4074"},4074,0,0,4074,6522916,{"$f":"FlashCards!AE1208","v":1205},4074]
[null,null,null,null,null,null,null,null,null,null,null,null,null,null,null,null,null,null,null,null,null,null,null,{"$f":"FlashCards!AQ1209","v":"4077"},4077,0,0,4077,6538249,{"$f":"FlashCards!AE1209","v":1206},4077]
[null,null,null,null,null,null,null,null,null,null,null,null,null,null,null,null,null,null,null,null,null,null,null,{"$f":"FlashCards!AQ1210","v":"4084"},4084,0,0,4084,6574096,{"$f":"FlashCards!AE1210","v":1207},4084]
[null,null,null,null,null,null,null,null,null,null,null,null,null,null,null,null,null,null,null,null,null,null,null,{"$f":"FlashCards!AQ1211","v":"4091"},4091,0,0,4091,6610041,{"$f":"FlashCards!AE1211","v":1208},4091]
[null,null,null,null,null,null,null,null,null,null,null,null,null,null,null,null,null,null,null,null,null,null,null,{"$f":"FlashCards!AQ1212","v":"4095"},4095,0,0,4095,6630625,{"$f":"FlashCards!AE1212","v":1209},4095]
[null,null,null,null,null,null,null,null,null,null,null,null,null,null,null,null,null,null,null,null,null,null,null,{"$f":"FlashCards!AQ1213","v":"4098"},4098,0,0,4098,6646084,{"$f":"FlashCards!AE1213","v":1210},4098]
[null,null,null,null,null,null,null,null,null,null,null,null,null,null,null,null,null,null,null,null,null,null,null,{"$f":"FlashCards!AQ1214","v":"4100"},4100,0,0,4100,6656400,{"$f":"FlashCards!AE1214","v":1211},4100]
[null,null,null,null,null,null,null,null,null,null,null,null,null,null,null,null,null,null,null,null,null,null,null,{"$f":"FlashCards!AQ1215","v":"4102"},4102,0,0,4102,6666724,{"$f":"FlashCards!AE1215","v":1212},4102]
[null,null,null,null,null,null,null,null,null,null,null,null,null,null,null,null,null,null,null,null,null,null,null,{"$f":"FlashCards!AQ1216","v":"4103"},4103,0,0,4103,6671889,{"$f":"FlashCards!AE1216","v":1213},4103]
[null,null,null,null,null,null,null,null,null,null,null,null,null,null,null,null,null,null,null,null,null,null,null,{"$f":"FlashCards!AQ1217","v":"4105"},4105,0,0,4105,6682225,{"$f":"FlashCards!AE1217","v":1214},4105]
[null,null,null,null,null,null,null,null,null,null,null,null,null,null,null,null,null,null,null,null,null,null,null,{"$f":"FlashCards!AQ1218","v":"4106"},4106,0,0,4106,6687396,{"$f":"FlashCards!AE1218","v":1215},4106]
[null,null,null,null,null,null,null,null,null,null,null,null,null,null,null,null,null,null,null,null,null,null,null,{"$f":"FlashCards!AQ1219","v":"4118"},4118,0,0,4118,6749604,{"$f":"FlashCards!AE1219","v":1216},4118]
[null,null,null,null,null,null,null,null,null,null,null,null,null,null,null,null,null,null,null,null,null,null,null,{"$f":"FlashCards!AQ1220","v":"4118"},4118,0,0,4118,6749604,{"$f":"FlashCards!AE1220","v":1217},4118]
[null,null,null,null,null,null,null,null,null,null,null,null,null,null,null,null,null,null,null,null,null,null,null,{"$f":"FlashCards!AQ1221","v":"4118"},{"$f":"VALUE(X1220)","v":4118},{"$f":"IF(ISERR(FIND(\"+\",X1220,1)),0,FIND(\"+\",X1220,1))","v":0},{"$f":"IF(ISERR(FIND(\",\",X1220,1)),0,FIND(\",\",X1220,1))","v":0},{"$f":"IF(Z1220>0,VALUE(LEFT(X1220,Z1220-1)),IF(AA1220>0,VALUE(LEFT(X1220,AA1220-1)),IF(ISERR(Y1220),VALUE(LEFT(X1220,LEN(X1220)-1)),Y1220)))","v":4118},{"$f":"(AB1220-U$28)^2","v":6749604},{"$f":"FlashCards!AE1221","v":1218},{"$f":"IF(AB1220=0,10000,AB1220)","v":4118}]
[null,null,null,null,null,null,null,null,null,null,null,null,null,null,null,null,null,null,null,null,null,null,null,{"$f":"FlashCards!AQ1222","v":"4119"},4119,0,0,4119,6754801,{"$f":"FlashCards!AE1222","v":1219},4119]
[null,null,null,null,null,null,null,null,null,null,null,null,null,null,null,null,null,null,null,null,null,null,null,{"$f":"FlashCards!AQ1223","v":"4119"},4119,0,0,4119,6754801,{"$f":"FlashCards!AE1223","v":1220},4119]
[null,null,null,null,null,null,null,null,null,null,null,null,null,null,null,null,null,null,null,null,null,null,null,{"$f":"FlashCards!AQ1224","v":"4124"},4124,0,0,4124,6780816,{"$f":"FlashCards!AE1224","v":1221},4124]
[null,null,null,null,null,null,null,null,null,null,null,null,null,null,null,null,null,null,null,null,null,null,null,{"$f":"FlashCards!AQ1225","v":"4127"},4127,0,0,4127,6796449,{"$f":"FlashCards!AE1225","v":1222},4127]
[null,null,null,null,null,null,null,null,null,null,null,null,null,null,null,null,null,null,null,null,null,null,null,{"$f":"FlashCards!AQ1226","v":"4128"},4128,0,0,4128,6801664,{"$f":"FlashCards!AE1226","v":1223},4128]
[null,null,null,null,null,null,null,null,null,null,null,null,null,null,null,null,null,null,null,null,null,null,null,{"$f":"FlashCards!AQ1227","v":"4129"},4129,0,0,4129,6806881,{"$f":"FlashCards!AE1227","v":1224},4129]
[null,null,null,null,null,null,null,null,null,null,null,null,null,null,null,null,null,null,null,null,null,null,null,{"$f":"FlashCards!AQ1228","v":"4130"},4130,0,0,4130,6812100,{"$f":"FlashCards!AE1228","v":1225},4130]
[null,null,null,null,null,null,null,null,null,null,null,null,null,null,null,null,null,null,null,null,null,null,null,{"$f":"FlashCards!AQ1229","v":"4133"},4133,0,0,4133,6827769,{"$f":"FlashCards!AE1229","v":1226},4133]
[null,null,null,null,null,null,null,null,null,null,null,null,null,null,null,null,null,null,null,null,null,null,null,{"$f":"FlashCards!AQ1230","v":"4134"},4134,0,0,4134,6832996,{"$f":"FlashCards!AE1230","v":1227},4134]
[null,null,null,null,null,null,null,null,null,null,null,null,null,null,null,null,null,null,null,null,null,null,null,{"$f":"FlashCards!AQ1231","v":"4137"},4137,0,0,4137,6848689,{"$f":"FlashCards!AE1231","v":1228},4137]
[null,null,null,null,null,null,null,null,null,null,null,null,null,null,null,null,null,null,null,null,null,null,null,{"$f":"FlashCards!AQ1232","v":"4138"},4138,0,0,4138,6853924,{"$f":"FlashCards!AE1232","v":1229},4138]
[null,null,null,null,null,null,null,null,null,null,null,null,null,null,null,null,null,null,null,null,null,null,null,{"$f":"FlashCards!AQ1233","v":"4139"},4139,0,0,4139,6859161,{"$f":"FlashCards!AE1233","v":1230},4139]
[null,null,null,null,null,null,null,null,null,null,null,null,null,null,null,null,null,null,null,null,null,null,null,{"$f":"FlashCards!AQ1234","v":"4139"},4139,0,0,4139,6859161,{"$f":"FlashCards!AE1234","v":1231},4139]
[null,null,null,null,null,null,null,null,null,null,null,null,null,null,null,null,null,null,null,null,null,null,null,{"$f":"FlashCards!AQ1235","v":"4143"},4143,0,0,4143,6880129,{"$f":"FlashCards!AE1235","v":1232},4143]
[null,null,null,null,null,null,null,null,null,null,null,null,null,null,null,null,null,null,null,null,null,null,null,{"$f":"FlashCards!AQ1236","v":"4145"},4145,0,0,4145,6890625,{"$f":"FlashCards!AE1236","v":1233},4145]
[null,null,null,null,null,null,null,null,null,null,null,null,null,null,null,null,null,null,null,null,null,null,null,{"$f":"FlashCards!AQ1237","v":"4147"},4147,0,0,4147,6901129,{"$f":"FlashCards!AE1237","v":1234},4147]
[null,null,null,null,null,null,null,null,null,null,null,null,null,null,null,null,null,null,null,null,null,null,null,{"$f":"FlashCards!AQ1238","v":"4149"},4149,0,0,4149,6911641,{"$f":"FlashCards!AE1238","v":1235},4149]
[null,null,null,null,null,null,null,null,null,null,null,null,null,null,null,null,null,null,null,null,null,null,null,{"$f":"FlashCards!AQ1239","v":"4151"},4151,0,0,4151,6922161,{"$f":"FlashCards!AE1239","v":1236},4151]
[null,null,null,null,null,null,null,null,null,null,null,null,null,null,null,null,null,null,null,null,null,null,null,{"$f":"FlashCards!AQ1240","v":"4152"},4152,0,0,4152,6927424,{"$f":"FlashCards!AE1240","v":1237},4152]
[null,null,null,null,null,null,null,null,null,null,null,null,null,null,null,null,null,null,null,null,null,null,null,{"$f":"FlashCards!AQ1241","v":"4159"},4159,0,0,4159,6964321,{"$f":"FlashCards!AE1241","v":1238},4159]
[null,null,null,null,null,null,null,null,null,null,null,null,null,null,null,null,null,null,null,null,null,null,null,{"$f":"FlashCards!AQ1242","v":"4160"},4160,0,0,4160,6969600,{"$f":"FlashCards!AE1242","v":1239},4160]
[null,null,null,null,null,null,null,null,null,null,null,null,null,null,null,null,null,null,null,null,null,null,null,{"$f":"FlashCards!AQ1243","v":"4164"},4164,0,0,4164,6990736,{"$f":"FlashCards!AE1243","v":1240},4164]
[null,null,null,null,null,null,null,null,null,null,null,null,null,null,null,null,null,null,null,null,null,null,null,{"$f":"FlashCards!AQ1244","v":"4165"},4165,0,0,4165,6996025,{"$f":"FlashCards!AE1244","v":1241},4165]
[null,null,null,null,null,null,null,null,null,null,null,null,null,null,null,null,null,null,null,null,null,null,null,{"$f":"FlashCards!AQ1245","v":"4166"},4166,0,0,4166,7001316,{"$f":"FlashCards!AE1245","v":1242},4166]
[null,null,null,null,null,null,null,null,null,null,null,null,null,null,null,null,null,null,null,null,null,null,null,{"$f":"FlashCards!AQ1246","v":"4169"},4169,0,0,4169,7017201,{"$f":"FlashCards!AE1246","v":1243},4169]
[null,null,null,null,null,null,null,null,null,null,null,null,null,null,null,null,null,null,null,null,null,null,null,{"$f":"FlashCards!AQ1247","v":"1722+4169"},{"$error":"#VALUE!"},5,0,1722,40804,{"$f":"FlashCards!AE1247","v":1244},1722]
[null,null,null,null,null,null,null,null,null,null,null,null,null,null,null,null,null,null,null,null,null,null,null,{"$f":"FlashCards!AQ1248","v":"4171"},4171,0,0,4171,7027801,{"$f":"FlashCards!AE1248","v":1245},4171]
[null,null,null,null,null,null,null,null,null,null,null,null,null,null,null,null,null,null,null,null,null,null,null,{"$f":"FlashCards!AQ1249","v":"4172"},4172,0,0,4172,7033104,{"$f":"FlashCards!AE1249","v":1246},4172]
[null,null,null,null,null,null,null,null,null,null,null,null,null,null,null,null,null,null,null,null,null,null,null,{"$f":"FlashCards!AQ1250","v":"4178"},4178,0,0,4178,7064964,{"$f":"FlashCards!AE1250","v":1247},4178]
[null,null,null,null,null,null,null,null,null,null,null,null,null,null,null,null,null,null,null,null,null,null,null,{"$f":"FlashCards!AQ1251","v":"4190"},4190,0,0,4190,7128900,{"$f":"FlashCards!AE1251","v":1248},4190]
[null,null,null,null,null,null,null,null,null,null,null,null,null,null,null,null,null,null,null,null,null,null,null,{"$f":"FlashCards!AQ1252","v":"4198"},4198,0,0,4198,7171684,{"$f":"FlashCards!AE1252","v":1249},4198]
[null,null,null,null,null,null,null,null,null,null,null,null,null,null,null,null,null,null,null,null,null,null,null,{"$f":"FlashCards!AQ1253","v":"4202"},4202,0,0,4202,7193124,{"$f":"FlashCards!AE1253","v":1250},4202]
[null,null,null,null,null,null,null,null,null,null,null,null,null,null,null,null,null,null,null,null,null,null,null,{"$f":"FlashCards!AQ1254","v":"4204"},4204,0,0,4204,7203856,{"$f":"FlashCards!AE1254","v":1251},4204]
[null,null,null,null,null,null,null,null,null,null,null,null,null,null,null,null,null,null,null,null,null,null,null,{"$f":"FlashCards!AQ1255","v":"4205"},4205,0,0,4205,7209225,{"$f":"FlashCards!AE1255","v":1252},4205]
[null,null,null,null,null,null,null,null,null,null,null,null,null,null,null,null,null,null,null,null,null,null,null,{"$f":"FlashCards!AQ1256","v":"4214"},4214,0,0,4214,7257636,{"$f":"FlashCards!AE1256","v":1253},4214]
[null,null,null,null,null,null,null,null,null,null,null,null,null,null,null,null,null,null,null,null,null,null,null,{"$f":"FlashCards!AQ1257","v":"4215"},4215,0,0,4215,7263025,{"$f":"FlashCards!AE1257","v":1254},4215]
[null,null,null,null,null,null,null,null,null,null,null,null,null,null,null,null,null,null,null,null,null,null,null,{"$f":"FlashCards!AQ1258","v":"4218"},4218,0,0,4218,7279204,{"$f":"FlashCards!AE1258","v":1255},4218]
[null,null,null,null,null,null,null,null,null,null,null,null,null,null,null,null,null,null,null,null,null,null,null,{"$f":"FlashCards!AQ1259","v":"4219"},4219,0,0,4219,7284601,{"$f":"FlashCards!AE1259","v":1256},4219]
[null,null,null,null,null,null,null,null,null,null,null,null,null,null,null,null,null,null,null,null,null,null,null,{"$f":"FlashCards!AQ1260","v":"4221"},4221,0,0,4221,7295401,{"$f":"FlashCards!AE1260","v":1257},4221]
[null,null,null,null,null,null,null,null,null,null,null,null,null,null,null,null,null,null,null,null,null,null,null,{"$f":"FlashCards!AQ1261","v":"4222"},4222,0,0,4222,7300804,{"$f":"FlashCards!AE1261","v":1258},4222]
[null,null,null,null,null,null,null,null,null,null,null,null,null,null,null,null,null,null,null,null,null,null,null,{"$f":"FlashCards!AQ1262","v":"4226"},4226,0,0,4226,7322436,{"$f":"FlashCards!AE1262","v":1259},4226]
[null,null,null,null,null,null,null,null,null,null,null,null,null,null,null,null,null,null,null,null,null,null,null,{"$f":"FlashCards!AQ1263","v":"4228"},4228,0,0,4228,7333264,{"$f":"FlashCards!AE1263","v":1260},4228]
[null,null,null,null,null,null,null,null,null,null,null,null,null,null,null,null,null,null,null,null,null,null,null,{"$f":"FlashCards!AQ1264","v":"4229"},4229,0,0,4229,7338681,{"$f":"FlashCards!AE1264","v":1261},4229]
[null,null,null,null,null,null,null,null,null,null,null,null,null,null,null,null,null,null,null,null,null,null,null,{"$f":"FlashCards!AQ1265","v":"4238"},4238,0,0,4238,7387524,{"$f":"FlashCards!AE1265","v":1262},4238]
[null,null,null,null,null,null,null,null,null,null,null,null,null,null,null,null,null,null,null,null,null,null,null,{"$f":"FlashCards!AQ1266","v":"4240"},4240,0,0,4240,7398400,{"$f":"FlashCards!AE1266","v":1263},4240]
[null,null,null,null,null,null,null,null,null,null,null,null,null,null,null,null,null,null,null,null,null,null,null,{"$f":"FlashCards!AQ1267","v":"4245"},4245,0,0,4245,7425625,{"$f":"FlashCards!AE1267","v":1264},4245]
[null,null,null,null,null,null,null,null,null,null,null,null,null,null,null,null,null,null,null,null,null,null,null,{"$f":"FlashCards!AQ1268","v":"4245"},4245,0,0,4245,7425625,{"$f":"FlashCards!AE1268","v":1265},4245]
[null,null,null,null,null,null,null,null,null,null,null,null,null,null,null,null,null,null,null,null,null,null,null,{"$f":"FlashCards!AQ1269","v":"4250"},4250,0,0,4250,7452900,{"$f":"FlashCards!AE1269","v":1266},4250]
[null,null,null,null,null,null,null,null,null,null,null,null,null,null,null,null,null,null,null,null,null,null,null,{"$f":"FlashCards!AQ1270","v":"4253"},4253,0,0,4253,7469289,{"$f":"FlashCards!AE1270","v":1267},4253]
[null,null,null,null,null,null,null,null,null,null,null,null,null,null,null,null,null,null,null,null,null,null,null,{"$f":"FlashCards!AQ1271","v":"4254"},4254,0,0,4254,7474756,{"$f":"FlashCards!AE1271","v":1268},4254]
[null,null,null,null,null,null,null,null,null,null,null,null,null,null,null,null,null,null,null,null,null,null,null,{"$f":"FlashCards!AQ1272","v":"4263"},4263,0,0,4263,7524049,{"$f":"FlashCards!AE1272","v":1269},4263]
[null,null,null,null,null,null,null,null,null,null,null,null,null,null,null,null,null,null,null,null,null,null,null,{"$f":"FlashCards!AQ1273","v":4273},4273,0,0,4273,7579009,{"$f":"FlashCards!AE1273","v":1270},4273]
[null,null,null,null,null,null,null,null,null,null,null,null,null,null,null,null,null,null,null,null,null,null,null,{"$f":"FlashCards!AQ1274","v":"4286"},4286,0,0,4286,7650756,{"$f":"FlashCards!AE1274","v":1271},4286]
[null,null,null,null,null,null,null,null,null,null,null,null,null,null,null,null,null,null,null,null,null,null,null,{"$f":"FlashCards!AQ1275","v":"4302"},4302,0,0,4302,7739524,{"$f":"FlashCards!AE1275","v":1272},4302]
[null,null,null,null,null,null,null,null,null,null,null,null,null,null,null,null,null,null,null,null,null,null,null,{"$f":"FlashCards!AQ1276","v":"4314"},4314,0,0,4314,7806436,{"$f":"FlashCards!AE1276","v":1273},4314]
[null,null,null,null,null,null,null,null,null,null,null,null,null,null,null,null,null,null,null,null,null,null,null,{"$f":"FlashCards!AQ1277","v":"4327"},4327,0,0,4327,7879249,{"$f":"FlashCards!AE1277","v":1274},4327]
[null,null,null,null,null,null,null,null,null,null,null,null,null,null,null,null,null,null,null,null,null,null,null,{"$f":"FlashCards!AQ1278","v":"4328"},4328,0,0,4328,7884864,{"$f":"FlashCards!AE1278","v":1275},4328]
[null,null,null,null,null,null,null,null,null,null,null,null,null,null,null,null,null,null,null,null,null,null,null,{"$f":"FlashCards!AQ1279","v":"4334"},4334,0,0,4334,7918596,{"$f":"FlashCards!AE1279","v":1276},4334]
[null,null,null,null,null,null,null,null,null,null,null,null,null,null,null,null,null,null,null,null,null,null,null,{"$f":"FlashCards!AQ1280","v":"4335"},4335,0,0,4335,7924225,{"$f":"FlashCards!AE1280","v":1277},4335]
[null,null,null,null,null,null,null,null,null,null,null,null,null,null,null,null,null,null,null,null,null,null,null,{"$f":"FlashCards!AQ1281","v":"4336"},4336,0,0,4336,7929856,{"$f":"FlashCards!AE1281","v":1278},4336]
[null,null,null,null,null,null,null,null,null,null,null,null,null,null,null,null,null,null,null,null,null,null,null,{"$f":"FlashCards!AQ1282","v":"4337"},4337,0,0,4337,7935489,{"$f":"FlashCards!AE1282","v":1279},4337]
[null,null,null,null,null,null,null,null,null,null,null,null,null,null,null,null,null,null,null,null,null,null,null,{"$f":"FlashCards!AQ1283","v":"4341"},4341,0,0,4341,7958041,{"$f":"FlashCards!AE1283","v":1280},4341]
[null,null,null,null,null,null,null,null,null,null,null,null,null,null,null,null,null,null,null,null,null,null,null,{"$f":"FlashCards!AQ1284","v":"4342"},4342,0,0,4342,7963684,{"$f":"FlashCards!AE1284","v":1281},4342]
[null,null,null,null,null,null,null,null,null,null,null,null,null,null,null,null,null,null,null,null,null,null,null,{"$f":"FlashCards!AQ1285","v":"4352"},{"$f":"VALUE(X1284)","v":4352},{"$f":"IF(ISERR(FIND(\"+\",X1284,1)),0,FIND(\"+\",X1284,1))","v":0},{"$f":"IF(ISERR(FIND(\",\",X1284,1)),0,FIND(\",\",X1284,1))","v":0},{"$f":"IF(Z1284>0,VALUE(LEFT(X1284,Z1284-1)),IF(AA1284>0,VALUE(LEFT(X1284,AA1284-1)),IF(ISERR(Y1284),VALUE(LEFT(X1284,LEN(X1284)-1)),Y1284)))","v":4352},{"$f":"(AB1284-U$28)^2","v":8020224},{"$f":"FlashCards!AE1285","v":1282},{"$f":"IF(AB1284=0,10000,AB1284)","v":4352}]
[null,null,null,null,null,null,null,null,null,null,null,null,null,null,null,null,null,null,null,null,null,null,null,{"$f":"FlashCards!AQ1286","v":"4355"},4355,0,0,4355,8037225,{"$f":"FlashCards!AE1286","v":1283},4355]
[null,null,null,null,null,null,null,null,null,null,null,null,null,null,null,null,null,null,null,null,null,null,null,{"$f":"FlashCards!AQ1287","v":"4369"},4369,0,0,4369,8116801,{"$f":"FlashCards!AE1287","v":1284},4369]
[null,null,null,null,null,null,null,null,null,null,null,null,null,null,null,null,null,null,null,null,null,null,null,{"$f":"FlashCards!AQ1288","v":"4374"},4374,0,0,4374,8145316,{"$f":"FlashCards!AE1288","v":1285},4374]
[null,null,null,null,null,null,null,null,null,null,null,null,null,null,null,null,null,null,null,null,null,null,null,{"$f":"FlashCards!AQ1289","v":"4383"},4383,0,0,4383,8196769,{"$f":"FlashCards!AE1289","v":1286},4383]
[null,null,null,null,null,null,null,null,null,null,null,null,null,null,null,null,null,null,null,null,null,null,null,{"$f":"FlashCards!AQ1290","v":"4387"},4387,0,0,4387,8219689,{"$f":"FlashCards!AE1290","v":1287},4387]
[null,null,null,null,null,null,null,null,null,null,null,null,null,null,null,null,null,null,null,null,null,null,null,{"$f":"FlashCards!AQ1291","v":"4394"},4394,0,0,4394,8259876,{"$f":"FlashCards!AE1291","v":1288},4394]
[null,null,null,null,null,null,null,null,null,null,null,null,null,null,null,null,null,null,null,null,null,null,null,{"$f":"FlashCards!AQ1292","v":"4395"},4395,0,0,4395,8265625,{"$f":"FlashCards!AE1292","v":1289},4395]
[null,null,null,null,null,null,null,null,null,null,null,null,null,null,null,null,null,null,null,null,null,null,null,{"$f":"FlashCards!AQ1293","v":"4396"},4396,0,0,4396,8271376,{"$f":"FlashCards!AE1293","v":1290},4396]
[null,null,null,null,null,null,null,null,null,null,null,null,null,null,null,null,null,null,null,null,null,null,null,{"$f":"FlashCards!AQ1294","v":"4404"},4404,0,0,4404,8317456,{"$f":"FlashCards!AE1294","v":1291},4404]
[null,null,null,null,null,null,null,null,null,null,null,null,null,null,null,null,null,null,null,null,null,null,null,{"$f":"FlashCards!AQ1295","v":"4413"},4413,0,0,4413,8369449,{"$f":"FlashCards!AE1295","v":1292},4413]
[null,null,null,null,null,null,null,null,null,null,null,null,null,null,null,null,null,null,null,null,null,null,null,{"$f":"FlashCards!AQ1296","v":"4416"},4416,0,0,4416,8386816,{"$f":"FlashCards!AE1296","v":1293},4416]
[null,null,null,null,null,null,null,null,null,null,null,null,null,null,null,null,null,null,null,null,null,null,null,{"$f":"FlashCards!AQ1297","v":"4434"},4434,0,0,4434,8491396,{"$f":"FlashCards!AE1297","v":1294},4434]
[null,null,null,null,null,null,null,null,null,null,null,null,null,null,null,null,null,null,null,null,null,null,null,{"$f":"FlashCards!AQ1298","v":"4434"},4434,0,0,4434,8491396,{"$f":"FlashCards!AE1298","v":1295},4434]
[null,null,null,null,null,null,null,null,null,null,null,null,null,null,null,null,null,null,null,null,null,null,null,{"$f":"FlashCards!AQ1299","v":"4439"},4439,0,0,4439,8520561,{"$f":"FlashCards!AE1299","v":1296},4439]
[null,null,null,null,null,null,null,null,null,null,null,null,null,null,null,null,null,null,null,null,null,null,null,{"$f":"FlashCards!AQ1300","v":"4440"},4440,0,0,4440,8526400,{"$f":"FlashCards!AE1300","v":1297},4440]
[null,null,null,null,null,null,null,null,null,null,null,null,null,null,null,null,null,null,null,null,null,null,null,{"$f":"FlashCards!AQ1301","v":"4441"},4441,0,0,4441,8532241,{"$f":"FlashCards!AE1301","v":1298},4441]
[null,null,null,null,null,null,null,null,null,null,null,null,null,null,null,null,null,null,null,null,null,null,null,{"$f":"FlashCards!AQ1302","v":"4442"},4442,0,0,4442,8538084,{"$f":"FlashCards!AE1302","v":1299},4442]
[null,null,null,null,null,null,null,null,null,null,null,null,null,null,null,null,null,null,null,null,null,null,null,{"$f":"FlashCards!AQ1303","v":"4453"},4453,0,0,4453,8602489,{"$f":"FlashCards!AE1303","v":1300},4453]
[null,null,null,null,null,null,null,null,null,null,null,null,null,null,null,null,null,null,null,null,null,null,null,{"$f":"FlashCards!AQ1304","v":"4454"},4454,0,0,4454,8608356,{"$f":"FlashCards!AE1304","v":1301},4454]
[null,null,null,null,null,null,null,null,null,null,null,null,null,null,null,null,null,null,null,null,null,null,null,{"$f":"FlashCards!AQ1305","v":"4458"},4458,0,0,4458,8631844,{"$f":"FlashCards!AE1305","v":1302},4458]
[null,null,null,null,null,null,null,null,null,null,null,null,null,null,null,null,null,null,null,null,null,null,null,{"$f":"FlashCards!AQ1306","v":"4459"},4459,0,0,4459,8637721,{"$f":"FlashCards!AE1306","v":1303},4459]
[null,null,null,null,null,null,null,null,null,null,null,null,null,null,null,null,null,null,null,null,null,null,null,{"$f":"FlashCards!AQ1307","v":"4461"},4461,0,0,4461,8649481,{"$f":"FlashCards!AE1307","v":1304},4461]
[null,null,null,null,null,null,null,null,null,null,null,null,null,null,null,null,null,null,null,null,null,null,null,{"$f":"FlashCards!AQ1308","v":"4464"},4464,0,0,4464,8667136,{"$f":"FlashCards!AE1308","v":1305},4464]
[null,null,null,null,null,null,null,null,null,null,null,null,null,null,null,null,null,null,null,null,null,null,null,{"$f":"FlashCards!AQ1309","v":"4486"},4486,0,0,4486,8797156,{"$f":"FlashCards!AE1309","v":1306},4486]
[null,null,null,null,null,null,null,null,null,null,null,null,null,null,null,null,null,null,null,null,null,null,null,{"$f":"FlashCards!AQ1310","v":"4487"},4487,0,0,4487,8803089,{"$f":"FlashCards!AE1310","v":1307},4487]
[null,null,null,null,null,null,null,null,null,null,null,null,null,null,null,null,null,null,null,null,null,null,null,{"$f":"FlashCards!AQ1311","v":"4491"},4491,0,0,4491,8826841,{"$f":"FlashCards!AE1311","v":1308},4491]
[null,null,null,null,null,null,null,null,null,null,null,null,null,null,null,null,null,null,null,null,null,null,null,{"$f":"FlashCards!AQ1312","v":"4506"},4506,0,0,4506,8916196,{"$f":"FlashCards!AE1312","v":1309},4506]
[null,null,null,null,null,null,null,null,null,null,null,null,null,null,null,null,null,null,null,null,null,null,null,{"$f":"FlashCards!AQ1313","v":"4514"},4514,0,0,4514,8964036,{"$f":"FlashCards!AE1313","v":1310},4514]
[null,null,null,null,null,null,null,null,null,null,null,null,null,null,null,null,null,null,null,null,null,null,null,{"$f":"FlashCards!AQ1314","v":"4521"},4521,0,0,4521,9006001,{"$f":"FlashCards!AE1314","v":1311},4521]
[null,null,null,null,null,null,null,null,null,null,null,null,null,null,null,null,null,null,null,null,null,null,null,{"$f":"FlashCards!AQ1315","v":"4523"},4523,0,0,4523,9018009,{"$f":"FlashCards!AE1315","v":1312},4523]
[null,null,null,null,null,null,null,null,null,null,null,null,null,null,null,null,null,null,null,null,null,null,null,{"$f":"FlashCards!AQ1316","v":"4531"},4531,0,0,4531,9066121,{"$f":"FlashCards!AE1316","v":1313},4531]
[null,null,null,null,null,null,null,null,null,null,null,null,null,null,null,null,null,null,null,null,null,null,null,{"$f":"FlashCards!AQ1317","v":"4536"},4536,0,0,4536,9096256,{"$f":"FlashCards!AE1317","v":1314},4536]
[null,null,null,null,null,null,null,null,null,null,null,null,null,null,null,null,null,null,null,null,null,null,null,{"$f":"FlashCards!AQ1318","v":"4537"},4537,0,0,4537,9102289,{"$f":"FlashCards!AE1318","v":1315},4537]
[null,null,null,null,null,null,null,null,null,null,null,null,null,null,null,null,null,null,null,null,null,null,null,{"$f":"FlashCards!AQ1319","v":"4540"},4540,0,0,4540,9120400,{"$f":"FlashCards!AE1319","v":1316},4540]
[null,null,null,null,null,null,null,null,null,null,null,null,null,null,null,null,null,null,null,null,null,null,null,{"$f":"FlashCards!AQ1320","v":"4561"},4561,0,0,4561,9247681,{"$f":"FlashCards!AE1320","v":1317},4561]
[null,null,null,null,null,null,null,null,null,null,null,null,null,null,null,null,null,null,null,null,null,null,null,{"$f":"FlashCards!AQ1321","v":"4567"},4567,0,0,4567,9284209,{"$f":"FlashCards!AE1321","v":1318},4567]
[null,null,null,null,null,null,null,null,null,null,null,null,null,null,null,null,null,null,null,null,null,null,null,{"$f":"FlashCards!AQ1322","v":"4569"},4569,0,0,4569,9296401,{"$f":"FlashCards!AE1322","v":1319},4569]
[null,null,null,null,null,null,null,null,null,null,null,null,null,null,null,null,null,null,null,null,null,null,null,{"$f":"FlashCards!AQ1323","v":"4571"},4571,0,0,4571,9308601,{"$f":"FlashCards!AE1323","v":1320},4571]
[null,null,null,null,null,null,null,null,null,null,null,null,null,null,null,null,null,null,null,null,null,null,null,{"$f":"FlashCards!AQ1324","v":"4571"},4571,0,0,4571,9308601,{"$f":"FlashCards!AE1324","v":1321},4571]
[null,null,null,null,null,null,null,null,null,null,null,null,null,null,null,null,null,null,null,null,null,null,null,{"$f":"FlashCards!AQ1325","v":"4571"},4571,0,0,4571,9308601,{"$f":"FlashCards!AE1325","v":1322},4571]
[null,null,null,null,null,null,null,null,null,null,null,null,null,null,null,null,null,null,null,null,null,null,null,{"$f":"FlashCards!AQ1326","v":"4571"},4571,0,0,4571,9308601,{"$f":"FlashCards!AE1326","v":1323},4571]
[null,null,null,null,null,null,null,null,null,null,null,null,null,null,null,null,null,null,null,null,null,null,null,{"$f":"FlashCards!AQ1327","v":"4571"},4571,0,0,4571,9308601,{"$f":"FlashCards!AE1327","v":1324},4571]
[null,null,null,null,null,null,null,null,null,null,null,null,null,null,null,null,null,null,null,null,null,null,null,{"$f":"FlashCards!AQ1328","v":"4572"},4572,0,0,4572,9314704,{"$f":"FlashCards!AE1328","v":1325},4572]
[null,null,null,null,null,null,null,null,null,null,null,null,null,null,null,null,null,null,null,null,null,null,null,{"$f":"FlashCards!AQ1329","v":"4576"},4576,0,0,4576,9339136,{"$f":"FlashCards!AE1329","v":1326},4576]
[null,null,null,null,null,null,null,null,null,null,null,null,null,null,null,null,null,null,null,null,null,null,null,{"$f":"FlashCards!AQ1330","v":"4578"},4578,0,0,4578,9351364,{"$f":"FlashCards!AE1330","v":1327},4578]
[null,null,null,null,null,null,null,null,null,null,null,null,null,null,null,null,null,null,null,null,null,null,null,{"$f":"FlashCards!AQ1331","v":"4592"},4592,0,0,4592,9437184,{"$f":"FlashCards!AE1331","v":1328},4592]
[null,null,null,null,null,null,null,null,null,null,null,null,null,null,null,null,null,null,null,null,null,null,null,{"$f":"FlashCards!AQ1332","v":"4594"},4594,0,0,4594,9449476,{"$f":"FlashCards!AE1332","v":1329},4594]
[null,null,null,null,null,null,null,null,null,null,null,null,null,null,null,null,null,null,null,null,null,null,null,{"$f":"FlashCards!AQ1333","v":"4601"},4601,0,0,4601,9492561,{"$f":"FlashCards!AE1333","v":1330},4601]
[null,null,null,null,null,null,null,null,null,null,null,null,null,null,null,null,null,null,null,null,null,null,null,{"$f":"FlashCards!AQ1334","v":"4609"},4609,0,0,4609,9541921,{"$f":"FlashCards!AE1334","v":1331},4609]
[null,null,null,null,null,null,null,null,null,null,null,null,null,null,null,null,null,null,null,null,null,null,null,{"$f":"FlashCards!AQ1335","v":"4613"},4613,0,0,4613,9566649,{"$f":"FlashCards!AE1335","v":1332},4613]
[null,null,null,null,null,null,null,null,null,null,null,null,null,null,null,null,null,null,null,null,null,null,null,{"$f":"FlashCards!AQ1336","v":"4621"},4621,0,0,4621,9616201,{"$f":"FlashCards!AE1336","v":1333},4621]
[null,null,null,null,null,null,null,null,null,null,null,null,null,null,null,null,null,null,null,null,null,null,null,{"$f":"FlashCards!AQ1337","v":"4623"},4623,0,0,4623,9628609,{"$f":"FlashCards!AE1337","v":1334},4623]
[null,null,null,null,null,null,null,null,null,null,null,null,null,null,null,null,null,null,null,null,null,null,null,{"$f":"FlashCards!AQ1338","v":"4624"},4624,0,0,4624,9634816,{"$f":"FlashCards!AE1338","v":1335},4624]
[null,null,null,null,null,null,null,null,null,null,null,null,null,null,null,null,null,null,null,null,null,null,null,{"$f":"FlashCards!AQ1339","v":"4625"},4625,0,0,4625,9641025,{"$f":"FlashCards!AE1339","v":1336},4625]
[null,null,null,null,null,null,null,null,null,null,null,null,null,null,null,null,null,null,null,null,null,null,null,{"$f":"FlashCards!AQ1340","v":"4632"},4632,0,0,4632,9684544,{"$f":"FlashCards!AE1340","v":1337},4632]
[null,null,null,null,null,null,null,null,null,null,null,null,null,null,null,null,null,null,null,null,null,null,null,{"$f":"FlashCards!AQ1341","v":"4633"},4633,0,0,4633,9690769,{"$f":"FlashCards!AE1341","v":1338},4633]
[null,null,null,null,null,null,null,null,null,null,null,null,null,null,null,null,null,null,null,null,null,null,null,{"$f":"FlashCards!AQ1342","v":4640},4640,0,0,4640,9734400,{"$f":"FlashCards!AE1342","v":1339},4640]
[null,null,null,null,null,null,null,null,null,null,null,null,null,null,null,null,null,null,null,null,null,null,null,{"$f":"FlashCards!AQ1343","v":"4653"},4653,0,0,4653,9815689,{"$f":"FlashCards!AE1343","v":1340},4653]
[null,null,null,null,null,null,null,null,null,null,null,null,null,null,null,null,null,null,null,null,null,null,null,{"$f":"FlashCards!AQ1344","v":"4655"},4655,0,0,4655,9828225,{"$f":"FlashCards!AE1344","v":1341},4655]
[null,null,null,null,null,null,null,null,null,null,null,null,null,null,null,null,null,null,null,null,null,null,null,{"$f":"FlashCards!AQ1345","v":"4671"},4671,0,0,4671,9928801,{"$f":"FlashCards!AE1345","v":1342},4671]
[null,null,null,null,null,null,null,null,null,null,null,null,null,null,null,null,null,null,null,null,null,null,null,{"$f":"FlashCards!AQ1346","v":"4672"},4672,0,0,4672,9935104,{"$f":"FlashCards!AE1346","v":1343},4672]
[null,null,null,null,null,null,null,null,null,null,null,null,null,null,null,null,null,null,null,null,null,null,null,{"$f":"FlashCards!AQ1347","v":"4674"},4674,0,0,4674,9947716,{"$f":"FlashCards!AE1347","v":1344},4674]
[null,null,null,null,null,null,null,null,null,null,null,null,null,null,null,null,null,null,null,null,null,null,null,{"$f":"FlashCards!AQ1348","v":"4674"},4674,0,0,4674,9947716,{"$f":"FlashCards!AE1348","v":1345},4674]
[null,null,null,null,null,null,null,null,null,null,null,null,null,null,null,null,null,null,null,null,null,null,null,{"$f":"FlashCards!AQ1349","v":"4674"},{"$f":"VALUE(X1348)","v":4674},{"$f":"IF(ISERR(FIND(\"+\",X1348,1)),0,FIND(\"+\",X1348,1))","v":0},{"$f":"IF(ISERR(FIND(\",\",X1348,1)),0,FIND(\",\",X1348,1))","v":0},{"$f":"IF(Z1348>0,VALUE(LEFT(X1348,Z1348-1)),IF(AA1348>0,VALUE(LEFT(X1348,AA1348-1)),IF(ISERR(Y1348),VALUE(LEFT(X1348,LEN(X1348)-1)),Y1348)))","v":4674},{"$f":"(AB1348-U$28)^2","v":9947716},{"$f":"FlashCards!AE1349","v":1346},{"$f":"IF(AB1348=0,10000,AB1348)","v":4674}]
[null,null,null,null,null,null,null,null,null,null,null,null,null,null,null,null,null,null,null,null,null,null,null,{"$f":"FlashCards!AQ1350","v":"4674"},4674,0,0,4674,9947716,{"$f":"FlashCards!AE1350","v":1347},4674]
[null,null,null,null,null,null,null,null,null,null,null,null,null,null,null,null,null,null,null,null,null,null,null,{"$f":"FlashCards!AQ1351","v":"4678"},4678,0,0,4678,9972964,{"$f":"FlashCards!AE1351","v":1348},4678]
[null,null,null,null,null,null,null,null,null,null,null,null,null,null,null,null,null,null,null,null,null,null,null,{"$f":"FlashCards!AQ1352","v":"4680"},4680,0,0,4680,9985600,{"$f":"FlashCards!AE1352","v":1349},4680]
[null,null,null,null,null,null,null,null,null,null,null,null,null,null,null,null,null,null,null,null,null,null,null,{"$f":"FlashCards!AQ1353","v":"4687"},4687,0,0,4687,10029889,{"$f":"FlashCards!AE1353","v":1350},4687]
[null,null,null,null,null,null,null,null,null,null,null,null,null,null,null,null,null,null,null,null,null,null,null,{"$f":"FlashCards!AQ1354","v":"4690"},4690,0,0,4690,10048900,{"$f":"FlashCards!AE1354","v":1351},4690]
[null,null,null,null,null,null,null,null,null,null,null,null,null,null,null,null,null,null,null,null,null,null,null,{"$f":"FlashCards!AQ1355","v":"4697"},4697,0,0,4697,10093329,{"$f":"FlashCards!AE1355","v":1352},4697]
[null,null,null,null,null,null,null,null,null,null,null,null,null,null,null,null,null,null,null,null,null,null,null,{"$f":"FlashCards!AQ1356","v":"4698"},4698,0,0,4698,10099684,{"$f":"FlashCards!AE1356","v":1353},4698]
[null,null,null,null,null,null,null,null,null,null,null,null,null,null,null,null,null,null,null,null,null,null,null,{"$f":"FlashCards!AQ1357","v":"4704"},4704,0,0,4704,10137856,{"$f":"FlashCards!AE1357","v":1354},4704]
[null,null,null,null,null,null,null,null,null,null,null,null,null,null,null,null,null,null,null,null,null,null,null,{"$f":"FlashCards!AQ1358","v":"4710"},4710,0,0,4710,10176100,{"$f":"FlashCards!AE1358","v":1355},4710]
[null,null,null,null,null,null,null,null,null,null,null,null,null,null,null,null,null,null,null,null,null,null,null,{"$f":"FlashCards!AQ1359","v":"4716"},4716,0,0,4716,10214416,{"$f":"FlashCards!AE1359","v":1356},4716]
[null,null,null,null,null,null,null,null,null,null,null,null,null,null,null,null,null,null,null,null,null,null,null,{"$f":"FlashCards!AQ1360","v":"4717"},4717,0,0,4717,10220809,{"$f":"FlashCards!AE1360","v":1357},4717]
[null,null,null,null,null,null,null,null,null,null,null,null,null,null,null,null,null,null,null,null,null,null,null,{"$f":"FlashCards!AQ1361","v":"4719"},4719,0,0,4719,10233601,{"$f":"FlashCards!AE1361","v":1358},4719]
[null,null,null,null,null,null,null,null,null,null,null,null,null,null,null,null,null,null,null,null,null,null,null,{"$f":"FlashCards!AQ1362","v":"4735"},4735,0,0,4735,10336225,{"$f":"FlashCards!AE1362","v":1359},4735]
[null,null,null,null,null,null,null,null,null,null,null,null,null,null,null,null,null,null,null,null,null,null,null,{"$f":"FlashCards!AQ1363","v":"4739"},4739,0,0,4739,10361961,{"$f":"FlashCards!AE1363","v":1360},4739]
[null,null,null,null,null,null,null,null,null,null,null,null,null,null,null,null,null,null,null,null,null,null,null,{"$f":"FlashCards!AQ1364","v":"4741"},4741,0,0,4741,10374841,{"$f":"FlashCards!AE1364","v":1361},4741]
[null,null,null,null,null,null,null,null,null,null,null,null,null,null,null,null,null,null,null,null,null,null,null,{"$f":"FlashCards!AQ1365","v":"4750"},4750,0,0,4750,10432900,{"$f":"FlashCards!AE1365","v":1362},4750]
[null,null,null,null,null,null,null,null,null,null,null,null,null,null,null,null,null,null,null,null,null,null,null,{"$f":"FlashCards!AQ1366","v":"4755"},4755,0,0,4755,10465225,{"$f":"FlashCards!AE1366","v":1363},4755]
[null,null,null,null,null,null,null,null,null,null,null,null,null,null,null,null,null,null,null,null,null,null,null,{"$f":"FlashCards!AQ1367","v":"4757"},4757,0,0,4757,10478169,{"$f":"FlashCards!AE1367","v":1364},4757]
[null,null,null,null,null,null,null,null,null,null,null,null,null,null,null,null,null,null,null,null,null,null,null,{"$f":"FlashCards!AQ1368","v":"4762"},4762,0,0,4762,10510564,{"$f":"FlashCards!AE1368","v":1365},4762]
[null,null,null,null,null,null,null,null,null,null,null,null,null,null,null,null,null,null,null,null,null,null,null,{"$f":"FlashCards!AQ1369","v":"4771"},4771,0,0,4771,10569001,{"$f":"FlashCards!AE1369","v":1366},4771]
[null,null,null,null,null,null,null,null,null,null,null,null,null,null,null,null,null,null,null,null,null,null,null,{"$f":"FlashCards!AQ1370","v":"4771"},4771,0,0,4771,10569001,{"$f":"FlashCards!AE1370","v":1367},4771]
[null,null,null,null,null,null,null,null,null,null,null,null,null,null,null,null,null,null,null,null,null,null,null,{"$f":"FlashCards!AQ1371","v":"4773"},4773,0,0,4773,10582009,{"$f":"FlashCards!AE1371","v":1368},4773]
[null,null,null,null,null,null,null,null,null,null,null,null,null,null,null,null,null,null,null,null,null,null,null,{"$f":"FlashCards!AQ1372","v":"4773"},4773,0,0,4773,10582009,{"$f":"FlashCards!AE1372","v":1369},4773]
[null,null,null,null,null,null,null,null,null,null,null,null,null,null,null,null,null,null,null,null,null,null,null,{"$f":"FlashCards!AQ1373","v":"4773"},4773,0,0,4773,10582009,{"$f":"FlashCards!AE1373","v":1370},4773]
[null,null,null,null,null,null,null,null,null,null,null,null,null,null,null,null,null,null,null,null,null,null,null,{"$f":"FlashCards!AQ1374","v":"4802"},4802,0,0,4802,10771524,{"$f":"FlashCards!AE1374","v":1371},4802]
[null,null,null,null,null,null,null,null,null,null,null,null,null,null,null,null,null,null,null,null,null,null,null,{"$f":"FlashCards!AQ1375","v":"4808"},4808,0,0,4808,10810944,{"$f":"FlashCards!AE1375","v":1372},4808]
[null,null,null,null,null,null,null,null,null,null,null,null,null,null,null,null,null,null,null,null,null,null,null,{"$f":"FlashCards!AQ1376","v":"4815"},4815,0,0,4815,10857025,{"$f":"FlashCards!AE1376","v":1373},4815]
[null,null,null,null,null,null,null,null,null,null,null,null,null,null,null,null,null,null,null,null,null,null,null,{"$f":"FlashCards!AQ1377","v":"4819"},4819,0,0,4819,10883401,{"$f":"FlashCards!AE1377","v":1374},4819]
[null,null,null,null,null,null,null,null,null,null,null,null,null,null,null,null,null,null,null,null,null,null,null,{"$f":"FlashCards!AQ1378","v":"4846"},4846,0,0,4846,11062276,{"$f":"FlashCards!AE1378","v":1375},4846]
[null,null,null,null,null,null,null,null,null,null,null,null,null,null,null,null,null,null,null,null,null,null,null,{"$f":"FlashCards!AQ1379","v":"4851"},4851,0,0,4851,11095561,{"$f":"FlashCards!AE1379","v":1376},4851]
[null,null,null,null,null,null,null,null,null,null,null,null,null,null,null,null,null,null,null,null,null,null,null,{"$f":"FlashCards!AQ1380","v":"4856"},4856,0,0,4856,11128896,{"$f":"FlashCards!AE1380","v":1377},4856]
[null,null,null,null,null,null,null,null,null,null,null,null,null,null,null,null,null,null,null,null,null,null,null,{"$f":"FlashCards!AQ1381","v":"4862"},4862,0,0,4862,11168964,{"$f":"FlashCards!AE1381","v":1378},4862]
[null,null,null,null,null,null,null,null,null,null,null,null,null,null,null,null,null,null,null,null,null,null,null,{"$f":"FlashCards!AQ1382","v":"4863"},4863,0,0,4863,11175649,{"$f":"FlashCards!AE1382","v":1379},4863]
[null,null,null,null,null,null,null,null,null,null,null,null,null,null,null,null,null,null,null,null,null,null,null,{"$f":"FlashCards!AQ1383","v":"4864"},4864,0,0,4864,11182336,{"$f":"FlashCards!AE1383","v":1380},4864]
[null,null,null,null,null,null,null,null,null,null,null,null,null,null,null,null,null,null,null,null,null,null,null,{"$f":"FlashCards!AQ1384","v":"4871"},4871,0,0,4871,11229201,{"$f":"FlashCards!AE1384","v":1381},4871]
[null,null,null,null,null,null,null,null,null,null,null,null,null,null,null,null,null,null,null,null,null,null,null,{"$f":"FlashCards!AQ1385","v":"4889"},4889,0,0,4889,11350161,{"$f":"FlashCards!AE1385","v":1382},4889]
[null,null,null,null,null,null,null,null,null,null,null,null,null,null,null,null,null,null,null,null,null,null,null,{"$f":"FlashCards!AQ1386","v":"4892"},4892,0,0,4892,11370384,{"$f":"FlashCards!AE1386","v":1383},4892]
[null,null,null,null,null,null,null,null,null,null,null,null,null,null,null,null,null,null,null,null,null,null,null,{"$f":"FlashCards!AQ1387","v":"4893"},4893,0,0,4893,11377129,{"$f":"FlashCards!AE1387","v":1384},4893]
[null,null,null,null,null,null,null,null,null,null,null,null,null,null,null,null,null,null,null,null,null,null,null,{"$f":"FlashCards!AQ1388","v":"4896"},4896,0,0,4896,11397376,{"$f":"FlashCards!AE1388","v":1385},4896]
[null,null,null,null,null,null,null,null,null,null,null,null,null,null,null,null,null,null,null,null,null,null,null,{"$f":"FlashCards!AQ1389","v":"4904"},4904,0,0,4904,11451456,{"$f":"FlashCards!AE1389","v":1386},4904]
[null,null,null,null,null,null,null,null,null,null,null,null,null,null,null,null,null,null,null,null,null,null,null,{"$f":"FlashCards!AQ1390","v":"4905"},4905,0,0,4905,11458225,{"$f":"FlashCards!AE1390","v":1387},4905]
[null,null,null,null,null,null,null,null,null,null,null,null,null,null,null,null,null,null,null,null,null,null,null,{"$f":"FlashCards!AQ1391","v":"4912"},4912,0,0,4912,11505664,{"$f":"FlashCards!AE1391","v":1388},4912]
[null,null,null,null,null,null,null,null,null,null,null,null,null,null,null,null,null,null,null,null,null,null,null,{"$f":"FlashCards!AQ1392","v":"4920"},4920,0,0,4920,11560000,{"$f":"FlashCards!AE1392","v":1389},4920]
[null,null,null,null,null,null,null,null,null,null,null,null,null,null,null,null,null,null,null,null,null,null,null,{"$f":"FlashCards!AQ1393","v":"4921"},4921,0,0,4921,11566801,{"$f":"FlashCards!AE1393","v":1390},4921]
[null,null,null,null,null,null,null,null,null,null,null,null,null,null,null,null,null,null,null,null,null,null,null,{"$f":"FlashCards!AQ1394","v":"4940"},4940,0,0,4940,11696400,{"$f":"FlashCards!AE1394","v":1391},4940]
[null,null,null,null,null,null,null,null,null,null,null,null,null,null,null,null,null,null,null,null,null,null,null,{"$f":"FlashCards!AQ1395","v":"4969"},4969,0,0,4969,11895601,{"$f":"FlashCards!AE1395","v":1392},4969]
[null,null,null,null,null,null,null,null,null,null,null,null,null,null,null,null,null,null,null,null,null,null,null,{"$f":"FlashCards!AQ1396","v":"4970"},4970,0,0,4970,11902500,{"$f":"FlashCards!AE1396","v":1393},4970]
[null,null,null,null,null,null,null,null,null,null,null,null,null,null,null,null,null,null,null,null,null,null,null,{"$f":"FlashCards!AQ1397","v":"4972"},4972,0,0,4972,11916304,{"$f":"FlashCards!AE1397","v":1394},4972]
[null,null,null,null,null,null,null,null,null,null,null,null,null,null,null,null,null,null,null,null,null,null,null,{"$f":"FlashCards!AQ1398","v":"4973"},4973,0,0,4973,11923209,{"$f":"FlashCards!AE1398","v":1395},4973]
[null,null,null,null,null,null,null,null,null,null,null,null,null,null,null,null,null,null,null,null,null,null,null,{"$f":"FlashCards!AQ1399","v":"4977"},4977,0,0,4977,11950849,{"$f":"FlashCards!AE1399","v":1396},4977]
[null,null,null,null,null,null,null,null,null,null,null,null,null,null,null,null,null,null,null,null,null,null,null,{"$f":"FlashCards!AQ1400","v":"4982"},4982,0,0,4982,11985444,{"$f":"FlashCards!AE1400","v":1397},4982]
[null,null,null,null,null,null,null,null,null,null,null,null,null,null,null,null,null,null,null,null,null,null,null,{"$f":"FlashCards!AQ1401","v":"4982"},4982,0,0,4982,11985444,{"$f":"FlashCards!AE1401","v":1398},4982]
[null,null,null,null,null,null,null,null,null,null,null,null,null,null,null,null,null,null,null,null,null,null,null,{"$f":"FlashCards!AQ1402","v":"4983"},4983,0,0,4983,11992369,{"$f":"FlashCards!AE1402","v":1399},4983]
[null,null,null,null,null,null,null,null,null,null,null,null,null,null,null,null,null,null,null,null,null,null,null,{"$f":"FlashCards!AQ1403","v":"4990"},4990,0,0,4990,12040900,{"$f":"FlashCards!AE1403","v":1400},4990]
[null,null,null,null,null,null,null,null,null,null,null,null,null,null,null,null,null,null,null,null,null,null,null,{"$f":"FlashCards!AQ1404","v":"4991"},4991,0,0,4991,12047841,{"$f":"FlashCards!AE1404","v":1401},4991]
[null,null,null,null,null,null,null,null,null,null,null,null,null,null,null,null,null,null,null,null,null,null,null,{"$f":"FlashCards!AQ1405","v":"5007"},5007,0,0,5007,12159169,{"$f":"FlashCards!AE1405","v":1402},5007]
[null,null,null,null,null,null,null,null,null,null,null,null,null,null,null,null,null,null,null,null,null,null,null,{"$f":"FlashCards!AQ1406","v":"5013"},5013,0,0,5013,12201049,{"$f":"FlashCards!AE1406","v":1403},5013]
[null,null,null,null,null,null,null,null,null,null,null,null,null,null,null,null,null,null,null,null,null,null,null,{"$f":"FlashCards!AQ1407","v":"5015"},5015,0,0,5015,12215025,{"$f":"FlashCards!AE1407","v":1404},5015]
[null,null,null,null,null,null,null,null,null,null,null,null,null,null,null,null,null,null,null,null,null,null,null,{"$f":"FlashCards!AQ1408","v":"5023"},5023,0,0,5023,12271009,{"$f":"FlashCards!AE1408","v":1405},5023]
[null,null,null,null,null,null,null,null,null,null,null,null,null,null,null,null,null,null,null,null,null,null,null,{"$f":"FlashCards!AQ1409","v":"5025"},5025,0,0,5025,12285025,{"$f":"FlashCards!AE1409","v":1406},5025]
[null,null,null,null,null,null,null,null,null,null,null,null,null,null,null,null,null,null,null,null,null,null,null,{"$f":"FlashCards!AQ1410","v":"5026"},5026,0,0,5026,12292036,{"$f":"FlashCards!AE1410","v":1407},5026]
[null,null,null,null,null,null,null,null,null,null,null,null,null,null,null,null,null,null,null,null,null,null,null,{"$f":"FlashCards!AQ1411","v":"5030"},5030,0,0,5030,12320100,{"$f":"FlashCards!AE1411","v":1408},5030]
[null,null,null,null,null,null,null,null,null,null,null,null,null,null,null,null,null,null,null,null,null,null,null,{"$f":"FlashCards!AQ1412","v":"5036"},5036,0,0,5036,12362256,{"$f":"FlashCards!AE1412","v":1409},5036]
[null,null,null,null,null,null,null,null,null,null,null,null,null,null,null,null,null,null,null,null,null,null,null,{"$f":"FlashCards!AQ1413","v":"5037"},{"$f":"VALUE(X1412)","v":5037},{"$f":"IF(ISERR(FIND(\"+\",X1412,1)),0,FIND(\"+\",X1412,1))","v":0},{"$f":"IF(ISERR(FIND(\",\",X1412,1)),0,FIND(\",\",X1412,1))","v":0},{"$f":"IF(Z1412>0,VALUE(LEFT(X1412,Z1412-1)),IF(AA1412>0,VALUE(LEFT(X1412,AA1412-1)),IF(ISERR(Y1412),VALUE(LEFT(X1412,LEN(X1412)-1)),Y1412)))","v":5037},{"$f":"(AB1412-U$28)^2","v":12369289},{"$f":"FlashCards!AE1413","v":1410},{"$f":"IF(AB1412=0,10000,AB1412)","v":5037}]
[null,null,null,null,null,null,null,null,null,null,null,null,null,null,null,null,null,null,null,null,null,null,null,{"$f":"FlashCards!AQ1414","v":"5037+2532"},{"$error":"#VALUE!"},5,0,5037,12369289,{"$f":"FlashCards!AE1414","v":1411},5037]
[null,null,null,null,null,null,null,null,null,null,null,null,null,null,null,null,null,null,null,null,null,null,null,{"$f":"FlashCards!AQ1415","v":"5039"},5039,0,0,5039,12383361,{"$f":"FlashCards!AE1415","v":1412},5039]
[null,null,null,null,null,null,null,null,null,null,null,null,null,null,null,null,null,null,null,null,null,null,null,{"$f":"FlashCards!AQ1416","v":"5040"},5040,0,0,5040,12390400,{"$f":"FlashCards!AE1416","v":1413},5040]
[null,null,null,null,null,null,null,null,null,null,null,null,null,null,null,null,null,null,null,null,null,null,null,{"$f":"FlashCards!AQ1417","v":"5043"},5043,0,0,5043,12411529,{"$f":"FlashCards!AE1417","v":1414},5043]
[null,null,null,null,null,null,null,null,null,null,null,null,null,null,null,null,null,null,null,null,null,null,null,{"$f":"FlashCards!AQ1418","v":"5046"},5046,0,0,5046,12432676,{"$f":"FlashCards!AE1418","v":1415},5046]
[null,null,null,null,null,null,null,null,null,null,null,null,null,null,null,null,null,null,null,null,null,null,null,{"$f":"FlashCards!AQ1419","v":"5048"},5048,0,0,5048,12446784,{"$f":"FlashCards!AE1419","v":1416},5048]
[null,null,null,null,null,null,null,null,null,null,null,null,null,null,null,null,null,null,null,null,null,null,null,{"$f":"FlashCards!AQ1420","v":"5052"},5052,0,0,5052,12475024,{"$f":"FlashCards!AE1420","v":1417},5052]
[null,null,null,null,null,null,null,null,null,null,null,null,null,null,null,null,null,null,null,null,null,null,null,{"$f":"FlashCards!AQ1421","v":"5053"},5053,0,0,5053,12482089,{"$f":"FlashCards!AE1421","v":1418},5053]
[null,null,null,null,null,null,null,null,null,null,null,null,null,null,null,null,null,null,null,null,null,null,null,{"$f":"FlashCards!AQ1422","v":"5055"},5055,0,0,5055,12496225,{"$f":"FlashCards!AE1422","v":1419},5055]
[null,null,null,null,null,null,null,null,null,null,null,null,null,null,null,null,null,null,null,null,null,null,null,{"$f":"FlashCards!AQ1423","v":"5056"},5056,0,0,5056,12503296,{"$f":"FlashCards!AE1423","v":1420},5056]
[null,null,null,null,null,null,null,null,null,null,null,null,null,null,null,null,null,null,null,null,null,null,null,{"$f":"FlashCards!AQ1424","v":"5057"},5057,0,0,5057,12510369,{"$f":"FlashCards!AE1424","v":1421},5057]
[null,null,null,null,null,null,null,null,null,null,null,null,null,null,null,null,null,null,null,null,null,null,null,{"$f":"FlashCards!AQ1425","v":"5059"},5059,0,0,5059,12524521,{"$f":"FlashCards!AE1425","v":1422},5059]
[null,null,null,null,null,null,null,null,null,null,null,null,null,null,null,null,null,null,null,null,null,null,null,{"$f":"FlashCards!AQ1426","v":"5062"},5062,0,0,5062,12545764,{"$f":"FlashCards!AE1426","v":1423},5062]
[null,null,null,null,null,null,null,null,null,null,null,null,null,null,null,null,null,null,null,null,null,null,null,{"$f":"FlashCards!AQ1427","v":"5064"},5064,0,0,5064,12559936,{"$f":"FlashCards!AE1427","v":1424},5064]
[null,null,null,null,null,null,null,null,null,null,null,null,null,null,null,null,null,null,null,null,null,null,null,{"$f":"FlashCards!AQ1428","v":"5067"},5067,0,0,5067,12581209,{"$f":"FlashCards!AE1428","v":1425},5067]
[null,null,null,null,null,null,null,null,null,null,null,null,null,null,null,null,null,null,null,null,null,null,null,{"$f":"FlashCards!AQ1429","v":"5083"},5083,0,0,5083,12694969,{"$f":"FlashCards!AE1429","v":1426},5083]
[null,null,null,null,null,null,null,null,null,null,null,null,null,null,null,null,null,null,null,null,null,null,null,{"$f":"FlashCards!AQ1430","v":"5087"},5087,0,0,5087,12723489,{"$f":"FlashCards!AE1430","v":1427},5087]
[null,null,null,null,null,null,null,null,null,null,null,null,null,null,null,null,null,null,null,null,null,null,null,{"$f":"FlashCards!AQ1431","v":"5088"},5088,0,0,5088,12730624,{"$f":"FlashCards!AE1431","v":1428},5088]
[null,null,null,null,null,null,null,null,null,null,null,null,null,null,null,null,null,null,null,null,null,null,null,{"$f":"FlashCards!AQ1432","v":"5091"},5091,0,0,5091,12752041,{"$f":"FlashCards!AE1432","v":1429},5091]
[null,null,null,null,null,null,null,null,null,null,null,null,null,null,null,null,null,null,null,null,null,null,null,{"$f":"FlashCards!AQ1433","v":"5092"},5092,0,0,5092,12759184,{"$f":"FlashCards!AE1433","v":1430},5092]
[null,null,null,null,null,null,null,null,null,null,null,null,null,null,null,null,null,null,null,null,null,null,null,{"$f":"FlashCards!AQ1434","v":"5093"},5093,0,0,5093,12766329,{"$f":"FlashCards!AE1434","v":1431},5093]
[null,null,null,null,null,null,null,null,null,null,null,null,null,null,null,null,null,null,null,null,null,null,null,{"$f":"FlashCards!AQ1435","v":"5095"},5095,0,0,5095,12780625,{"$f":"FlashCards!AE1435","v":1432},5095]
[null,null,null,null,null,null,null,null,null,null,null,null,null,null,null,null,null,null,null,null,null,null,null,{"$f":"FlashCards!AQ1436","v":"5100"},5100,0,0,5100,12816400,{"$f":"FlashCards!AE1436","v":1433},5100]
[null,null,null,null,null,null,null,null,null,null,null,null,null,null,null,null,null,null,null,null,null,null,null,{"$f":"FlashCards!AQ1437","v":"5100"},5100,0,0,5100,12816400,{"$f":"FlashCards!AE1437","v":1434},5100]
[null,null,null,null,null,null,null,null,null,null,null,null,null,null,null,null,null,null,null,null,null,null,null,{"$f":"FlashCards!AQ1438","v":"5100"},5100,0,0,5100,12816400,{"$f":"FlashCards!AE1438","v":1435},5100]
[null,null,null,null,null,null,null,null,null,null,null,null,null,null,null,null,null,null,null,null,null,null,null,{"$f":"FlashCards!AQ1439","v":"5100"},5100,0,0,5100,12816400,{"$f":"FlashCards!AE1439","v":1436},5100]
[null,null,null,null,null,null,null,null,null,null,null,null,null,null,null,null,null,null,null,null,null,null,null,{"$f":"FlashCards!AQ1440","v":"5100"},5100,0,0,5100,12816400,{"$f":"FlashCards!AE1440","v":1437},5100]
[null,null,null,null,null,null,null,null,null,null,null,null,null,null,null,null,null,null,null,null,null,null,null,{"$f":"FlashCards!AQ1441","v":"5100"},5100,0,0,5100,12816400,{"$f":"FlashCards!AE1441","v":1438},5100]
[null,null,null,null,null,null,null,null,null,null,null,null,null,null,null,null,null,null,null,null,null,null,null,{"$f":"FlashCards!AQ1442","v":"5100"},5100,0,0,5100,12816400,{"$f":"FlashCards!AE1442","v":1439},5100]
[null,null,null,null,null,null,null,null,null,null,null,null,null,null,null,null,null,null,null,null,null,null,null,{"$f":"FlashCards!AQ1443","v":"5100"},5100,0,0,5100,12816400,{"$f":"FlashCards!AE1443","v":1440},5100]
[null,null,null,null,null,null,null,null,null,null,null,null,null,null,null,null,null,null,null,null,null,null,null,{"$f":"FlashCards!AQ1444","v":"5100"},5100,0,0,5100,12816400,{"$f":"FlashCards!AE1444","v":1441},5100]
[null,null,null,null,null,null,null,null,null,null,null,null,null,null,null,null,null,null,null,null,null,null,null,{"$f":"FlashCards!AQ1445","v":"5101"},5101,0,0,5101,12823561,{"$f":"FlashCards!AE1445","v":1442},5101]
[null,null,null,null,null,null,null,null,null,null,null,null,null,null,null,null,null,null,null,null,null,null,null,{"$f":"FlashCards!AQ1446","v":"5101"},5101,0,0,5101,12823561,{"$f":"FlashCards!AE1446","v":1443},5101]
[null,null,null,null,null,null,null,null,null,null,null,null,null,null,null,null,null,null,null,null,null,null,null,{"$f":"FlashCards!AQ1447","v":"5101"},5101,0,0,5101,12823561,{"$f":"FlashCards!AE1447","v":1444},5101]
[null,null,null,null,null,null,null,null,null,null,null,null,null,null,null,null,null,null,null,null,null,null,null,{"$f":"FlashCards!AQ1448","v":"5101"},5101,0,0,5101,12823561,{"$f":"FlashCards!AE1448","v":1445},5101]
[null,null,null,null,null,null,null,null,null,null,null,null,null,null,null,null,null,null,null,null,null,null,null,{"$f":"FlashCards!AQ1449","v":"5100"},5100,0,0,5100,12816400,{"$f":"FlashCards!AE1449","v":1446},5100]
[null,null,null,null,null,null,null,null,null,null,null,null,null,null,null,null,null,null,null,null,null,null,null,{"$f":"FlashCards!AQ1450","v":"5101"},5101,0,0,5101,12823561,{"$f":"FlashCards!AE1450","v":1447},5101]
[null,null,null,null,null,null,null,null,null,null,null,null,null,null,null,null,null,null,null,null,null,null,null,{"$f":"FlashCards!AQ1451","v":"5101"},5101,0,0,5101,12823561,{"$f":"FlashCards!AE1451","v":1448},5101]
[null,null,null,null,null,null,null,null,null,null,null,null,null,null,null,null,null,null,null,null,null,null,null,{"$f":"FlashCards!AQ1452","v":"5101"},5101,0,0,5101,12823561,{"$f":"FlashCards!AE1452","v":1449},5101]
[null,null,null,null,null,null,null,null,null,null,null,null,null,null,null,null,null,null,null,null,null,null,null,{"$f":"FlashCards!AQ1453","v":"5101"},5101,0,0,5101,12823561,{"$f":"FlashCards!AE1453","v":1450},5101]
[null,null,null,null,null,null,null,null,null,null,null,null,null,null,null,null,null,null,null,null,null,null,null,{"$f":"FlashCards!AQ1454","v":"5103"},5103,0,0,5103,12837889,{"$f":"FlashCards!AE1454","v":1451},5103]
[null,null,null,null,null,null,null,null,null,null,null,null,null,null,null,null,null,null,null,null,null,null,null,{"$f":"FlashCards!AQ1455","v":"5104"},5104,0,0,5104,12845056,{"$f":"FlashCards!AE1455","v":1452},5104]
[null,null,null,null,null,null,null,null,null,null,null,null,null,null,null,null,null,null,null,null,null,null,null,{"$f":"FlashCards!AQ1456","v":"5106"},5106,0,0,5106,12859396,{"$f":"FlashCards!AE1456","v":1453},5106]
[null,null,null,null,null,null,null,null,null,null,null,null,null,null,null,null,null,null,null,null,null,null,null,{"$f":"FlashCards!AQ1457","v":"5108"},5108,0,0,5108,12873744,{"$f":"FlashCards!AE1457","v":1454},5108]
[null,null,null,null,null,null,null,null,null,null,null,null,null,null,null,null,null,null,null,null,null,null,null,{"$f":"FlashCards!AQ1458","v":"5111"},5111,0,0,5111,12895281,{"$f":"FlashCards!AE1458","v":1455},5111]
[null,null,null,null,null,null,null,null,null,null,null,null,null,null,null,null,null,null,null,null,null,null,null,{"$f":"FlashCards!AQ1459","v":"5117"},5117,0,0,5117,12938409,{"$f":"FlashCards!AE1459","v":1456},5117]
[null,null,null,null,null,null,null,null,null,null,null,null,null,null,null,null,null,null,null,null,null,null,null,{"$f":"FlashCards!AQ1460","v":"5118"},5118,0,0,5118,12945604,{"$f":"FlashCards!AE1460","v":1457},5118]
[null,null,null,null,null,null,null,null,null,null,null,null,null,null,null,null,null,null,null,null,null,null,null,{"$f":"FlashCards!AQ1461","v":"5119"},5119,0,0,5119,12952801,{"$f":"FlashCards!AE1461","v":1458},5119]
[null,null,null,null,null,null,null,null,null,null,null,null,null,null,null,null,null,null,null,null,null,null,null,{"$f":"FlashCards!AQ1462","v":"5124"},5124,0,0,5124,12988816,{"$f":"FlashCards!AE1462","v":1459},5124]
[null,null,null,null,null,null,null,null,null,null,null,null,null,null,null,null,null,null,null,null,null,null,null,{"$f":"FlashCards!AQ1463","v":"5124"},5124,0,0,5124,12988816,{"$f":"FlashCards!AE1463","v":1460},5124]
[null,null,null,null,null,null,null,null,null,null,null,null,null,null,null,null,null,null,null,null,null,null,null,{"$f":"FlashCards!AQ1464","v":"5125"},5125,0,0,5125,12996025,{"$f":"FlashCards!AE1464","v":1461},5125]
[null,null,null,null,null,null,null,null,null,null,null,null,null,null,null,null,null,null,null,null,null,null,null,{"$f":"FlashCards!AQ1465","v":"5126"},5126,0,0,5126,13003236,{"$f":"FlashCards!AE1465","v":1462},5126]
[null,null,null,null,null,null,null,null,null,null,null,null,null,null,null,null,null,null,null,null,null,null,null,{"$f":"FlashCards!AQ1466","v":"5127"},5127,0,0,5127,13010449,{"$f":"FlashCards!AE1466","v":1463},5127]
[null,null,null,null,null,null,null,null,null,null,null,null,null,null,null,null,null,null,null,null,null,null,null,{"$f":"FlashCards!AQ1467","v":"1537, 5127"},{"$error":"#VALUE!"},0,5,1537,289,{"$f":"FlashCards!AE1467","v":1464},1537]
[null,null,null,null,null,null,null,null,null,null,null,null,null,null,null,null,null,null,null,null,null,null,null,{"$f":"FlashCards!AQ1468","v":"5128"},5128,0,0,5128,13017664,{"$f":"FlashCards!AE1468","v":1465},5128]
[null,null,null,null,null,null,null,null,null,null,null,null,null,null,null,null,null,null,null,null,null,null,null,{"$f":"FlashCards!AQ1469","v":"5129"},5129,0,0,5129,13024881,{"$f":"FlashCards!AE1469","v":1466},5129]
[null,null,null,null,null,null,null,null,null,null,null,null,null,null,null,null,null,null,null,null,null,null,null,{"$f":"FlashCards!AQ1470","v":"5130"},5130,0,0,5130,13032100,{"$f":"FlashCards!AE1470","v":1467},5130]
[null,null,null,null,null,null,null,null,null,null,null,null,null,null,null,null,null,null,null,null,null,null,null,{"$f":"FlashCards!AQ1471","v":"5132"},5132,0,0,5132,13046544,{"$f":"FlashCards!AE1471","v":1468},5132]
[null,null,null,null,null,null,null,null,null,null,null,null,null,null,null,null,null,null,null,null,null,null,null,{"$f":"FlashCards!AQ1472","v":"5140"},5140,0,0,5140,13104400,{"$f":"FlashCards!AE1472","v":1469},5140]
[null,null,null,null,null,null,null,null,null,null,null,null,null,null,null,null,null,null,null,null,null,null,null,{"$f":"FlashCards!AQ1473","v":"5140"},5140,0,0,5140,13104400,{"$f":"FlashCards!AE1473","v":1470},5140]
[null,null,null,null,null,null,null,null,null,null,null,null,null,null,null,null,null,null,null,null,null,null,null,{"$f":"FlashCards!AQ1474","v":"5143"},5143,0,0,5143,13126129,{"$f":"FlashCards!AE1474","v":1471},5143]
[null,null,null,null,null,null,null,null,null,null,null,null,null,null,null,null,null,null,null,null,null,null,null,{"$f":"FlashCards!AQ1475","v":"5144"},5144,0,0,5144,13133376,{"$f":"FlashCards!AE1475","v":1472},5144]
[null,null,null,null,null,null,null,null,null,null,null,null,null,null,null,null,null,null,null,null,null,null,null,{"$f":"FlashCards!AQ1476","v":"5151"},5151,0,0,5151,13184161,{"$f":"FlashCards!AE1476","v":1473},5151]
[null,null,null,null,null,null,null,null,null,null,null,null,null,null,null,null,null,null,null,null,null,null,null,{"$f":"FlashCards!AQ1477","v":"5154"},{"$f":"VALUE(X1476)","v":5154},{"$f":"IF(ISERR(FIND(\"+\",X1476,1)),0,FIND(\"+\",X1476,1))","v":0},{"$f":"IF(ISERR(FIND(\",\",X1476,1)),0,FIND(\",\",X1476,1))","v":0},{"$f":"IF(Z1476>0,VALUE(LEFT(X1476,Z1476-1)),IF(AA1476>0,VALUE(LEFT(X1476,AA1476-1)),IF(ISERR(Y1476),VALUE(LEFT(X1476,LEN(X1476)-1)),Y1476)))","v":5154},{"$f":"(AB1476-U$28)^2","v":13205956},{"$f":"FlashCards!AE1477","v":1474},{"$f":"IF(AB1476=0,10000,AB1476)","v":5154}]
[null,null,null,null,null,null,null,null,null,null,null,null,null,null,null,null,null,null,null,null,null,null,null,{"$f":"FlashCards!AQ1478","v":"5158"},5158,0,0,5158,13235044,{"$f":"FlashCards!AE1478","v":1475},5158]
[null,null,null,null,null,null,null,null,null,null,null,null,null,null,null,null,null,null,null,null,null,null,null,{"$f":"FlashCards!AQ1479","v":"5160"},5160,0,0,5160,13249600,{"$f":"FlashCards!AE1479","v":1476},5160]
[null,null,null,null,null,null,null,null,null,null,null,null,null,null,null,null,null,null,null,null,null,null,null,{"$f":"FlashCards!AQ1480","v":"5177"},5177,0,0,5177,13373649,{"$f":"FlashCards!AE1480","v":1477},5177]
[null,null,null,null,null,null,null,null,null,null,null,null,null,null,null,null,null,null,null,null,null,null,null,{"$f":"FlashCards!AQ1481","v":"5179"},5179,0,0,5179,13388281,{"$f":"FlashCards!AE1481","v":1478},5179]
[null,null,null,null,null,null,null,null,null,null,null,null,null,null,null,null,null,null,null,null,null,null,null,{"$f":"FlashCards!AQ1482","v":"5180"},5180,0,0,5180,13395600,{"$f":"FlashCards!AE1482","v":1479},5180]
[null,null,null,null,null,null,null,null,null,null,null,null,null,null,null,null,null,null,null,null,null,null,null,{"$f":"FlashCards!AQ1483","v":"5184"},5184,0,0,5184,13424896,{"$f":"FlashCards!AE1483","v":1480},5184]
[null,null,null,null,null,null,null,null,null,null,null,null,null,null,null,null,null,null,null,null,null,null,null,{"$f":"FlashCards!AQ1484","v":"5185"},5185,0,0,5185,13432225,{"$f":"FlashCards!AE1484","v":1481},5185]
[null,null,null,null,null,null,null,null,null,null,null,null,null,null,null,null,null,null,null,null,null,null,null,{"$f":"FlashCards!AQ1485","v":"5198"},5198,0,0,5198,13527684,{"$f":"FlashCards!AE1485","v":1482},5198]
[null,null,null,null,null,null,null,null,null,null,null,null,null,null,null,null,null,null,null,null,null,null,null,{"$f":"FlashCards!AQ1486","v":"5199"},5199,0,0,5199,13535041,{"$f":"FlashCards!AE1486","v":1483},5199]
[null,null,null,null,null,null,null,null,null,null,null,null,null,null,null,null,null,null,null,null,null,null,null,{"$f":"FlashCards!AQ1487","v":"5204"},5204,0,0,5204,13571856,{"$f":"FlashCards!AE1487","v":1484},5204]
[null,null,null,null,null,null,null,null,null,null,null,null,null,null,null,null,null,null,null,null,null,null,null,{"$f":"FlashCards!AQ1488","v":"5207"},5207,0,0,5207,13593969,{"$f":"FlashCards!AE1488","v":1485},5207]
[null,null,null,null,null,null,null,null,null,null,null,null,null,null,null,null,null,null,null,null,null,null,null,{"$f":"FlashCards!AQ1489","v":"5209"},5209,0,0,5209,13608721,{"$f":"FlashCards!AE1489","v":1486},5209]
[null,null,null,null,null,null,null,null,null,null,null,null,null,null,null,null,null,null,null,null,null,null,null,{"$f":"FlashCards!AQ1490","v":"5210"},5210,0,0,5210,13616100,{"$f":"FlashCards!AE1490","v":1487},5210]
[null,null,null,null,null,null,null,null,null,null,null,null,null,null,null,null,null,null,null,null,null,null,null,{"$f":"FlashCards!AQ1491","v":"5212"},5212,0,0,5212,13630864,{"$f":"FlashCards!AE1491","v":1488},5212]
[null,null,null,null,null,null,null,null,null,null,null,null,null,null,null,null,null,null,null,null,null,null,null,{"$f":"FlashCards!AQ1492","v":"5213"},5213,0,0,5213,13638249,{"$f":"FlashCards!AE1492","v":1489},5213]
[null,null,null,null,null,null,null,null,null,null,null,null,null,null,null,null,null,null,null,null,null,null,null,{"$f":"FlashCards!AQ1493","v":"5216"},5216,0,0,5216,13660416,{"$f":"FlashCards!AE1493","v":1490},5216]
[null,null,null,null,null,null,null,null,null,null,null,null,null,null,null,null,null,null,null,null,null,null,null,{"$f":"FlashCards!AQ1494","v":"5217"},5217,0,0,5217,13667809,{"$f":"FlashCards!AE1494","v":1491},5217]
[null,null,null,null,null,null,null,null,null,null,null,null,null,null,null,null,null,null,null,null,null,null,null,{"$f":"FlashCards!AQ1495","v":"5218"},5218,0,0,5218,13675204,{"$f":"FlashCards!AE1495","v":1492},5218]
[null,null,null,null,null,null,null,null,null,null,null,null,null,null,null,null,null,null,null,null,null,null,null,{"$f":"FlashCards!AQ1496","v":"5219"},5219,0,0,5219,13682601,{"$f":"FlashCards!AE1496","v":1493},5219]
[null,null,null,null,null,null,null,null,null,null,null,null,null,null,null,null,null,null,null,null,null,null,null,{"$f":"FlashCards!AQ1497","v":"5221"},5221,0,0,5221,13697401,{"$f":"FlashCards!AE1497","v":1494},5221]
[null,null,null,null,null,null,null,null,null,null,null,null,null,null,null,null,null,null,null,null,null,null,null,{"$f":"FlashCards!AQ1498","v":"5225"},5225,0,0,5225,13727025,{"$f":"FlashCards!AE1498","v":1495},5225]
[null,null,null,null,null,null,null,null,null,null,null,null,null,null,null,null,null,null,null,null,null,null,null,{"$f":"FlashCards!AQ1499","v":"5228"},5228,0,0,5228,13749264,{"$f":"FlashCards!AE1499","v":1496},5228]
[null,null,null,null,null,null,null,null,null,null,null,null,null,null,null,null,null,null,null,null,null,null,null,{"$f":"FlashCards!AQ1500","v":"5228"},5228,0,0,5228,13749264,{"$f":"FlashCards!AE1500","v":1497},5228]
[null,null,null,null,null,null,null,null,null,null,null,null,null,null,null,null,null,null,null,null,null,null,null,{"$f":"FlashCards!AQ1501","v":"5257"},5257,0,0,5257,13965169,{"$f":"FlashCards!AE1501","v":1498},5257]
[null,null,null,null,null,null,null,null,null,null,null,null,null,null,null,null,null,null,null,null,null,null,null,{"$f":"FlashCards!AQ1502","v":"5259"},5259,0,0,5259,13980121,{"$f":"FlashCards!AE1502","v":1499},5259]
[null,null,null,null,null,null,null,null,null,null,null,null,null,null,null,null,null,null,null,null,null,null,null,{"$f":"FlashCards!AQ1503","v":"5259"},5259,0,0,5259,13980121,{"$f":"FlashCards!AE1503","v":1500},5259]
[null,null,null,null,null,null,null,null,null,null,null,null,null,null,null,null,null,null,null,null,null,null,null,{"$f":"FlashCards!AQ1504","v":"5266"},5266,0,0,5266,14032516,{"$f":"FlashCards!AE1504","v":1501},5266]
[null,null,null,null,null,null,null,null,null,null,null,null,null,null,null,null,null,null,null,null,null,null,null,{"$f":"FlashCards!AQ1505","v":"5270"},5270,0,0,5270,14062500,{"$f":"FlashCards!AE1505","v":1502},5270]
[null,null,null,null,null,null,null,null,null,null,null,null,null,null,null,null,null,null,null,null,null,null,null,{"$f":"FlashCards!AQ1506","v":"5273"},5273,0,0,5273,14085009,{"$f":"FlashCards!AE1506","v":1503},5273]
[null,null,null,null,null,null,null,null,null,null,null,null,null,null,null,null,null,null,null,null,null,null,null,{"$f":"FlashCards!AQ1507","v":"5274"},5274,0,0,5274,14092516,{"$f":"FlashCards!AE1507","v":1504},5274]
[null,null,null,null,null,null,null,null,null,null,null,null,null,null,null,null,null,null,null,null,null,null,null,{"$f":"FlashCards!AQ1508","v":"5278"},5278,0,0,5278,14122564,{"$f":"FlashCards!AE1508","v":1505},5278]
[null,null,null,null,null,null,null,null,null,null,null,null,null,null,null,null,null,null,null,null,null,null,null,{"$f":"FlashCards!AQ1509","v":"5281"},5281,0,0,5281,14145121,{"$f":"FlashCards!AE1509","v":1506},5281]
[null,null,null,null,null,null,null,null,null,null,null,null,null,null,null,null,null,null,null,null,null,null,null,{"$f":"FlashCards!AQ1510","v":"5290"},5290,0,0,5290,14212900,{"$f":"FlashCards!AE1510","v":1507},5290]
[null,null,null,null,null,null,null,null,null,null,null,null,null,null,null,null,null,null,null,null,null,null,null,{"$f":"FlashCards!AQ1511","v":"5293"},5293,0,0,5293,14235529,{"$f":"FlashCards!AE1511","v":1508},5293]
[null,null,null,null,null,null,null,null,null,null,null,null,null,null,null,null,null,null,null,null,null,null,null,{"$f":"FlashCards!AQ1512","v":"5302"},5302,0,0,5302,14303524,{"$f":"FlashCards!AE1512","v":1509},5302]
[null,null,null,null,null,null,null,null,null,null,null,null,null,null,null,null,null,null,null,null,null,null,null,{"$f":"FlashCards!AQ1513","v":"5306"},5306,0,0,5306,14333796,{"$f":"FlashCards!AE1513","v":1510},5306]
[null,null,null,null,null,null,null,null,null,null,null,null,null,null,null,null,null,null,null,null,null,null,null,{"$f":"FlashCards!AQ1514","v":"5308"},5308,0,0,5308,14348944,{"$f":"FlashCards!AE1514","v":1511},5308]
[null,null,null,null,null,null,null,null,null,null,null,null,null,null,null,null,null,null,null,null,null,null,null,{"$f":"FlashCards!AQ1515","v":"5310"},5310,0,0,5310,14364100,{"$f":"FlashCards!AE1515","v":1512},5310]
[null,null,null,null,null,null,null,null,null,null,null,null,null,null,null,null,null,null,null,null,null,null,null,{"$f":"FlashCards!AQ1516","v":"5312"},5312,0,0,5312,14379264,{"$f":"FlashCards!AE1516","v":1513},5312]
[null,null,null,null,null,null,null,null,null,null,null,null,null,null,null,null,null,null,null,null,null,null,null,{"$f":"FlashCards!AQ1517","v":"5316"},5316,0,0,5316,14409616,{"$f":"FlashCards!AE1517","v":1514},5316]
[null,null,null,null,null,null,null,null,null,null,null,null,null,null,null,null,null,null,null,null,null,null,null,{"$f":"FlashCards!AQ1518","v":"5318"},5318,0,0,5318,14424804,{"$f":"FlashCards!AE1518","v":1515},5318]
[null,null,null,null,null,null,null,null,null,null,null,null,null,null,null,null,null,null,null,null,null,null,null,{"$f":"FlashCards!AQ1519","v":"5319"},5319,0,0,5319,14432401,{"$f":"FlashCards!AE1519","v":1516},5319]
[null,null,null,null,null,null,null,null,null,null,null,null,null,null,null,null,null,null,null,null,null,null,null,{"$f":"FlashCards!AQ1520","v":"5326"},5326,0,0,5326,14485636,{"$f":"FlashCards!AE1520","v":1517},5326]
[null,null,null,null,null,null,null,null,null,null,null,null,null,null,null,null,null,null,null,null,null,null,null,{"$f":"FlashCards!AQ1521","v":"5330"},5330,0,0,5330,14516100,{"$f":"FlashCards!AE1521","v":1518},5330]
[null,null,null,null,null,null,null,null,null,null,null,null,null,null,null,null,null,null,null,null,null,null,null,{"$f":"FlashCards!AQ1522","v":"5339"},5339,0,0,5339,14584761,{"$f":"FlashCards!AE1522","v":1519},5339]
[null,null,null,null,null,null,null,null,null,null,null,null,null,null,null,null,null,null,null,null,null,null,null,{"$f":"FlashCards!AQ1523","v":"5342"},5342,0,0,5342,14607684,{"$f":"FlashCards!AE1523","v":1520},5342]
[null,null,null,null,null,null,null,null,null,null,null,null,null,null,null,null,null,null,null,null,null,null,null,{"$f":"FlashCards!AQ1524","v":"5343"},5343,0,0,5343,14615329,{"$f":"FlashCards!AE1524","v":1521},5343]
[null,null,null,null,null,null,null,null,null,null,null,null,null,null,null,null,null,null,null,null,null,null,null,{"$f":"FlashCards!AQ1525","v":"5346"},5346,0,0,5346,14638276,{"$f":"FlashCards!AE1525","v":1522},5346]
[null,null,null,null,null,null,null,null,null,null,null,null,null,null,null,null,null,null,null,null,null,null,null,{"$f":"FlashCards!AQ1526","v":"5346"},5346,0,0,5346,14638276,{"$f":"FlashCards!AE1526","v":1523},5346]
[null,null,null,null,null,null,null,null,null,null,null,null,null,null,null,null,null,null,null,null,null,null,null,{"$f":"FlashCards!AQ1527","v":"5347"},5347,0,0,5347,14645929,{"$f":"FlashCards!AE1527","v":1524},5347]
[null,null,null,null,null,null,null,null,null,null,null,null,null,null,null,null,null,null,null,null,null,null,null,{"$f":"FlashCards!AQ1528","v":"5357"},5357,0,0,5357,14722569,{"$f":"FlashCards!AE1528","v":1525},5357]
[null,null,null,null,null,null,null,null,null,null,null,null,null,null,null,null,null,null,null,null,null,null,null,{"$f":"FlashCards!AQ1529","v":"5368"},5368,0,0,5368,14807104,{"$f":"FlashCards!AE1529","v":1526},5368]
[null,null,null,null,null,null,null,null,null,null,null,null,null,null,null,null,null,null,null,null,null,null,null,{"$f":"FlashCards!AQ1530","v":"5370"},5370,0,0,5370,14822500,{"$f":"FlashCards!AE1530","v":1527},5370]
[null,null,null,null,null,null,null,null,null,null,null,null,null,null,null,null,null,null,null,null,null,null,null,{"$f":"FlashCards!AQ1531","v":"5376"},5376,0,0,5376,14868736,{"$f":"FlashCards!AE1531","v":1528},5376]
[null,null,null,null,null,null,null,null,null,null,null,null,null,null,null,null,null,null,null,null,null,null,null,{"$f":"FlashCards!AQ1532","v":"5384"},5384,0,0,5384,14930496,{"$f":"FlashCards!AE1532","v":1529},5384]
[null,null,null,null,null,null,null,null,null,null,null,null,null,null,null,null,null,null,null,null,null,null,null,{"$f":"FlashCards!AQ1533","v":"5384"},5384,0,0,5384,14930496,{"$f":"FlashCards!AE1533","v":1530},5384]
[null,null,null,null,null,null,null,null,null,null,null,null,null,null,null,null,null,null,null,null,null,null,null,{"$f":"FlashCards!AQ1534","v":"5399"},5399,0,0,5399,15046641,{"$f":"FlashCards!AE1534","v":1531},5399]
[null,null,null,null,null,null,null,null,null,null,null,null,null,null,null,null,null,null,null,null,null,null,null,{"$f":"FlashCards!AQ1535","v":"5401"},5401,0,0,5401,15062161,{"$f":"FlashCards!AE1535","v":1532},5401]
[null,null,null,null,null,null,null,null,null,null,null,null,null,null,null,null,null,null,null,null,null,null,null,{"$f":"FlashCards!AQ1536","v":"5407"},5407,0,0,5407,15108769,{"$f":"FlashCards!AE1536","v":1533},5407]
[null,null,null,null,null,null,null,null,null,null,null,null,null,null,null,null,null,null,null,null,null,null,null,{"$f":"FlashCards!AQ1537","v":"5425"},5425,0,0,5425,15249025,{"$f":"FlashCards!AE1537","v":1534},5425]
[null,null,null,null,null,null,null,null,null,null,null,null,null,null,null,null,null,null,null,null,null,null,null,{"$f":"FlashCards!AQ1538","v":"5426"},5426,0,0,5426,15256836,{"$f":"FlashCards!AE1538","v":1535},5426]
[null,null,null,null,null,null,null,null,null,null,null,null,null,null,null,null,null,null,null,null,null,null,null,{"$f":"FlashCards!AQ1539","v":"5429"},5429,0,0,5429,15280281,{"$f":"FlashCards!AE1539","v":1536},5429]
[null,null,null,null,null,null,null,null,null,null,null,null,null,null,null,null,null,null,null,null,null,null,null,{"$f":"FlashCards!AQ1540","v":"5438"},5438,0,0,5438,15350724,{"$f":"FlashCards!AE1540","v":1537},5438]
[null,null,null,null,null,null,null,null,null,null,null,null,null,null,null,null,null,null,null,null,null,null,null,{"$f":"FlashCards!AQ1541","v":"5442"},{"$f":"VALUE(X1540)","v":5442},{"$f":"IF(ISERR(FIND(\"+\",X1540,1)),0,FIND(\"+\",X1540,1))","v":0},{"$f":"IF(ISERR(FIND(\",\",X1540,1)),0,FIND(\",\",X1540,1))","v":0},{"$f":"IF(Z1540>0,VALUE(LEFT(X1540,Z1540-1)),IF(AA1540>0,VALUE(LEFT(X1540,AA1540-1)),IF(ISERR(Y1540),VALUE(LEFT(X1540,LEN(X1540)-1)),Y1540)))","v":5442},{"$f":"(AB1540-U$28)^2","v":15382084},{"$f":"FlashCards!AE1541","v":1538},{"$f":"IF(AB1540=0,10000,AB1540)","v":5442}]
[null,null,null,null,null,null,null,null,null,null,null,null,null,null,null,null,null,null,null,null,null,null,null,{"$f":"FlashCards!AQ1542","v":"5443"},5443,0,0,5443,15389929,{"$f":"FlashCards!AE1542","v":1539},5443]
[null,null,null,null,null,null,null,null,null,null,null,null,null,null,null,null,null,null,null,null,null,null,null,{"$f":"FlashCards!AQ1543","v":"5449"},5449,0,0,5449,15437041,{"$f":"FlashCards!AE1543","v":1540},5449]
[null,null,null,null,null,null,null,null,null,null,null,null,null,null,null,null,null,null,null,null,null,null,null,{"$f":"FlashCards!AQ1544","v":"5452"},5452,0,0,5452,15460624,{"$f":"FlashCards!AE1544","v":1541},5452]
[null,null,null,null,null,null,null,null,null,null,null,null,null,null,null,null,null,null,null,null,null,null,null,{"$f":"FlashCards!AQ1545","v":"5453"},5453,0,0,5453,15468489,{"$f":"FlashCards!AE1545","v":1542},5453]
[null,null,null,null,null,null,null,null,null,null,null,null,null,null,null,null,null,null,null,null,null,null,null,{"$f":"FlashCards!AQ1546","v":"5455"},5455,0,0,5455,15484225,{"$f":"FlashCards!AE1546","v":1543},5455]
[null,null,null,null,null,null,null,null,null,null,null,null,null,null,null,null,null,null,null,null,null,null,null,{"$f":"FlashCards!AQ1547","v":"5456"},5456,0,0,5456,15492096,{"$f":"FlashCards!AE1547","v":1544},5456]
[null,null,null,null,null,null,null,null,null,null,null,null,null,null,null,null,null,null,null,null,null,null,null,{"$f":"FlashCards!AQ1548","v":"5457"},5457,0,0,5457,15499969,{"$f":"FlashCards!AE1548","v":1545},5457]
[null,null,null,null,null,null,null,null,null,null,null,null,null,null,null,null,null,null,null,null,null,null,null,{"$f":"FlashCards!AQ1549","v":"5461"},5461,0,0,5461,15531481,{"$f":"FlashCards!AE1549","v":1546},5461]
[null,null,null,null,null,null,null,null,null,null,null,null,null,null,null,null,null,null,null,null,null,null,null,{"$f":"FlashCards!AQ1550","v":"5463"},5463,0,0,5463,15547249,{"$f":"FlashCards!AE1550","v":1547},5463]
[null,null,null,null,null,null,null,null,null,null,null,null,null,null,null,null,null,null,null,null,null,null,null,{"$f":"FlashCards!AQ1551","v":"5476"},5476,0,0,5476,15649936,{"$f":"FlashCards!AE1551","v":1548},5476]
[null,null,null,null,null,null,null,null,null,null,null,null,null,null,null,null,null,null,null,null,null,null,null,{"$f":"FlashCards!AQ1552","v":"5479"},5479,0,0,5479,15673681,{"$f":"FlashCards!AE1552","v":1549},5479]
[null,null,null,null,null,null,null,null,null,null,null,null,null,null,null,null,null,null,null,null,null,null,null,{"$f":"FlashCards!AQ1553","v":"5483"},5483,0,0,5483,15705369,{"$f":"FlashCards!AE1553","v":1550},5483]
[null,null,null,null,null,null,null,null,null,null,null,null,null,null,null,null,null,null,null,null,null,null,null,{"$f":"FlashCards!AQ1554","v":"5485"},5485,0,0,5485,15721225,{"$f":"FlashCards!AE1554","v":1551},5485]
[null,null,null,null,null,null,null,null,null,null,null,null,null,null,null,null,null,null,null,null,null,null,null,{"$f":"FlashCards!AQ1555","v":"5486"},5486,0,0,5486,15729156,{"$f":"FlashCards!AE1555","v":1552},5486]
[null,null,null,null,null,null,null,null,null,null,null,null,null,null,null,null,null,null,null,null,null,null,null,{"$f":"FlashCards!AQ1556","v":"5495"},5495,0,0,5495,15800625,{"$f":"FlashCards!AE1556","v":1553},5495]
[null,null,null,null,null,null,null,null,null,null,null,null,null,null,null,null,null,null,null,null,null,null,null,{"$f":"FlashCards!AQ1557","v":"5501"},5501,0,0,5501,15848361,{"$f":"FlashCards!AE1557","v":1554},5501]
[null,null,null,null,null,null,null,null,null,null,null,null,null,null,null,null,null,null,null,null,null,null,null,{"$f":"FlashCards!AQ1558","v":"5503"},5503,0,0,5503,15864289,{"$f":"FlashCards!AE1558","v":1555},5503]
[null,null,null,null,null,null,null,null,null,null,null,null,null,null,null,null,null,null,null,null,null,null,null,{"$f":"FlashCards!AQ1559","v":"5504"},5504,0,0,5504,15872256,{"$f":"FlashCards!AE1559","v":1556},5504]
[null,null,null,null,null,null,null,null,null,null,null,null,null,null,null,null,null,null,null,null,null,null,null,{"$f":"FlashCards!AQ1560","v":"5505"},5505,0,0,5505,15880225,{"$f":"FlashCards!AE1560","v":1557},5505]
[null,null,null,null,null,null,null,null,null,null,null,null,null,null,null,null,null,null,null,null,null,null,null,{"$f":"FlashCards!AQ1561","v":"5506"},5506,0,0,5506,15888196,{"$f":"FlashCards!AE1561","v":1558},5506]
[null,null,null,null,null,null,null,null,null,null,null,null,null,null,null,null,null,null,null,null,null,null,null,{"$f":"FlashCards!AQ1562","v":"5507"},5507,0,0,5507,15896169,{"$f":"FlashCards!AE1562","v":1559},5507]
[null,null,null,null,null,null,null,null,null,null,null,null,null,null,null,null,null,null,null,null,null,null,null,{"$f":"FlashCards!AQ1563","v":"5509"},5509,0,0,5509,15912121,{"$f":"FlashCards!AE1563","v":1560},5509]
[null,null,null,null,null,null,null,null,null,null,null,null,null,null,null,null,null,null,null,null,null,null,null,{"$f":"FlashCards!AQ1564","v":"5519"},5519,0,0,5519,15992001,{"$f":"FlashCards!AE1564","v":1561},5519]
[null,null,null,null,null,null,null,null,null,null,null,null,null,null,null,null,null,null,null,null,null,null,null,{"$f":"FlashCards!AQ1565","v":"5526"},5526,0,0,5526,16048036,{"$f":"FlashCards!AE1565","v":1562},5526]
[null,null,null,null,null,null,null,null,null,null,null,null,null,null,null,null,null,null,null,null,null,null,null,{"$f":"FlashCards!AQ1566","v":"5528"},5528,0,0,5528,16064064,{"$f":"FlashCards!AE1566","v":1563},5528]
[null,null,null,null,null,null,null,null,null,null,null,null,null,null,null,null,null,null,null,null,null,null,null,{"$f":"FlashCards!AQ1567","v":"5530"},5530,0,0,5530,16080100,{"$f":"FlashCards!AE1567","v":1564},5530]
[null,null,null,null,null,null,null,null,null,null,null,null,null,null,null,null,null,null,null,null,null,null,null,{"$f":"FlashCards!AQ1568","v":"5532"},5532,0,0,5532,16096144,{"$f":"FlashCards!AE1568","v":1565},5532]
[null,null,null,null,null,null,null,null,null,null,null,null,null,null,null,null,null,null,null,null,null,null,null,{"$f":"FlashCards!AQ1569","v":"5544"},5544,0,0,5544,16192576,{"$f":"FlashCards!AE1569","v":1566},5544]
[null,null,null,null,null,null,null,null,null,null,null,null,null,null,null,null,null,null,null,null,null,null,null,{"$f":"FlashCards!AQ1570","v":"5547"},5547,0,0,5547,16216729,{"$f":"FlashCards!AE1570","v":1567},5547]
[null,null,null,null,null,null,null,null,null,null,null,null,null,null,null,null,null,null,null,null,null,null,null,{"$f":"FlashCards!AQ1571","v":"5550"},5550,0,0,5550,16240900,{"$f":"FlashCards!AE1571","v":1568},5550]
[null,null,null,null,null,null,null,null,null,null,null,null,null,null,null,null,null,null,null,null,null,null,null,{"$f":"FlashCards!AQ1572","v":"5552"},5552,0,0,5552,16257024,{"$f":"FlashCards!AE1572","v":1569},5552]
[null,null,null,null,null,null,null,null,null,null,null,null,null,null,null,null,null,null,null,null,null,null,null,{"$f":"FlashCards!AQ1573","v":"5553"},5553,0,0,5553,16265089,{"$f":"FlashCards!AE1573","v":1570},5553]
[null,null,null,null,null,null,null,null,null,null,null,null,null,null,null,null,null,null,null,null,null,null,null,{"$f":"FlashCards!AQ1574","v":"5557"},5557,0,0,5557,16297369,{"$f":"FlashCards!AE1574","v":1571},5557]
[null,null,null,null,null,null,null,null,null,null,null,null,null,null,null,null,null,null,null,null,null,null,null,{"$f":"FlashCards!AQ1575","v":"5560"},5560,0,0,5560,16321600,{"$f":"FlashCards!AE1575","v":1572},5560]
[null,null,null,null,null,null,null,null,null,null,null,null,null,null,null,null,null,null,null,null,null,null,null,{"$f":"FlashCards!AQ1576","v":"5561"},5561,0,0,5561,16329681,{"$f":"FlashCards!AE1576","v":1573},5561]
[null,null,null,null,null,null,null,null,null,null,null,null,null,null,null,null,null,null,null,null,null,null,null,{"$f":"FlashCards!AQ1577","v":"5562"},5562,0,0,5562,16337764,{"$f":"FlashCards!AE1577","v":1574},5562]
[null,null,null,null,null,null,null,null,null,null,null,null,null,null,null,null,null,null,null,null,null,null,null,{"$f":"FlashCards!AQ1578","v":"5563"},5563,0,0,5563,16345849,{"$f":"FlashCards!AE1578","v":1575},5563]
[null,null,null,null,null,null,null,null,null,null,null,null,null,null,null,null,null,null,null,null,null,null,null,{"$f":"FlashCards!AQ1579","v":"5564"},5564,0,0,5564,16353936,{"$f":"FlashCards!AE1579","v":1576},5564]
[null,null,null,null,null,null,null,null,null,null,null,null,null,null,null,null,null,null,null,null,null,null,null,{"$f":"FlashCards!AQ1580","v":"5565"},5565,0,0,5565,16362025,{"$f":"FlashCards!AE1580","v":1577},5565]
[null,null,null,null,null,null,null,null,null,null,null,null,null,null,null,null,null,null,null,null,null,null,null,{"$f":"FlashCards!AQ1581","v":"5571"},5571,0,0,5571,16410601,{"$f":"FlashCards!AE1581","v":1578},5571]
[null,null,null,null,null,null,null,null,null,null,null,null,null,null,null,null,null,null,null,null,null,null,null,{"$f":"FlashCards!AQ1582","v":"5574"},5574,0,0,5574,16434916,{"$f":"FlashCards!AE1582","v":1579},5574]
[null,null,null,null,null,null,null,null,null,null,null,null,null,null,null,null,null,null,null,null,null,null,null,{"$f":"FlashCards!AQ1583","v":"5578"},5578,0,0,5578,16467364,{"$f":"FlashCards!AE1583","v":1580},5578]
[null,null,null,null,null,null,null,null,null,null,null,null,null,null,null,null,null,null,null,null,null,null,null,{"$f":"FlashCards!AQ1584","v":"5579"},5579,0,0,5579,16475481,{"$f":"FlashCards!AE1584","v":1581},5579]
[null,null,null,null,null,null,null,null,null,null,null,null,null,null,null,null,null,null,null,null,null,null,null,{"$f":"FlashCards!AQ1585","v":"5583"},5583,0,0,5583,16507969,{"$f":"FlashCards!AE1585","v":1582},5583]
[null,null,null,null,null,null,null,null,null,null,null,null,null,null,null,null,null,null,null,null,null,null,null,{"$f":"FlashCards!AQ1586","v":"5590"},5590,0,0,5590,16564900,{"$f":"FlashCards!AE1586","v":1583},5590]
[null,null,null,null,null,null,null,null,null,null,null,null,null,null,null,null,null,null,null,null,null,null,null,{"$f":"FlashCards!AQ1587","v":"5599"},5599,0,0,5599,16638241,{"$f":"FlashCards!AE1587","v":1584},5599]
[null,null,null,null,null,null,null,null,null,null,null,null,null,null,null,null,null,null,null,null,null,null,null,{"$f":"FlashCards!AQ1588","v":"5602"},5602,0,0,5602,16662724,{"$f":"FlashCards!AE1588","v":1585},5602]
[null,null,null,null,null,null,null,null,null,null,null,null,null,null,null,null,null,null,null,null,null,null,null,{"$f":"FlashCards!AQ1589","v":"5610"},5610,0,0,5610,16728100,{"$f":"FlashCards!AE1589","v":1586},5610]
[null,null,null,null,null,null,null,null,null,null,null,null,null,null,null,null,null,null,null,null,null,null,null,{"$f":"FlashCards!AQ1590","v":"5613"},5613,0,0,5613,16752649,{"$f":"FlashCards!AE1590","v":1587},5613]
[null,null,null,null,null,null,null,null,null,null,null,null,null,null,null,null,null,null,null,null,null,null,null,{"$f":"FlashCards!AQ1591","v":"5615"},5615,0,0,5615,16769025,{"$f":"FlashCards!AE1591","v":1588},5615]
[null,null,null,null,null,null,null,null,null,null,null,null,null,null,null,null,null,null,null,null,null,null,null,{"$f":"FlashCards!AQ1592","v":"5616"},5616,0,0,5616,16777216,{"$f":"FlashCards!AE1592","v":1589},5616]
[null,null,null,null,null,null,null,null,null,null,null,null,null,null,null,null,null,null,null,null,null,null,null,{"$f":"FlashCards!AQ1593","v":"5618"},5618,0,0,5618,16793604,{"$f":"FlashCards!AE1593","v":1590},5618]
[null,null,null,null,null,null,null,null,null,null,null,null,null,null,null,null,null,null,null,null,null,null,null,{"$f":"FlashCards!AQ1594","v":"5620"},5620,0,0,5620,16810000,{"$f":"FlashCards!AE1594","v":1591},5620]
[null,null,null,null,null,null,null,null,null,null,null,null,null,null,null,null,null,null,null,null,null,null,null,{"$f":"FlashCards!AQ1595","v":"5623"},5623,0,0,5623,16834609,{"$f":"FlashCards!AE1595","v":1592},5623]
[null,null,null,null,null,null,null,null,null,null,null,null,null,null,null,null,null,null,null,null,null,null,null,{"$f":"FlashCards!AQ1596","v":0},0,0,0,0,2310400,{"$f":"FlashCards!AE1596","v":1593},10000]
[null,null,null,null,null,null,null,null,null,null,null,null,null,null,null,null,null,null,null,null,null,null,null,{"$f":"FlashCards!AQ1597","v":0},0,0,0,0,2310400,{"$f":"FlashCards!AE1597","v":1594},10000]
[null,null,null,null,null,null,null,null,null,null,null,null,null,null,null,null,null,null,null,null,null,null,null,{"$f":"FlashCards!AQ1598","v":0},0,0,0,0,2310400,{"$f":"FlashCards!AE1598","v":1595},10000]
[null,null,null,null,null,null,null,null,null,null,null,null,null,null,null,null,null,null,null,null,null,null,null,{"$f":"FlashCards!AQ1599","v":0},0,0,0,0,2310400,{"$f":"FlashCards!AE1599","v":1596},10000]
[null,null,null,null,null,null,null,null,null,null,null,null,null,null,null,null,null,null,null,null,null,null,null,{"$f":"FlashCards!AQ1600","v":0},0,0,0,0,2310400,{"$f":"FlashCards!AE1600","v":1597},10000]
[null,null,null,null,null,null,null,null,null,null,null,null,null,null,null,null,null,null,null,null,null,null,null,{"$f":"FlashCards!AQ1601","v":0},0,0,0,0,2310400,{"$f":"FlashCards!AE1601","v":1598},10000]
[null,null,null,null,null,null,null,null,null,null,null,null,null,null,null,null,null,null,null,null,null,null,null,{"$f":"FlashCards!AQ1602","v":0},0,0,0,0,2310400,{"$f":"FlashCards!AE1602","v":1599},10000]
[null,null,null,null,null,null,null,null,null,null,null,null,null,null,null,null,null,null,null,null,null,null,null,{"$f":"FlashCards!AQ1603","v":0},0,0,0,0,2310400,{"$f":"FlashCards!AE1603","v":1600},10000]
[null,null,null,null,null,null,null,null,null,null,null,null,null,null,null,null,null,null,null,null,null,null,null,{"$f":"FlashCards!AQ1604","v":0},0,0,0,0,2310400,{"$f":"FlashCards!AE1604","v":1601},10000]
[null,null,null,null,null,null,null,null,null,null,null,null,null,null,null,null,null,null,null,null,null,null,null,{"$f":"FlashCards!AQ1605","v":0},{"$f":"VALUE(X1604)","v":0},{"$f":"IF(ISERR(FIND(\"+\",X1604,1)),0,FIND(\"+\",X1604,1))","v":0},{"$f":"IF(ISERR(FIND(\",\",X1604,1)),0,FIND(\",\",X1604,1))","v":0},{"$f":"IF(Z1604>0,VALUE(LEFT(X1604,Z1604-1)),IF(AA1604>0,VALUE(LEFT(X1604,AA1604-1)),IF(ISERR(Y1604),VALUE(LEFT(X1604,LEN(X1604)-1)),Y1604)))","v":0},{"$f":"(AB1604-U$28)^2","v":2310400},{"$f":"FlashCards!AE1605","v":1602},{"$f":"IF(AB1604=0,10000,AB1604)","v":10000}]
[null,null,null,null,null,null,null,null,null,null,null,null,null,null,null,null,null,null,null,null,null,null,null,{"$f":"FlashCards!AQ1606","v":0},0,0,0,0,2310400,{"$f":"FlashCards!AE1606","v":1603},10000]
[null,null,null,null,null,null,null,null,null,null,null,null,null,null,null,null,null,null,null,null,null,null,null,{"$f":"FlashCards!AQ1607","v":0},0,0,0,0,2310400,{"$f":"FlashCards!AE1607","v":1604},10000]
[null,null,null,null,null,null,null,null,null,null,null,null,null,null,null,null,null,null,null,null,null,null,null,{"$f":"FlashCards!AQ1608","v":0},0,0,0,0,2310400,{"$f":"FlashCards!AE1608","v":1605},10000]
[null,null,null,null,null,null,null,null,null,null,null,null,null,null,null,null,null,null,null,null,null,null,null,{"$f":"FlashCards!AQ1609","v":0},0,0,0,0,2310400,{"$f":"FlashCards!AE1609","v":1606},10000]
[null,null,null,null,null,null,null,null,null,null,null,null,null,null,null,null,null,null,null,null,null,null,null,{"$f":"FlashCards!AQ1610","v":0},0,0,0,0,2310400,{"$f":"FlashCards!AE1610","v":1607},10000]
[null,null,null,null,null,null,null,null,null,null,null,null,null,null,null,null,null,null,null,null,null,null,null,{"$f":"FlashCards!AQ1611","v":0},0,0,0,0,2310400,{"$f":"FlashCards!AE1611","v":1608},10000]
[null,null,null,null,null,null,null,null,null,null,null,null,null,null,null,null,null,null,null,null,null,null,null,{"$f":"FlashCards!AQ1612","v":0},0,0,0,0,2310400,{"$f":"FlashCards!AE1612","v":1609},10000]
[null,null,null,null,null,null,null,null,null,null,null,null,null,null,null,null,null,null,null,null,null,null,null,{"$f":"FlashCards!AQ1613","v":0},0,0,0,0,2310400,{"$f":"FlashCards!AE1613","v":1610},10000]
[null,null,null,null,null,null,null,null,null,null,null,null,null,null,null,null,null,null,null,null,null,null,null,{"$f":"FlashCards!AQ1614","v":0},0,0,0,0,2310400,{"$f":"FlashCards!AE1614","v":1611},10000]
[null,null,null,null,null,null,null,null,null,null,null,null,null,null,null,null,null,null,null,null,null,null,null,{"$f":"FlashCards!AQ1615","v":0},0,0,0,0,2310400,{"$f":"FlashCards!AE1615","v":1612},10000]
[null,null,null,null,null,null,null,null,null,null,null,null,null,null,null,null,null,null,null,null,null,null,null,{"$f":"FlashCards!AQ1616","v":0},0,0,0,0,2310400,{"$f":"FlashCards!AE1616","v":1613},10000]
[null,null,null,null,null,null,null,null,null,null,null,null,null,null,null,null,null,null,null,null,null,null,null,{"$f":"FlashCards!AQ1617","v":0},0,0,0,0,2310400,{"$f":"FlashCards!AE1617","v":1614},10000]
[null,null,null,null,null,null,null,null,null,null,null,null,null,null,null,null,null,null,null,null,null,null,null,{"$f":"FlashCards!AQ1618","v":0},0,0,0,0,2310400,{"$f":"FlashCards!AE1618","v":1615},10000]
[null,null,null,null,null,null,null,null,null,null,null,null,null,null,null,null,null,null,null,null,null,null,null,{"$f":"FlashCards!AQ1619","v":0},0,0,0,0,2310400,{"$f":"FlashCards!AE1619","v":1616},10000]
[null,null,null,null,null,null,null,null,null,null,null,null,null,null,null,null,null,null,null,null,null,null,null,{"$f":"FlashCards!AQ1620","v":0},0,0,0,0,2310400,{"$f":"FlashCards!AE1620","v":1617},10000]
[null,null,null,null,null,null,null,null,null,null,null,null,null,null,null,null,null,null,null,null,null,null,null,{"$f":"FlashCards!AQ1621","v":0},0,0,0,0,2310400,{"$f":"FlashCards!AE1621","v":1618},10000]
[null,null,null,null,null,null,null,null,null,null,null,null,null,null,null,null,null,null,null,null,null,null,null,{"$f":"FlashCards!AQ1622","v":0},0,0,0,0,2310400,{"$f":"FlashCards!AE1622","v":1619},10000]
[null,null,null,null,null,null,null,null,null,null,null,null,null,null,null,null,null,null,null,null,null,null,null,{"$f":"FlashCards!AQ1623","v":0},0,0,0,0,2310400,{"$f":"FlashCards!AE1623","v":1620},10000]
[null,null,null,null,null,null,null,null,null,null,null,null,null,null,null,null,null,null,null,null,null,null,null,{"$f":"FlashCards!AQ1624","v":0},0,0,0,0,2310400,{"$f":"FlashCards!AE1624","v":1621},10000]
[null,null,null,null,null,null,null,null,null,null,null,null,null,null,null,null,null,null,null,null,null,null,null,{"$f":"FlashCards!AQ1625","v":0},0,0,0,0,2310400,{"$f":"FlashCards!AE1625","v":1622},10000]
[null,null,null,null,null,null,null,null,null,null,null,null,null,null,null,null,null,null,null,null,null,null,null,{"$f":"FlashCards!AQ1626","v":0},0,0,0,0,2310400,{"$f":"FlashCards!AE1626","v":1623},10000]
[null,null,null,null,null,null,null,null,null,null,null,null,null,null,null,null,null,null,null,null,null,null,null,{"$f":"FlashCards!AQ1627","v":0},0,0,0,0,2310400,{"$f":"FlashCards!AE1627","v":1624},10000]
[null,null,null,null,null,null,null,null,null,null,null,null,null,null,null,null,null,null,null,null,null,null,null,{"$f":"FlashCards!AQ1628","v":0},0,0,0,0,2310400,{"$f":"FlashCards!AE1628","v":1625},10000]
[null,null,null,null,null,null,null,null,null,null,null,null,null,null,null,null,null,null,null,null,null,null,null,{"$f":"FlashCards!AQ1629","v":0},0,0,0,0,2310400,{"$f":"FlashCards!AE1629","v":1626},10000]
[null,null,null,null,null,null,null,null,null,null,null,null,null,null,null,null,null,null,null,null,null,null,null,{"$f":"FlashCards!AQ1630","v":0},0,0,0,0,2310400,{"$f":"FlashCards!AE1630","v":1627},10000]
[null,null,null,null,null,null,null,null,null,null,null,null,null,null,null,null,null,null,null,null,null,null,null,{"$f":"FlashCards!AQ1631","v":0},0,0,0,0,2310400,{"$f":"FlashCards!AE1631","v":1628},10000]
[null,null,null,null,null,null,null,null,null,null,null,null,null,null,null,null,null,null,null,null,null,null,null,{"$f":"FlashCards!AQ1632","v":0},0,0,0,0,2310400,{"$f":"FlashCards!AE1632","v":1629},10000]
[null,null,null,null,null,null,null,null,null,null,null,null,null,null,null,null,null,null,null,null,null,null,null,{"$f":"FlashCards!AQ1633","v":0},0,0,0,0,2310400,{"$f":"FlashCards!AE1633","v":1630},10000]
[null,null,null,null,null,null,null,null,null,null,null,null,null,null,null,null,null,null,null,null,null,null,null,{"$f":"FlashCards!AQ1634","v":0},0,0,0,0,2310400,{"$f":"FlashCards!AE1634","v":1631},10000]
[null,null,null,null,null,null,null,null,null,null,null,null,null,null,null,null,null,null,null,null,null,null,null,{"$f":"FlashCards!AQ1635","v":0},0,0,0,0,2310400,{"$f":"FlashCards!AE1635","v":1632},10000]
[null,null,null,null,null,null,null,null,null,null,null,null,null,null,null,null,null,null,null,null,null,null,null,{"$f":"FlashCards!AQ1636","v":0},0,0,0,0,2310400,{"$f":"FlashCards!AE1636","v":1633},10000]
[null,null,null,null,null,null,null,null,null,null,null,null,null,null,null,null,null,null,null,null,null,null,null,{"$f":"FlashCards!AQ1637","v":0},0,0,0,0,2310400,{"$f":"FlashCards!AE1637","v":1634},10000]
[null,null,null,null,null,null,null,null,null,null,null,null,null,null,null,null,null,null,null,null,null,null,null,{"$f":"FlashCards!AQ1638","v":0},0,0,0,0,2310400,{"$f":"FlashCards!AE1638","v":1635},10000]
[null,null,null,null,null,null,null,null,null,null,null,null,null,null,null,null,null,null,null,null,null,null,null,{"$f":"FlashCards!AQ1639","v":0},0,0,0,0,2310400,{"$f":"FlashCards!AE1639","v":1636},10000]
[null,null,null,null,null,null,null,null,null,null,null,null,null,null,null,null,null,null,null,null,null,null,null,{"$f":"FlashCards!AQ1640","v":0},0,0,0,0,2310400,{"$f":"FlashCards!AE1640","v":1637},10000]
[null,null,null,null,null,null,null,null,null,null,null,null,null,null,null,null,null,null,null,null,null,null,null,{"$f":"FlashCards!AQ1641","v":0},0,0,0,0,2310400,{"$f":"FlashCards!AE1641","v":1638},10000]
[null,null,null,null,null,null,null,null,null,null,null,null,null,null,null,null,null,null,null,null,null,null,null,{"$f":"FlashCards!AQ1642","v":0},0,0,0,0,2310400,{"$f":"FlashCards!AE1642","v":1639},10000]
[null,null,null,null,null,null,null,null,null,null,null,null,null,null,null,null,null,null,null,null,null,null,null,{"$f":"FlashCards!AQ1643","v":0},0,0,0,0,2310400,{"$f":"FlashCards!AE1643","v":1640},10000]
[null,null,null,null,null,null,null,null,null,null,null,null,null,null,null,null,null,null,null,null,null,null,null,{"$f":"FlashCards!AQ1644","v":0},0,0,0,0,2310400,{"$f":"FlashCards!AE1644","v":1641},10000]
[null,null,null,null,null,null,null,null,null,null,null,null,null,null,null,null,null,null,null,null,null,null,null,{"$f":"FlashCards!AQ1645","v":0},0,0,0,0,2310400,{"$f":"FlashCards!AE1645","v":1642},10000]
[null,null,null,null,null,null,null,null,null,null,null,null,null,null,null,null,null,null,null,null,null,null,null,{"$f":"FlashCards!AQ1646","v":0},0,0,0,0,2310400,{"$f":"FlashCards!AE1646","v":1643},10000]
[null,null,null,null,null,null,null,null,null,null,null,null,null,null,null,null,null,null,null,null,null,null,null,{"$f":"FlashCards!AQ1647","v":0},0,0,0,0,2310400,{"$f":"FlashCards!AE1647","v":1644},10000]
[null,null,null,null,null,null,null,null,null,null,null,null,null,null,null,null,null,null,null,null,null,null,null,{"$f":"FlashCards!AQ1648","v":0},0,0,0,0,2310400,{"$f":"FlashCards!AE1648","v":1645},10000]
[null,null,null,null,null,null,null,null,null,null,null,null,null,null,null,null,null,null,null,null,null,null,null,{"$f":"FlashCards!AQ1649","v":0},0,0,0,0,2310400,{"$f":"FlashCards!AE1649","v":1646},10000]
[null,null,null,null,null,null,null,null,null,null,null,null,null,null,null,null,null,null,null,null,null,null,null,{"$f":"FlashCards!AQ1650","v":0},0,0,0,0,2310400,{"$f":"FlashCards!AE1650","v":1647},10000]
[null,null,null,null,null,null,null,null,null,null,null,null,null,null,null,null,null,null,null,null,null,null,null,{"$f":"FlashCards!AQ1651","v":0},0,0,0,0,2310400,{"$f":"FlashCards!AE1651","v":1648},10000]
[null,null,null,null,null,null,null,null,null,null,null,null,null,null,null,null,null,null,null,null,null,null,null,{"$f":"FlashCards!AQ1652","v":0},0,0,0,0,2310400,{"$f":"FlashCards!AE1652","v":1649},10000]
[null,null,null,null,null,null,null,null,null,null,null,null,null,null,null,null,null,null,null,null,null,null,null,{"$f":"FlashCards!AQ1653","v":0},0,0,0,0,2310400,{"$f":"FlashCards!AE1653","v":1650},10000]
[null,null,null,null,null,null,null,null,null,null,null,null,null,null,null,null,null,null,null,null,null,null,null,{"$f":"FlashCards!AQ1654","v":0},0,0,0,0,2310400,{"$f":"FlashCards!AE1654","v":1651},10000]
[null,null,null,null,null,null,null,null,null,null,null,null,null,null,null,null,null,null,null,null,null,null,null,{"$f":"FlashCards!AQ1655","v":0},0,0,0,0,2310400,{"$f":"FlashCards!AE1655","v":1652},10000]
[null,null,null,null,null,null,null,null,null,null,null,null,null,null,null,null,null,null,null,null,null,null,null,{"$f":"FlashCards!AQ1656","v":0},0,0,0,0,2310400,{"$f":"FlashCards!AE1656","v":1653},10000]
[null,null,null,null,null,null,null,null,null,null,null,null,null,null,null,null,null,null,null,null,null,null,null,{"$f":"FlashCards!AQ1657","v":0},0,0,0,0,2310400,{"$f":"FlashCards!AE1657","v":1654},10000]
[null,null,null,null,null,null,null,null,null,null,null,null,null,null,null,null,null,null,null,null,null,null,null,{"$f":"FlashCards!AQ1658","v":0},0,0,0,0,2310400,{"$f":"FlashCards!AE1658","v":1655},10000]
[null,null,null,null,null,null,null,null,null,null,null,null,null,null,null,null,null,null,null,null,null,null,null,{"$f":"FlashCards!AQ1659","v":0},0,0,0,0,2310400,{"$f":"FlashCards!AE1659","v":1656},10000]
[null,null,null,null,null,null,null,null,null,null,null,null,null,null,null,null,null,null,null,null,null,null,null,{"$f":"FlashCards!AQ1660","v":0},0,0,0,0,2310400,{"$f":"FlashCards!AE1660","v":1657},10000]
[null,null,null,null,null,null,null,null,null,null,null,null,null,null,null,null,null,null,null,null,null,null,null,{"$f":"FlashCards!AQ1661","v":0},0,0,0,0,2310400,{"$f":"FlashCards!AE1661","v":1658},10000]
[null,null,null,null,null,null,null,null,null,null,null,null,null,null,null,null,null,null,null,null,null,null,null,{"$f":"FlashCards!AQ1662","v":0},0,0,0,0,2310400,{"$f":"FlashCards!AE1662","v":1659},10000]
[null,null,null,null,null,null,null,null,null,null,null,null,null,null,null,null,null,null,null,null,null,null,null,{"$f":"FlashCards!AQ1663","v":0},0,0,0,0,2310400,{"$f":"FlashCards!AE1663","v":1660},10000]
[null,null,null,null,null,null,null,null,null,null,null,null,null,null,null,null,null,null,null,null,null,null,null,{"$f":"FlashCards!AQ1664","v":0},0,0,0,0,2310400,{"$f":"FlashCards!AE1664","v":1661},10000]
[null,null,null,null,null,null,null,null,null,null,null,null,null,null,null,null,null,null,null,null,null,null,null,{"$f":"FlashCards!AQ1665","v":0},0,0,0,0,2310400,{"$f":"FlashCards!AE1665","v":1662},10000]
[null,null,null,null,null,null,null,null,null,null,null,null,null,null,null,null,null,null,null,null,null,null,null,{"$f":"FlashCards!AQ1666","v":0},0,0,0,0,2310400,{"$f":"FlashCards!AE1666","v":1663},10000]
[null,null,null,null,null,null,null,null,null,null,null,null,null,null,null,null,null,null,null,null,null,null,null,{"$f":"FlashCards!AQ1667","v":0},0,0,0,0,2310400,{"$f":"FlashCards!AE1667","v":1664},10000]
[null,null,null,null,null,null,null,null,null,null,null,null,null,null,null,null,null,null,null,null,null,null,null,{"$f":"FlashCards!AQ1668","v":0},0,0,0,0,2310400,{"$f":"FlashCards!AE1668","v":1665},10000]
[null,null,null,null,null,null,null,null,null,null,null,null,null,null,null,null,null,null,null,null,null,null,null,{"$f":"FlashCards!AQ1669","v":0},{"$f":"VALUE(X1668)","v":0},{"$f":"IF(ISERR(FIND(\"+\",X1668,1)),0,FIND(\"+\",X1668,1))","v":0},{"$f":"IF(ISERR(FIND(\",\",X1668,1)),0,FIND(\",\",X1668,1))","v":0},{"$f":"IF(Z1668>0,VALUE(LEFT(X1668,Z1668-1)),IF(AA1668>0,VALUE(LEFT(X1668,AA1668-1)),IF(ISERR(Y1668),VALUE(LEFT(X1668,LEN(X1668)-1)),Y1668)))","v":0},{"$f":"(AB1668-U$28)^2","v":2310400},{"$f":"FlashCards!AE1669","v":1666},{"$f":"IF(AB1668=0,10000,AB1668)","v":10000}]
[null,null,null,null,null,null,null,null,null,null,null,null,null,null,null,null,null,null,null,null,null,null,null,{"$f":"FlashCards!AQ1670","v":0},0,0,0,0,2310400,{"$f":"FlashCards!AE1670","v":1667},10000]
[null,null,null,null,null,null,null,null,null,null,null,null,null,null,null,null,null,null,null,null,null,null,null,{"$f":"FlashCards!AQ1671","v":0},0,0,0,0,2310400,{"$f":"FlashCards!AE1671","v":1668},10000]
[null,null,null,null,null,null,null,null,null,null,null,null,null,null,null,null,null,null,null,null,null,null,null,{"$f":"FlashCards!AQ1672","v":0},0,0,0,0,2310400,{"$f":"FlashCards!AE1672","v":1669},10000]
[null,null,null,null,null,null,null,null,null,null,null,null,null,null,null,null,null,null,null,null,null,null,null,{"$f":"FlashCards!AQ1673","v":0},0,0,0,0,2310400,{"$f":"FlashCards!AE1673","v":1670},10000]
[null,null,null,null,null,null,null,null,null,null,null,null,null,null,null,null,null,null,null,null,null,null,null,{"$f":"FlashCards!AQ1674","v":0},0,0,0,0,2310400,{"$f":"FlashCards!AE1674","v":1671},10000]
[null,null,null,null,null,null,null,null,null,null,null,null,null,null,null,null,null,null,null,null,null,null,null,{"$f":"FlashCards!AQ1675","v":0},0,0,0,0,2310400,{"$f":"FlashCards!AE1675","v":1672},10000]
[null,null,null,null,null,null,null,null,null,null,null,null,null,null,null,null,null,null,null,null,null,null,null,{"$f":"FlashCards!AQ1676","v":0},0,0,0,0,2310400,{"$f":"FlashCards!AE1676","v":1673},10000]
[null,null,null,null,null,null,null,null,null,null,null,null,null,null,null,null,null,null,null,null,null,null,null,{"$f":"FlashCards!AQ1677","v":0},0,0,0,0,2310400,{"$f":"FlashCards!AE1677","v":1674},10000]
[null,null,null,null,null,null,null,null,null,null,null,null,null,null,null,null,null,null,null,null,null,null,null,{"$f":"FlashCards!AQ1678","v":0},0,0,0,0,2310400,{"$f":"FlashCards!AE1678","v":1675},10000]
[null,null,null,null,null,null,null,null,null,null,null,null,null,null,null,null,null,null,null,null,null,null,null,{"$f":"FlashCards!AQ1679","v":0},0,0,0,0,2310400,{"$f":"FlashCards!AE1679","v":1676},10000]
[null,null,null,null,null,null,null,null,null,null,null,null,null,null,null,null,null,null,null,null,null,null,null,{"$f":"FlashCards!AQ1680","v":0},0,0,0,0,2310400,{"$f":"FlashCards!AE1680","v":1677},10000]
[null,null,null,null,null,null,null,null,null,null,null,null,null,null,null,null,null,null,null,null,null,null,null,{"$f":"FlashCards!AQ1681","v":0},0,0,0,0,2310400,{"$f":"FlashCards!AE1681","v":1678},10000]
[null,null,null,null,null,null,null,null,null,null,null,null,null,null,null,null,null,null,null,null,null,null,null,{"$f":"FlashCards!AQ1682","v":0},0,0,0,0,2310400,{"$f":"FlashCards!AE1682","v":1679},10000]
[null,null,null,null,null,null,null,null,null,null,null,null,null,null,null,null,null,null,null,null,null,null,null,{"$f":"FlashCards!AQ1683","v":0},0,0,0,0,2310400,{"$f":"FlashCards!AE1683","v":1680},10000]
[null,null,null,null,null,null,null,null,null,null,null,null,null,null,null,null,null,null,null,null,null,null,null,{"$f":"FlashCards!AQ1684","v":0},0,0,0,0,2310400,{"$f":"FlashCards!AE1684","v":1681},10000]
[null,null,null,null,null,null,null,null,null,null,null,null,null,null,null,null,null,null,null,null,null,null,null,{"$f":"FlashCards!AQ1685","v":0},0,0,0,0,2310400,{"$f":"FlashCards!AE1685","v":1682},10000]
[null,null,null,null,null,null,null,null,null,null,null,null,null,null,null,null,null,null,null,null,null,null,null,{"$f":"FlashCards!AQ1686","v":0},0,0,0,0,2310400,{"$f":"FlashCards!AE1686","v":1683},10000]
[null,null,null,null,null,null,null,null,null,null,null,null,null,null,null,null,null,null,null,null,null,null,null,{"$f":"FlashCards!AQ1687","v":0},0,0,0,0,2310400,{"$f":"FlashCards!AE1687","v":1684},10000]
[null,null,null,null,null,null,null,null,null,null,null,null,null,null,null,null,null,null,null,null,null,null,null,{"$f":"FlashCards!AQ1688","v":0},0,0,0,0,2310400,{"$f":"FlashCards!AE1688","v":1685},10000]
[null,null,null,null,null,null,null,null,null,null,null,null,null,null,null,null,null,null,null,null,null,null,null,{"$f":"FlashCards!AQ1689","v":0},0,0,0,0,2310400,{"$f":"FlashCards!AE1689","v":1686},10000]
[null,null,null,null,null,null,null,null,null,null,null,null,null,null,null,null,null,null,null,null,null,null,null,{"$f":"FlashCards!AQ1690","v":0},0,0,0,0,2310400,{"$f":"FlashCards!AE1690","v":1687},10000]
[null,null,null,null,null,null,null,null,null,null,null,null,null,null,null,null,null,null,null,null,null,null,null,{"$f":"FlashCards!AQ1691","v":0},0,0,0,0,2310400,{"$f":"FlashCards!AE1691","v":1688},10000]
[null,null,null,null,null,null,null,null,null,null,null,null,null,null,null,null,null,null,null,null,null,null,null,{"$f":"FlashCards!AQ1692","v":0},0,0,0,0,2310400,{"$f":"FlashCards!AE1692","v":1689},10000]
[null,null,null,null,null,null,null,null,null,null,null,null,null,null,null,null,null,null,null,null,null,null,null,{"$f":"FlashCards!AQ1693","v":0},0,0,0,0,2310400,{"$f":"FlashCards!AE1693","v":1690},10000]
[null,null,null,null,null,null,null,null,null,null,null,null,null,null,null,null,null,null,null,null,null,null,null,{"$f":"FlashCards!AQ1694","v":0},0,0,0,0,2310400,{"$f":"FlashCards!AE1694","v":1691},10000]
[null,null,null,null,null,null,null,null,null,null,null,null,null,null,null,null,null,null,null,null,null,null,null,{"$f":"FlashCards!AQ1695","v":0},0,0,0,0,2310400,{"$f":"FlashCards!AE1695","v":1692},10000]
[null,null,null,null,null,null,null,null,null,null,null,null,null,null,null,null,null,null,null,null,null,null,null,{"$f":"FlashCards!AQ1696","v":0},0,0,0,0,2310400,{"$f":"FlashCards!AE1696","v":1693},10000]
[null,null,null,null,null,null,null,null,null,null,null,null,null,null,null,null,null,null,null,null,null,null,null,{"$f":"FlashCards!AQ1697","v":0},0,0,0,0,2310400,{"$f":"FlashCards!AE1697","v":1694},10000]
[null,null,null,null,null,null,null,null,null,null,null,null,null,null,null,null,null,null,null,null,null,null,null,{"$f":"FlashCards!AQ1698","v":0},0,0,0,0,2310400,{"$f":"FlashCards!AE1698","v":1695},10000]
[null,null,null,null,null,null,null,null,null,null,null,null,null,null,null,null,null,null,null,null,null,null,null,{"$f":"FlashCards!AQ1699","v":0},0,0,0,0,2310400,{"$f":"FlashCards!AE1699","v":1696},10000]
[null,null,null,null,null,null,null,null,null,null,null,null,null,null,null,null,null,null,null,null,null,null,null,{"$f":"FlashCards!AQ1700","v":0},0,0,0,0,2310400,{"$f":"FlashCards!AE1700","v":1697},10000]
[null,null,null,null,null,null,null,null,null,null,null,null,null,null,null,null,null,null,null,null,null,null,null,{"$f":"FlashCards!AQ1701","v":0},0,0,0,0,2310400,{"$f":"FlashCards!AE1701","v":1698},10000]
[null,null,null,null,null,null,null,null,null,null,null,null,null,null,null,null,null,null,null,null,null,null,null,{"$f":"FlashCards!AQ1702","v":0},0,0,0,0,2310400,{"$f":"FlashCards!AE1702","v":1699},10000]
[null,null,null,null,null,null,null,null,null,null,null,null,null,null,null,null,null,null,null,null,null,null,null,{"$f":"FlashCards!AQ1703","v":0},0,0,0,0,2310400,{"$f":"FlashCards!AE1703","v":1700},10000]
[null,null,null,null,null,null,null,null,null,null,null,null,null,null,null,null,null,null,null,null,null,null,null,{"$f":"FlashCards!AQ1704","v":0},0,0,0,0,2310400,{"$f":"FlashCards!AE1704","v":1701},10000]
[null,null,null,null,null,null,null,null,null,null,null,null,null,null,null,null,null,null,null,null,null,null,null,{"$f":"FlashCards!AQ1705","v":0},0,0,0,0,2310400,{"$f":"FlashCards!AE1705","v":1702},10000]
[null,null,null,null,null,null,null,null,null,null,null,null,null,null,null,null,null,null,null,null,null,null,null,{"$f":"FlashCards!AQ1706","v":0},0,0,0,0,2310400,{"$f":"FlashCards!AE1706","v":1703},10000]
[null,null,null,null,null,null,null,null,null,null,null,null,null,null,null,null,null,null,null,null,null,null,null,{"$f":"FlashCards!AQ1707","v":0},0,0,0,0,2310400,{"$f":"FlashCards!AE1707","v":1704},10000]
[null,null,null,null,null,null,null,null,null,null,null,null,null,null,null,null,null,null,null,null,null,null,null,{"$f":"FlashCards!AQ1708","v":0},0,0,0,0,2310400,{"$f":"FlashCards!AE1708","v":1705},10000]
[null,null,null,null,null,null,null,null,null,null,null,null,null,null,null,null,null,null,null,null,null,null,null,{"$f":"FlashCards!AQ1709","v":0},0,0,0,0,2310400,{"$f":"FlashCards!AE1709","v":1706},10000]
[null,null,null,null,null,null,null,null,null,null,null,null,null,null,null,null,null,null,null,null,null,null,null,{"$f":"FlashCards!AQ1710","v":0},0,0,0,0,2310400,{"$f":"FlashCards!AE1710","v":1707},10000]
[null,null,null,null,null,null,null,null,null,null,null,null,null,null,null,null,null,null,null,null,null,null,null,{"$f":"FlashCards!AQ1711","v":0},0,0,0,0,2310400,{"$f":"FlashCards!AE1711","v":1708},10000]
[null,null,null,null,null,null,null,null,null,null,null,null,null,null,null,null,null,null,null,null,null,null,null,{"$f":"FlashCards!AQ1712","v":0},0,0,0,0,2310400,{"$f":"FlashCards!AE1712","v":1709},10000]
[null,null,null,null,null,null,null,null,null,null,null,null,null,null,null,null,null,null,null,null,null,null,null,{"$f":"FlashCards!AQ1713","v":0},0,0,0,0,2310400,{"$f":"FlashCards!AE1713","v":1710},10000]
[null,null,null,null,null,null,null,null,null,null,null,null,null,null,null,null,null,null,null,null,null,null,null,{"$f":"FlashCards!AQ1714","v":0},0,0,0,0,2310400,{"$f":"FlashCards!AE1714","v":1711},10000]
[null,null,null,null,null,null,null,null,null,null,null,null,null,null,null,null,null,null,null,null,null,null,null,{"$f":"FlashCards!AQ1715","v":0},0,0,0,0,2310400,{"$f":"FlashCards!AE1715","v":1712},10000]
[null,null,null,null,null,null,null,null,null,null,null,null,null,null,null,null,null,null,null,null,null,null,null,{"$f":"FlashCards!AQ1716","v":0},0,0,0,0,2310400,{"$f":"FlashCards!AE1716","v":1713},10000]
[null,null,null,null,null,null,null,null,null,null,null,null,null,null,null,null,null,null,null,null,null,null,null,{"$f":"FlashCards!AQ1717","v":0},0,0,0,0,2310400,{"$f":"FlashCards!AE1717","v":1714},10000]
[null,null,null,null,null,null,null,null,null,null,null,null,null,null,null,null,null,null,null,null,null,null,null,{"$f":"FlashCards!AQ1718","v":0},0,0,0,0,2310400,{"$f":"FlashCards!AE1718","v":1715},10000]
[null,null,null,null,null,null,null,null,null,null,null,null,null,null,null,null,null,null,null,null,null,null,null,{"$f":"FlashCards!AQ1719","v":0},0,0,0,0,2310400,{"$f":"FlashCards!AE1719","v":1716},10000]
[null,null,null,null,null,null,null,null,null,null,null,null,null,null,null,null,null,null,null,null,null,null,null,{"$f":"FlashCards!AQ1720","v":0},0,0,0,0,2310400,{"$f":"FlashCards!AE1720","v":1717},10000]
[null,null,null,null,null,null,null,null,null,null,null,null,null,null,null,null,null,null,null,null,null,null,null,{"$f":"FlashCards!AQ1721","v":0},0,0,0,0,2310400,{"$f":"FlashCards!AE1721","v":1718},10000]
[null,null,null,null,null,null,null,null,null,null,null,null,null,null,null,null,null,null,null,null,null,null,null,{"$f":"FlashCards!AQ1722","v":0},0,0,0,0,2310400,{"$f":"FlashCards!AE1722","v":1719},10000]
[null,null,null,null,null,null,null,null,null,null,null,null,null,null,null,null,null,null,null,null,null,null,null,{"$f":"FlashCards!AQ1723","v":0},0,0,0,0,2310400,{"$f":"FlashCards!AE1723","v":1720},10000]
[null,null,null,null,null,null,null,null,null,null,null,null,null,null,null,null,null,null,null,null,null,null,null,{"$f":"FlashCards!AQ1724","v":0},0,0,0,0,2310400,{"$f":"FlashCards!AE1724","v":1721},10000]
[null,null,null,null,null,null,null,null,null,null,null,null,null,null,null,null,null,null,null,null,null,null,null,{"$f":"FlashCards!AQ1725","v":0},0,0,0,0,2310400,{"$f":"FlashCards!AE1725","v":1722},10000]
[null,null,null,null,null,null,null,null,null,null,null,null,null,null,null,null,null,null,null,null,null,null,null,{"$f":"FlashCards!AQ1726","v":0},0,0,0,0,2310400,{"$f":"FlashCards!AE1726","v":1723},10000]
[null,null,null,null,null,null,null,null,null,null,null,null,null,null,null,null,null,null,null,null,null,null,null,{"$f":"FlashCards!AQ1727","v":0},0,0,0,0,2310400,{"$f":"FlashCards!AE1727","v":1724},10000]
[null,null,null,null,null,null,null,null,null,null,null,null,null,null,null,null,null,null,null,null,null,null,null,{"$f":"FlashCards!AQ1728","v":0},0,0,0,0,2310400,{"$f":"FlashCards!AE1728","v":1725},10000]
[null,null,null,null,null,null,null,null,null,null,null,null,null,null,null,null,null,null,null,null,null,null,null,{"$f":"FlashCards!AQ1729","v":0},0,0,0,0,2310400,{"$f":"FlashCards!AE1729","v":1726},10000]
[null,null,null,null,null,null,null,null,null,null,null,null,null,null,null,null,null,null,null,null,null,null,null,{"$f":"FlashCards!AQ1730","v":0},0,0,0,0,2310400,{"$f":"FlashCards!AE1730","v":1727},10000]
[null,null,null,null,null,null,null,null,null,null,null,null,null,null,null,null,null,null,null,null,null,null,null,{"$f":"FlashCards!AQ1731","v":0},0,0,0,0,2310400,{"$f":"FlashCards!AE1731","v":1728},10000]
[null,null,null,null,null,null,null,null,null,null,null,null,null,null,null,null,null,null,null,null,null,null,null,{"$f":"FlashCards!AQ1732","v":0},0,0,0,0,2310400,{"$f":"FlashCards!AE1732","v":1729},10000]
[null,null,null,null,null,null,null,null,null,null,null,null,null,null,null,null,null,null,null,null,null,null,null,{"$f":"FlashCards!AQ1733","v":0},{"$f":"VALUE(X1732)","v":0},{"$f":"IF(ISERR(FIND(\"+\",X1732,1)),0,FIND(\"+\",X1732,1))","v":0},{"$f":"IF(ISERR(FIND(\",\",X1732,1)),0,FIND(\",\",X1732,1))","v":0},{"$f":"IF(Z1732>0,VALUE(LEFT(X1732,Z1732-1)),IF(AA1732>0,VALUE(LEFT(X1732,AA1732-1)),IF(ISERR(Y1732),VALUE(LEFT(X1732,LEN(X1732)-1)),Y1732)))","v":0},{"$f":"(AB1732-U$28)^2","v":2310400},{"$f":"FlashCards!AE1733","v":1730},{"$f":"IF(AB1732=0,10000,AB1732)","v":10000}]
[null,null,null,null,null,null,null,null,null,null,null,null,null,null,null,null,null,null,null,null,null,null,null,{"$f":"FlashCards!AQ1734","v":0},0,0,0,0,2310400,{"$f":"FlashCards!AE1734","v":1731},10000]
[null,null,null,null,null,null,null,null,null,null,null,null,null,null,null,null,null,null,null,null,null,null,null,{"$f":"FlashCards!AQ1735","v":0},0,0,0,0,2310400,{"$f":"FlashCards!AE1735","v":1732},10000]
[null,null,null,null,null,null,null,null,null,null,null,null,null,null,null,null,null,null,null,null,null,null,null,{"$f":"FlashCards!AQ1736","v":0},0,0,0,0,2310400,{"$f":"FlashCards!AE1736","v":1733},10000]
[null,null,null,null,null,null,null,null,null,null,null,null,null,null,null,null,null,null,null,null,null,null,null,{"$f":"FlashCards!AQ1737","v":0},0,0,0,0,2310400,{"$f":"FlashCards!AE1737","v":1734},10000]
[null,null,null,null,null,null,null,null,null,null,null,null,null,null,null,null,null,null,null,null,null,null,null,{"$f":"FlashCards!AQ1738","v":0},0,0,0,0,2310400,{"$f":"FlashCards!AE1738","v":1735},10000]
[null,null,null,null,null,null,null,null,null,null,null,null,null,null,null,null,null,null,null,null,null,null,null,{"$f":"FlashCards!AQ1739","v":0},0,0,0,0,2310400,{"$f":"FlashCards!AE1739","v":1736},10000]
[null,null,null,null,null,null,null,null,null,null,null,null,null,null,null,null,null,null,null,null,null,null,null,{"$f":"FlashCards!AQ1740","v":0},0,0,0,0,2310400,{"$f":"FlashCards!AE1740","v":1737},10000]
[null,null,null,null,null,null,null,null,null,null,null,null,null,null,null,null,null,null,null,null,null,null,null,{"$f":"FlashCards!AQ1741","v":0},0,0,0,0,2310400,{"$f":"FlashCards!AE1741","v":1738},10000]
[null,null,null,null,null,null,null,null,null,null,null,null,null,null,null,null,null,null,null,null,null,null,null,{"$f":"FlashCards!AQ1742","v":0},0,0,0,0,2310400,{"$f":"FlashCards!AE1742","v":1739},10000]
[null,null,null,null,null,null,null,null,null,null,null,null,null,null,null,null,null,null,null,null,null,null,null,{"$f":"FlashCards!AQ1743","v":0},0,0,0,0,2310400,{"$f":"FlashCards!AE1743","v":1740},10000]
[null,null,null,null,null,null,null,null,null,null,null,null,null,null,null,null,null,null,null,null,null,null,null,{"$f":"FlashCards!AQ1744","v":0},0,0,0,0,2310400,{"$f":"FlashCards!AE1744","v":1741},10000]
[null,null,null,null,null,null,null,null,null,null,null,null,null,null,null,null,null,null,null,null,null,null,null,{"$f":"FlashCards!AQ1745","v":0},0,0,0,0,2310400,{"$f":"FlashCards!AE1745","v":1742},10000]
[null,null,null,null,null,null,null,null,null,null,null,null,null,null,null,null,null,null,null,null,null,null,null,{"$f":"FlashCards!AQ1746","v":0},0,0,0,0,2310400,{"$f":"FlashCards!AE1746","v":1743},10000]
[null,null,null,null,null,null,null,null,null,null,null,null,null,null,null,null,null,null,null,null,null,null,null,{"$f":"FlashCards!AQ1747","v":0},0,0,0,0,2310400,{"$f":"FlashCards!AE1747","v":1744},10000]
[null,null,null,null,null,null,null,null,null,null,null,null,null,null,null,null,null,null,null,null,null,null,null,{"$f":"FlashCards!AQ1748","v":0},0,0,0,0,2310400,{"$f":"FlashCards!AE1748","v":1745},10000]
[null,null,null,null,null,null,null,null,null,null,null,null,null,null,null,null,null,null,null,null,null,null,null,{"$f":"FlashCards!AQ1749","v":0},0,0,0,0,2310400,{"$f":"FlashCards!AE1749","v":1746},10000]
[null,null,null,null,null,null,null,null,null,null,null,null,null,null,null,null,null,null,null,null,null,null,null,{"$f":"FlashCards!AQ1750","v":0},0,0,0,0,2310400,{"$f":"FlashCards!AE1750","v":1747},10000]
[null,null,null,null,null,null,null,null,null,null,null,null,null,null,null,null,null,null,null,null,null,null,null,{"$f":"FlashCards!AQ1751","v":0},0,0,0,0,2310400,{"$f":"FlashCards!AE1751","v":1748},10000]
[null,null,null,null,null,null,null,null,null,null,null,null,null,null,null,null,null,null,null,null,null,null,null,{"$f":"FlashCards!AQ1752","v":0},0,0,0,0,2310400,{"$f":"FlashCards!AE1752","v":1749},10000]
[null,null,null,null,null,null,null,null,null,null,null,null,null,null,null,null,null,null,null,null,null,null,null,{"$f":"FlashCards!AQ1753","v":0},0,0,0,0,2310400,{"$f":"FlashCards!AE1753","v":1750},10000]
[null,null,null,null,null,null,null,null,null,null,null,null,null,null,null,null,null,null,null,null,null,null,null,{"$f":"FlashCards!AQ1754","v":0},0,0,0,0,2310400,{"$f":"FlashCards!AE1754","v":1751},10000]
[null,null,null,null,null,null,null,null,null,null,null,null,null,null,null,null,null,null,null,null,null,null,null,{"$f":"FlashCards!AQ1755","v":0},0,0,0,0,2310400,{"$f":"FlashCards!AE1755","v":1752},10000]
[null,null,null,null,null,null,null,null,null,null,null,null,null,null,null,null,null,null,null,null,null,null,null,{"$f":"FlashCards!AQ1756","v":0},0,0,0,0,2310400,{"$f":"FlashCards!AE1756","v":1753},10000]
[null,null,null,null,null,null,null,null,null,null,null,null,null,null,null,null,null,null,null,null,null,null,null,{"$f":"FlashCards!AQ1757","v":0},0,0,0,0,2310400,{"$f":"FlashCards!AE1757","v":1754},10000]
[null,null,null,null,null,null,null,null,null,null,null,null,null,null,null,null,null,null,null,null,null,null,null,{"$f":"FlashCards!AQ1758","v":0},0,0,0,0,2310400,{"$f":"FlashCards!AE1758","v":1755},10000]
[null,null,null,null,null,null,null,null,null,null,null,null,null,null,null,null,null,null,null,null,null,null,null,{"$f":"FlashCards!AQ1759","v":0},0,0,0,0,2310400,{"$f":"FlashCards!AE1759","v":1756},10000]
[null,null,null,null,null,null,null,null,null,null,null,null,null,null,null,null,null,null,null,null,null,null,null,{"$f":"FlashCards!AQ1760","v":0},0,0,0,0,2310400,{"$f":"FlashCards!AE1760","v":1757},10000]
[null,null,null,null,null,null,null,null,null,null,null,null,null,null,null,null,null,null,null,null,null,null,null,{"$f":"FlashCards!AQ1761","v":0},0,0,0,0,2310400,{"$f":"FlashCards!AE1761","v":1758},10000]
[null,null,null,null,null,null,null,null,null,null,null,null,null,null,null,null,null,null,null,null,null,null,null,{"$f":"FlashCards!AQ1762","v":0},0,0,0,0,2310400,{"$f":"FlashCards!AE1762","v":1759},10000]
[null,null,null,null,null,null,null,null,null,null,null,null,null,null,null,null,null,null,null,null,null,null,null,{"$f":"FlashCards!AQ1763","v":0},0,0,0,0,2310400,{"$f":"FlashCards!AE1763","v":1760},10000]
[null,null,null,null,null,null,null,null,null,null,null,null,null,null,null,null,null,null,null,null,null,null,null,{"$f":"FlashCards!AQ1764","v":0},0,0,0,0,2310400,{"$f":"FlashCards!AE1764","v":1761},10000]
[null,null,null,null,null,null,null,null,null,null,null,null,null,null,null,null,null,null,null,null,null,null,null,{"$f":"FlashCards!AQ1765","v":0},0,0,0,0,2310400,{"$f":"FlashCards!AE1765","v":1762},10000]
[null,null,null,null,null,null,null,null,null,null,null,null,null,null,null,null,null,null,null,null,null,null,null,{"$f":"FlashCards!AQ1766","v":0},0,0,0,0,2310400,{"$f":"FlashCards!AE1766","v":1763},10000]
[null,null,null,null,null,null,null,null,null,null,null,null,null,null,null,null,null,null,null,null,null,null,null,{"$f":"FlashCards!AQ1767","v":0},0,0,0,0,2310400,{"$f":"FlashCards!AE1767","v":1764},10000]
[null,null,null,null,null,null,null,null,null,null,null,null,null,null,null,null,null,null,null,null,null,null,null,{"$f":"FlashCards!AQ1768","v":0},0,0,0,0,2310400,{"$f":"FlashCards!AE1768","v":1765},10000]
[null,null,null,null,null,null,null,null,null,null,null,null,null,null,null,null,null,null,null,null,null,null,null,{"$f":"FlashCards!AQ1769","v":0},0,0,0,0,2310400,{"$f":"FlashCards!AE1769","v":1766},10000]
[null,null,null,null,null,null,null,null,null,null,null,null,null,null,null,null,null,null,null,null,null,null,null,{"$f":"FlashCards!AQ1770","v":0},0,0,0,0,2310400,{"$f":"FlashCards!AE1770","v":1767},10000]
[null,null,null,null,null,null,null,null,null,null,null,null,null,null,null,null,null,null,null,null,null,null,null,{"$f":"FlashCards!AQ1771","v":0},0,0,0,0,2310400,{"$f":"FlashCards!AE1771","v":1768},10000]
[null,null,null,null,null,null,null,null,null,null,null,null,null,null,null,null,null,null,null,null,null,null,null,{"$f":"FlashCards!AQ1772","v":0},0,0,0,0,2310400,{"$f":"FlashCards!AE1772","v":1769},10000]
[null,null,null,null,null,null,null,null,null,null,null,null,null,null,null,null,null,null,null,null,null,null,null,{"$f":"FlashCards!AQ1773","v":0},0,0,0,0,2310400,{"$f":"FlashCards!AE1773","v":1770},10000]
[null,null,null,null,null,null,null,null,null,null,null,null,null,null,null,null,null,null,null,null,null,null,null,{"$f":"FlashCards!AQ1774","v":0},0,0,0,0,2310400,{"$f":"FlashCards!AE1774","v":1771},10000]
[null,null,null,null,null,null,null,null,null,null,null,null,null,null,null,null,null,null,null,null,null,null,null,{"$f":"FlashCards!AQ1775","v":0},0,0,0,0,2310400,{"$f":"FlashCards!AE1775","v":1772},10000]
[null,null,null,null,null,null,null,null,null,null,null,null,null,null,null,null,null,null,null,null,null,null,null,{"$f":"FlashCards!AQ1776","v":0},0,0,0,0,2310400,{"$f":"FlashCards!AE1776","v":1773},10000]
[null,null,null,null,null,null,null,null,null,null,null,null,null,null,null,null,null,null,null,null,null,null,null,{"$f":"FlashCards!AQ1777","v":0},0,0,0,0,2310400,{"$f":"FlashCards!AE1777","v":1774},10000]
[null,null,null,null,null,null,null,null,null,null,null,null,null,null,null,null,null,null,null,null,null,null,null,{"$f":"FlashCards!AQ1778","v":0},0,0,0,0,2310400,{"$f":"FlashCards!AE1778","v":1775},10000]
[null,null,null,null,null,null,null,null,null,null,null,null,null,null,null,null,null,null,null,null,null,null,null,{"$f":"FlashCards!AQ1779","v":0},0,0,0,0,2310400,{"$f":"FlashCards!AE1779","v":1776},10000]
[null,null,null,null,null,null,null,null,null,null,null,null,null,null,null,null,null,null,null,null,null,null,null,{"$f":"FlashCards!AQ1780","v":0},0,0,0,0,2310400,{"$f":"FlashCards!AE1780","v":1777},10000]
[null,null,null,null,null,null,null,null,null,null,null,null,null,null,null,null,null,null,null,null,null,null,null,{"$f":"FlashCards!AQ1781","v":0},0,0,0,0,2310400,{"$f":"FlashCards!AE1781","v":1778},10000]
[null,null,null,null,null,null,null,null,null,null,null,null,null,null,null,null,null,null,null,null,null,null,null,{"$f":"FlashCards!AQ1782","v":0},0,0,0,0,2310400,{"$f":"FlashCards!AE1782","v":1779},10000]
[null,null,null,null,null,null,null,null,null,null,null,null,null,null,null,null,null,null,null,null,null,null,null,{"$f":"FlashCards!AQ1783","v":0},0,0,0,0,2310400,{"$f":"FlashCards!AE1783","v":1780},10000]
[null,null,null,null,null,null,null,null,null,null,null,null,null,null,null,null,null,null,null,null,null,null,null,{"$f":"FlashCards!AQ1784","v":0},0,0,0,0,2310400,{"$f":"FlashCards!AE1784","v":1781},10000]
[null,null,null,null,null,null,null,null,null,null,null,null,null,null,null,null,null,null,null,null,null,null,null,{"$f":"FlashCards!AQ1785","v":0},0,0,0,0,2310400,{"$f":"FlashCards!AE1785","v":1782},10000]
[null,null,null,null,null,null,null,null,null,null,null,null,null,null,null,null,null,null,null,null,null,null,null,{"$f":"FlashCards!AQ1786","v":0},0,0,0,0,2310400,{"$f":"FlashCards!AE1786","v":1783},10000]
[null,null,null,null,null,null,null,null,null,null,null,null,null,null,null,null,null,null,null,null,null,null,null,{"$f":"FlashCards!AQ1787","v":0},0,0,0,0,2310400,{"$f":"FlashCards!AE1787","v":1784},10000]
[null,null,null,null,null,null,null,null,null,null,null,null,null,null,null,null,null,null,null,null,null,null,null,{"$f":"FlashCards!AQ1788","v":0},0,0,0,0,2310400,{"$f":"FlashCards!AE1788","v":1785},10000]
[null,null,null,null,null,null,null,null,null,null,null,null,null,null,null,null,null,null,null,null,null,null,null,{"$f":"FlashCards!AQ1789","v":0},0,0,0,0,2310400,{"$f":"FlashCards!AE1789","v":1786},10000]
[null,null,null,null,null,null,null,null,null,null,null,null,null,null,null,null,null,null,null,null,null,null,null,{"$f":"FlashCards!AQ1790","v":0},0,0,0,0,2310400,{"$f":"FlashCards!AE1790","v":1787},10000]
[null,null,null,null,null,null,null,null,null,null,null,null,null,null,null,null,null,null,null,null,null,null,null,{"$f":"FlashCards!AQ1791","v":0},0,0,0,0,2310400,{"$f":"FlashCards!AE1791","v":1788},10000]
[null,null,null,null,null,null,null,null,null,null,null,null,null,null,null,null,null,null,null,null,null,null,null,{"$f":"FlashCards!AQ1792","v":0},0,0,0,0,2310400,{"$f":"FlashCards!AE1792","v":1789},10000]
[null,null,null,null,null,null,null,null,null,null,null,null,null,null,null,null,null,null,null,null,null,null,null,{"$f":"FlashCards!AQ1793","v":0},0,0,0,0,2310400,{"$f":"FlashCards!AE1793","v":1790},10000]
[null,null,null,null,null,null,null,null,null,null,null,null,null,null,null,null,null,null,null,null,null,null,null,{"$f":"FlashCards!AQ1794","v":0},0,0,0,0,2310400,{"$f":"FlashCards!AE1794","v":1791},10000]
[null,null,null,null,null,null,null,null,null,null,null,null,null,null,null,null,null,null,null,null,null,null,null,{"$f":"FlashCards!AQ1795","v":0},0,0,0,0,2310400,{"$f":"FlashCards!AE1795","v":1792},10000]
[null,null,null,null,null,null,null,null,null,null,null,null,null,null,null,null,null,null,null,null,null,null,null,{"$f":"FlashCards!AQ1796","v":0},0,0,0,0,2310400,{"$f":"FlashCards!AE1796","v":1793},10000]
[null,null,null,null,null,null,null,null,null,null,null,null,null,null,null,null,null,null,null,null,null,null,null,{"$f":"FlashCards!AQ1797","v":0},{"$f":"VALUE(X1796)","v":0},{"$f":"IF(ISERR(FIND(\"+\",X1796,1)),0,FIND(\"+\",X1796,1))","v":0},{"$f":"IF(ISERR(FIND(\",\",X1796,1)),0,FIND(\",\",X1796,1))","v":0},{"$f":"IF(Z1796>0,VALUE(LEFT(X1796,Z1796-1)),IF(AA1796>0,VALUE(LEFT(X1796,AA1796-1)),IF(ISERR(Y1796),VALUE(LEFT(X1796,LEN(X1796)-1)),Y1796)))","v":0},{"$f":"(AB1796-U$28)^2","v":2310400},{"$f":"FlashCards!AE1797","v":1794},{"$f":"IF(AB1796=0,10000,AB1796)","v":10000}]
[null,null,null,null,null,null,null,null,null,null,null,null,null,null,null,null,null,null,null,null,null,null,null,{"$f":"FlashCards!AQ1798","v":0},0,0,0,0,2310400,{"$f":"FlashCards!AE1798","v":1795},10000]
[null,null,null,null,null,null,null,null,null,null,null,null,null,null,null,null,null,null,null,null,null,null,null,{"$f":"FlashCards!AQ1799","v":0},0,0,0,0,2310400,{"$f":"FlashCards!AE1799","v":1796},10000]
[null,null,null,null,null,null,null,null,null,null,null,null,null,null,null,null,null,null,null,null,null,null,null,{"$f":"FlashCards!AQ1800","v":0},0,0,0,0,2310400,{"$f":"FlashCards!AE1800","v":1797},10000]
[null,null,null,null,null,null,null,null,null,null,null,null,null,null,null,null,null,null,null,null,null,null,null,{"$f":"FlashCards!AQ1801","v":0},0,0,0,0,2310400,{"$f":"FlashCards!AE1801","v":1798},10000]
[null,null,null,null,null,null,null,null,null,null,null,null,null,null,null,null,null,null,null,null,null,null,null,{"$f":"FlashCards!AQ1802","v":0},0,0,0,0,2310400,{"$f":"FlashCards!AE1802","v":1799},10000]
[null,null,null,null,null,null,null,null,null,null,null,null,null,null,null,null,null,null,null,null,null,null,null,{"$f":"FlashCards!AQ1803","v":0},0,0,0,0,2310400,{"$f":"FlashCards!AE1803","v":1800},10000]
[null,null,null,null,null,null,null,null,null,null,null,null,null,null,null,null,null,null,null,null,null,null,null,{"$f":"FlashCards!AQ1804","v":0},0,0,0,0,2310400,{"$f":"FlashCards!AE1804","v":1801},10000]
[null,null,null,null,null,null,null,null,null,null,null,null,null,null,null,null,null,null,null,null,null,null,null,{"$f":"FlashCards!AQ1805","v":0},0,0,0,0,2310400,{"$f":"FlashCards!AE1805","v":1802},10000]
[null,null,null,null,null,null,null,null,null,null,null,null,null,null,null,null,null,null,null,null,null,null,null,{"$f":"FlashCards!AQ1806","v":0},0,0,0,0,2310400,{"$f":"FlashCards!AE1806","v":1803},10000]
[null,null,null,null,null,null,null,null,null,null,null,null,null,null,null,null,null,null,null,null,null,null,null,{"$f":"FlashCards!AQ1807","v":0},0,0,0,0,2310400,{"$f":"FlashCards!AE1807","v":1804},10000]
[null,null,null,null,null,null,null,null,null,null,null,null,null,null,null,null,null,null,null,null,null,null,null,{"$f":"FlashCards!AQ1808","v":0},0,0,0,0,2310400,{"$f":"FlashCards!AE1808","v":1805},10000]
[null,null,null,null,null,null,null,null,null,null,null,null,null,null,null,null,null,null,null,null,null,null,null,{"$f":"FlashCards!AQ1809","v":0},0,0,0,0,2310400,{"$f":"FlashCards!AE1809","v":1806},10000]
[null,null,null,null,null,null,null,null,null,null,null,null,null,null,null,null,null,null,null,null,null,null,null,{"$f":"FlashCards!AQ1810","v":0},0,0,0,0,2310400,{"$f":"FlashCards!AE1810","v":1807},10000]
[null,null,null,null,null,null,null,null,null,null,null,null,null,null,null,null,null,null,null,null,null,null,null,{"$f":"FlashCards!AQ1811","v":0},0,0,0,0,2310400,{"$f":"FlashCards!AE1811","v":1808},10000]
[null,null,null,null,null,null,null,null,null,null,null,null,null,null,null,null,null,null,null,null,null,null,null,{"$f":"FlashCards!AQ1812","v":0},0,0,0,0,2310400,{"$f":"FlashCards!AE1812","v":1809},10000]
[null,null,null,null,null,null,null,null,null,null,null,null,null,null,null,null,null,null,null,null,null,null,null,{"$f":"FlashCards!AQ1813","v":0},0,0,0,0,2310400,{"$f":"FlashCards!AE1813","v":1810},10000]
[null,null,null,null,null,null,null,null,null,null,null,null,null,null,null,null,null,null,null,null,null,null,null,{"$f":"FlashCards!AQ1814","v":0},0,0,0,0,2310400,{"$f":"FlashCards!AE1814","v":1811},10000]
[null,null,null,null,null,null,null,null,null,null,null,null,null,null,null,null,null,null,null,null,null,null,null,{"$f":"FlashCards!AQ1815","v":0},0,0,0,0,2310400,{"$f":"FlashCards!AE1815","v":1812},10000]
[null,null,null,null,null,null,null,null,null,null,null,null,null,null,null,null,null,null,null,null,null,null,null,{"$f":"FlashCards!AQ1816","v":0},0,0,0,0,2310400,{"$f":"FlashCards!AE1816","v":1813},10000]
[null,null,null,null,null,null,null,null,null,null,null,null,null,null,null,null,null,null,null,null,null,null,null,{"$f":"FlashCards!AQ1817","v":0},0,0,0,0,2310400,{"$f":"FlashCards!AE1817","v":1814},10000]
[null,null,null,null,null,null,null,null,null,null,null,null,null,null,null,null,null,null,null,null,null,null,null,{"$f":"FlashCards!AQ1818","v":0},0,0,0,0,2310400,{"$f":"FlashCards!AE1818","v":1815},10000]
[null,null,null,null,null,null,null,null,null,null,null,null,null,null,null,null,null,null,null,null,null,null,null,{"$f":"FlashCards!AQ1819","v":0},0,0,0,0,2310400,{"$f":"FlashCards!AE1819","v":1816},10000]
[null,null,null,null,null,null,null,null,null,null,null,null,null,null,null,null,null,null,null,null,null,null,null,{"$f":"FlashCards!AQ1820","v":0},0,0,0,0,2310400,{"$f":"FlashCards!AE1820","v":1817},10000]
[null,null,null,null,null,null,null,null,null,null,null,null,null,null,null,null,null,null,null,null,null,null,null,{"$f":"FlashCards!AQ1821","v":0},0,0,0,0,2310400,{"$f":"FlashCards!AE1821","v":1818},10000]
[null,null,null,null,null,null,null,null,null,null,null,null,null,null,null,null,null,null,null,null,null,null,null,{"$f":"FlashCards!AQ1822","v":0},0,0,0,0,2310400,{"$f":"FlashCards!AE1822","v":1819},10000]
[null,null,null,null,null,null,null,null,null,null,null,null,null,null,null,null,null,null,null,null,null,null,null,{"$f":"FlashCards!AQ1823","v":0},0,0,0,0,2310400,{"$f":"FlashCards!AE1823","v":1820},10000]
[null,null,null,null,null,null,null,null,null,null,null,null,null,null,null,null,null,null,null,null,null,null,null,{"$f":"FlashCards!AQ1824","v":0},0,0,0,0,2310400,{"$f":"FlashCards!AE1824","v":1821},10000]
[null,null,null,null,null,null,null,null,null,null,null,null,null,null,null,null,null,null,null,null,null,null,null,{"$f":"FlashCards!AQ1825","v":0},0,0,0,0,2310400,{"$f":"FlashCards!AE1825","v":1822},10000]
[null,null,null,null,null,null,null,null,null,null,null,null,null,null,null,null,null,null,null,null,null,null,null,{"$f":"FlashCards!AQ1826","v":0},0,0,0,0,2310400,{"$f":"FlashCards!AE1826","v":1823},10000]
[null,null,null,null,null,null,null,null,null,null,null,null,null,null,null,null,null,null,null,null,null,null,null,{"$f":"FlashCards!AQ1827","v":0},0,0,0,0,2310400,{"$f":"FlashCards!AE1827","v":1824},10000]
[null,null,null,null,null,null,null,null,null,null,null,null,null,null,null,null,null,null,null,null,null,null,null,{"$f":"FlashCards!AQ1828","v":0},0,0,0,0,2310400,{"$f":"FlashCards!AE1828","v":1825},10000]
[null,null,null,null,null,null,null,null,null,null,null,null,null,null,null,null,null,null,null,null,null,null,null,{"$f":"FlashCards!AQ1829","v":0},0,0,0,0,2310400,{"$f":"FlashCards!AE1829","v":1826},10000]
[null,null,null,null,null,null,null,null,null,null,null,null,null,null,null,null,null,null,null,null,null,null,null,{"$f":"FlashCards!AQ1830","v":0},0,0,0,0,2310400,{"$f":"FlashCards!AE1830","v":1827},10000]
[null,null,null,null,null,null,null,null,null,null,null,null,null,null,null,null,null,null,null,null,null,null,null,{"$f":"FlashCards!AQ1831","v":0},0,0,0,0,2310400,{"$f":"FlashCards!AE1831","v":1828},10000]
[null,null,null,null,null,null,null,null,null,null,null,null,null,null,null,null,null,null,null,null,null,null,null,{"$f":"FlashCards!AQ1832","v":0},0,0,0,0,2310400,{"$f":"FlashCards!AE1832","v":1829},10000]
[null,null,null,null,null,null,null,null,null,null,null,null,null,null,null,null,null,null,null,null,null,null,null,{"$f":"FlashCards!AQ1833","v":0},0,0,0,0,2310400,{"$f":"FlashCards!AE1833","v":1830},10000]
[null,null,null,null,null,null,null,null,null,null,null,null,null,null,null,null,null,null,null,null,null,null,null,{"$f":"FlashCards!AQ1834","v":0},0,0,0,0,2310400,{"$f":"FlashCards!AE1834","v":1831},10000]
[null,null,null,null,null,null,null,null,null,null,null,null,null,null,null,null,null,null,null,null,null,null,null,{"$f":"FlashCards!AQ1835","v":0},0,0,0,0,2310400,{"$f":"FlashCards!AE1835","v":1832},10000]
[null,null,null,null,null,null,null,null,null,null,null,null,null,null,null,null,null,null,null,null,null,null,null,{"$f":"FlashCards!AQ1836","v":0},0,0,0,0,2310400,{"$f":"FlashCards!AE1836","v":1833},10000]
[null,null,null,null,null,null,null,null,null,null,null,null,null,null,null,null,null,null,null,null,null,null,null,{"$f":"FlashCards!AQ1837","v":0},0,0,0,0,2310400,{"$f":"FlashCards!AE1837","v":1834},10000]
[null,null,null,null,null,null,null,null,null,null,null,null,null,null,null,null,null,null,null,null,null,null,null,{"$f":"FlashCards!AQ1838","v":0},0,0,0,0,2310400,{"$f":"FlashCards!AE1838","v":1835},10000]
[null,null,null,null,null,null,null,null,null,null,null,null,null,null,null,null,null,null,null,null,null,null,null,{"$f":"FlashCards!AQ1839","v":0},0,0,0,0,2310400,{"$f":"FlashCards!AE1839","v":1836},10000]
[null,null,null,null,null,null,null,null,null,null,null,null,null,null,null,null,null,null,null,null,null,null,null,{"$f":"FlashCards!AQ1840","v":0},0,0,0,0,2310400,{"$f":"FlashCards!AE1840","v":1837},10000]
[null,null,null,null,null,null,null,null,null,null,null,null,null,null,null,null,null,null,null,null,null,null,null,{"$f":"FlashCards!AQ1841","v":0},0,0,0,0,2310400,{"$f":"FlashCards!AE1841","v":1838},10000]
[null,null,null,null,null,null,null,null,null,null,null,null,null,null,null,null,null,null,null,null,null,null,null,{"$f":"FlashCards!AQ1842","v":0},0,0,0,0,2310400,{"$f":"FlashCards!AE1842","v":1839},10000]
[null,null,null,null,null,null,null,null,null,null,null,null,null,null,null,null,null,null,null,null,null,null,null,{"$f":"FlashCards!AQ1843","v":0},0,0,0,0,2310400,{"$f":"FlashCards!AE1843","v":1840},10000]
[null,null,null,null,null,null,null,null,null,null,null,null,null,null,null,null,null,null,null,null,null,null,null,{"$f":"FlashCards!AQ1844","v":0},0,0,0,0,2310400,{"$f":"FlashCards!AE1844","v":1841},10000]
[null,null,null,null,null,null,null,null,null,null,null,null,null,null,null,null,null,null,null,null,null,null,null,{"$f":"FlashCards!AQ1845","v":0},0,0,0,0,2310400,{"$f":"FlashCards!AE1845","v":1842},10000]
[null,null,null,null,null,null,null,null,null,null,null,null,null,null,null,null,null,null,null,null,null,null,null,{"$f":"FlashCards!AQ1846","v":0},0,0,0,0,2310400,{"$f":"FlashCards!AE1846","v":1843},10000]
[null,null,null,null,null,null,null,null,null,null,null,null,null,null,null,null,null,null,null,null,null,null,null,{"$f":"FlashCards!AQ1847","v":0},0,0,0,0,2310400,{"$f":"FlashCards!AE1847","v":1844},10000]
[null,null,null,null,null,null,null,null,null,null,null,null,null,null,null,null,null,null,null,null,null,null,null,{"$f":"FlashCards!AQ1848","v":0},0,0,0,0,2310400,{"$f":"FlashCards!AE1848","v":1845},10000]
[null,null,null,null,null,null,null,null,null,null,null,null,null,null,null,null,null,null,null,null,null,null,null,{"$f":"FlashCards!AQ1849","v":0},0,0,0,0,2310400,{"$f":"FlashCards!AE1849","v":1846},10000]
[null,null,null,null,null,null,null,null,null,null,null,null,null,null,null,null,null,null,null,null,null,null,null,{"$f":"FlashCards!AQ1850","v":0},0,0,0,0,2310400,{"$f":"FlashCards!AE1850","v":1847},10000]
[null,null,null,null,null,null,null,null,null,null,null,null,null,null,null,null,null,null,null,null,null,null,null,{"$f":"FlashCards!AQ1851","v":0},0,0,0,0,2310400,{"$f":"FlashCards!AE1851","v":1848},10000]
[null,null,null,null,null,null,null,null,null,null,null,null,null,null,null,null,null,null,null,null,null,null,null,{"$f":"FlashCards!AQ1852","v":0},0,0,0,0,2310400,{"$f":"FlashCards!AE1852","v":1849},10000]
[null,null,null,null,null,null,null,null,null,null,null,null,null,null,null,null,null,null,null,null,null,null,null,{"$f":"FlashCards!AQ1853","v":0},0,0,0,0,2310400,{"$f":"FlashCards!AE1853","v":1850},10000]
[null,null,null,null,null,null,null,null,null,null,null,null,null,null,null,null,null,null,null,null,null,null,null,{"$f":"FlashCards!AQ1854","v":0},0,0,0,0,2310400,{"$f":"FlashCards!AE1854","v":1851},10000]
[null,null,null,null,null,null,null,null,null,null,null,null,null,null,null,null,null,null,null,null,null,null,null,{"$f":"FlashCards!AQ1855","v":0},0,0,0,0,2310400,{"$f":"FlashCards!AE1855","v":1852},10000]
[null,null,null,null,null,null,null,null,null,null,null,null,null,null,null,null,null,null,null,null,null,null,null,{"$f":"FlashCards!AQ1856","v":0},0,0,0,0,2310400,{"$f":"FlashCards!AE1856","v":1853},10000]
[null,null,null,null,null,null,null,null,null,null,null,null,null,null,null,null,null,null,null,null,null,null,null,{"$f":"FlashCards!AQ1857","v":0},0,0,0,0,2310400,{"$f":"FlashCards!AE1857","v":1854},10000]
[null,null,null,null,null,null,null,null,null,null,null,null,null,null,null,null,null,null,null,null,null,null,null,{"$f":"FlashCards!AQ1858","v":0},0,0,0,0,2310400,{"$f":"FlashCards!AE1858","v":1855},10000]
[null,null,null,null,null,null,null,null,null,null,null,null,null,null,null,null,null,null,null,null,null,null,null,{"$f":"FlashCards!AQ1859","v":0},0,0,0,0,2310400,{"$f":"FlashCards!AE1859","v":1856},10000]
[null,null,null,null,null,null,null,null,null,null,null,null,null,null,null,null,null,null,null,null,null,null,null,{"$f":"FlashCards!AQ1860","v":0},0,0,0,0,2310400,{"$f":"FlashCards!AE1860","v":1857},10000]
[null,null,null,null,null,null,null,null,null,null,null,null,null,null,null,null,null,null,null,null,null,null,null,{"$f":"FlashCards!AQ1861","v":0},{"$f":"VALUE(X1860)","v":0},{"$f":"IF(ISERR(FIND(\"+\",X1860,1)),0,FIND(\"+\",X1860,1))","v":0},{"$f":"IF(ISERR(FIND(\",\",X1860,1)),0,FIND(\",\",X1860,1))","v":0},{"$f":"IF(Z1860>0,VALUE(LEFT(X1860,Z1860-1)),IF(AA1860>0,VALUE(LEFT(X1860,AA1860-1)),IF(ISERR(Y1860),VALUE(LEFT(X1860,LEN(X1860)-1)),Y1860)))","v":0},{"$f":"(AB1860-U$28)^2","v":2310400},{"$f":"FlashCards!AE1861","v":1858},{"$f":"IF(AB1860=0,10000,AB1860)","v":10000}]
[null,null,null,null,null,null,null,null,null,null,null,null,null,null,null,null,null,null,null,null,null,null,null,{"$f":"FlashCards!AQ1862","v":0},0,0,0,0,2310400,{"$f":"FlashCards!AE1862","v":1859},10000]
[null,null,null,null,null,null,null,null,null,null,null,null,null,null,null,null,null,null,null,null,null,null,null,{"$f":"FlashCards!AQ1863","v":0},0,0,0,0,2310400,{"$f":"FlashCards!AE1863","v":1860},10000]
[null,null,null,null,null,null,null,null,null,null,null,null,null,null,null,null,null,null,null,null,null,null,null,{"$f":"FlashCards!AQ1864","v":0},0,0,0,0,2310400,{"$f":"FlashCards!AE1864","v":1861},10000]
[null,null,null,null,null,null,null,null,null,null,null,null,null,null,null,null,null,null,null,null,null,null,null,{"$f":"FlashCards!AQ1865","v":0},0,0,0,0,2310400,{"$f":"FlashCards!AE1865","v":1862},10000]
[null,null,null,null,null,null,null,null,null,null,null,null,null,null,null,null,null,null,null,null,null,null,null,{"$f":"FlashCards!AQ1866","v":0},0,0,0,0,2310400,{"$f":"FlashCards!AE1866","v":1863},10000]
[null,null,null,null,null,null,null,null,null,null,null,null,null,null,null,null,null,null,null,null,null,null,null,{"$f":"FlashCards!AQ1867","v":0},0,0,0,0,2310400,{"$f":"FlashCards!AE1867","v":1864},10000]
[null,null,null,null,null,null,null,null,null,null,null,null,null,null,null,null,null,null,null,null,null,null,null,{"$f":"FlashCards!AQ1868","v":0},0,0,0,0,2310400,{"$f":"FlashCards!AE1868","v":1865},10000]
[null,null,null,null,null,null,null,null,null,null,null,null,null,null,null,null,null,null,null,null,null,null,null,{"$f":"FlashCards!AQ1869","v":0},0,0,0,0,2310400,{"$f":"FlashCards!AE1869","v":1866},10000]
[null,null,null,null,null,null,null,null,null,null,null,null,null,null,null,null,null,null,null,null,null,null,null,{"$f":"FlashCards!AQ1870","v":0},0,0,0,0,2310400,{"$f":"FlashCards!AE1870","v":1867},10000]
[null,null,null,null,null,null,null,null,null,null,null,null,null,null,null,null,null,null,null,null,null,null,null,{"$f":"FlashCards!AQ1871","v":0},0,0,0,0,2310400,{"$f":"FlashCards!AE1871","v":1868},10000]
[null,null,null,null,null,null,null,null,null,null,null,null,null,null,null,null,null,null,null,null,null,null,null,{"$f":"FlashCards!AQ1872","v":0},0,0,0,0,2310400,{"$f":"FlashCards!AE1872","v":1869},10000]
[null,null,null,null,null,null,null,null,null,null,null,null,null,null,null,null,null,null,null,null,null,null,null,{"$f":"FlashCards!AQ1873","v":0},0,0,0,0,2310400,{"$f":"FlashCards!AE1873","v":1870},10000]
[null,null,null,null,null,null,null,null,null,null,null,null,null,null,null,null,null,null,null,null,null,null,null,{"$f":"FlashCards!AQ1874","v":0},0,0,0,0,2310400,{"$f":"FlashCards!AE1874","v":1871},10000]
[null,null,null,null,null,null,null,null,null,null,null,null,null,null,null,null,null,null,null,null,null,null,null,{"$f":"FlashCards!AQ1875","v":0},0,0,0,0,2310400,{"$f":"FlashCards!AE1875","v":1872},10000]
[null,null,null,null,null,null,null,null,null,null,null,null,null,null,null,null,null,null,null,null,null,null,null,{"$f":"FlashCards!AQ1876","v":0},0,0,0,0,2310400,{"$f":"FlashCards!AE1876","v":1873},10000]
[null,null,null,null,null,null,null,null,null,null,null,null,null,null,null,null,null,null,null,null,null,null,null,{"$f":"FlashCards!AQ1877","v":0},0,0,0,0,2310400,{"$f":"FlashCards!AE1877","v":1874},10000]
[null,null,null,null,null,null,null,null,null,null,null,null,null,null,null,null,null,null,null,null,null,null,null,{"$f":"FlashCards!AQ1878","v":0},0,0,0,0,2310400,{"$f":"FlashCards!AE1878","v":1875},10000]
[null,null,null,null,null,null,null,null,null,null,null,null,null,null,null,null,null,null,null,null,null,null,null,{"$f":"FlashCards!AQ1879","v":0},0,0,0,0,2310400,{"$f":"FlashCards!AE1879","v":1876},10000]
[null,null,null,null,null,null,null,null,null,null,null,null,null,null,null,null,null,null,null,null,null,null,null,{"$f":"FlashCards!AQ1880","v":0},0,0,0,0,2310400,{"$f":"FlashCards!AE1880","v":1877},10000]
[null,null,null,null,null,null,null,null,null,null,null,null,null,null,null,null,null,null,null,null,null,null,null,{"$f":"FlashCards!AQ1881","v":0},0,0,0,0,2310400,{"$f":"FlashCards!AE1881","v":1878},10000]
[null,null,null,null,null,null,null,null,null,null,null,null,null,null,null,null,null,null,null,null,null,null,null,{"$f":"FlashCards!AQ1882","v":0},0,0,0,0,2310400,{"$f":"FlashCards!AE1882","v":1879},10000]
[null,null,null,null,null,null,null,null,null,null,null,null,null,null,null,null,null,null,null,null,null,null,null,{"$f":"FlashCards!AQ1883","v":0},0,0,0,0,2310400,{"$f":"FlashCards!AE1883","v":1880},10000]
[null,null,null,null,null,null,null,null,null,null,null,null,null,null,null,null,null,null,null,null,null,null,null,{"$f":"FlashCards!AQ1884","v":0},0,0,0,0,2310400,{"$f":"FlashCards!AE1884","v":1881},10000]
[null,null,null,null,null,null,null,null,null,null,null,null,null,null,null,null,null,null,null,null,null,null,null,{"$f":"FlashCards!AQ1885","v":0},0,0,0,0,2310400,{"$f":"FlashCards!AE1885","v":1882},10000]
[null,null,null,null,null,null,null,null,null,null,null,null,null,null,null,null,null,null,null,null,null,null,null,{"$f":"FlashCards!AQ1886","v":0},0,0,0,0,2310400,{"$f":"FlashCards!AE1886","v":1883},10000]
[null,null,null,null,null,null,null,null,null,null,null,null,null,null,null,null,null,null,null,null,null,null,null,{"$f":"FlashCards!AQ1887","v":0},0,0,0,0,2310400,{"$f":"FlashCards!AE1887","v":1884},10000]
[null,null,null,null,null,null,null,null,null,null,null,null,null,null,null,null,null,null,null,null,null,null,null,{"$f":"FlashCards!AQ1888","v":0},0,0,0,0,2310400,{"$f":"FlashCards!AE1888","v":1885},10000]
[null,null,null,null,null,null,null,null,null,null,null,null,null,null,null,null,null,null,null,null,null,null,null,{"$f":"FlashCards!AQ1889","v":0},0,0,0,0,2310400,{"$f":"FlashCards!AE1889","v":1886},10000]
[null,null,null,null,null,null,null,null,null,null,null,null,null,null,null,null,null,null,null,null,null,null,null,{"$f":"FlashCards!AQ1890","v":0},0,0,0,0,2310400,{"$f":"FlashCards!AE1890","v":1887},10000]
[null,null,null,null,null,null,null,null,null,null,null,null,null,null,null,null,null,null,null,null,null,null,null,{"$f":"FlashCards!AQ1891","v":0},0,0,0,0,2310400,{"$f":"FlashCards!AE1891","v":1888},10000]
[null,null,null,null,null,null,null,null,null,null,null,null,null,null,null,null,null,null,null,null,null,null,null,{"$f":"FlashCards!AQ1892","v":0},0,0,0,0,2310400,{"$f":"FlashCards!AE1892","v":1889},10000]
[null,null,null,null,null,null,null,null,null,null,null,null,null,null,null,null,null,null,null,null,null,null,null,{"$f":"FlashCards!AQ1893","v":0},0,0,0,0,2310400,{"$f":"FlashCards!AE1893","v":1890},10000]
[null,null,null,null,null,null,null,null,null,null,null,null,null,null,null,null,null,null,null,null,null,null,null,{"$f":"FlashCards!AQ1894","v":0},0,0,0,0,2310400,{"$f":"FlashCards!AE1894","v":1891},10000]
[null,null,null,null,null,null,null,null,null,null,null,null,null,null,null,null,null,null,null,null,null,null,null,{"$f":"FlashCards!AQ1895","v":0},0,0,0,0,2310400,{"$f":"FlashCards!AE1895","v":1892},10000]
[null,null,null,null,null,null,null,null,null,null,null,null,null,null,null,null,null,null,null,null,null,null,null,{"$f":"FlashCards!AQ1896","v":0},0,0,0,0,2310400,{"$f":"FlashCards!AE1896","v":1893},10000]
[null,null,null,null,null,null,null,null,null,null,null,null,null,null,null,null,null,null,null,null,null,null,null,{"$f":"FlashCards!AQ1897","v":0},0,0,0,0,2310400,{"$f":"FlashCards!AE1897","v":1894},10000]
[null,null,null,null,null,null,null,null,null,null,null,null,null,null,null,null,null,null,null,null,null,null,null,{"$f":"FlashCards!AQ1898","v":0},0,0,0,0,2310400,{"$f":"FlashCards!AE1898","v":1895},10000]
[null,null,null,null,null,null,null,null,null,null,null,null,null,null,null,null,null,null,null,null,null,null,null,{"$f":"FlashCards!AQ1899","v":0},0,0,0,0,2310400,{"$f":"FlashCards!AE1899","v":1896},10000]
[null,null,null,null,null,null,null,null,null,null,null,null,null,null,null,null,null,null,null,null,null,null,null,{"$f":"FlashCards!AQ1900","v":0},0,0,0,0,2310400,{"$f":"FlashCards!AE1900","v":1897},10000]
[null,null,null,null,null,null,null,null,null,null,null,null,null,null,null,null,null,null,null,null,null,null,null,{"$f":"FlashCards!AQ1901","v":0},0,0,0,0,2310400,{"$f":"FlashCards!AE1901","v":1898},10000]
[null,null,null,null,null,null,null,null,null,null,null,null,null,null,null,null,null,null,null,null,null,null,null,{"$f":"FlashCards!AQ1902","v":0},0,0,0,0,2310400,{"$f":"FlashCards!AE1902","v":1899},10000]
[null,null,null,null,null,null,null,null,null,null,null,null,null,null,null,null,null,null,null,null,null,null,null,{"$f":"FlashCards!AQ1903","v":0},0,0,0,0,2310400,{"$f":"FlashCards!AE1903","v":1900},10000]
[null,null,null,null,null,null,null,null,null,null,null,null,null,null,null,null,null,null,null,null,null,null,null,{"$f":"FlashCards!AQ1904","v":0},0,0,0,0,2310400,{"$f":"FlashCards!AE1904","v":1901},10000]
[null,null,null,null,null,null,null,null,null,null,null,null,null,null,null,null,null,null,null,null,null,null,null,{"$f":"FlashCards!AQ1905","v":0},0,0,0,0,2310400,{"$f":"FlashCards!AE1905","v":1902},10000]
[null,null,null,null,null,null,null,null,null,null,null,null,null,null,null,null,null,null,null,null,null,null,null,{"$f":"FlashCards!AQ1906","v":0},0,0,0,0,2310400,{"$f":"FlashCards!AE1906","v":1903},10000]
[null,null,null,null,null,null,null,null,null,null,null,null,null,null,null,null,null,null,null,null,null,null,null,{"$f":"FlashCards!AQ1907","v":0},0,0,0,0,2310400,{"$f":"FlashCards!AE1907","v":1904},10000]
[null,null,null,null,null,null,null,null,null,null,null,null,null,null,null,null,null,null,null,null,null,null,null,{"$f":"FlashCards!AQ1908","v":0},0,0,0,0,2310400,{"$f":"FlashCards!AE1908","v":1905},10000]
[null,null,null,null,null,null,null,null,null,null,null,null,null,null,null,null,null,null,null,null,null,null,null,{"$f":"FlashCards!AQ1909","v":0},0,0,0,0,2310400,{"$f":"FlashCards!AE1909","v":1906},10000]
[null,null,null,null,null,null,null,null,null,null,null,null,null,null,null,null,null,null,null,null,null,null,null,{"$f":"FlashCards!AQ1910","v":0},0,0,0,0,2310400,{"$f":"FlashCards!AE1910","v":1907},10000]
[null,null,null,null,null,null,null,null,null,null,null,null,null,null,null,null,null,null,null,null,null,null,null,{"$f":"FlashCards!AQ1911","v":0},0,0,0,0,2310400,{"$f":"FlashCards!AE1911","v":1908},10000]
[null,null,null,null,null,null,null,null,null,null,null,null,null,null,null,null,null,null,null,null,null,null,null,{"$f":"FlashCards!AQ1912","v":0},0,0,0,0,2310400,{"$f":"FlashCards!AE1912","v":1909},10000]
[null,null,null,null,null,null,null,null,null,null,null,null,null,null,null,null,null,null,null,null,null,null,null,{"$f":"FlashCards!AQ1913","v":0},0,0,0,0,2310400,{"$f":"FlashCards!AE1913","v":1910},10000]
[null,null,null,null,null,null,null,null,null,null,null,null,null,null,null,null,null,null,null,null,null,null,null,{"$f":"FlashCards!AQ1914","v":0},0,0,0,0,2310400,{"$f":"FlashCards!AE1914","v":1911},10000]
[null,null,null,null,null,null,null,null,null,null,null,null,null,null,null,null,null,null,null,null,null,null,null,{"$f":"FlashCards!AQ1915","v":0},0,0,0,0,2310400,{"$f":"FlashCards!AE1915","v":1912},10000]
[null,null,null,null,null,null,null,null,null,null,null,null,null,null,null,null,null,null,null,null,null,null,null,{"$f":"FlashCards!AQ1916","v":0},0,0,0,0,2310400,{"$f":"FlashCards!AE1916","v":1913},10000]
[null,null,null,null,null,null,null,null,null,null,null,null,null,null,null,null,null,null,null,null,null,null,null,{"$f":"FlashCards!AQ1917","v":0},0,0,0,0,2310400,{"$f":"FlashCards!AE1917","v":1914},10000]
[null,null,null,null,null,null,null,null,null,null,null,null,null,null,null,null,null,null,null,null,null,null,null,{"$f":"FlashCards!AQ1918","v":0},0,0,0,0,2310400,{"$f":"FlashCards!AE1918","v":1915},10000]
[null,null,null,null,null,null,null,null,null,null,null,null,null,null,null,null,null,null,null,null,null,null,null,{"$f":"FlashCards!AQ1919","v":0},0,0,0,0,2310400,{"$f":"FlashCards!AE1919","v":1916},10000]
[null,null,null,null,null,null,null,null,null,null,null,null,null,null,null,null,null,null,null,null,null,null,null,{"$f":"FlashCards!AQ1920","v":0},0,0,0,0,2310400,{"$f":"FlashCards!AE1920","v":1917},10000]
[null,null,null,null,null,null,null,null,null,null,null,null,null,null,null,null,null,null,null,null,null,null,null,{"$f":"FlashCards!AQ1921","v":0},0,0,0,0,2310400,{"$f":"FlashCards!AE1921","v":1918},10000]
[null,null,null,null,null,null,null,null,null,null,null,null,null,null,null,null,null,null,null,null,null,null,null,{"$f":"FlashCards!AQ1922","v":0},0,0,0,0,2310400,{"$f":"FlashCards!AE1922","v":1919},10000]
[null,null,null,null,null,null,null,null,null,null,null,null,null,null,null,null,null,null,null,null,null,null,null,{"$f":"FlashCards!AQ1923","v":0},0,0,0,0,2310400,{"$f":"FlashCards!AE1923","v":1920},10000]
[null,null,null,null,null,null,null,null,null,null,null,null,null,null,null,null,null,null,null,null,null,null,null,{"$f":"FlashCards!AQ1924","v":0},0,0,0,0,2310400,{"$f":"FlashCards!AE1924","v":1921},10000]
[null,null,null,null,null,null,null,null,null,null,null,null,null,null,null,null,null,null,null,null,null,null,null,{"$f":"FlashCards!AQ1925","v":0},{"$f":"VALUE(X1924)","v":0},{"$f":"IF(ISERR(FIND(\"+\",X1924,1)),0,FIND(\"+\",X1924,1))","v":0},{"$f":"IF(ISERR(FIND(\",\",X1924,1)),0,FIND(\",\",X1924,1))","v":0},{"$f":"IF(Z1924>0,VALUE(LEFT(X1924,Z1924-1)),IF(AA1924>0,VALUE(LEFT(X1924,AA1924-1)),IF(ISERR(Y1924),VALUE(LEFT(X1924,LEN(X1924)-1)),Y1924)))","v":0},{"$f":"(AB1924-U$28)^2","v":2310400},{"$f":"FlashCards!AE1925","v":1922},{"$f":"IF(AB1924=0,10000,AB1924)","v":10000}]
[null,null,null,null,null,null,null,null,null,null,null,null,null,null,null,null,null,null,null,null,null,null,null,{"$f":"FlashCards!AQ1926","v":0},0,0,0,0,2310400,{"$f":"FlashCards!AE1926","v":1923},10000]
[null,null,null,null,null,null,null,null,null,null,null,null,null,null,null,null,null,null,null,null,null,null,null,{"$f":"FlashCards!AQ1927","v":0},0,0,0,0,2310400,{"$f":"FlashCards!AE1927","v":1924},10000]
[null,null,null,null,null,null,null,null,null,null,null,null,null,null,null,null,null,null,null,null,null,null,null,{"$f":"FlashCards!AQ1928","v":0},0,0,0,0,2310400,{"$f":"FlashCards!AE1928","v":1925},10000]
[null,null,null,null,null,null,null,null,null,null,null,null,null,null,null,null,null,null,null,null,null,null,null,{"$f":"FlashCards!AQ1929","v":0},0,0,0,0,2310400,{"$f":"FlashCards!AE1929","v":1926},10000]
[null,null,null,null,null,null,null,null,null,null,null,null,null,null,null,null,null,null,null,null,null,null,null,{"$f":"FlashCards!AQ1930","v":0},0,0,0,0,2310400,{"$f":"FlashCards!AE1930","v":1927},10000]
[null,null,null,null,null,null,null,null,null,null,null,null,null,null,null,null,null,null,null,null,null,null,null,{"$f":"FlashCards!AQ1931","v":0},0,0,0,0,2310400,{"$f":"FlashCards!AE1931","v":1928},10000]
[null,null,null,null,null,null,null,null,null,null,null,null,null,null,null,null,null,null,null,null,null,null,null,{"$f":"FlashCards!AQ1932","v":0},0,0,0,0,2310400,{"$f":"FlashCards!AE1932","v":1929},10000]
[null,null,null,null,null,null,null,null,null,null,null,null,null,null,null,null,null,null,null,null,null,null,null,{"$f":"FlashCards!AQ1933","v":0},0,0,0,0,2310400,{"$f":"FlashCards!AE1933","v":1930},10000]
[null,null,null,null,null,null,null,null,null,null,null,null,null,null,null,null,null,null,null,null,null,null,null,{"$f":"FlashCards!AQ1934","v":0},0,0,0,0,2310400,{"$f":"FlashCards!AE1934","v":1931},10000]
[null,null,null,null,null,null,null,null,null,null,null,null,null,null,null,null,null,null,null,null,null,null,null,{"$f":"FlashCards!AQ1935","v":0},0,0,0,0,2310400,{"$f":"FlashCards!AE1935","v":1932},10000]
[null,null,null,null,null,null,null,null,null,null,null,null,null,null,null,null,null,null,null,null,null,null,null,{"$f":"FlashCards!AQ1936","v":0},0,0,0,0,2310400,{"$f":"FlashCards!AE1936","v":1933},10000]
[null,null,null,null,null,null,null,null,null,null,null,null,null,null,null,null,null,null,null,null,null,null,null,{"$f":"FlashCards!AQ1937","v":0},0,0,0,0,2310400,{"$f":"FlashCards!AE1937","v":1934},10000]
[null,null,null,null,null,null,null,null,null,null,null,null,null,null,null,null,null,null,null,null,null,null,null,{"$f":"FlashCards!AQ1938","v":0},0,0,0,0,2310400,{"$f":"FlashCards!AE1938","v":1935},10000]
[null,null,null,null,null,null,null,null,null,null,null,null,null,null,null,null,null,null,null,null,null,null,null,{"$f":"FlashCards!AQ1939","v":0},0,0,0,0,2310400,{"$f":"FlashCards!AE1939","v":1936},10000]
[null,null,null,null,null,null,null,null,null,null,null,null,null,null,null,null,null,null,null,null,null,null,null,{"$f":"FlashCards!AQ1940","v":0},0,0,0,0,2310400,{"$f":"FlashCards!AE1940","v":1937},10000]
[null,null,null,null,null,null,null,null,null,null,null,null,null,null,null,null,null,null,null,null,null,null,null,{"$f":"FlashCards!AQ1941","v":0},0,0,0,0,2310400,{"$f":"FlashCards!AE1941","v":1938},10000]
[null,null,null,null,null,null,null,null,null,null,null,null,null,null,null,null,null,null,null,null,null,null,null,{"$f":"FlashCards!AQ1942","v":0},0,0,0,0,2310400,{"$f":"FlashCards!AE1942","v":1939},10000]
[null,null,null,null,null,null,null,null,null,null,null,null,null,null,null,null,null,null,null,null,null,null,null,{"$f":"FlashCards!AQ1943","v":0},0,0,0,0,2310400,{"$f":"FlashCards!AE1943","v":1940},10000]
[null,null,null,null,null,null,null,null,null,null,null,null,null,null,null,null,null,null,null,null,null,null,null,{"$f":"FlashCards!AQ1944","v":0},0,0,0,0,2310400,{"$f":"FlashCards!AE1944","v":1941},10000]
[null,null,null,null,null,null,null,null,null,null,null,null,null,null,null,null,null,null,null,null,null,null,null,{"$f":"FlashCards!AQ1945","v":0},0,0,0,0,2310400,{"$f":"FlashCards!AE1945","v":1942},10000]
[null,null,null,null,null,null,null,null,null,null,null,null,null,null,null,null,null,null,null,null,null,null,null,{"$f":"FlashCards!AQ1946","v":0},0,0,0,0,2310400,{"$f":"FlashCards!AE1946","v":1943},10000]
[null,null,null,null,null,null,null,null,null,null,null,null,null,null,null,null,null,null,null,null,null,null,null,{"$f":"FlashCards!AQ1947","v":0},0,0,0,0,2310400,{"$f":"FlashCards!AE1947","v":1944},10000]
[null,null,null,null,null,null,null,null,null,null,null,null,null,null,null,null,null,null,null,null,null,null,null,{"$f":"FlashCards!AQ1948","v":0},0,0,0,0,2310400,{"$f":"FlashCards!AE1948","v":1945},10000]
[null,null,null,null,null,null,null,null,null,null,null,null,null,null,null,null,null,null,null,null,null,null,null,{"$f":"FlashCards!AQ1949","v":0},0,0,0,0,2310400,{"$f":"FlashCards!AE1949","v":1946},10000]
[null,null,null,null,null,null,null,null,null,null,null,null,null,null,null,null,null,null,null,null,null,null,null,{"$f":"FlashCards!AQ1950","v":0},0,0,0,0,2310400,{"$f":"FlashCards!AE1950","v":1947},10000]
[null,null,null,null,null,null,null,null,null,null,null,null,null,null,null,null,null,null,null,null,null,null,null,{"$f":"FlashCards!AQ1951","v":0},0,0,0,0,2310400,{"$f":"FlashCards!AE1951","v":1948},10000]
[null,null,null,null,null,null,null,null,null,null,null,null,null,null,null,null,null,null,null,null,null,null,null,{"$f":"FlashCards!AQ1952","v":0},0,0,0,0,2310400,{"$f":"FlashCards!AE1952","v":1949},10000]
[null,null,null,null,null,null,null,null,null,null,null,null,null,null,null,null,null,null,null,null,null,null,null,{"$f":"FlashCards!AQ1953","v":0},0,0,0,0,2310400,{"$f":"FlashCards!AE1953","v":1950},10000]
[null,null,null,null,null,null,null,null,null,null,null,null,null,null,null,null,null,null,null,null,null,null,null,{"$f":"FlashCards!AQ1954","v":0},0,0,0,0,2310400,{"$f":"FlashCards!AE1954","v":1951},10000]
[null,null,null,null,null,null,null,null,null,null,null,null,null,null,null,null,null,null,null,null,null,null,null,{"$f":"FlashCards!AQ1955","v":0},0,0,0,0,2310400,{"$f":"FlashCards!AE1955","v":1952},10000]
[null,null,null,null,null,null,null,null,null,null,null,null,null,null,null,null,null,null,null,null,null,null,null,{"$f":"FlashCards!AQ1956","v":0},0,0,0,0,2310400,{"$f":"FlashCards!AE1956","v":1953},10000]
[null,null,null,null,null,null,null,null,null,null,null,null,null,null,null,null,null,null,null,null,null,null,null,{"$f":"FlashCards!AQ1957","v":0},0,0,0,0,2310400,{"$f":"FlashCards!AE1957","v":1954},10000]
[null,null,null,null,null,null,null,null,null,null,null,null,null,null,null,null,null,null,null,null,null,null,null,{"$f":"FlashCards!AQ1958","v":0},0,0,0,0,2310400,{"$f":"FlashCards!AE1958","v":1955},10000]
[null,null,null,null,null,null,null,null,null,null,null,null,null,null,null,null,null,null,null,null,null,null,null,{"$f":"FlashCards!AQ1959","v":0},0,0,0,0,2310400,{"$f":"FlashCards!AE1959","v":1956},10000]
[null,null,null,null,null,null,null,null,null,null,null,null,null,null,null,null,null,null,null,null,null,null,null,{"$f":"FlashCards!AQ1960","v":0},0,0,0,0,2310400,{"$f":"FlashCards!AE1960","v":1957},10000]
[null,null,null,null,null,null,null,null,null,null,null,null,null,null,null,null,null,null,null,null,null,null,null,{"$f":"FlashCards!AQ1961","v":0},0,0,0,0,2310400,{"$f":"FlashCards!AE1961","v":1958},10000]
[null,null,null,null,null,null,null,null,null,null,null,null,null,null,null,null,null,null,null,null,null,null,null,{"$f":"FlashCards!AQ1962","v":0},0,0,0,0,2310400,{"$f":"FlashCards!AE1962","v":1959},10000]
[null,null,null,null,null,null,null,null,null,null,null,null,null,null,null,null,null,null,null,null,null,null,null,{"$f":"FlashCards!AQ1963","v":0},0,0,0,0,2310400,{"$f":"FlashCards!AE1963","v":1960},10000]
[null,null,null,null,null,null,null,null,null,null,null,null,null,null,null,null,null,null,null,null,null,null,null,{"$f":"FlashCards!AQ1964","v":0},0,0,0,0,2310400,{"$f":"FlashCards!AE1964","v":1961},10000]
[null,null,null,null,null,null,null,null,null,null,null,null,null,null,null,null,null,null,null,null,null,null,null,{"$f":"FlashCards!AQ1965","v":0},0,0,0,0,2310400,{"$f":"FlashCards!AE1965","v":1962},10000]
[null,null,null,null,null,null,null,null,null,null,null,null,null,null,null,null,null,null,null,null,null,null,null,{"$f":"FlashCards!AQ1966","v":0},0,0,0,0,2310400,{"$f":"FlashCards!AE1966","v":1963},10000]
[null,null,null,null,null,null,null,null,null,null,null,null,null,null,null,null,null,null,null,null,null,null,null,{"$f":"FlashCards!AQ1967","v":0},0,0,0,0,2310400,{"$f":"FlashCards!AE1967","v":1964},10000]
[null,null,null,null,null,null,null,null,null,null,null,null,null,null,null,null,null,null,null,null,null,null,null,{"$f":"FlashCards!AQ1968","v":0},0,0,0,0,2310400,{"$f":"FlashCards!AE1968","v":1965},10000]
[null,null,null,null,null,null,null,null,null,null,null,null,null,null,null,null,null,null,null,null,null,null,null,{"$f":"FlashCards!AQ1969","v":0},0,0,0,0,2310400,{"$f":"FlashCards!AE1969","v":1966},10000]
[null,null,null,null,null,null,null,null,null,null,null,null,null,null,null,null,null,null,null,null,null,null,null,{"$f":"FlashCards!AQ1970","v":0},0,0,0,0,2310400,{"$f":"FlashCards!AE1970","v":1967},10000]
[null,null,null,null,null,null,null,null,null,null,null,null,null,null,null,null,null,null,null,null,null,null,null,{"$f":"FlashCards!AQ1971","v":0},0,0,0,0,2310400,{"$f":"FlashCards!AE1971","v":1968},10000]
[null,null,null,null,null,null,null,null,null,null,null,null,null,null,null,null,null,null,null,null,null,null,null,{"$f":"FlashCards!AQ1972","v":0},0,0,0,0,2310400,{"$f":"FlashCards!AE1972","v":1969},10000]
[null,null,null,null,null,null,null,null,null,null,null,null,null,null,null,null,null,null,null,null,null,null,null,{"$f":"FlashCards!AQ1973","v":0},0,0,0,0,2310400,{"$f":"FlashCards!AE1973","v":1970},10000]
[null,null,null,null,null,null,null,null,null,null,null,null,null,null,null,null,null,null,null,null,null,null,null,{"$f":"FlashCards!AQ1974","v":0},0,0,0,0,2310400,{"$f":"FlashCards!AE1974","v":1971},10000]
[null,null,null,null,null,null,null,null,null,null,null,null,null,null,null,null,null,null,null,null,null,null,null,{"$f":"FlashCards!AQ1975","v":0},0,0,0,0,2310400,{"$f":"FlashCards!AE1975","v":1972},10000]
[null,null,null,null,null,null,null,null,null,null,null,null,null,null,null,null,null,null,null,null,null,null,null,{"$f":"FlashCards!AQ1976","v":0},0,0,0,0,2310400,{"$f":"FlashCards!AE1976","v":1973},10000]
[null,null,null,null,null,null,null,null,null,null,null,null,null,null,null,null,null,null,null,null,null,null,null,{"$f":"FlashCards!AQ1977","v":0},0,0,0,0,2310400,{"$f":"FlashCards!AE1977","v":1974},10000]
[null,null,null,null,null,null,null,null,null,null,null,null,null,null,null,null,null,null,null,null,null,null,null,{"$f":"FlashCards!AQ1978","v":0},0,0,0,0,2310400,{"$f":"FlashCards!AE1978","v":1975},10000]
[null,null,null,null,null,null,null,null,null,null,null,null,null,null,null,null,null,null,null,null,null,null,null,{"$f":"FlashCards!AQ1979","v":0},0,0,0,0,2310400,{"$f":"FlashCards!AE1979","v":1976},10000]
[null,null,null,null,null,null,null,null,null,null,null,null,null,null,null,null,null,null,null,null,null,null,null,{"$f":"FlashCards!AQ1980","v":0},0,0,0,0,2310400,{"$f":"FlashCards!AE1980","v":1977},10000]
[null,null,null,null,null,null,null,null,null,null,null,null,null,null,null,null,null,null,null,null,null,null,null,{"$f":"FlashCards!AQ1981","v":0},0,0,0,0,2310400,{"$f":"FlashCards!AE1981","v":1978},10000]
[null,null,null,null,null,null,null,null,null,null,null,null,null,null,null,null,null,null,null,null,null,null,null,{"$f":"FlashCards!AQ1982","v":0},0,0,0,0,2310400,{"$f":"FlashCards!AE1982","v":1979},10000]
[null,null,null,null,null,null,null,null,null,null,null,null,null,null,null,null,null,null,null,null,null,null,null,{"$f":"FlashCards!AQ1983","v":0},0,0,0,0,2310400,{"$f":"FlashCards!AE1983","v":1980},10000]
[null,null,null,null,null,null,null,null,null,null,null,null,null,null,null,null,null,null,null,null,null,null,null,{"$f":"FlashCards!AQ1984","v":0},0,0,0,0,2310400,{"$f":"FlashCards!AE1984","v":1981},10000]
[null,null,null,null,null,null,null,null,null,null,null,null,null,null,null,null,null,null,null,null,null,null,null,{"$f":"FlashCards!AQ1985","v":0},0,0,0,0,2310400,{"$f":"FlashCards!AE1985","v":1982},10000]
[null,null,null,null,null,null,null,null,null,null,null,null,null,null,null,null,null,null,null,null,null,null,null,{"$f":"FlashCards!AQ1986","v":0},0,0,0,0,2310400,{"$f":"FlashCards!AE1986","v":1983},10000]
[null,null,null,null,null,null,null,null,null,null,null,null,null,null,null,null,null,null,null,null,null,null,null,{"$f":"FlashCards!AQ1987","v":0},0,0,0,0,2310400,{"$f":"FlashCards!AE1987","v":1984},10000]
[null,null,null,null,null,null,null,null,null,null,null,null,null,null,null,null,null,null,null,null,null,null,null,{"$f":"FlashCards!AQ1988","v":0},0,0,0,0,2310400,{"$f":"FlashCards!AE1988","v":1985},10000]
[null,null,null,null,null,null,null,null,null,null,null,null,null,null,null,null,null,null,null,null,null,null,null,{"$f":"FlashCards!AQ1989","v":0},{"$f":"VALUE(X1988)","v":0},{"$f":"IF(ISERR(FIND(\"+\",X1988,1)),0,FIND(\"+\",X1988,1))","v":0},{"$f":"IF(ISERR(FIND(\",\",X1988,1)),0,FIND(\",\",X1988,1))","v":0},{"$f":"IF(Z1988>0,VALUE(LEFT(X1988,Z1988-1)),IF(AA1988>0,VALUE(LEFT(X1988,AA1988-1)),IF(ISERR(Y1988),VALUE(LEFT(X1988,LEN(X1988)-1)),Y1988)))","v":0},{"$f":"(AB1988-U$28)^2","v":2310400},{"$f":"FlashCards!AE1989","v":1986},{"$f":"IF(AB1988=0,10000,AB1988)","v":10000}]
[null,null,null,null,null,null,null,null,null,null,null,null,null,null,null,null,null,null,null,null,null,null,null,{"$f":"FlashCards!AQ1990","v":0},0,0,0,0,2310400,{"$f":"FlashCards!AE1990","v":1987},10000]
[null,null,null,null,null,null,null,null,null,null,null,null,null,null,null,null,null,null,null,null,null,null,null,{"$f":"FlashCards!AQ1991","v":0},0,0,0,0,2310400,{"$f":"FlashCards!AE1991","v":1988},10000]
[null,null,null,null,null,null,null,null,null,null,null,null,null,null,null,null,null,null,null,null,null,null,null,{"$f":"FlashCards!AQ1992","v":0},0,0,0,0,2310400,{"$f":"FlashCards!AE1992","v":1989},10000]
[null,null,null,null,null,null,null,null,null,null,null,null,null,null,null,null,null,null,null,null,null,null,null,{"$f":"FlashCards!AQ1993","v":0},0,0,0,0,2310400,{"$f":"FlashCards!AE1993","v":1990},10000]
[null,null,null,null,null,null,null,null,null,null,null,null,null,null,null,null,null,null,null,null,null,null,null,{"$f":"FlashCards!AQ1994","v":0},0,0,0,0,2310400,{"$f":"FlashCards!AE1994","v":1991},10000]
[null,null,null,null,null,null,null,null,null,null,null,null,null,null,null,null,null,null,null,null,null,null,null,{"$f":"FlashCards!AQ1995","v":0},0,0,0,0,2310400,{"$f":"FlashCards!AE1995","v":1992},10000]
[null,null,null,null,null,null,null,null,null,null,null,null,null,null,null,null,null,null,null,null,null,null,null,{"$f":"FlashCards!AQ1996","v":0},0,0,0,0,2310400,{"$f":"FlashCards!AE1996","v":1993},10000]
[null,null,null,null,null,null,null,null,null,null,null,null,null,null,null,null,null,null,null,null,null,null,null,{"$f":"FlashCards!AQ1997","v":0},0,0,0,0,2310400,{"$f":"FlashCards!AE1997","v":1994},10000]
[null,null,null,null,null,null,null,null,null,null,null,null,null,null,null,null,null,null,null,null,null,null,null,{"$f":"FlashCards!AQ1998","v":0},0,0,0,0,2310400,{"$f":"FlashCards!AE1998","v":1995},10000]
[null,null,null,null,null,null,null,null,null,null,null,null,null,null,null,null,null,null,null,null,null,null,null,{"$f":"FlashCards!AQ1999","v":0},0,0,0,0,2310400,{"$f":"FlashCards!AE1999","v":1996},10000]
[null,null,null,null,null,null,null,null,null,null,null,null,null,null,null,null,null,null,null,null,null,null,null,{"$f":"FlashCards!AQ2000","v":0},0,0,0,0,2310400,{"$f":"FlashCards!AE2000","v":1997},10000]
[null,null,null,null,null,null,null,null,null,null,null,null,null,null,null,null,null,null,null,null,null,null,null,{"$f":"FlashCards!AQ2001","v":0},0,0,0,0,2310400,{"$f":"FlashCards!AE2001","v":1998},10000]
[null,null,null,null,null,null,null,null,null,null,null,null,null,null,null,null,null,null,null,null,null,null,null,{"$f":"FlashCards!AQ2002","v":0},0,0,0,0,2310400,{"$f":"FlashCards!AE2002","v":1999},10000]
[null,null,null,null,null,null,null,null,null,null,null,null,null,null,null,null,null,null,null,null,null,null,null,{"$f":"FlashCards!AQ2003","v":0},0,0,0,0,2310400,{"$f":"FlashCards!AE2003","v":2000},10000]

{"sheet":"English To Greek","index":4,"n_rows":37,"n_cols":5,"rows_kept":37,"cut":false,"hidden":false,"merged":[]}
[]
[]
[null,null,null,"Type at least 2 letters of the english definition that you are seeking (3 is even better!):"]
[null,null,null,"crowd"]
[]
[null,null,null,{"$f":"\"# of Greek Words that include '\"& D4&\"'  in their definition: \" & FlashCards!CP2& \" (but showing no more than 30 results…)\"","v":"# of Greek Words that include 'crowd'  in their definition: 2 (but showing no more than 30 results…)"}]
[]
[null,null,{"$f":"IF(FlashCards!CP2>0,1,\"\")","v":1},{"$f":"FlashCards!CQ4","v":"ὁ λαός"},{"$f":"FlashCards!CR4","v":"people, crowd [Chap. 20]"}]
[null,null,{"$f":"IF((C8)<FlashCards!CP$2,C8+1,\"\")","v":2},{"$f":"FlashCards!CQ5","v":"ὁ ὄχλος"},{"$f":"FlashCards!CR5","v":"crowd, multitude [Chap. 8]"}]
[null,null,{"$f":"IF((C9)<FlashCards!CP$2,C9+1,\"\")","v":""},{"$f":"FlashCards!CQ6","v":" "},{"$f":"FlashCards!CR6","v":"  "}]
[null,null,{"$f":"IF((C10)<FlashCards!CP$2,C10+1,\"\")","v":""},{"$f":"FlashCards!CQ7","v":" "},{"$f":"FlashCards!CR7","v":"  "}]
[null,null,{"$f":"IF((C11)<FlashCards!CP$2,C11+1,\"\")","v":""},{"$f":"FlashCards!CQ8","v":" "},{"$f":"FlashCards!CR8","v":"  "}]
[null,null,{"$f":"IF((C12)<FlashCards!CP$2,C12+1,\"\")","v":""},{"$f":"FlashCards!CQ9","v":" "},{"$f":"FlashCards!CR9","v":"  "}]
[null,null,{"$f":"IF((C13)<FlashCards!CP$2,C13+1,\"\")","v":""},{"$f":"FlashCards!CQ10","v":" "},{"$f":"FlashCards!CR10","v":"  "}]
[null,null,{"$f":"IF((C14)<FlashCards!CP$2,C14+1,\"\")","v":""},{"$f":"FlashCards!CQ11","v":" "},{"$f":"FlashCards!CR11","v":"  "}]
[null,null,{"$f":"IF((C15)<FlashCards!CP$2,C15+1,\"\")","v":""},{"$f":"FlashCards!CQ12","v":" "},{"$f":"FlashCards!CR12","v":"  "}]
[null,null,{"$f":"IF((C16)<FlashCards!CP$2,C16+1,\"\")","v":""},{"$f":"FlashCards!CQ13","v":" "},{"$f":"FlashCards!CR13","v":"  "}]
[null,null,{"$f":"IF((C17)<FlashCards!CP$2,C17+1,\"\")","v":""},{"$f":"FlashCards!CQ14","v":" "},{"$f":"FlashCards!CR14","v":"  "}]
[null,null,{"$f":"IF((C18)<FlashCards!CP$2,C18+1,\"\")","v":""},{"$f":"FlashCards!CQ15","v":" "},{"$f":"FlashCards!CR15","v":"  "}]
[null,null,{"$f":"IF((C19)<FlashCards!CP$2,C19+1,\"\")","v":""},{"$f":"FlashCards!CQ16","v":" "},{"$f":"FlashCards!CR16","v":"  "}]
[null,null,{"$f":"IF((C20)<FlashCards!CP$2,C20+1,\"\")","v":""},{"$f":"FlashCards!CQ17","v":" "},{"$f":"FlashCards!CR17","v":"  "}]
[null,null,{"$f":"IF((C21)<FlashCards!CP$2,C21+1,\"\")","v":""},{"$f":"FlashCards!CQ18","v":" "},{"$f":"FlashCards!CR18","v":"  "}]
[null,null,{"$f":"IF((C22)<FlashCards!CP$2,C22+1,\"\")","v":""},{"$f":"FlashCards!CQ19","v":" "},{"$f":"FlashCards!CR19","v":"  "}]
[null,null,{"$f":"IF((C23)<FlashCards!CP$2,C23+1,\"\")","v":""},{"$f":"FlashCards!CQ20","v":" "},{"$f":"FlashCards!CR20","v":"  "}]
[null,null,{"$f":"IF((C24)<FlashCards!CP$2,C24+1,\"\")","v":""},{"$f":"FlashCards!CQ21","v":" "},{"$f":"FlashCards!CR21","v":"  "}]
[null,null,{"$f":"IF((C25)<FlashCards!CP$2,C25+1,\"\")","v":""},{"$f":"FlashCards!CQ22","v":" "},{"$f":"FlashCards!CR22","v":"  "}]
[null,null,{"$f":"IF((C26)<FlashCards!CP$2,C26+1,\"\")","v":""},{"$f":"FlashCards!CQ23","v":" "},{"$f":"FlashCards!CR23","v":"  "}]
[null,null,{"$f":"IF((C27)<FlashCards!CP$2,C27+1,\"\")","v":""},{"$f":"FlashCards!CQ24","v":" "},{"$f":"FlashCards!CR24","v":"  "}]
[null,null,{"$f":"IF((C28)<FlashCards!CP$2,C28+1,\"\")","v":""},{"$f":"FlashCards!CQ25","v":" "},{"$f":"FlashCards!CR25","v":"  "}]
[null,null,{"$f":"IF((C29)<FlashCards!CP$2,C29+1,\"\")","v":""},{"$f":"FlashCards!CQ26","v":" "},{"$f":"FlashCards!CR26","v":"  "}]
[null,null,{"$f":"IF((C30)<FlashCards!CP$2,C30+1,\"\")","v":""},{"$f":"FlashCards!CQ27","v":" "},{"$f":"FlashCards!CR27","v":"  "}]
[null,null,{"$f":"IF((C31)<FlashCards!CP$2,C31+1,\"\")","v":""},{"$f":"FlashCards!CQ28","v":" "},{"$f":"FlashCards!CR28","v":"  "}]
[null,null,{"$f":"IF((C32)<FlashCards!CP$2,C32+1,\"\")","v":""},{"$f":"FlashCards!CQ29","v":" "},{"$f":"FlashCards!CR29","v":"  "}]
[null,null,{"$f":"IF((C33)<FlashCards!CP$2,C33+1,\"\")","v":""},{"$f":"FlashCards!CQ30","v":" "},{"$f":"FlashCards!CR30","v":"  "}]
[null,null,{"$f":"IF((C34)<FlashCards!CP$2,C34+1,\"\")","v":""},{"$f":"FlashCards!CQ31","v":" "},{"$f":"FlashCards!CR31","v":"  "}]
[null,null,{"$f":"IF((C35)<FlashCards!CP$2,C35+1,\"\")","v":""},{"$f":"FlashCards!CQ32","v":" "},{"$f":"FlashCards!CR32","v":"  "}]
[null,null,{"$f":"IF((C36)<FlashCards!CP$2,C36+1,\"\")","v":""},{"$f":"FlashCards!CQ33","v":" "},{"$f":"FlashCards!CR33","v":"  "}]

{"sheet":"Greek to English","index":5,"n_rows":39,"n_cols":4,"rows_kept":39,"cut":false,"hidden":false,"merged":[]}
[]
[null,null,null,"Type part of a Greek word (2 or more letters…), using a for a, b for b, g for g etc."]
[null,null,null,"Note some \"difficult\" letters:  c ® c,  h ® h,  q ® q,  u ® u,  f ® j,  x ® x, and  y ® y."]
[null,null,null,"You may not type accents or breathing marks, iota subscripts, etc., so there is no Greek \"h\"."]
[null,null,null,"Capital letters are treated as lower case. Sigma is always just \"s\", and not \"ς\"."]
[null,null,null,"arest"]
[]
[null,null,null,{"$f":"\"Number of words discovered: \"&FlashCards!DA2&\" (but showing no more than 30 results…)\"","v":"Number of words discovered: 2 (but showing no more than 30 results…)"}]
[]
[null,null,{"$f":"IF(FlashCards!DA2>0,1,\"\")","v":1},{"$f":"FlashCards!DB4","v":"ἀρεστός: pleasing, agreeable  (Extra, Adjective)"}]
[null,null,{"$f":"IF((C10)<FlashCards!DA$2,C10+1,\"\")","v":2},{"$f":"FlashCards!DB5","v":"παρίστημι: I present, I am present, I stand with  (Chapter 38, Verb [παρίστην] [παραστήσω])"}]
[null,null,{"$f":"IF((C11)<FlashCards!DA$2,C11+1,\"\")","v":""},{"$f":"FlashCards!DB6","v":" "}]
[null,null,{"$f":"IF((C12)<FlashCards!DA$2,C12+1,\"\")","v":""},{"$f":"FlashCards!DB7","v":" "}]
[null,null,{"$f":"IF((C13)<FlashCards!DA$2,C13+1,\"\")","v":""},{"$f":"FlashCards!DB8","v":" "}]
[null,null,{"$f":"IF((C14)<FlashCards!DA$2,C14+1,\"\")","v":""},{"$f":"FlashCards!DB9","v":" "}]
[null,null,{"$f":"IF((C15)<FlashCards!DA$2,C15+1,\"\")","v":""},{"$f":"FlashCards!DB10","v":" "}]
[null,null,{"$f":"IF((C16)<FlashCards!DA$2,C16+1,\"\")","v":""},{"$f":"FlashCards!DB11","v":" "}]
[null,null,{"$f":"IF((C17)<FlashCards!DA$2,C17+1,\"\")","v":""},{"$f":"FlashCards!DB12","v":" "}]
[null,null,{"$f":"IF((C18)<FlashCards!DA$2,C18+1,\"\")","v":""},{"$f":"FlashCards!DB13","v":" "}]
[null,null,{"$f":"IF((C19)<FlashCards!DA$2,C19+1,\"\")","v":""},{"$f":"FlashCards!DB14","v":" "}]
[null,null,{"$f":"IF((C20)<FlashCards!DA$2,C20+1,\"\")","v":""},{"$f":"FlashCards!DB15","v":" "}]
[null,null,{"$f":"IF((C21)<FlashCards!DA$2,C21+1,\"\")","v":""},{"$f":"FlashCards!DB16","v":" "}]
[null,null,{"$f":"IF((C22)<FlashCards!DA$2,C22+1,\"\")","v":""},{"$f":"FlashCards!DB17","v":" "}]
[null,null,{"$f":"IF((C23)<FlashCards!DA$2,C23+1,\"\")","v":""},{"$f":"FlashCards!DB18","v":" "}]
[null,null,{"$f":"IF((C24)<FlashCards!DA$2,C24+1,\"\")","v":""},{"$f":"FlashCards!DB19","v":" "}]
[null,null,{"$f":"IF((C25)<FlashCards!DA$2,C25+1,\"\")","v":""},{"$f":"FlashCards!DB20","v":" "}]
[null,null,{"$f":"IF((C26)<FlashCards!DA$2,C26+1,\"\")","v":""},{"$f":"FlashCards!DB21","v":" "}]
[null,null,{"$f":"IF((C27)<FlashCards!DA$2,C27+1,\"\")","v":""},{"$f":"FlashCards!DB22","v":" "}]
[null,null,{"$f":"IF((C28)<FlashCards!DA$2,C28+1,\"\")","v":""},{"$f":"FlashCards!DB23","v":" "}]
[null,null,{"$f":"IF((C29)<FlashCards!DA$2,C29+1,\"\")","v":""},{"$f":"FlashCards!DB24","v":" "}]
[null,null,{"$f":"IF((C30)<FlashCards!DA$2,C30+1,\"\")","v":""},{"$f":"FlashCards!DB25","v":" "}]
[null,null,{"$f":"IF((C31)<FlashCards!DA$2,C31+1,\"\")","v":""},{"$f":"FlashCards!DB26","v":" "}]
[null,null,{"$f":"IF((C32)<FlashCards!DA$2,C32+1,\"\")","v":""},{"$f":"FlashCards!DB27","v":" "}]
[null,null,{"$f":"IF((C33)<FlashCards!DA$2,C33+1,\"\")","v":""},{"$f":"FlashCards!DB28","v":" "}]
[null,null,{"$f":"IF((C34)<FlashCards!DA$2,C34+1,\"\")","v":""},{"$f":"FlashCards!DB29","v":" "}]
[null,null,{"$f":"IF((C35)<FlashCards!DA$2,C35+1,\"\")","v":""},{"$f":"FlashCards!DB30","v":" "}]
[null,null,{"$f":"IF((C36)<FlashCards!DA$2,C36+1,\"\")","v":""},{"$f":"FlashCards!DB31","v":" "}]
[null,null,{"$f":"IF((C37)<FlashCards!DA$2,C37+1,\"\")","v":""},{"$f":"FlashCards!DB32","v":" "}]
[null,null,{"$f":"IF((C38)<FlashCards!DA$2,C38+1,\"\")","v":""},{"$f":"FlashCards!DB33","v":" "}]

{"sheet":"Short Words","index":6,"n_rows":51,"n_cols":6,"rows_kept":51,"cut":false,"hidden":false,"merged":[]}
[]
[null,{"$f":"\"There are currently \" &FlashCards!DI2&\" \"\"short\"\" words available.\"","v":"There are currently 126 \"short\" words available."},null,{"$f":"FlashCards!DL52","v":"ἵνα [that, in order that, so that]"},null,{"$f":"FlashCards!DL102","v":"πρό [before [genitive]]"}]
[null,"Greek Word [English Definition]",null,{"$f":"FlashCards!DL53","v":"καί [and, even, also, namely, and yet (particle)]"},null,{"$f":"FlashCards!DL103","v":"τό πῦρ [fire]"}]
[null,{"$f":"FlashCards!DL4","v":"-ες [(nominative, plural, masculine or feminine, 3ʳᵈ declension)]"},null,{"$f":"FlashCards!DL54","v":"κἄν [and if, even if (particle)]"},null,{"$f":"FlashCards!DL104","v":"πώς [somehow, perhaps (note the acute mark)]"}]
[null,{"$f":"FlashCards!DL5","v":"ἄγω [I lead, I bring, I arrest]"},null,{"$f":"FlashCards!DL55","v":"λύω [I loose, I untie, I destroy, I release]"},null,{"$f":"FlashCards!DL105","v":"πῶς [how? (note the circumflex)]"}]
[null,{"$f":"FlashCards!DL6","v":"ἄδω [I sing]"},null,{"$f":"FlashCards!DL56","v":"μέν [on the one hand, indeed (particle)]"},null,{"$f":"FlashCards!DL106","v":"σύ [you (singular)]"}]
[null,{"$f":"FlashCards!DL7","v":"ἀεί [always, constantly]"},null,{"$f":"FlashCards!DL57","v":"μή [not, lest (particle; used in non-indicative moods like subjunctive or imperative)]"},null,{"$f":"FlashCards!DL107","v":"σύ [you (nominative singular)]"}]
[null,{"$f":"FlashCards!DL8","v":"ὁ ἀήρ [air]"},null,{"$f":"FlashCards!DL58","v":"μου [my/of me (genitive singular)]"},null,{"$f":"FlashCards!DL108","v":"σοῦ [your/of you (emphatic genitive singular)]"}]
[null,{"$f":"FlashCards!DL9","v":"ἅμα [together with [dative]]"},null,{"$f":"FlashCards!DL59","v":"μου [my]"},null,{"$f":"FlashCards!DL109","v":"σε [you (accusative singular)]"}]
[null,{"$f":"FlashCards!DL10","v":"ἅμα [at the same time]"},null,{"$f":"FlashCards!DL60","v":"ναί [yes, certainly]"},null,{"$f":"FlashCards!DL110","v":"σέ [you (emphatic accusative singular)]"}]
[null,{"$f":"FlashCards!DL11","v":"ἄν [modifies relative pronoun (\"who\" becomes \"whoever\") (particle)]"},null,{"$f":"FlashCards!DL61","v":"νῦν [now (particle)]"},null,{"$f":"FlashCards!DL111","v":"σοί [to you (emphatic dative singular)]"}]
[null,{"$f":"FlashCards!DL12","v":"-ἄν [ending that changes \"what\" to \"whatever\"]"},null,{"$f":"FlashCards!DL62","v":"ἡ νύξ [night]"},null,{"$f":"FlashCards!DL112","v":"σός [your, of you (masculine)]"}]
[null,{"$f":"FlashCards!DL13","v":"ἀνά [among, between, each]"},null,{"$f":"FlashCards!DL63","v":"ὁ [the (nominative, singular, masculine)]"},null,{"$f":"FlashCards!DL113","v":"σή [your, of you (feminine)]"}]
[null,{"$f":"FlashCards!DL14","v":"ἄνω [above, high]"},null,{"$f":"FlashCards!DL64","v":"ἡ [the (nominative, singular, feminine)]"},null,{"$f":"FlashCards!DL114","v":"σόν [your, of you (neuter)]"}]
[null,{"$f":"FlashCards!DL15","v":"ἄρα [then, therefore (particle)]"},null,{"$f":"FlashCards!DL65","v":"τό [the (nominative or accusative, singular, neuter)]"},null,{"$f":"FlashCards!DL115","v":"σου [your/of you (genitive singular)]"}]
[null,{"$f":"FlashCards!DL16","v":"ἆρα [really? (introduces question with incredulity) (particle)]"},null,{"$f":"FlashCards!DL66","v":"τοῦ [the/of the (genitive, singular, masculine or neuter)]"},null,{"$f":"FlashCards!DL116","v":"σοι [to you (dative singular)]"}]
[null,{"$f":"FlashCards!DL17","v":"γάρ [for, then (particle)]"},null,{"$f":"FlashCards!DL67","v":"τῆς [the/of the (genitive, singular, feminine)]"},null,{"$f":"FlashCards!DL117","v":"τέ [so, and so]"}]
[null,{"$f":"FlashCards!DL18","v":"γε [indeed, at least, even (particle)]"},null,{"$f":"FlashCards!DL68","v":"τῷ [the/to the (dative, singular, masculine or neuter)]"},null,{"$f":"FlashCards!DL118","v":"τις [someone, something, anyone, anything (nominative, singular, masculine or feminine)]"}]
[null,{"$f":"FlashCards!DL19","v":"δεῖ [it is necessary]"},null,{"$f":"FlashCards!DL69","v":"τῇ [the/ to the (dative, singular, feminine)]"},null,{"$f":"FlashCards!DL119","v":"τι [someone, something, anyone, anything (nominative or accusative, singular, neuter)]"}]
[null,{"$f":"FlashCards!DL20","v":"δέω [I bind]"},null,{"$f":"FlashCards!DL70","v":"τόν [the (accusative, singular, masculine)]"},null,{"$f":"FlashCards!DL120","v":"τίς [who? what? which? (nominative, singular, masculine or feminine)]"}]
[null,{"$f":"FlashCards!DL21","v":"δή [now, therefore, indeed (particle)]"},null,{"$f":"FlashCards!DL71","v":"τήν [the (accusative, singular, feminine)]"},null,{"$f":"FlashCards!DL121","v":"τί [why? who? what? which? (nominative or accusative, singular, neuter)]"}]
[null,{"$f":"FlashCards!DL22","v":"διό [therefore, for this reason]"},null,{"$f":"FlashCards!DL72","v":"οἱ [the (nominative, plural, masculine)]"},null,{"$f":"FlashCards!DL122","v":"τοι [assuredly, certainly (particle)]"}]
[null,{"$f":"FlashCards!DL23","v":"δύο [two]"},null,{"$f":"FlashCards!DL73","v":"αἱ [the (nominative, plural, feminine)]"},null,{"$f":"FlashCards!DL123","v":"ἔφη [he/she/it said/was saying/was affirming (3rd person singular)]"}]
[null,{"$f":"FlashCards!DL24","v":"ἐάν [if, when]"},null,{"$f":"FlashCards!DL74","v":"τά [the (nominative or accusative, plural, neuter)]"},null,{"$f":"FlashCards!DL124","v":"φύω [I sprout, I spring up]"}]
[null,{"$f":"FlashCards!DL25","v":"ἐάω [I permit, I allow, I let go]"},null,{"$f":"FlashCards!DL75","v":"τῶν [the/of the (genitive, plural, masculine, feminine, neuter)]"},null,{"$f":"FlashCards!DL125","v":"τό φῶς [light]"}]
[null,{"$f":"FlashCards!DL26","v":"ἐγώ [I (nominative, singular)]"},null,{"$f":"FlashCards!DL76","v":"τάς [the (accusative, plural, feminine)]"},null,{"$f":"FlashCards!DL126","v":"ὦ [oh!]"}]
[null,{"$f":"FlashCards!DL27","v":"μοι [to me (dative singular)]"},null,{"$f":"FlashCards!DL77","v":"ὅς [who/which/that (nominative, singular, masculine)]"},null,{"$f":"FlashCards!DL127","v":"ὧδε [here]"}]
[null,{"$f":"FlashCards!DL28","v":"με [me (accusative singular)]"},null,{"$f":"FlashCards!DL78","v":"ἥ [who/which/that (nominative, singular, feminine)]"},null,{"$f":"FlashCards!DL128","v":"ἡ ὥρα [hour, occasion, moment]"}]
[null,{"$f":"FlashCards!DL29","v":"ἐμέ [me (emphatic accusative singular)]"},null,{"$f":"FlashCards!DL79","v":"ὅ [who/whom/which/that (nominative or accusative, singular, neuter)]"},null,{"$f":"FlashCards!DL129","v":"ὡς [as, like, that, when, after, approximately]"}]
[null,{"$f":"FlashCards!DL30","v":"εἰ [if (note absence of circumflex)]"},null,{"$f":"FlashCards!DL80","v":"οὗ [of whom/of which/of whose (genitive, singular, masculine or neuter)]"},null,{"$f":"FlashCards!DL130","v":" "}]
[null,{"$f":"FlashCards!DL31","v":"εἶ [you (singular) are (2ⁿᵈ person singular of εἰμί; non-lexical)]"},null,{"$f":"FlashCards!DL81","v":"ἧς [of whom/of which/of whose (genitive, singular, feminine)]"},null,{"$f":"FlashCards!DL131","v":" "}]
[null,{"$f":"FlashCards!DL32","v":"εἷς [one (nominative, masculine) (is also an adjective)]"},null,{"$f":"FlashCards!DL82","v":"ᾧ [to whom/to which (dative, singular, masculine or neuter)]"},null,{"$f":"FlashCards!DL132","v":" "}]
[null,{"$f":"FlashCards!DL33","v":"μία [one (nominative, feminine) (is also an adjective)]"},null,{"$f":"FlashCards!DL83","v":"ᾗ [to whom/to which (dative, singular, feminine)]"},null,{"$f":"FlashCards!DL133","v":" "}]
[null,{"$f":"FlashCards!DL34","v":"ἕν [one (nominative or accusative, neuter) (is also an adjective)]"},null,{"$f":"FlashCards!DL84","v":"ὅν [whom/which/that (accusative, singular, masculine)]"},null,{"$f":"FlashCards!DL134","v":" "}]
[null,{"$f":"FlashCards!DL35","v":"ἑνί [to one (dative, masculine) (is also an adjective)]"},null,{"$f":"FlashCards!DL85","v":"ἥν [whom/which/that (accusative, singular, feminine)]"},null,{"$f":"FlashCards!DL135","v":" "}]
[null,{"$f":"FlashCards!DL36","v":"μιᾷ [to one (dative, feminine) (is also an adjective)]"},null,{"$f":"FlashCards!DL86","v":"οἵ [who/which/that (nominative, plural, masculine)]"},null,{"$f":"FlashCards!DL136","v":" "}]
[null,{"$f":"FlashCards!DL37","v":"ἕνα [one (accusative, masculine) (is also an adjective)]"},null,{"$f":"FlashCards!DL87","v":"αἵ [who/which/that (nominative, plural, feminine)]"},null,{"$f":"FlashCards!DL137","v":" "}]
[null,{"$f":"FlashCards!DL38","v":"ἐμή [my, mine (feminine)]"},null,{"$f":"FlashCards!DL88","v":"ἅ [who/which/that/whom (nominative or accusative, plural, neuter)]"},null,{"$f":"FlashCards!DL138","v":" "}]
[null,{"$f":"FlashCards!DL39","v":"ἑνί [to one (dative, masculine or neuter)]"},null,{"$f":"FlashCards!DL89","v":"ὧν [of whom/of which/of whose (genitive, plural, masculine, feminine, neuter)]"},null,{"$f":"FlashCards!DL139","v":" "}]
[null,{"$f":"FlashCards!DL40","v":"ἕξ [six]"},null,{"$f":"FlashCards!DL90","v":"οἷς [to whom/to which (dative, plural, masculine or neuter)]"},null,{"$f":"FlashCards!DL140","v":" "}]
[null,{"$f":"FlashCards!DL41","v":"ἔσῃ [you will be ]"},null,{"$f":"FlashCards!DL91","v":"αἷς [to whom/to which (dative, plural, feminine)]"},null,{"$f":"FlashCards!DL141","v":" "}]
[null,{"$f":"FlashCards!DL42","v":"ἔτι [still, yet, even]"},null,{"$f":"FlashCards!DL92","v":"οὕς [whom/which (accusative, plural, masculine)]"},null,{"$f":"FlashCards!DL142","v":" "}]
[null,{"$f":"FlashCards!DL43","v":"ἔχω [I have, I hold, I possess]"},null,{"$f":"FlashCards!DL93","v":"ἅς [whom/which (accusative, plural, feminine)]"},null,{"$f":"FlashCards!DL143","v":" "}]
[null,{"$f":"FlashCards!DL44","v":"ζάω [I live]"},null,{"$f":"FlashCards!DL94","v":"ὅτι [whoever, whichever, whatever (neuter) (usually appears as ὅ τι)]"},null,{"$f":"FlashCards!DL144","v":" "}]
[null,{"$f":"FlashCards!DL45","v":"ἡ ζωή [life]"},null,{"$f":"FlashCards!DL95","v":"ὄτε [when]"},null,{"$f":"FlashCards!DL145","v":" "}]
[null,{"$f":"FlashCards!DL46","v":"ἤ [or, than]"},null,{"$f":"FlashCards!DL96","v":"ὅτι [that, since, because, or begin a quotation]"},null,{"$f":"FlashCards!DL146","v":" "}]
[null,{"$f":"FlashCards!DL47","v":"ἤδη [now, already (particle)]"},null,{"$f":"FlashCards!DL97","v":"οὗ [where]"},null,{"$f":"FlashCards!DL147","v":" "}]
[null,{"$f":"FlashCards!DL48","v":"ἥκω [I have come]"},null,{"$f":"FlashCards!DL98","v":"οὖν [so, therefore, accordingly, then (particle)]"},null,{"$f":"FlashCards!DL148","v":" "}]
[null,{"$f":"FlashCards!DL49","v":"ἦν [he/she/it was (3ʳᵈ person singular imperfect; non lexical)]"},null,{"$f":"FlashCards!DL99","v":"πᾶς [each, every, all (masculine)]"},null,{"$f":"FlashCards!DL149","v":" "}]
[null,{"$f":"FlashCards!DL50","v":"θύω [I sacrifice, I kill]"},null,{"$f":"FlashCards!DL100","v":"πᾶν [each, every, all (neuter)]"},null,{"$f":"FlashCards!DL150","v":" "}]
[null,{"$f":"FlashCards!DL51","v":"ἴδε [See! Behold!]"},null,{"$f":"FlashCards!DL101","v":"ποῦ [where? (particle)]"},null,{"$f":"FlashCards!DL151","v":" "}]

{"sheet":"Instructions","index":7,"n_rows":41,"n_cols":3,"rows_kept":41,"cut":false,"hidden":false,"merged":[]}
[]
[]
[null,null,"1. Use the tabs at the bottom of the screen to access the different features."]
[]
[null,null,"2. The \"FlashCards\" tab has all the main settings, which are used by the other tabs, too."]
[null,null,"  In the first two columns, choose which chapters of Mounce (4th edition) you want to practice/review/etc. "]
[null,null,"  In the next column, choose the parts of speech you want to include in your practice/review."]
[null,null,"  Press \"New Word' to have a random new vocabulary word appear from the categories you have chosen. "]
[null,null,"  In the fourth column are the properties that will be visible when a new word is generated. "]
[null,null,"  So, if you feel that knowing the chapter number, or the part of speech, or whatever, gives you too much info, then turn it off!"]
[null,null,"  Naturally, you'll turn off the \"Show Definition\" if you're quizzing yourself, but you might keep it on while you're first learning some words."]
[null,null,"  If you are quizzing yourself, press the \"Definition?\" button to check the answer."]
[]
[null,null,"3. The \"Selected List\" tab makes a column containing all the words having the properties you requested using the radio"]
[null,null,"   buttons on the \"Flashcards\" tab. It might be suitable for printing…"]
[]
[null,null,"4. Use the \"English to Greek\" tab to look up words. For example, if you want to know the Greek word for \"house\", then "]
[null,null,"   type \"hou\" into the green search bar. This query will also return the word for \"shout\", and so on. "]
[null,null,"   It will only show the first 30 matches, so if there are more than this, you might have to refine your request with more letters."]
[]
[null,null,"5. Use the \"Greek to English\" tab to find English definitions of words that you see while reading in Greek. "]
[null,null,"   In the green search bar, you have to type in the matching English equivalents of each Greek letter, but they'll show up as Greek there."]
[null,null,"   The search is not case sensitive, and you can't type in breathing marks or accents. So, just use a for α, or ά, or ἀ, etc."]
[null,null,"   Some equivalents are easy to remember; for example, use a for a, and b for b. "]
[null,null,"   The harder to remember equivalents are listed at the top of that page:  c ® c,  h ® h,  q ® q,  u ® u,  f ® j,  x ® x, and  y ® y."]
[null,null,"   Again, only the first thirty results are shown. To refine your search, use more characters."]
[]
[null,null,"6. When you search for a word, at least two characters are required, but three characters are recommended. Even when you use three characters, there"]
[null,null,"   are often too many results to be useful. To scan through all the words having three or fewer characters, use the \"Short Words\" tab."]
[]
[null,null,"7. Use the \"Index\" tab to quickly flip through all words in the library. You can fast forward or fast reverse using the up/down arrows on the left side. You can also"]
[null,null,"   enter an index number to fast forward even more quickly. Or, you can enter a Strong's word number to fast forward to that particular word. Since this index does"]
[null,null,"   not contain all of Strong's words, you might fast forward to the nearest word instead. The chosen word, and all of its properties, is shown in yellow. Also, the"]
[null,null,"   nearest ten words on either side of the current word are also visible. Note that verb and noun endings, while in the index, do not have Strong's numbers."]
[]
[null,null,"8. Use the \"Printables\" tab if you want to print out some double-sided flash cards. First, select the words you want to print using the main \"Flashcards\" tab. "]
[null,null,"   Be aware that the \"Printables\" tab can only print a maximum of 160 words, so make sure your selected list has fewer words than that!!"]
[null,null,"   Also, use \"print preview\" to make sure you don't accidentally print a bunch of \"blank\" pages. "]
[null,null,"   Each double sided printer page can print up to 16 flashcards, but by default Excel will print all 20 pages if you're not careful!"]
[null,null,"   So, if you're printing flashcards for 28 words, you need to select only the first 4 pages for printing (not just 2, because they're double-sided)"]
[null,null,"   Also, there's a good chance that the spacing will vary from printer to printer, so they might not align for you like they did for me."]

{"sheet":"Memorization","index":8,"n_rows":28,"n_cols":4,"rows_kept":28,"cut":false,"hidden":false,"merged":[]}
[]
[]
[null,null,null,"One way to try to memorize article and noun endings…"]
[]
[null,null,"0. Rules for articles must be applied in order…"]
[null,null,"1. Memorize the first 4 nominatives ὁ, ἡ, οἱ, αἱ.Also try to memorize τό."]
[null,null,"2. If it has an iota, it’s dative. If it’s subscripted, it’s singular. If it has ῆ or α it’s feminine."]
[null,null,"3. If it has a circumflex ~, it’s genitive.  If it has ῆ it’s feminine. If it has ῶ it’s plural."]
[null,null,"4. If it’s only two letters, it’s neuter (nominative OR accusative).  If it has α it’s plural."]
[null,null,"5. Otherwise, it’s accusative. If it has a ς, it’s plural. If it has ή or ά it’s feminine."]
[]
[null,null,"ὁ","the (nominative, singular, masculine)"]
[null,null,"ἡ","the (nominative, singular, feminine)"]
[null,null,"οἱ","the (nominative, plural, masculine)"]
[null,null,"αἱ","the (nominative, plural, feminine)"]
[null,null,"τῷ","the (dative, singular, masculine or neuter)"]
[null,null,"τῇ","the (dative, singular, feminine)"]
[null,null,"τοῖς","the (dative, plural, masculine or neuter)"]
[null,null,"ταῖς","the (dative, plural, feminine)"]
[null,null,"τοῦ","the (genitive, singular, masculine or neuter)"]
[null,null,"τῆς","the (genitive, singular, feminine)"]
[null,null,"τῶν","the (genitive, plural, masculine, feminine, neuter)"]
[null,null,"τό","the (nominative or accusative, singular, neuter)"]
[null,null,"τά","the (nominative or accusative, plural, neuter)"]
[null,null,"τόν","the (accusative, singular, masculine)"]
[null,null,"τήν","the (accusative, singular, feminine)"]
[null,null,"τούς","the (accusative, plural, masculine)"]
[null,null,"τάς","the (accusative, plural, feminine)"]